{"text_format":"3","workbook":"xlsx","n_sheets":24,"sheets":["Einleitung","Betriebsdaten","Tierbestand","Tierzukauf","Saatgut_MinD","Pflanzenbau","N-Fixierung","Wi-Dü-Aufnahme","Fu-Mi;Biogassubstr. Zuk.","Gesamt Nährstoffinput","Tierverk.; Tier.Prod.","Wi-Dü-Abgabe","Pfl. Prod. Verk.","Fu-Mi; Biogassub. Verk.","Gesamter Nährstoffoutput","Hoftorbilanz","Ergebnisausgabe","Tierbestand Tabellen","Fruchtfolge Tabellen","Wirtschaftsdünger Tabellen","SaatgutMineraldünger","Futtermitteltabelle","UmrechVolGew","SubstratBedarf"],"not_rendered":{"charts":8,"images":481,"macros":1,"defined_names":12,"comments":9},"read":"whole","date_system":"1900"}

{"sheet":"Einleitung","index":0,"n_rows":29,"n_cols":1,"rows_kept":29}
["Hoftorbilanzen für ökologische Gemüsebaubetriebe "]
["Datenerhebung des Projekts Nutri@ÖkoGemüse  BÖLN FKZ 2818OE013"]
[]
["Bilanzierungstool zur Berechnung von Nährstoffbilanzen Ökologischer Gemüsebaubetriebe, weiterentwickelt im Rahmen des Projekts Nutri@ÖkoGemüse"]
["Basierend auf Düngungsnetzwerk BW, Bearbeitung Hanna Krautscheid, LTZ Augustenberg, weitere Bearbeitung in Nutri@ÖkoGemüse"]
[]
["Beispiel-Bilanz aus "]
["DüngungsNetzwerk BW"]
{"$rows_empty":20}
["Mit den gesammelten Daten des Betriebes sollen die Nährstoffinputs und -Outputs des Betriebes analysieren analysiert werden. Diese Informationen dienen dazu, den Nährstoffverbrauch und den Einsatz der Düngemittel besser zu verstehen und zu beurteilen.  "]

{"sheet":"Betriebsdaten","index":1,"n_rows":31,"n_cols":13,"rows_kept":31,"merged":[[0,1,0,3],[0,4,5,11],[1,1,1,3],[2,1,2,3],[3,1,3,3],[4,1,4,3],[5,1,5,3],[7,1,7,3],[8,1,8,3],[10,1,10,3],[11,1,11,3],[13,1,13,3],[26,1,26,3]]}
["A.1 Grundlegende Informationen ",{"$nulls":3},"Die folgenden Arbeitsblätter sollten mit möglichst belegten Daten ausgefüllt werden. Sollten einzelne Kulturen, Futtermittel, Düngemittel etc. nicht über das Dropdown Menü wählbar sein, nutzen Sie bitte die grünen Zeilen oder das Feld 'eigene ... anlegen'."]
["Betriebs ID"]
["Datum"]
["Name des Bearbeiters"]
[]
[]
["A.2 Betriebsdaten "]
["Wirtschaftsweise"]
["*Umstellungsdatum"]
["*Verbandzugehörigkeit (EU, Naturland, Bioland…)"]
[]
["Vorherrschende Bodenart"]
["Einleitung Fremdwasser & Sickersäfte in Gülle/Jauchegrube (m³/Jahr) (Fran Si)"]
[]
[null,{"$f":"B29","v":2022},{"$f":"B30","v":2021},{"$f":"B31","v":2020}]
["Betriebsgröße (in ha)"]
["davon Ackerland (in ha)"]
["davon Dauergrünland (in ha)"]
["davon Gemüse Freiland (in ha)"]
["davon Gemüse unter Glas (in ha)"]
["davon Flächen in ökologischer Bewirtschaftung (ha)"]
["davon Flächen ohne Düngung und ohne landwirtsch. Nutzung"]
["gedüngte und landwirtsch. genutzte Fläche ",{"$f":"(B17+B18+B19)-B22","v":{"v":0,"d":"0.00"}},{"$f":"(C17+C18+C19)-C22","v":{"v":0,"d":"0.00"}},{"$f":"(D17+D18+D19)-D22","v":{"v":0,"d":"0.00"}}]
["Bitte geben Sie den Tierbestand nach GV-Schlüssel des gemeinsamen Antrages an."]
["GV/ha",{"$f":"IF(B24>0,B24/B16,0)","v":{"v":0,"d":"0.0"}},{"$f":"IF(C24>0,C24/C16,0)","v":{"v":0,"d":"0.0"}},{"$f":"IF(D24>0,D24/D16,0)","v":{"v":0,"d":"0.0"}}]
["Biogasanlagengröße  (kW)"]
["WICHTIG, bitte zuerst angeben!"]
["Wirtschafts-/Kalenderjahr?",2020,"Lfd. Jahre",null,"Aufschlüsselung"]
["Nennen Sie die drei Betrachtungsjahre",2022,null,null,"Lfd. Jahre",1,2,3,4,5,6,7,8]
["Komm. Eingabe hier ändert die Jahreszahlen auf  allen Datenblättern",2021,null,null,"Kalenderjahr","2018/2019","2019/2020","2020/2021","2021/2022","2022/2023"]
[null,2020,null,null,"Wirtschaftsjahr",2019,2020,2021,2022,2023,2024,2025,2026]

{"sheet":"Tierbestand","index":2,"n_rows":18,"n_cols":16,"rows_kept":18,"merged":[[0,0,0,6],[1,0,1,8],[2,9,2,11],[2,13,2,14],[4,0,6,0],[7,0,9,0],[10,0,12,0],[15,9,17,11]]}
["A3.Tierbestand"]
["Bitte geben Sie das jeweilige Jahr an und wählen Sie zur jeweiligen Tierart das angewendete Haltungsverfahren, den mittleren Jahresbestand (nach HIT) und geben sie bei Freilandhaltung die Weidetage pro Jahr sowie die Weidestunden pro Tag an. Desweiteren ist für uns von Interesse ob die Wirtschaftsdünger der jeweiligen Tierarten Verwendung in der Biogasanlage finden. (Nutzen Sie die grünen Felder in Zeile 31-35, sollten sie Tierarten halten, die in der Liste im DropDown Menü nicht aufgeführt sind. "]
[{"$nulls":9},"Nährstoff-ausscheidungen in \n(kg je mittlerem Jahresbestand/ Jahr) ",null,null,"Haltungsverfahren","N-Gehalt Ausscheidungen nach Abzug Stall- & Lagerverluste"]
["Jahr","Tierart","Haltungsverfahren ","mittlerer Jahres- bestand","Weidetage / Jahr","Weide- stunden / Tag","Verwendung Wirtschaftsdünger","GV*","RGV*","Nbrutto","P2O5","K2O","Code","Gülle/Gärreste","Festmist/Jauche/Weidehaltung","Bemerkung"]
[{"$f":"Betriebsdaten!B29","v":2022},"Bitte wählen:","Bitte wählen:",{"$nulls":3},"Bitte wählen:",{"$f":"VLOOKUP(B5,'Tierbestand Tabellen'!$B$4:$E$228,3,FALSE)*D5","v":0},{"$f":"VLOOKUP(B5,'Tierbestand Tabellen'!$B$4:$E$228,4,FALSE)*D5","v":0},{"$f":"(VLOOKUP(B5,'Tierbestand Tabellen'!$B$4:$V$225,19,FALSE))*D5","v":0},{"$f":"(VLOOKUP(B5,'Tierbestand Tabellen'!$B$4:$V$225,20,FALSE))*D5","v":0},{"$f":"(VLOOKUP(B5,'Tierbestand Tabellen'!$B$4:$V$225,21,FALSE))*D5","v":0},{"$f":"VLOOKUP(C5,'Tierbestand Tabellen'!$AC$5:$AD$13,2,FALSE)","v":0},{"$f":"IF(M5=1,(VLOOKUP(B5,'Tierbestand Tabellen'!$B$1:$AA$228,25,FALSE))*J5,0)","v":0},{"$f":"IF(M5=2,(VLOOKUP(B5,'Tierbestand Tabellen'!$B$1:$AA$228,26,FALSE))*J5,0)","v":0}]
[null,"Bitte wählen:","Bitte wählen:",{"$nulls":3},"Bitte wählen:",{"$f":"VLOOKUP(B6,'Tierbestand Tabellen'!$B$4:$E$228,3,FALSE)*D6","v":0},{"$f":"VLOOKUP(B6,'Tierbestand Tabellen'!$B$4:$E$228,4,FALSE)*D6","v":0},{"$f":"(VLOOKUP(B6,'Tierbestand Tabellen'!$B$4:$V$225,19,FALSE))*D6","v":0},{"$f":"(VLOOKUP(B6,'Tierbestand Tabellen'!$B$4:$V$225,20,FALSE))*D6","v":0},{"$f":"(VLOOKUP(B6,'Tierbestand Tabellen'!$B$4:$V$225,21,FALSE))*D6","v":0},{"$f":"VLOOKUP(C6,'Tierbestand Tabellen'!$AC$5:$AD$13,2,FALSE)","v":0},{"$f":"IF(M6=1,(VLOOKUP(B6,'Tierbestand Tabellen'!$B$1:$AA$228,25,FALSE))*J6,0)","v":0},{"$f":"IF(M6>1,(VLOOKUP(B6,'Tierbestand Tabellen'!$B$1:$AA$228,26,FALSE))*J6,0)","v":0}]
[null,"Bitte wählen:","Bitte wählen:",{"$nulls":3},"Bitte wählen:",{"$f":"VLOOKUP(B7,'Tierbestand Tabellen'!$B$4:$E$228,3,FALSE)*D7","v":0},{"$f":"VLOOKUP(B7,'Tierbestand Tabellen'!$B$4:$E$228,4,FALSE)*D7","v":0},{"$f":"(VLOOKUP(B7,'Tierbestand Tabellen'!$B$4:$V$225,19,FALSE))*D7","v":0},{"$f":"(VLOOKUP(B7,'Tierbestand Tabellen'!$B$4:$V$225,20,FALSE))*D7","v":0},{"$f":"(VLOOKUP(B7,'Tierbestand Tabellen'!$B$4:$V$225,21,FALSE))*D7","v":0},{"$f":"VLOOKUP(C7,'Tierbestand Tabellen'!$AC$5:$AD$13,2,FALSE)","v":0},{"$f":"IF(M7=1,(VLOOKUP(B7,'Tierbestand Tabellen'!$B$1:$AA$228,25,FALSE))*J7,0)","v":0},{"$f":"IF(M7>1,(VLOOKUP(B7,'Tierbestand Tabellen'!$B$1:$AA$228,26,FALSE))*J7,0)","v":0}]
[{"$f":"Betriebsdaten!B30","v":2021},"Bitte wählen:","Bitte wählen:",{"$nulls":3},"Bitte wählen:",{"$f":"VLOOKUP(B8,'Tierbestand Tabellen'!$B$4:$E$228,3,FALSE)*D8","v":0},{"$f":"VLOOKUP(B8,'Tierbestand Tabellen'!$B$4:$E$228,4,FALSE)*D8","v":0},{"$f":"(VLOOKUP(B8,'Tierbestand Tabellen'!$B$4:$V$225,19,FALSE))*D8","v":0},{"$f":"(VLOOKUP(B8,'Tierbestand Tabellen'!$B$4:$V$225,20,FALSE))*D8","v":0},{"$f":"(VLOOKUP(B8,'Tierbestand Tabellen'!$B$4:$V$225,21,FALSE))*D8","v":0},{"$f":"VLOOKUP(C8,'Tierbestand Tabellen'!$AC$5:$AD$13,2,FALSE)","v":0},{"$f":"IF(M8=1,(VLOOKUP(B8,'Tierbestand Tabellen'!$B$1:$AA$228,25,FALSE))*J8,0)","v":0},{"$f":"IF(M8>1,(VLOOKUP(B8,'Tierbestand Tabellen'!$B$1:$AA$228,26,FALSE))*J8,0)","v":0}]
[null,"Bitte wählen:","Bitte wählen:",{"$nulls":3},"Bitte wählen:",{"$f":"VLOOKUP(B9,'Tierbestand Tabellen'!$B$4:$E$228,3,FALSE)*D9","v":0},{"$f":"VLOOKUP(B9,'Tierbestand Tabellen'!$B$4:$E$228,4,FALSE)*D9","v":0},{"$f":"(VLOOKUP(B9,'Tierbestand Tabellen'!$B$4:$V$225,19,FALSE))*D9","v":0},{"$f":"(VLOOKUP(B9,'Tierbestand Tabellen'!$B$4:$V$225,20,FALSE))*D9","v":0},{"$f":"(VLOOKUP(B9,'Tierbestand Tabellen'!$B$4:$V$225,21,FALSE))*D9","v":0},{"$f":"VLOOKUP(C9,'Tierbestand Tabellen'!$AC$5:$AD$13,2,FALSE)","v":0},{"$f":"IF(M9=1,(VLOOKUP(B9,'Tierbestand Tabellen'!$B$1:$AA$228,25,FALSE))*J9,0)","v":0},{"$f":"IF(M9>1,(VLOOKUP(B9,'Tierbestand Tabellen'!$B$1:$AA$228,26,FALSE))*J9,0)","v":0}]
[null,"Bitte wählen:","Bitte wählen:",{"$nulls":3},"Bitte wählen:",{"$f":"VLOOKUP(B10,'Tierbestand Tabellen'!$B$4:$E$228,3,FALSE)*D10","v":0},{"$f":"VLOOKUP(B10,'Tierbestand Tabellen'!$B$4:$E$228,4,FALSE)*D10","v":0},{"$f":"(VLOOKUP(B10,'Tierbestand Tabellen'!$B$4:$V$225,19,FALSE))*D10","v":0},{"$f":"(VLOOKUP(B10,'Tierbestand Tabellen'!$B$4:$V$225,20,FALSE))*D10","v":0},{"$f":"(VLOOKUP(B10,'Tierbestand Tabellen'!$B$4:$V$225,21,FALSE))*D10","v":0},{"$f":"VLOOKUP(C10,'Tierbestand Tabellen'!$AC$5:$AD$13,2,FALSE)","v":0},{"$f":"IF(M10=1,(VLOOKUP(B10,'Tierbestand Tabellen'!$B$1:$AA$228,25,FALSE))*J10,0)","v":0},{"$f":"IF(M10>1,(VLOOKUP(B10,'Tierbestand Tabellen'!$B$1:$AA$228,26,FALSE))*J10,0)","v":0}]
[{"$f":"Betriebsdaten!B31","v":2020},"Bitte wählen:","Bitte wählen:",{"$nulls":3},"Bitte wählen:",{"$f":"VLOOKUP(B11,'Tierbestand Tabellen'!$B$4:$E$228,3,FALSE)*D11","v":0},{"$f":"VLOOKUP(B11,'Tierbestand Tabellen'!$B$4:$E$228,4,FALSE)*D11","v":0},{"$f":"(VLOOKUP(B11,'Tierbestand Tabellen'!$B$4:$V$225,19,FALSE))*D11","v":0},{"$f":"(VLOOKUP(B11,'Tierbestand Tabellen'!$B$4:$V$225,20,FALSE))*D11","v":0},{"$f":"(VLOOKUP(B11,'Tierbestand Tabellen'!$B$4:$V$225,21,FALSE))*D11","v":0},{"$f":"VLOOKUP(C11,'Tierbestand Tabellen'!$AC$5:$AD$13,2,FALSE)","v":0},{"$f":"IF(M11=1,(VLOOKUP(B11,'Tierbestand Tabellen'!$B$1:$AA$228,25,FALSE))*J11,0)","v":0},{"$f":"IF(M11>1,(VLOOKUP(B11,'Tierbestand Tabellen'!$B$1:$AA$228,26,FALSE))*J11,0)","v":0}]
[null,"Bitte wählen:","Bitte wählen:",{"$nulls":3},"Bitte wählen:",{"$f":"VLOOKUP(B12,'Tierbestand Tabellen'!$B$4:$E$228,3,FALSE)*D12","v":0},{"$f":"VLOOKUP(B12,'Tierbestand Tabellen'!$B$4:$E$228,4,FALSE)*D12","v":0},{"$f":"(VLOOKUP(B12,'Tierbestand Tabellen'!$B$4:$V$225,19,FALSE))*D12","v":0},{"$f":"(VLOOKUP(B12,'Tierbestand Tabellen'!$B$4:$V$225,20,FALSE))*D12","v":0},{"$f":"(VLOOKUP(B12,'Tierbestand Tabellen'!$B$4:$V$225,21,FALSE))*D12","v":0},{"$f":"VLOOKUP(C12,'Tierbestand Tabellen'!$AC$5:$AD$13,2,FALSE)","v":0},{"$f":"IF(M12=1,(VLOOKUP(B12,'Tierbestand Tabellen'!$B$1:$AA$228,25,FALSE))*J12,0)","v":0},{"$f":"IF(M12>1,(VLOOKUP(B12,'Tierbestand Tabellen'!$B$1:$AA$228,26,FALSE))*J12,0)","v":0}]
[null,"Bitte wählen:","Bitte wählen:",{"$nulls":3},"Bitte wählen:",{"$f":"VLOOKUP(B13,'Tierbestand Tabellen'!$B$4:$E$228,3,FALSE)*D13","v":0},{"$f":"VLOOKUP(B13,'Tierbestand Tabellen'!$B$4:$E$228,4,FALSE)*D13","v":0},{"$f":"(VLOOKUP(B13,'Tierbestand Tabellen'!$B$4:$V$225,19,FALSE))*D13","v":0},{"$f":"(VLOOKUP(B13,'Tierbestand Tabellen'!$B$4:$V$225,20,FALSE))*D13","v":0},{"$f":"(VLOOKUP(B13,'Tierbestand Tabellen'!$B$4:$V$225,21,FALSE))*D13","v":0},{"$f":"VLOOKUP(C13,'Tierbestand Tabellen'!$AC$5:$AD$13,2,FALSE)","v":0},{"$f":"IF(M13=1,(VLOOKUP(B13,'Tierbestand Tabellen'!$B$1:$AA$228,25,FALSE))*J13,0)","v":0},{"$f":"IF(M13>1,(VLOOKUP(B13,'Tierbestand Tabellen'!$B$1:$AA$228,26,FALSE))*J13,0)","v":0}]
[]
[{"$nulls":8},"SUMME:",null,{"$f":"SUM(K5:K13)","v":0},{"$f":"SUM(L5:L13)","v":0},"SUMME:",{"$f":"SUM(N5:N13)","v":0},{"$f":"SUM(O5:O13)","v":0}]
[{"$nulls":9},"N-Anfall aus eigenem WiDue",null,null,{"$f":"Betriebsdaten!B29","v":2022},{"$f":"SUM(N5:N7)","v":0},{"$f":"SUM(O5:O7)","v":0}]
[{"$nulls":12},{"$f":"Betriebsdaten!B30","v":2021},{"$f":"SUM(N8:N10)","v":0},{"$f":"SUM(O8:O10)","v":0}]
[{"$nulls":12},{"$f":"Betriebsdaten!B31","v":2020},{"$f":"SUM(N11:N13)","v":0},{"$f":"SUM(O11:O13)","v":0}]

{"sheet":"Tierzukauf","index":3,"n_rows":16,"n_cols":58,"rows_kept":16,"merged":[[0,0,0,10],[1,0,1,7],[1,11,1,12],[1,23,1,24],[1,35,1,36],[1,47,1,48],[2,1,2,3],[2,4,2,6],[2,7,2,9],[2,11,2,22],[2,23,2,34],[2,35,2,46],[2,47,2,57],[3,11,4,11],[3,12,4,12],[3,23,4,23],[3,24,4,24],[3,35,4,35],[3,36,4,36],[3,47,4,47],[12,0,15,10],[12,11,12,22],[12,23,12,34],[12,35,12,46],[12,47,12,57],[13,11,15,12],[13,23,15,24],[13,47,15,47]]}
["A4.Tierische Nährstoffinputs"]
["A4.1. Tierzukauf: Bitte geben Sie für das jeweilige Jahr die jeweiligen Tierarten, sowie das Gewicht in Tonnen und die Stückzahl an. Nutzen Sie bitte die grünen Felder in Zeile 26 bis 30 sollten Sie Tierarten zugekauft haben, die nicht in der Liste des Drop-Down-Menüs aufgeführt sind.",{"$nulls":10},"Tierzukauf",{"$nulls":11},"Tierzukauf",{"$nulls":11},"Tierzukauf",{"$nulls":11},"Tierzukauf"]
[null,{"$f":"Betriebsdaten!$B$29","v":2022},null,null,{"$f":"Betriebsdaten!$B$30","v":2021},null,null,{"$f":"Betriebsdaten!$B$31","v":2020},{"$nulls":3},{"$f":"Betriebsdaten!$B$29","v":2022},{"$nulls":11},{"$f":"Betriebsdaten!$B$30","v":2021},{"$nulls":11},{"$f":"Betriebsdaten!$B$31","v":2020},{"$nulls":11},"Durchschnitt"]
[null,"Tierart","Anzahl ","Gewicht","Tierart","Anzahl ","Gewicht","Tierart","Anzahl ","Gewicht",null,"Code","Menge (kg)","C","N","NH4-N","P2O5","K2O","Ca","MgO","S","Na","Cl","Code","Menge (kg)","C","N","NH4-N","P2O5","K2O","Ca","MgO","S","Na","Cl","Code","Menge (kg)","C","N","NH4-N","P2O5","K2O","Ca","MgO","S","Na","Cl","Menge (kg)","C","N","NH4-N","P2O5","K2O","Ca","MgO","S","Na","Cl"]
[null,null,"Stück","t",null,"Stück","t",null,"Stück","t","Bemerkung",null,null,"kg*a-1","kg*a-1","kg*a-1","kg*a-1","kg*a-1","kg*a-1","kg*a-1","kg*a-1","kg*a-1","kg*a-1",null,null,"kg*a-1","kg*a-1","kg*a-1","kg*a-1","kg*a-1","kg*a-1","kg*a-1","kg*a-1","kg*a-1","kg*a-1",null,null,"kg*a-1","kg*a-1","kg*a-1","kg*a-1","kg*a-1","kg*a-1","kg*a-1","kg*a-1","kg*a-1","kg*a-1",null,"kg*a-1","kg*a-1","kg*a-1","kg*a-1","kg*a-1","kg*a-1","kg*a-1","kg*a-1","kg*a-1","kg*a-1"]
[null,"Bitte wählen:",null,null,"Bitte wählen:",null,null,"Bitte wählen:",{"$nulls":3},{"$f":"VLOOKUP(B6,'Tierbestand Tabellen'!$AE$5:$AF$44,2,FALSE)","v":0},{"$f":"D6*1000","v":0},{"$f":"VLOOKUP(L6,'Tierbestand Tabellen'!$AF$5:$AP$44,2,FALSE)*(M6/1000)","v":0},{"$f":"VLOOKUP(L6,'Tierbestand Tabellen'!$AF$5:$AP$44,3,FALSE)*(M6/1000)","v":0},{"$f":"VLOOKUP(L6,'Tierbestand Tabellen'!$AF$5:$AP$44,4,FALSE)*(M6/1000)","v":0},{"$f":"VLOOKUP(L6,'Tierbestand Tabellen'!$AF$5:$AP$44,5,FALSE)*(M6/1000)","v":0},{"$f":"VLOOKUP(L6,'Tierbestand Tabellen'!$AF$5:$AP$44,6,FALSE)*(M6/1000)","v":0},{"$f":"VLOOKUP(L6,'Tierbestand Tabellen'!$AF$5:$AP$44,7,FALSE)*(M6/1000)","v":0},{"$f":"VLOOKUP(L6,'Tierbestand Tabellen'!$AF$5:$AP$44,8,FALSE)*(M6/1000)","v":0},{"$f":"VLOOKUP(L6,'Tierbestand Tabellen'!$AF$5:$AP$44,9,FALSE)*(M6/1000)","v":0},{"$f":"VLOOKUP(L6,'Tierbestand Tabellen'!$AF$5:$AP$44,10,FALSE)*(M6/1000)","v":0},{"$f":"VLOOKUP(L6,'Tierbestand Tabellen'!$AF$5:$AP$44,11,FALSE)*(M6/1000)","v":0},{"$f":"VLOOKUP(E6,'Tierbestand Tabellen'!$AE$5:$AF$44,2,FALSE)","v":0},{"$f":"G6*1000","v":0},{"$f":"VLOOKUP(X6,'Tierbestand Tabellen'!$AF$5:$AP$44,2,FALSE)*(Y6/1000)","v":0},{"$f":"VLOOKUP(X6,'Tierbestand Tabellen'!$AF$5:$AP$44,3,FALSE)*(Y6/1000)","v":0},{"$f":"VLOOKUP(X6,'Tierbestand Tabellen'!$AF$5:$AP$44,4,FALSE)*(Y6/1000)","v":0},{"$f":"VLOOKUP(X6,'Tierbestand Tabellen'!$AF$5:$AP$44,5,FALSE)*(Y6/1000)","v":0},{"$f":"VLOOKUP(X6,'Tierbestand Tabellen'!$AF$5:$AP$44,6,FALSE)*(Y6/1000)","v":0},{"$f":"VLOOKUP(X6,'Tierbestand Tabellen'!$AF$5:$AP$44,7,FALSE)*(Y6/1000)","v":0},{"$f":"VLOOKUP(X6,'Tierbestand Tabellen'!$AF$5:$AP$44,8,FALSE)*(Y6/1000)","v":0},{"$f":"VLOOKUP(X6,'Tierbestand Tabellen'!$AF$5:$AP$44,9,FALSE)*(Y6/1000)","v":0},{"$f":"VLOOKUP(X6,'Tierbestand Tabellen'!$AF$5:$AP$44,10,FALSE)*(Y6/1000)","v":0},{"$f":"VLOOKUP(X6,'Tierbestand Tabellen'!$AF$5:$AP$44,11,FALSE)*(Y6/1000)","v":0},{"$f":"VLOOKUP(H6,'Tierbestand Tabellen'!$AE$5:$AF$44,2,FALSE)","v":0},{"$f":"J6*1000","v":0},{"$f":"VLOOKUP(AJ6,'Tierbestand Tabellen'!$AF$5:$AP$44,2,FALSE)*(AK6/1000)","v":0},{"$f":"VLOOKUP(AJ6,'Tierbestand Tabellen'!$AF$5:$AP$44,3,FALSE)*(AK6/1000)","v":0},{"$f":"VLOOKUP(AJ6,'Tierbestand Tabellen'!$AF$5:$AP$44,4,FALSE)*(AK6/1000)","v":0},{"$f":"VLOOKUP(AJ6,'Tierbestand Tabellen'!$AF$5:$AP$44,5,FALSE)*(AK6/1000)","v":0},{"$f":"VLOOKUP(AJ6,'Tierbestand Tabellen'!$AF$5:$AP$44,6,FALSE)*(AK6/1000)","v":0},{"$f":"VLOOKUP(AJ6,'Tierbestand Tabellen'!$AF$5:$AP$44,7,FALSE)*(AK6/1000)","v":0},{"$f":"VLOOKUP(AJ6,'Tierbestand Tabellen'!$AF$5:$AP$44,8,FALSE)*(AK6/1000)","v":0},{"$f":"VLOOKUP(AJ6,'Tierbestand Tabellen'!$AF$5:$AP$44,9,FALSE)*(AK6/1000)","v":0},{"$f":"VLOOKUP(AJ6,'Tierbestand Tabellen'!$AF$5:$AP$44,10,FALSE)*(AK6/1000)","v":0},{"$f":"VLOOKUP(AJ6,'Tierbestand Tabellen'!$AF$5:$AP$44,11,FALSE)*(AK6/1000)","v":0},{"$f":"AVERAGE(M6,Y6,AK6)","v":0},{"$f":"AVERAGE(N6,Z6,AL6)","v":0},{"$f":"AVERAGE(O6,AA6,AM6)","v":0},{"$f":"AVERAGE(P6,AB6,AN6)","v":0},{"$f":"AVERAGE(Q6,AC6,AO6)","v":0},{"$f":"AVERAGE(R6,AD6,AP6)","v":0},{"$f":"AVERAGE(S6,AE6,AQ6)","v":0},{"$f":"AVERAGE(T6,AF6,AR6)","v":0},{"$f":"AVERAGE(U6,AG6,AS6)","v":0},{"$f":"AVERAGE(V6,AH6,AT6)","v":0},{"$f":"AVERAGE(W6,AI6,AU6)","v":0}]
[null,"Bitte wählen:",null,null,"Bitte wählen:",null,null,"Bitte wählen:",{"$nulls":3},{"$f":"VLOOKUP(B7,'Tierbestand Tabellen'!$AE$5:$AF$44,2,FALSE)","v":0},{"$f":"D7*1000","v":0},{"$f":"VLOOKUP(L7,'Tierbestand Tabellen'!$AF$5:$AP$44,2,FALSE)*(M7/1000)","v":0},{"$f":"VLOOKUP(L7,'Tierbestand Tabellen'!$AF$5:$AP$44,3,FALSE)*(M7/1000)","v":0},{"$f":"VLOOKUP(L7,'Tierbestand Tabellen'!$AF$5:$AP$44,4,FALSE)*(M7/1000)","v":0},{"$f":"VLOOKUP(L7,'Tierbestand Tabellen'!$AF$5:$AP$44,5,FALSE)*(M7/1000)","v":0},{"$f":"VLOOKUP(L7,'Tierbestand Tabellen'!$AF$5:$AP$44,6,FALSE)*(M7/1000)","v":0},{"$f":"VLOOKUP(L7,'Tierbestand Tabellen'!$AF$5:$AP$44,7,FALSE)*(M7/1000)","v":0},{"$f":"VLOOKUP(L7,'Tierbestand Tabellen'!$AF$5:$AP$44,8,FALSE)*(M7/1000)","v":0},{"$f":"VLOOKUP(L7,'Tierbestand Tabellen'!$AF$5:$AP$44,9,FALSE)*(M7/1000)","v":0},{"$f":"VLOOKUP(L7,'Tierbestand Tabellen'!$AF$5:$AP$44,10,FALSE)*(M7/1000)","v":0},{"$f":"VLOOKUP(L7,'Tierbestand Tabellen'!$AF$5:$AP$44,11,FALSE)*(M7/1000)","v":0},{"$f":"VLOOKUP(E7,'Tierbestand Tabellen'!$AE$5:$AF$44,2,FALSE)","v":0},0,{"$f":"VLOOKUP(X7,'Tierbestand Tabellen'!$AF$5:$AP$44,2,FALSE)*(Y7/1000)","v":0},{"$f":"VLOOKUP(X7,'Tierbestand Tabellen'!$AF$5:$AP$44,3,FALSE)*(Y7/1000)","v":0},{"$f":"VLOOKUP(X7,'Tierbestand Tabellen'!$AF$5:$AP$44,4,FALSE)*(Y7/1000)","v":0},{"$f":"VLOOKUP(X7,'Tierbestand Tabellen'!$AF$5:$AP$44,5,FALSE)*(Y7/1000)","v":0},{"$f":"VLOOKUP(X7,'Tierbestand Tabellen'!$AF$5:$AP$44,6,FALSE)*(Y7/1000)","v":0},{"$f":"VLOOKUP(X7,'Tierbestand Tabellen'!$AF$5:$AP$44,7,FALSE)*(Y7/1000)","v":0},{"$f":"VLOOKUP(X7,'Tierbestand Tabellen'!$AF$5:$AP$44,8,FALSE)*(Y7/1000)","v":0},{"$f":"VLOOKUP(X7,'Tierbestand Tabellen'!$AF$5:$AP$44,9,FALSE)*(Y7/1000)","v":0},{"$f":"VLOOKUP(X7,'Tierbestand Tabellen'!$AF$5:$AP$44,10,FALSE)*(Y7/1000)","v":0},{"$f":"VLOOKUP(X7,'Tierbestand Tabellen'!$AF$5:$AP$44,11,FALSE)*(Y7/1000)","v":0},{"$f":"VLOOKUP(H7,'Tierbestand Tabellen'!$AE$5:$AF$44,2,FALSE)","v":0},0,{"$f":"VLOOKUP(AJ7,'Tierbestand Tabellen'!$AF$5:$AP$44,2,FALSE)*(AK7/1000)","v":0},{"$f":"VLOOKUP(AJ7,'Tierbestand Tabellen'!$AF$5:$AP$44,3,FALSE)*(AK7/1000)","v":0},{"$f":"VLOOKUP(AJ7,'Tierbestand Tabellen'!$AF$5:$AP$44,4,FALSE)*(AK7/1000)","v":0},{"$f":"VLOOKUP(AJ7,'Tierbestand Tabellen'!$AF$5:$AP$44,5,FALSE)*(AK7/1000)","v":0},{"$f":"VLOOKUP(AJ7,'Tierbestand Tabellen'!$AF$5:$AP$44,6,FALSE)*(AK7/1000)","v":0},{"$f":"VLOOKUP(AJ7,'Tierbestand Tabellen'!$AF$5:$AP$44,7,FALSE)*(AK7/1000)","v":0},{"$f":"VLOOKUP(AJ7,'Tierbestand Tabellen'!$AF$5:$AP$44,8,FALSE)*(AK7/1000)","v":0},{"$f":"VLOOKUP(AJ7,'Tierbestand Tabellen'!$AF$5:$AP$44,9,FALSE)*(AK7/1000)","v":0},{"$f":"VLOOKUP(AJ7,'Tierbestand Tabellen'!$AF$5:$AP$44,10,FALSE)*(AK7/1000)","v":0},{"$f":"VLOOKUP(AJ7,'Tierbestand Tabellen'!$AF$5:$AP$44,11,FALSE)*(AK7/1000)","v":0},{"$f":"AVERAGE(M7,Y7,AK7)","v":0},{"$f":"AVERAGE(N7,Z7,AL7)","v":0},{"$f":"AVERAGE(O7,AA7,AM7)","v":0},{"$f":"AVERAGE(P7,AB7,AN7)","v":0},0,0,0,0,0,0,0]
[null,"Bitte wählen:",null,null,"Bitte wählen:",null,null,"Bitte wählen:",{"$nulls":3},{"$f":"VLOOKUP(B8,'Tierbestand Tabellen'!$AE$5:$AF$44,2,FALSE)","v":0},0,{"$f":"VLOOKUP(L8,'Tierbestand Tabellen'!$AF$5:$AP$44,2,FALSE)*(M8/1000)","v":0},{"$f":"VLOOKUP(L8,'Tierbestand Tabellen'!$AF$5:$AP$44,3,FALSE)*(M8/1000)","v":0},{"$f":"VLOOKUP(L8,'Tierbestand Tabellen'!$AF$5:$AP$44,4,FALSE)*(M8/1000)","v":0},{"$f":"VLOOKUP(L8,'Tierbestand Tabellen'!$AF$5:$AP$44,5,FALSE)*(M8/1000)","v":0},{"$f":"VLOOKUP(L8,'Tierbestand Tabellen'!$AF$5:$AP$44,6,FALSE)*(M8/1000)","v":0},{"$f":"VLOOKUP(L8,'Tierbestand Tabellen'!$AF$5:$AP$44,7,FALSE)*(M8/1000)","v":0},{"$f":"VLOOKUP(L8,'Tierbestand Tabellen'!$AF$5:$AP$44,8,FALSE)*(M8/1000)","v":0},{"$f":"VLOOKUP(L8,'Tierbestand Tabellen'!$AF$5:$AP$44,9,FALSE)*(M8/1000)","v":0},{"$f":"VLOOKUP(L8,'Tierbestand Tabellen'!$AF$5:$AP$44,10,FALSE)*(M8/1000)","v":0},{"$f":"VLOOKUP(L8,'Tierbestand Tabellen'!$AF$5:$AP$44,11,FALSE)*(M8/1000)","v":0},{"$f":"VLOOKUP(E8,'Tierbestand Tabellen'!$AE$5:$AF$44,2,FALSE)","v":0},0,{"$f":"VLOOKUP(X8,'Tierbestand Tabellen'!$AF$5:$AP$44,2,FALSE)*(Y8/1000)","v":0},{"$f":"VLOOKUP(X8,'Tierbestand Tabellen'!$AF$5:$AP$44,3,FALSE)*(Y8/1000)","v":0},{"$f":"VLOOKUP(X8,'Tierbestand Tabellen'!$AF$5:$AP$44,4,FALSE)*(Y8/1000)","v":0},{"$f":"VLOOKUP(X8,'Tierbestand Tabellen'!$AF$5:$AP$44,5,FALSE)*(Y8/1000)","v":0},{"$f":"VLOOKUP(X8,'Tierbestand Tabellen'!$AF$5:$AP$44,6,FALSE)*(Y8/1000)","v":0},{"$f":"VLOOKUP(X8,'Tierbestand Tabellen'!$AF$5:$AP$44,7,FALSE)*(Y8/1000)","v":0},{"$f":"VLOOKUP(X8,'Tierbestand Tabellen'!$AF$5:$AP$44,8,FALSE)*(Y8/1000)","v":0},{"$f":"VLOOKUP(X8,'Tierbestand Tabellen'!$AF$5:$AP$44,9,FALSE)*(Y8/1000)","v":0},{"$f":"VLOOKUP(X8,'Tierbestand Tabellen'!$AF$5:$AP$44,10,FALSE)*(Y8/1000)","v":0},{"$f":"VLOOKUP(X8,'Tierbestand Tabellen'!$AF$5:$AP$44,11,FALSE)*(Y8/1000)","v":0},{"$f":"VLOOKUP(H8,'Tierbestand Tabellen'!$AE$5:$AF$44,2,FALSE)","v":0},0,{"$f":"VLOOKUP(AJ8,'Tierbestand Tabellen'!$AF$5:$AP$44,2,FALSE)*(AK8/1000)","v":0},{"$f":"VLOOKUP(AJ8,'Tierbestand Tabellen'!$AF$5:$AP$44,3,FALSE)*(AK8/1000)","v":0},{"$f":"VLOOKUP(AJ8,'Tierbestand Tabellen'!$AF$5:$AP$44,4,FALSE)*(AK8/1000)","v":0},{"$f":"VLOOKUP(AJ8,'Tierbestand Tabellen'!$AF$5:$AP$44,5,FALSE)*(AK8/1000)","v":0},{"$f":"VLOOKUP(AJ8,'Tierbestand Tabellen'!$AF$5:$AP$44,6,FALSE)*(AK8/1000)","v":0},{"$f":"VLOOKUP(AJ8,'Tierbestand Tabellen'!$AF$5:$AP$44,7,FALSE)*(AK8/1000)","v":0},{"$f":"VLOOKUP(AJ8,'Tierbestand Tabellen'!$AF$5:$AP$44,8,FALSE)*(AK8/1000)","v":0},{"$f":"VLOOKUP(AJ8,'Tierbestand Tabellen'!$AF$5:$AP$44,9,FALSE)*(AK8/1000)","v":0},{"$f":"VLOOKUP(AJ8,'Tierbestand Tabellen'!$AF$5:$AP$44,10,FALSE)*(AK8/1000)","v":0},{"$f":"VLOOKUP(AJ8,'Tierbestand Tabellen'!$AF$5:$AP$44,11,FALSE)*(AK8/1000)","v":0},0,0,0,0,0,0,0,0,0,0,0]
[null,"Bitte wählen:",null,null,"Bitte wählen:",null,null,"Bitte wählen:",{"$nulls":3},{"$f":"VLOOKUP(B9,'Tierbestand Tabellen'!$AE$5:$AF$44,2,FALSE)","v":0},0,{"$f":"VLOOKUP(L9,'Tierbestand Tabellen'!$AF$5:$AP$44,2,FALSE)*(M9/1000)","v":0},{"$f":"VLOOKUP(L9,'Tierbestand Tabellen'!$AF$5:$AP$44,3,FALSE)*(M9/1000)","v":0},{"$f":"VLOOKUP(L9,'Tierbestand Tabellen'!$AF$5:$AP$44,4,FALSE)*(M9/1000)","v":0},{"$f":"VLOOKUP(L9,'Tierbestand Tabellen'!$AF$5:$AP$44,5,FALSE)*(M9/1000)","v":0},{"$f":"VLOOKUP(L9,'Tierbestand Tabellen'!$AF$5:$AP$44,6,FALSE)*(M9/1000)","v":0},{"$f":"VLOOKUP(L9,'Tierbestand Tabellen'!$AF$5:$AP$44,7,FALSE)*(M9/1000)","v":0},{"$f":"VLOOKUP(L9,'Tierbestand Tabellen'!$AF$5:$AP$44,8,FALSE)*(M9/1000)","v":0},{"$f":"VLOOKUP(L9,'Tierbestand Tabellen'!$AF$5:$AP$44,9,FALSE)*(M9/1000)","v":0},{"$f":"VLOOKUP(L9,'Tierbestand Tabellen'!$AF$5:$AP$44,10,FALSE)*(M9/1000)","v":0},{"$f":"VLOOKUP(L9,'Tierbestand Tabellen'!$AF$5:$AP$44,11,FALSE)*(M9/1000)","v":0},{"$f":"VLOOKUP(E9,'Tierbestand Tabellen'!$AE$5:$AF$44,2,FALSE)","v":0},0,{"$f":"VLOOKUP(X9,'Tierbestand Tabellen'!$AF$5:$AP$44,2,FALSE)*(Y9/1000)","v":0},{"$f":"VLOOKUP(X9,'Tierbestand Tabellen'!$AF$5:$AP$44,3,FALSE)*(Y9/1000)","v":0},{"$f":"VLOOKUP(X9,'Tierbestand Tabellen'!$AF$5:$AP$44,4,FALSE)*(Y9/1000)","v":0},{"$f":"VLOOKUP(X9,'Tierbestand Tabellen'!$AF$5:$AP$44,5,FALSE)*(Y9/1000)","v":0},{"$f":"VLOOKUP(X9,'Tierbestand Tabellen'!$AF$5:$AP$44,6,FALSE)*(Y9/1000)","v":0},{"$f":"VLOOKUP(X9,'Tierbestand Tabellen'!$AF$5:$AP$44,7,FALSE)*(Y9/1000)","v":0},{"$f":"VLOOKUP(X9,'Tierbestand Tabellen'!$AF$5:$AP$44,8,FALSE)*(Y9/1000)","v":0},{"$f":"VLOOKUP(X9,'Tierbestand Tabellen'!$AF$5:$AP$44,9,FALSE)*(Y9/1000)","v":0},{"$f":"VLOOKUP(X9,'Tierbestand Tabellen'!$AF$5:$AP$44,10,FALSE)*(Y9/1000)","v":0},{"$f":"VLOOKUP(X9,'Tierbestand Tabellen'!$AF$5:$AP$44,11,FALSE)*(Y9/1000)","v":0},{"$f":"VLOOKUP(H9,'Tierbestand Tabellen'!$AE$5:$AF$44,2,FALSE)","v":0},0,{"$f":"VLOOKUP(AJ9,'Tierbestand Tabellen'!$AF$5:$AP$44,2,FALSE)*(AK9/1000)","v":0},{"$f":"VLOOKUP(AJ9,'Tierbestand Tabellen'!$AF$5:$AP$44,3,FALSE)*(AK9/1000)","v":0},{"$f":"VLOOKUP(AJ9,'Tierbestand Tabellen'!$AF$5:$AP$44,4,FALSE)*(AK9/1000)","v":0},{"$f":"VLOOKUP(AJ9,'Tierbestand Tabellen'!$AF$5:$AP$44,5,FALSE)*(AK9/1000)","v":0},{"$f":"VLOOKUP(AJ9,'Tierbestand Tabellen'!$AF$5:$AP$44,6,FALSE)*(AK9/1000)","v":0},{"$f":"VLOOKUP(AJ9,'Tierbestand Tabellen'!$AF$5:$AP$44,7,FALSE)*(AK9/1000)","v":0},{"$f":"VLOOKUP(AJ9,'Tierbestand Tabellen'!$AF$5:$AP$44,8,FALSE)*(AK9/1000)","v":0},{"$f":"VLOOKUP(AJ9,'Tierbestand Tabellen'!$AF$5:$AP$44,9,FALSE)*(AK9/1000)","v":0},{"$f":"VLOOKUP(AJ9,'Tierbestand Tabellen'!$AF$5:$AP$44,10,FALSE)*(AK9/1000)","v":0},{"$f":"VLOOKUP(AJ9,'Tierbestand Tabellen'!$AF$5:$AP$44,11,FALSE)*(AK9/1000)","v":0},0,0,0,0,0,0,0,0,0,0,0]
[null,"Bitte wählen:",null,null,"Bitte wählen:",null,null,"Bitte wählen:",{"$nulls":3},{"$f":"VLOOKUP(B10,'Tierbestand Tabellen'!$AE$5:$AF$44,2,FALSE)","v":0},0,{"$f":"VLOOKUP(L10,'Tierbestand Tabellen'!$AF$5:$AP$44,2,FALSE)*(M10/1000)","v":0},{"$f":"VLOOKUP(L10,'Tierbestand Tabellen'!$AF$5:$AP$44,3,FALSE)*(M10/1000)","v":0},{"$f":"VLOOKUP(L10,'Tierbestand Tabellen'!$AF$5:$AP$44,4,FALSE)*(M10/1000)","v":0},{"$f":"VLOOKUP(L10,'Tierbestand Tabellen'!$AF$5:$AP$44,5,FALSE)*(M10/1000)","v":0},{"$f":"VLOOKUP(L10,'Tierbestand Tabellen'!$AF$5:$AP$44,6,FALSE)*(M10/1000)","v":0},{"$f":"VLOOKUP(L10,'Tierbestand Tabellen'!$AF$5:$AP$44,7,FALSE)*(M10/1000)","v":0},{"$f":"VLOOKUP(L10,'Tierbestand Tabellen'!$AF$5:$AP$44,8,FALSE)*(M10/1000)","v":0},{"$f":"VLOOKUP(L10,'Tierbestand Tabellen'!$AF$5:$AP$44,9,FALSE)*(M10/1000)","v":0},{"$f":"VLOOKUP(L10,'Tierbestand Tabellen'!$AF$5:$AP$44,10,FALSE)*(M10/1000)","v":0},{"$f":"VLOOKUP(L10,'Tierbestand Tabellen'!$AF$5:$AP$44,11,FALSE)*(M10/1000)","v":0},{"$f":"VLOOKUP(E10,'Tierbestand Tabellen'!$AE$5:$AF$44,2,FALSE)","v":0},0,{"$f":"VLOOKUP(X10,'Tierbestand Tabellen'!$AF$5:$AP$44,2,FALSE)*(Y10/1000)","v":0},{"$f":"VLOOKUP(X10,'Tierbestand Tabellen'!$AF$5:$AP$44,3,FALSE)*(Y10/1000)","v":0},{"$f":"VLOOKUP(X10,'Tierbestand Tabellen'!$AF$5:$AP$44,4,FALSE)*(Y10/1000)","v":0},{"$f":"VLOOKUP(X10,'Tierbestand Tabellen'!$AF$5:$AP$44,5,FALSE)*(Y10/1000)","v":0},{"$f":"VLOOKUP(X10,'Tierbestand Tabellen'!$AF$5:$AP$44,6,FALSE)*(Y10/1000)","v":0},{"$f":"VLOOKUP(X10,'Tierbestand Tabellen'!$AF$5:$AP$44,7,FALSE)*(Y10/1000)","v":0},{"$f":"VLOOKUP(X10,'Tierbestand Tabellen'!$AF$5:$AP$44,8,FALSE)*(Y10/1000)","v":0},{"$f":"VLOOKUP(X10,'Tierbestand Tabellen'!$AF$5:$AP$44,9,FALSE)*(Y10/1000)","v":0},{"$f":"VLOOKUP(X10,'Tierbestand Tabellen'!$AF$5:$AP$44,10,FALSE)*(Y10/1000)","v":0},{"$f":"VLOOKUP(X10,'Tierbestand Tabellen'!$AF$5:$AP$44,11,FALSE)*(Y10/1000)","v":0},{"$f":"VLOOKUP(H10,'Tierbestand Tabellen'!$AE$5:$AF$44,2,FALSE)","v":0},0,{"$f":"VLOOKUP(AJ10,'Tierbestand Tabellen'!$AF$5:$AP$44,2,FALSE)*(AK10/1000)","v":0},{"$f":"VLOOKUP(AJ10,'Tierbestand Tabellen'!$AF$5:$AP$44,3,FALSE)*(AK10/1000)","v":0},{"$f":"VLOOKUP(AJ10,'Tierbestand Tabellen'!$AF$5:$AP$44,4,FALSE)*(AK10/1000)","v":0},{"$f":"VLOOKUP(AJ10,'Tierbestand Tabellen'!$AF$5:$AP$44,5,FALSE)*(AK10/1000)","v":0},{"$f":"VLOOKUP(AJ10,'Tierbestand Tabellen'!$AF$5:$AP$44,6,FALSE)*(AK10/1000)","v":0},{"$f":"VLOOKUP(AJ10,'Tierbestand Tabellen'!$AF$5:$AP$44,7,FALSE)*(AK10/1000)","v":0},{"$f":"VLOOKUP(AJ10,'Tierbestand Tabellen'!$AF$5:$AP$44,8,FALSE)*(AK10/1000)","v":0},{"$f":"VLOOKUP(AJ10,'Tierbestand Tabellen'!$AF$5:$AP$44,9,FALSE)*(AK10/1000)","v":0},{"$f":"VLOOKUP(AJ10,'Tierbestand Tabellen'!$AF$5:$AP$44,10,FALSE)*(AK10/1000)","v":0},{"$f":"VLOOKUP(AJ10,'Tierbestand Tabellen'!$AF$5:$AP$44,11,FALSE)*(AK10/1000)","v":0},0,0,0,0,0,0,0,0,0,0,0]
[null,"Bitte wählen:",null,null,"Bitte wählen:",null,null,"Bitte wählen:",{"$nulls":3},{"$f":"VLOOKUP(B11,'Tierbestand Tabellen'!$AE$5:$AF$44,2,FALSE)","v":0},0,{"$f":"VLOOKUP(L11,'Tierbestand Tabellen'!$AF$5:$AP$44,2,FALSE)*(M11/1000)","v":0},{"$f":"VLOOKUP(L11,'Tierbestand Tabellen'!$AF$5:$AP$44,3,FALSE)*(M11/1000)","v":0},{"$f":"VLOOKUP(L11,'Tierbestand Tabellen'!$AF$5:$AP$44,4,FALSE)*(M11/1000)","v":0},{"$f":"VLOOKUP(L11,'Tierbestand Tabellen'!$AF$5:$AP$44,5,FALSE)*(M11/1000)","v":0},{"$f":"VLOOKUP(L11,'Tierbestand Tabellen'!$AF$5:$AP$44,6,FALSE)*(M11/1000)","v":0},{"$f":"VLOOKUP(L11,'Tierbestand Tabellen'!$AF$5:$AP$44,7,FALSE)*(M11/1000)","v":0},{"$f":"VLOOKUP(L11,'Tierbestand Tabellen'!$AF$5:$AP$44,8,FALSE)*(M11/1000)","v":0},{"$f":"VLOOKUP(L11,'Tierbestand Tabellen'!$AF$5:$AP$44,9,FALSE)*(M11/1000)","v":0},{"$f":"VLOOKUP(L11,'Tierbestand Tabellen'!$AF$5:$AP$44,10,FALSE)*(M11/1000)","v":0},{"$f":"VLOOKUP(L11,'Tierbestand Tabellen'!$AF$5:$AP$44,11,FALSE)*(M11/1000)","v":0},{"$f":"VLOOKUP(E11,'Tierbestand Tabellen'!$AE$5:$AF$44,2,FALSE)","v":0},0,{"$f":"VLOOKUP(X11,'Tierbestand Tabellen'!$AF$5:$AP$44,2,FALSE)*(Y11/1000)","v":0},{"$f":"VLOOKUP(X11,'Tierbestand Tabellen'!$AF$5:$AP$44,3,FALSE)*(Y11/1000)","v":0},{"$f":"VLOOKUP(X11,'Tierbestand Tabellen'!$AF$5:$AP$44,4,FALSE)*(Y11/1000)","v":0},{"$f":"VLOOKUP(X11,'Tierbestand Tabellen'!$AF$5:$AP$44,5,FALSE)*(Y11/1000)","v":0},{"$f":"VLOOKUP(X11,'Tierbestand Tabellen'!$AF$5:$AP$44,6,FALSE)*(Y11/1000)","v":0},{"$f":"VLOOKUP(X11,'Tierbestand Tabellen'!$AF$5:$AP$44,7,FALSE)*(Y11/1000)","v":0},{"$f":"VLOOKUP(X11,'Tierbestand Tabellen'!$AF$5:$AP$44,8,FALSE)*(Y11/1000)","v":0},{"$f":"VLOOKUP(X11,'Tierbestand Tabellen'!$AF$5:$AP$44,9,FALSE)*(Y11/1000)","v":0},{"$f":"VLOOKUP(X11,'Tierbestand Tabellen'!$AF$5:$AP$44,10,FALSE)*(Y11/1000)","v":0},{"$f":"VLOOKUP(X11,'Tierbestand Tabellen'!$AF$5:$AP$44,11,FALSE)*(Y11/1000)","v":0},{"$f":"VLOOKUP(H11,'Tierbestand Tabellen'!$AE$5:$AF$44,2,FALSE)","v":0},0,{"$f":"VLOOKUP(AJ11,'Tierbestand Tabellen'!$AF$5:$AP$44,2,FALSE)*(AK11/1000)","v":0},{"$f":"VLOOKUP(AJ11,'Tierbestand Tabellen'!$AF$5:$AP$44,3,FALSE)*(AK11/1000)","v":0},{"$f":"VLOOKUP(AJ11,'Tierbestand Tabellen'!$AF$5:$AP$44,4,FALSE)*(AK11/1000)","v":0},{"$f":"VLOOKUP(AJ11,'Tierbestand Tabellen'!$AF$5:$AP$44,5,FALSE)*(AK11/1000)","v":0},{"$f":"VLOOKUP(AJ11,'Tierbestand Tabellen'!$AF$5:$AP$44,6,FALSE)*(AK11/1000)","v":0},{"$f":"VLOOKUP(AJ11,'Tierbestand Tabellen'!$AF$5:$AP$44,7,FALSE)*(AK11/1000)","v":0},{"$f":"VLOOKUP(AJ11,'Tierbestand Tabellen'!$AF$5:$AP$44,8,FALSE)*(AK11/1000)","v":0},{"$f":"VLOOKUP(AJ11,'Tierbestand Tabellen'!$AF$5:$AP$44,9,FALSE)*(AK11/1000)","v":0},{"$f":"VLOOKUP(AJ11,'Tierbestand Tabellen'!$AF$5:$AP$44,10,FALSE)*(AK11/1000)","v":0},{"$f":"VLOOKUP(AJ11,'Tierbestand Tabellen'!$AF$5:$AP$44,11,FALSE)*(AK11/1000)","v":0},0,0,0,0,0,0,0,0,0,0,0]
[null,"Bitte wählen:",null,null,"Bitte wählen:",null,null,"Bitte wählen:",{"$nulls":3},{"$f":"VLOOKUP(B12,'Tierbestand Tabellen'!$AE$5:$AF$44,2,FALSE)","v":0},0,{"$f":"VLOOKUP(L12,'Tierbestand Tabellen'!$AF$5:$AP$44,2,FALSE)*(M12/1000)","v":0},{"$f":"VLOOKUP(L12,'Tierbestand Tabellen'!$AF$5:$AP$44,3,FALSE)*(M12/1000)","v":0},{"$f":"VLOOKUP(L12,'Tierbestand Tabellen'!$AF$5:$AP$44,4,FALSE)*(M12/1000)","v":0},{"$f":"VLOOKUP(L12,'Tierbestand Tabellen'!$AF$5:$AP$44,5,FALSE)*(M12/1000)","v":0},{"$f":"VLOOKUP(L12,'Tierbestand Tabellen'!$AF$5:$AP$44,6,FALSE)*(M12/1000)","v":0},{"$f":"VLOOKUP(L12,'Tierbestand Tabellen'!$AF$5:$AP$44,7,FALSE)*(M12/1000)","v":0},{"$f":"VLOOKUP(L12,'Tierbestand Tabellen'!$AF$5:$AP$44,8,FALSE)*(M12/1000)","v":0},{"$f":"VLOOKUP(L12,'Tierbestand Tabellen'!$AF$5:$AP$44,9,FALSE)*(M12/1000)","v":0},{"$f":"VLOOKUP(L12,'Tierbestand Tabellen'!$AF$5:$AP$44,10,FALSE)*(M12/1000)","v":0},{"$f":"VLOOKUP(L12,'Tierbestand Tabellen'!$AF$5:$AP$44,11,FALSE)*(M12/1000)","v":0},{"$f":"VLOOKUP(E12,'Tierbestand Tabellen'!$AE$5:$AF$44,2,FALSE)","v":0},0,{"$f":"VLOOKUP(X12,'Tierbestand Tabellen'!$AF$5:$AP$44,2,FALSE)*(Y12/1000)","v":0},{"$f":"VLOOKUP(X12,'Tierbestand Tabellen'!$AF$5:$AP$44,3,FALSE)*(Y12/1000)","v":0},{"$f":"VLOOKUP(X12,'Tierbestand Tabellen'!$AF$5:$AP$44,4,FALSE)*(Y12/1000)","v":0},{"$f":"VLOOKUP(X12,'Tierbestand Tabellen'!$AF$5:$AP$44,5,FALSE)*(Y12/1000)","v":0},{"$f":"VLOOKUP(X12,'Tierbestand Tabellen'!$AF$5:$AP$44,6,FALSE)*(Y12/1000)","v":0},{"$f":"VLOOKUP(X12,'Tierbestand Tabellen'!$AF$5:$AP$44,7,FALSE)*(Y12/1000)","v":0},{"$f":"VLOOKUP(X12,'Tierbestand Tabellen'!$AF$5:$AP$44,8,FALSE)*(Y12/1000)","v":0},{"$f":"VLOOKUP(X12,'Tierbestand Tabellen'!$AF$5:$AP$44,9,FALSE)*(Y12/1000)","v":0},{"$f":"VLOOKUP(X12,'Tierbestand Tabellen'!$AF$5:$AP$44,10,FALSE)*(Y12/1000)","v":0},{"$f":"VLOOKUP(X12,'Tierbestand Tabellen'!$AF$5:$AP$44,11,FALSE)*(Y12/1000)","v":0},{"$f":"VLOOKUP(H12,'Tierbestand Tabellen'!$AE$5:$AF$44,2,FALSE)","v":0},0,{"$f":"VLOOKUP(AJ12,'Tierbestand Tabellen'!$AF$5:$AP$44,2,FALSE)*(AK12/1000)","v":0},{"$f":"VLOOKUP(AJ12,'Tierbestand Tabellen'!$AF$5:$AP$44,3,FALSE)*(AK12/1000)","v":0},{"$f":"VLOOKUP(AJ12,'Tierbestand Tabellen'!$AF$5:$AP$44,4,FALSE)*(AK12/1000)","v":0},{"$f":"VLOOKUP(AJ12,'Tierbestand Tabellen'!$AF$5:$AP$44,5,FALSE)*(AK12/1000)","v":0},{"$f":"VLOOKUP(AJ12,'Tierbestand Tabellen'!$AF$5:$AP$44,6,FALSE)*(AK12/1000)","v":0},{"$f":"VLOOKUP(AJ12,'Tierbestand Tabellen'!$AF$5:$AP$44,7,FALSE)*(AK12/1000)","v":0},{"$f":"VLOOKUP(AJ12,'Tierbestand Tabellen'!$AF$5:$AP$44,8,FALSE)*(AK12/1000)","v":0},{"$f":"VLOOKUP(AJ12,'Tierbestand Tabellen'!$AF$5:$AP$44,9,FALSE)*(AK12/1000)","v":0},{"$f":"VLOOKUP(AJ12,'Tierbestand Tabellen'!$AF$5:$AP$44,10,FALSE)*(AK12/1000)","v":0},{"$f":"VLOOKUP(AJ12,'Tierbestand Tabellen'!$AF$5:$AP$44,11,FALSE)*(AK12/1000)","v":0},0,0,0,0,0,0,0,0,0,0,0]
["Gesamt Nährstoffinput ",{"$nulls":10},{"$f":"Betriebsdaten!$B$29","v":2022},{"$nulls":11},{"$f":"Betriebsdaten!$B$30","v":2021},{"$nulls":11},{"$f":"Betriebsdaten!$B$31","v":2020},{"$nulls":11},"Durchschnitt"]
[{"$nulls":11},"Summe",null,"C","N","NH4-N","P2O5","K2O","Ca","MgO","S","Na","Cl","Summe",null,"C","N","NH4-N","P2O5","K2O","Ca","MgO","S","Na","Cl","Summe",null,"C","N","NH4-N","P2O5","K2O","Ca","MgO","S","Na","Cl","Summe","C","N","NH4-N","P2O5","K2O","Ca","MgO","S","Na","Cl"]
[{"$nulls":13},"kg*a-1","kg*a-1","kg*a-1","kg*a-1","kg*a-1","kg*a-1","kg*a-1","kg*a-1","kg*a-1","kg*a-1",null,null,"kg*a-1","kg*a-1","kg*a-1","kg*a-1","kg*a-1","kg*a-1","kg*a-1","kg*a-1","kg*a-1","kg*a-1",null,null,"kg*a-1","kg*a-1","kg*a-1","kg*a-1","kg*a-1","kg*a-1","kg*a-1","kg*a-1","kg*a-1","kg*a-1",null,"kg*a-1","kg*a-1","kg*a-1","kg*a-1","kg*a-1","kg*a-1","kg*a-1","kg*a-1","kg*a-1","kg*a-1"]
[{"$nulls":13},{"$f":"SUM(N6:N12)","v":0},{"$f":"SUM(O6:O12)","v":0},{"$f":"SUM(P6:P12)","v":0},{"$f":"SUM(Q6:Q12)","v":0},{"$f":"SUM(R6:R12)","v":0},0,0,0,0,0,null,null,{"$f":"SUM(Z6:Z12)","v":0},{"$f":"SUM(AA6:AA12)","v":0},0,0,0,0,0,0,0,0,null,null,{"$f":"SUM(AL6:AL12)","v":0},0,0,0,0,0,0,0,0,0,null,{"$f":"SUM(AW6:AW12)","v":0},0,0,0,0,0,0,0,0,0]

{"sheet":"Saatgut_MinD","index":4,"n_rows":29,"n_cols":61,"rows_kept":29,"merged":[[0,0,0,12],[1,0,1,12],[1,14,1,15],[1,26,1,27],[1,38,1,39],[1,50,1,51],[2,0,3,0],[2,1,2,4],[2,5,2,8],[2,9,2,12],[2,14,2,25],[2,26,2,37],[2,38,2,49],[2,50,2,60],[3,14,4,14],[3,15,4,15],[3,26,4,26],[3,27,4,27],[3,38,4,38],[3,39,4,39],[3,50,4,50],[25,0,28,13],[25,14,25,25],[25,26,25,37],[25,38,25,49],[25,50,25,60],[26,14,28,15],[26,26,28,27],[26,38,28,39],[26,50,28,50]]}
["A.7 Nährstoffinputs"]
["A.5 pflanzl. Nährstoffzufuhr Bitte geben Sie alle Nährstoffinputs durch Zukauf von Saat- und Pflanzgut. Geben Sie dazu die gekaufte Menge und wenn möglich auch die Sorte an. Nutzen Sie bitte die grünen Felder sollten Sie Saat-und Pflanzgut zugekauft haben, das nicht in der Liste des Drop-Down-Menüs aufgeführt ist. Bei Zwischenfruchtmischungen muss die Zusammensetzung des Saatguts aufgelistet werden!\nZusätzlich in diese Liste die Mineraldünger eintragen (die im gleichen Datenblatt verzeichnet sind.",{"$nulls":13},"Saat-/Pflanzgut",{"$nulls":11},"Saat-/Pflanzgut",{"$nulls":11},"Saat-/Pflanzgut",{"$nulls":11},"Saat-/Pflanzgut"]
["Saat- und Pflanzgut\nMineraldünger\nPflanzsubstrate",{"$f":"Betriebsdaten!$B$29","v":2022},{"$nulls":3},{"$f":"Betriebsdaten!$B$30","v":2021},{"$nulls":3},{"$f":"Betriebsdaten!$B$31","v":2020},{"$nulls":4},{"$f":"Betriebsdaten!$B$29","v":2022},{"$nulls":11},{"$f":"Betriebsdaten!$B$30","v":2021},{"$nulls":11},{"$f":"Betriebsdaten!$B$31","v":2020},{"$nulls":11},"Durchschnitt"]
[null,"Menge ","TKG Betrieb","Ø TKG","Bemerkung","Menge ","TKG Betrieb","Ø TKG","Bemerkung","Menge","TKG Betrieb","Ø TKG ","Bemerkung",null,"Code","Menge (kg)","C","N","NH4-N","P2O5","K2O","Ca","MgO","S","Na","Cl","Code","Menge (kg)","C","N","NH4-N","P2O5","K2O","Ca","MgO","S","Na","Cl","Code","Menge (kg)","C","N","NH4-N","P2O5","K2O","Ca","MgO","S","Na","Cl","Menge (kg)","C","N","NH4-N","P2O5","K2O","Ca","MgO","S","Na","Cl"]
["eigenes Saatgut/Pflanzgut hinzufügen","t","g","g",null,"t","g","g",null,"t","g","g",{"$nulls":4},"kg*a-1","kg*a-1","kg*a-1","kg*a-1","kg*a-1","kg*a-1","kg*a-1","kg*a-1","kg*a-1","kg*a-1",null,null,"kg*a-1","kg*a-1","kg*a-1","kg*a-1","kg*a-1","kg*a-1","kg*a-1","kg*a-1","kg*a-1","kg*a-1",null,null,"kg*a-1","kg*a-1","kg*a-1","kg*a-1","kg*a-1","kg*a-1","kg*a-1","kg*a-1","kg*a-1","kg*a-1",null,"kg*a-1","kg*a-1","kg*a-1","kg*a-1","kg*a-1","kg*a-1","kg*a-1","kg*a-1","kg*a-1","kg*a-1"]
["Bitte wählen:",null,null,{"$f":"VLOOKUP(O6,SaatgutMineraldünger!$B$3:$N$42,2,FALSE)","v":0},{"$nulls":3},{"$f":"VLOOKUP(O6,SaatgutMineraldünger!$B$3:$N$42,2,FALSE)","v":0},{"$nulls":3},{"$f":"VLOOKUP(O6,SaatgutMineraldünger!$B$3:$N$42,2,FALSE)","v":0},null,null,{"$f":"VLOOKUP(A6,SaatgutMineraldünger!$A$3:$B$198,2,FALSE)","v":0},{"$f":"B6*1000","v":0},{"$f":"VLOOKUP(O6,SaatgutMineraldünger!$B$3:$N$198,4,FALSE)*(P6/1000)","v":0},{"$f":"VLOOKUP(O6,SaatgutMineraldünger!$B$3:$N$198,5,FALSE)*(P6/1000)","v":0},{"$f":"VLOOKUP(O6,SaatgutMineraldünger!$B$3:$N$198,6,FALSE)*(P6/1000)","v":0},{"$f":"VLOOKUP(O6,SaatgutMineraldünger!$B$3:$N$198,7,FALSE)*(P6/1000)","v":0},{"$f":"VLOOKUP(O6,SaatgutMineraldünger!$B$3:$N$198,8,FALSE)*(P6/1000)","v":0},{"$f":"VLOOKUP(O6,SaatgutMineraldünger!$B$3:$N$198,9,FALSE)*(P6/1000)","v":0},{"$f":"VLOOKUP(O6,SaatgutMineraldünger!$B$3:$N$198,10,FALSE)*(P6/1000)","v":0},{"$f":"VLOOKUP(O6,SaatgutMineraldünger!$B$3:$N$198,11,FALSE)*(P6/1000)","v":0},{"$f":"VLOOKUP(O6,SaatgutMineraldünger!$B$3:$N$42,12,FALSE)*(P6/1000)","v":0},{"$f":"VLOOKUP(O6,SaatgutMineraldünger!$B$3:$N$198,13,FALSE)*(P6/1000)","v":0},{"$f":"VLOOKUP(A6,SaatgutMineraldünger!$A$3:$B$198,2,FALSE)","v":0},{"$f":"F6*1000","v":0},{"$f":"VLOOKUP(AA6,SaatgutMineraldünger!$B$3:$N$198,4,FALSE)*(AB6/1000)","v":0},{"$f":"VLOOKUP(AA6,SaatgutMineraldünger!$B$3:$N$198,5,FALSE)*(AB6/1000)","v":0},{"$f":"VLOOKUP(AA6,SaatgutMineraldünger!$B$3:$N$198,6,FALSE)*(AB6/1000)","v":0},{"$f":"VLOOKUP(AA6,SaatgutMineraldünger!$B$3:$N$198,7,FALSE)*(AB6/1000)","v":0},{"$f":"VLOOKUP(AA6,SaatgutMineraldünger!$B$3:$N$198,8,FALSE)*(AB6/1000)","v":0},{"$f":"VLOOKUP(AA6,SaatgutMineraldünger!$B$3:$N$198,9,FALSE)*(AB6/1000)","v":0},{"$f":"VLOOKUP(AA6,SaatgutMineraldünger!$B$3:$N$198,10,FALSE)*(AB6/1000)","v":0},{"$f":"VLOOKUP(AA6,SaatgutMineraldünger!$B$3:$N$198,11,FALSE)*(AB6/1000)","v":0},{"$f":"VLOOKUP(AA6,SaatgutMineraldünger!$B$3:$N$198,12,FALSE)*(AB6/1000)","v":0},{"$f":"VLOOKUP(AA6,SaatgutMineraldünger!$B$3:$N$198,13,FALSE)*(AB6/1000)","v":0},{"$f":"VLOOKUP(A6,SaatgutMineraldünger!$A$3:$B$198,2,FALSE)","v":0},{"$f":"J6*1000","v":0},{"$f":"VLOOKUP(AM6,SaatgutMineraldünger!$B$3:$N$198,4,FALSE)*(AN6/1000)","v":0},{"$f":"VLOOKUP(AM6,SaatgutMineraldünger!$B$3:$N$198,5,FALSE)*(AN6/1000)","v":0},{"$f":"VLOOKUP(AM6,SaatgutMineraldünger!$B$3:$N$198,6,FALSE)*(AN6/1000)","v":0},{"$f":"VLOOKUP(AM6,SaatgutMineraldünger!$B$3:$N$198,7,FALSE)*(AN6/1000)","v":0},{"$f":"VLOOKUP(AM6,SaatgutMineraldünger!$B$3:$N$198,8,FALSE)*(AN6/1000)","v":0},{"$f":"VLOOKUP(AM6,SaatgutMineraldünger!$B$3:$N$198,9,FALSE)*(AN6/1000)","v":0},{"$f":"VLOOKUP(AM6,SaatgutMineraldünger!$B$3:$N$198,10,FALSE)*(AN6/1000)","v":0},{"$f":"VLOOKUP(AM6,SaatgutMineraldünger!$B$3:$N$198,11,FALSE)*(AN6/1000)","v":0},{"$f":"VLOOKUP(AM6,SaatgutMineraldünger!$B$3:$N$198,12,FALSE)*(AN6/1000)","v":0},{"$f":"VLOOKUP(AM6,SaatgutMineraldünger!$B$3:$N$198,13,FALSE)*(AN6/1000)","v":0},{"$f":"AVERAGE(P6,AB6,AN6)","v":0},{"$f":"AVERAGE(Q6,AC6,AO6)","v":0},{"$f":"AVERAGE(R6,AD6,AP6)","v":0},{"$f":"AVERAGE(S6,AE6,AQ6)","v":0},0,0,0,0,0,0,0]
["Bitte wählen:",null,null,{"$f":"VLOOKUP(O7,SaatgutMineraldünger!$B$3:$N$42,2,FALSE)","v":0},{"$nulls":3},{"$f":"VLOOKUP(O7,SaatgutMineraldünger!$B$3:$N$42,2,FALSE)","v":0},{"$nulls":3},{"$f":"VLOOKUP(O7,SaatgutMineraldünger!$B$3:$N$42,2,FALSE)","v":0},null,null,{"$f":"VLOOKUP(A7,SaatgutMineraldünger!$A$3:$B$198,2,FALSE)","v":0},{"$f":"B7*1000","v":0},{"$f":"VLOOKUP(O7,SaatgutMineraldünger!$B$3:$N$198,4,FALSE)*(P7/1000)","v":0},{"$f":"VLOOKUP(O7,SaatgutMineraldünger!$B$3:$N$198,5,FALSE)*(P7/1000)","v":0},{"$f":"VLOOKUP(O7,SaatgutMineraldünger!$B$3:$N$198,6,FALSE)*(P7/1000)","v":0},{"$f":"VLOOKUP(O7,SaatgutMineraldünger!$B$3:$N$198,7,FALSE)*(P7/1000)","v":0},{"$f":"VLOOKUP(O7,SaatgutMineraldünger!$B$3:$N$198,8,FALSE)*(P7/1000)","v":0},{"$f":"VLOOKUP(O7,SaatgutMineraldünger!$B$3:$N$198,9,FALSE)*(P7/1000)","v":0},{"$f":"VLOOKUP(O7,SaatgutMineraldünger!$B$3:$N$198,10,FALSE)*(P7/1000)","v":0},{"$f":"VLOOKUP(O7,SaatgutMineraldünger!$B$3:$N$198,11,FALSE)*(P7/1000)","v":0},{"$f":"VLOOKUP(O7,SaatgutMineraldünger!$B$3:$N$42,12,FALSE)*(P7/1000)","v":0},{"$f":"VLOOKUP(O7,SaatgutMineraldünger!$B$3:$N$198,13,FALSE)*(P7/1000)","v":0},{"$f":"VLOOKUP(A7,SaatgutMineraldünger!$A$3:$B$198,2,FALSE)","v":0},{"$f":"F7*1000","v":0},{"$f":"VLOOKUP(AA7,SaatgutMineraldünger!$B$3:$N$198,4,FALSE)*(AB7/1000)","v":0},{"$f":"VLOOKUP(AA7,SaatgutMineraldünger!$B$3:$N$198,5,FALSE)*(AB7/1000)","v":0},{"$f":"VLOOKUP(AA7,SaatgutMineraldünger!$B$3:$N$198,6,FALSE)*(AB7/1000)","v":0},{"$f":"VLOOKUP(AA7,SaatgutMineraldünger!$B$3:$N$198,7,FALSE)*(AB7/1000)","v":0},{"$f":"VLOOKUP(AA7,SaatgutMineraldünger!$B$3:$N$198,8,FALSE)*(AB7/1000)","v":0},{"$f":"VLOOKUP(AA7,SaatgutMineraldünger!$B$3:$N$198,9,FALSE)*(AB7/1000)","v":0},{"$f":"VLOOKUP(AA7,SaatgutMineraldünger!$B$3:$N$198,10,FALSE)*(AB7/1000)","v":0},{"$f":"VLOOKUP(AA7,SaatgutMineraldünger!$B$3:$N$198,11,FALSE)*(AB7/1000)","v":0},{"$f":"VLOOKUP(AA7,SaatgutMineraldünger!$B$3:$N$198,12,FALSE)*(AB7/1000)","v":0},{"$f":"VLOOKUP(AA7,SaatgutMineraldünger!$B$3:$N$198,13,FALSE)*(AB7/1000)","v":0},{"$f":"VLOOKUP(A7,SaatgutMineraldünger!$A$3:$B$198,2,FALSE)","v":0},{"$f":"J7*1000","v":0},{"$f":"VLOOKUP(AM7,SaatgutMineraldünger!$B$3:$N$198,4,FALSE)*(AN7/1000)","v":0},{"$f":"VLOOKUP(AM7,SaatgutMineraldünger!$B$3:$N$198,5,FALSE)*(AN7/1000)","v":0},{"$f":"VLOOKUP(AM7,SaatgutMineraldünger!$B$3:$N$198,6,FALSE)*(AN7/1000)","v":0},{"$f":"VLOOKUP(AM7,SaatgutMineraldünger!$B$3:$N$198,7,FALSE)*(AN7/1000)","v":0},{"$f":"VLOOKUP(AM7,SaatgutMineraldünger!$B$3:$N$198,8,FALSE)*(AN7/1000)","v":0},{"$f":"VLOOKUP(AM7,SaatgutMineraldünger!$B$3:$N$198,9,FALSE)*(AN7/1000)","v":0},{"$f":"VLOOKUP(AM7,SaatgutMineraldünger!$B$3:$N$198,10,FALSE)*(AN7/1000)","v":0},{"$f":"VLOOKUP(AM7,SaatgutMineraldünger!$B$3:$N$198,11,FALSE)*(AN7/1000)","v":0},{"$f":"VLOOKUP(AM7,SaatgutMineraldünger!$B$3:$N$198,12,FALSE)*(AN7/1000)","v":0},{"$f":"VLOOKUP(AM7,SaatgutMineraldünger!$B$3:$N$198,13,FALSE)*(AN7/1000)","v":0},0,0,0,0,0,0,0,{"$f":"AVERAGE(W7,AI7,AU7)","v":0},0,0,0]
["Bitte wählen:",null,null,{"$f":"VLOOKUP(O8,SaatgutMineraldünger!$B$3:$N$42,2,FALSE)","v":0},{"$nulls":3},{"$f":"VLOOKUP(O8,SaatgutMineraldünger!$B$3:$N$42,2,FALSE)","v":0},{"$nulls":3},{"$f":"VLOOKUP(O8,SaatgutMineraldünger!$B$3:$N$42,2,FALSE)","v":0},null,null,{"$f":"VLOOKUP(A8,SaatgutMineraldünger!$A$3:$B$198,2,FALSE)","v":0},0,{"$f":"VLOOKUP(O8,SaatgutMineraldünger!$B$3:$N$198,4,FALSE)*(P8/1000)","v":0},{"$f":"VLOOKUP(O8,SaatgutMineraldünger!$B$3:$N$198,5,FALSE)*(P8/1000)","v":0},{"$f":"VLOOKUP(O8,SaatgutMineraldünger!$B$3:$N$198,6,FALSE)*(P8/1000)","v":0},{"$f":"VLOOKUP(O8,SaatgutMineraldünger!$B$3:$N$198,7,FALSE)*(P8/1000)","v":0},{"$f":"VLOOKUP(O8,SaatgutMineraldünger!$B$3:$N$198,8,FALSE)*(P8/1000)","v":0},{"$f":"VLOOKUP(O8,SaatgutMineraldünger!$B$3:$N$198,9,FALSE)*(P8/1000)","v":0},{"$f":"VLOOKUP(O8,SaatgutMineraldünger!$B$3:$N$198,10,FALSE)*(P8/1000)","v":0},{"$f":"VLOOKUP(O8,SaatgutMineraldünger!$B$3:$N$198,11,FALSE)*(P8/1000)","v":0},{"$f":"VLOOKUP(O8,SaatgutMineraldünger!$B$3:$N$42,12,FALSE)*(P8/1000)","v":0},{"$f":"VLOOKUP(O8,SaatgutMineraldünger!$B$3:$N$198,13,FALSE)*(P8/1000)","v":0},{"$f":"VLOOKUP(A8,SaatgutMineraldünger!$A$3:$B$198,2,FALSE)","v":0},0,{"$f":"VLOOKUP(AA8,SaatgutMineraldünger!$B$3:$N$198,4,FALSE)*(AB8/1000)","v":0},{"$f":"VLOOKUP(AA8,SaatgutMineraldünger!$B$3:$N$198,5,FALSE)*(AB8/1000)","v":0},{"$f":"VLOOKUP(AA8,SaatgutMineraldünger!$B$3:$N$198,6,FALSE)*(AB8/1000)","v":0},{"$f":"VLOOKUP(AA8,SaatgutMineraldünger!$B$3:$N$198,7,FALSE)*(AB8/1000)","v":0},{"$f":"VLOOKUP(AA8,SaatgutMineraldünger!$B$3:$N$198,8,FALSE)*(AB8/1000)","v":0},{"$f":"VLOOKUP(AA8,SaatgutMineraldünger!$B$3:$N$198,9,FALSE)*(AB8/1000)","v":0},{"$f":"VLOOKUP(AA8,SaatgutMineraldünger!$B$3:$N$198,10,FALSE)*(AB8/1000)","v":0},{"$f":"VLOOKUP(AA8,SaatgutMineraldünger!$B$3:$N$198,11,FALSE)*(AB8/1000)","v":0},{"$f":"VLOOKUP(AA8,SaatgutMineraldünger!$B$3:$N$198,12,FALSE)*(AB8/1000)","v":0},{"$f":"VLOOKUP(AA8,SaatgutMineraldünger!$B$3:$N$198,13,FALSE)*(AB8/1000)","v":0},{"$f":"VLOOKUP(A8,SaatgutMineraldünger!$A$3:$B$198,2,FALSE)","v":0},0,{"$f":"VLOOKUP(AM8,SaatgutMineraldünger!$B$3:$N$198,4,FALSE)*(AN8/1000)","v":0},{"$f":"VLOOKUP(AM8,SaatgutMineraldünger!$B$3:$N$198,5,FALSE)*(AN8/1000)","v":0},{"$f":"VLOOKUP(AM8,SaatgutMineraldünger!$B$3:$N$198,6,FALSE)*(AN8/1000)","v":0},{"$f":"VLOOKUP(AM8,SaatgutMineraldünger!$B$3:$N$198,7,FALSE)*(AN8/1000)","v":0},{"$f":"VLOOKUP(AM8,SaatgutMineraldünger!$B$3:$N$198,8,FALSE)*(AN8/1000)","v":0},{"$f":"VLOOKUP(AM8,SaatgutMineraldünger!$B$3:$N$198,9,FALSE)*(AN8/1000)","v":0},{"$f":"VLOOKUP(AM8,SaatgutMineraldünger!$B$3:$N$198,10,FALSE)*(AN8/1000)","v":0},{"$f":"VLOOKUP(AM8,SaatgutMineraldünger!$B$3:$N$198,11,FALSE)*(AN8/1000)","v":0},{"$f":"VLOOKUP(AM8,SaatgutMineraldünger!$B$3:$N$198,12,FALSE)*(AN8/1000)","v":0},{"$f":"VLOOKUP(AM8,SaatgutMineraldünger!$B$3:$N$198,13,FALSE)*(AN8/1000)","v":0},0,0,0,0,0,0,0,0,0,0,0]
["Bitte wählen:",null,null,{"$f":"VLOOKUP(O9,SaatgutMineraldünger!$B$3:$N$42,2,FALSE)","v":0},{"$nulls":3},{"$f":"VLOOKUP(O9,SaatgutMineraldünger!$B$3:$N$42,2,FALSE)","v":0},{"$nulls":3},{"$f":"VLOOKUP(O9,SaatgutMineraldünger!$B$3:$N$42,2,FALSE)","v":0},null,null,{"$f":"VLOOKUP(A9,SaatgutMineraldünger!$A$3:$B$198,2,FALSE)","v":0},0,{"$f":"VLOOKUP(O9,SaatgutMineraldünger!$B$3:$N$198,4,FALSE)*(P9/1000)","v":0},{"$f":"VLOOKUP(O9,SaatgutMineraldünger!$B$3:$N$198,5,FALSE)*(P9/1000)","v":0},{"$f":"VLOOKUP(O9,SaatgutMineraldünger!$B$3:$N$198,6,FALSE)*(P9/1000)","v":0},{"$f":"VLOOKUP(O9,SaatgutMineraldünger!$B$3:$N$198,7,FALSE)*(P9/1000)","v":0},{"$f":"VLOOKUP(O9,SaatgutMineraldünger!$B$3:$N$198,8,FALSE)*(P9/1000)","v":0},{"$f":"VLOOKUP(O9,SaatgutMineraldünger!$B$3:$N$198,9,FALSE)*(P9/1000)","v":0},{"$f":"VLOOKUP(O9,SaatgutMineraldünger!$B$3:$N$198,10,FALSE)*(P9/1000)","v":0},{"$f":"VLOOKUP(O9,SaatgutMineraldünger!$B$3:$N$198,11,FALSE)*(P9/1000)","v":0},{"$f":"VLOOKUP(O9,SaatgutMineraldünger!$B$3:$N$42,12,FALSE)*(P9/1000)","v":0},{"$f":"VLOOKUP(O9,SaatgutMineraldünger!$B$3:$N$198,13,FALSE)*(P9/1000)","v":0},{"$f":"VLOOKUP(A9,SaatgutMineraldünger!$A$3:$B$198,2,FALSE)","v":0},0,{"$f":"VLOOKUP(AA9,SaatgutMineraldünger!$B$3:$N$198,4,FALSE)*(AB9/1000)","v":0},{"$f":"VLOOKUP(AA9,SaatgutMineraldünger!$B$3:$N$198,5,FALSE)*(AB9/1000)","v":0},{"$f":"VLOOKUP(AA9,SaatgutMineraldünger!$B$3:$N$198,6,FALSE)*(AB9/1000)","v":0},{"$f":"VLOOKUP(AA9,SaatgutMineraldünger!$B$3:$N$198,7,FALSE)*(AB9/1000)","v":0},{"$f":"VLOOKUP(AA9,SaatgutMineraldünger!$B$3:$N$198,8,FALSE)*(AB9/1000)","v":0},{"$f":"VLOOKUP(AA9,SaatgutMineraldünger!$B$3:$N$198,9,FALSE)*(AB9/1000)","v":0},{"$f":"VLOOKUP(AA9,SaatgutMineraldünger!$B$3:$N$198,10,FALSE)*(AB9/1000)","v":0},{"$f":"VLOOKUP(AA9,SaatgutMineraldünger!$B$3:$N$198,11,FALSE)*(AB9/1000)","v":0},{"$f":"VLOOKUP(AA9,SaatgutMineraldünger!$B$3:$N$198,12,FALSE)*(AB9/1000)","v":0},{"$f":"VLOOKUP(AA9,SaatgutMineraldünger!$B$3:$N$198,13,FALSE)*(AB9/1000)","v":0},{"$f":"VLOOKUP(A9,SaatgutMineraldünger!$A$3:$B$198,2,FALSE)","v":0},0,{"$f":"VLOOKUP(AM9,SaatgutMineraldünger!$B$3:$N$198,4,FALSE)*(AN9/1000)","v":0},{"$f":"VLOOKUP(AM9,SaatgutMineraldünger!$B$3:$N$198,5,FALSE)*(AN9/1000)","v":0},{"$f":"VLOOKUP(AM9,SaatgutMineraldünger!$B$3:$N$198,6,FALSE)*(AN9/1000)","v":0},{"$f":"VLOOKUP(AM9,SaatgutMineraldünger!$B$3:$N$198,7,FALSE)*(AN9/1000)","v":0},{"$f":"VLOOKUP(AM9,SaatgutMineraldünger!$B$3:$N$198,8,FALSE)*(AN9/1000)","v":0},{"$f":"VLOOKUP(AM9,SaatgutMineraldünger!$B$3:$N$198,9,FALSE)*(AN9/1000)","v":0},{"$f":"VLOOKUP(AM9,SaatgutMineraldünger!$B$3:$N$198,10,FALSE)*(AN9/1000)","v":0},{"$f":"VLOOKUP(AM9,SaatgutMineraldünger!$B$3:$N$198,11,FALSE)*(AN9/1000)","v":0},{"$f":"VLOOKUP(AM9,SaatgutMineraldünger!$B$3:$N$198,12,FALSE)*(AN9/1000)","v":0},{"$f":"VLOOKUP(AM9,SaatgutMineraldünger!$B$3:$N$198,13,FALSE)*(AN9/1000)","v":0},0,0,0,0,0,0,0,0,0,0,0]
["Bitte wählen:",null,null,{"$f":"VLOOKUP(O10,SaatgutMineraldünger!$B$3:$N$42,2,FALSE)","v":0},{"$nulls":3},{"$f":"VLOOKUP(O10,SaatgutMineraldünger!$B$3:$N$42,2,FALSE)","v":0},{"$nulls":3},{"$f":"VLOOKUP(O10,SaatgutMineraldünger!$B$3:$N$42,2,FALSE)","v":0},null,null,{"$f":"VLOOKUP(A10,SaatgutMineraldünger!$A$3:$B$198,2,FALSE)","v":0},0,{"$f":"VLOOKUP(O10,SaatgutMineraldünger!$B$3:$N$198,4,FALSE)*(P10/1000)","v":0},{"$f":"VLOOKUP(O10,SaatgutMineraldünger!$B$3:$N$198,5,FALSE)*(P10/1000)","v":0},{"$f":"VLOOKUP(O10,SaatgutMineraldünger!$B$3:$N$198,6,FALSE)*(P10/1000)","v":0},{"$f":"VLOOKUP(O10,SaatgutMineraldünger!$B$3:$N$198,7,FALSE)*(P10/1000)","v":0},{"$f":"VLOOKUP(O10,SaatgutMineraldünger!$B$3:$N$198,8,FALSE)*(P10/1000)","v":0},{"$f":"VLOOKUP(O10,SaatgutMineraldünger!$B$3:$N$198,9,FALSE)*(P10/1000)","v":0},{"$f":"VLOOKUP(O10,SaatgutMineraldünger!$B$3:$N$198,10,FALSE)*(P10/1000)","v":0},{"$f":"VLOOKUP(O10,SaatgutMineraldünger!$B$3:$N$198,11,FALSE)*(P10/1000)","v":0},{"$f":"VLOOKUP(O10,SaatgutMineraldünger!$B$3:$N$42,12,FALSE)*(P10/1000)","v":0},{"$f":"VLOOKUP(O10,SaatgutMineraldünger!$B$3:$N$198,13,FALSE)*(P10/1000)","v":0},{"$f":"VLOOKUP(A10,SaatgutMineraldünger!$A$3:$B$198,2,FALSE)","v":0},0,{"$f":"VLOOKUP(AA10,SaatgutMineraldünger!$B$3:$N$198,4,FALSE)*(AB10/1000)","v":0},{"$f":"VLOOKUP(AA10,SaatgutMineraldünger!$B$3:$N$198,5,FALSE)*(AB10/1000)","v":0},{"$f":"VLOOKUP(AA10,SaatgutMineraldünger!$B$3:$N$198,6,FALSE)*(AB10/1000)","v":0},{"$f":"VLOOKUP(AA10,SaatgutMineraldünger!$B$3:$N$198,7,FALSE)*(AB10/1000)","v":0},{"$f":"VLOOKUP(AA10,SaatgutMineraldünger!$B$3:$N$198,8,FALSE)*(AB10/1000)","v":0},{"$f":"VLOOKUP(AA10,SaatgutMineraldünger!$B$3:$N$198,9,FALSE)*(AB10/1000)","v":0},{"$f":"VLOOKUP(AA10,SaatgutMineraldünger!$B$3:$N$198,10,FALSE)*(AB10/1000)","v":0},{"$f":"VLOOKUP(AA10,SaatgutMineraldünger!$B$3:$N$198,11,FALSE)*(AB10/1000)","v":0},{"$f":"VLOOKUP(AA10,SaatgutMineraldünger!$B$3:$N$198,12,FALSE)*(AB10/1000)","v":0},{"$f":"VLOOKUP(AA10,SaatgutMineraldünger!$B$3:$N$198,13,FALSE)*(AB10/1000)","v":0},{"$f":"VLOOKUP(A10,SaatgutMineraldünger!$A$3:$B$198,2,FALSE)","v":0},0,{"$f":"VLOOKUP(AM10,SaatgutMineraldünger!$B$3:$N$198,4,FALSE)*(AN10/1000)","v":0},{"$f":"VLOOKUP(AM10,SaatgutMineraldünger!$B$3:$N$198,5,FALSE)*(AN10/1000)","v":0},{"$f":"VLOOKUP(AM10,SaatgutMineraldünger!$B$3:$N$198,6,FALSE)*(AN10/1000)","v":0},{"$f":"VLOOKUP(AM10,SaatgutMineraldünger!$B$3:$N$198,7,FALSE)*(AN10/1000)","v":0},{"$f":"VLOOKUP(AM10,SaatgutMineraldünger!$B$3:$N$198,8,FALSE)*(AN10/1000)","v":0},{"$f":"VLOOKUP(AM10,SaatgutMineraldünger!$B$3:$N$198,9,FALSE)*(AN10/1000)","v":0},{"$f":"VLOOKUP(AM10,SaatgutMineraldünger!$B$3:$N$198,10,FALSE)*(AN10/1000)","v":0},{"$f":"VLOOKUP(AM10,SaatgutMineraldünger!$B$3:$N$198,11,FALSE)*(AN10/1000)","v":0},{"$f":"VLOOKUP(AM10,SaatgutMineraldünger!$B$3:$N$198,12,FALSE)*(AN10/1000)","v":0},{"$f":"VLOOKUP(AM10,SaatgutMineraldünger!$B$3:$N$198,13,FALSE)*(AN10/1000)","v":0},0,0,0,0,0,0,0,0,0,0,0]
["Bitte wählen:",null,null,{"$f":"VLOOKUP(O11,SaatgutMineraldünger!$B$3:$N$42,2,FALSE)","v":0},{"$nulls":3},{"$f":"VLOOKUP(O11,SaatgutMineraldünger!$B$3:$N$42,2,FALSE)","v":0},{"$nulls":3},{"$f":"VLOOKUP(O11,SaatgutMineraldünger!$B$3:$N$42,2,FALSE)","v":0},null,null,{"$f":"VLOOKUP(A11,SaatgutMineraldünger!$A$3:$B$198,2,FALSE)","v":0},0,{"$f":"VLOOKUP(O11,SaatgutMineraldünger!$B$3:$N$198,4,FALSE)*(P11/1000)","v":0},{"$f":"VLOOKUP(O11,SaatgutMineraldünger!$B$3:$N$198,5,FALSE)*(P11/1000)","v":0},{"$f":"VLOOKUP(O11,SaatgutMineraldünger!$B$3:$N$198,6,FALSE)*(P11/1000)","v":0},{"$f":"VLOOKUP(O11,SaatgutMineraldünger!$B$3:$N$198,7,FALSE)*(P11/1000)","v":0},{"$f":"VLOOKUP(O11,SaatgutMineraldünger!$B$3:$N$198,8,FALSE)*(P11/1000)","v":0},{"$f":"VLOOKUP(O11,SaatgutMineraldünger!$B$3:$N$198,9,FALSE)*(P11/1000)","v":0},{"$f":"VLOOKUP(O11,SaatgutMineraldünger!$B$3:$N$198,10,FALSE)*(P11/1000)","v":0},{"$f":"VLOOKUP(O11,SaatgutMineraldünger!$B$3:$N$198,11,FALSE)*(P11/1000)","v":0},{"$f":"VLOOKUP(O11,SaatgutMineraldünger!$B$3:$N$42,12,FALSE)*(P11/1000)","v":0},{"$f":"VLOOKUP(O11,SaatgutMineraldünger!$B$3:$N$198,13,FALSE)*(P11/1000)","v":0},{"$f":"VLOOKUP(A11,SaatgutMineraldünger!$A$3:$B$198,2,FALSE)","v":0},0,{"$f":"VLOOKUP(AA11,SaatgutMineraldünger!$B$3:$N$198,4,FALSE)*(AB11/1000)","v":0},{"$f":"VLOOKUP(AA11,SaatgutMineraldünger!$B$3:$N$198,5,FALSE)*(AB11/1000)","v":0},{"$f":"VLOOKUP(AA11,SaatgutMineraldünger!$B$3:$N$198,6,FALSE)*(AB11/1000)","v":0},{"$f":"VLOOKUP(AA11,SaatgutMineraldünger!$B$3:$N$198,7,FALSE)*(AB11/1000)","v":0},{"$f":"VLOOKUP(AA11,SaatgutMineraldünger!$B$3:$N$198,8,FALSE)*(AB11/1000)","v":0},{"$f":"VLOOKUP(AA11,SaatgutMineraldünger!$B$3:$N$198,9,FALSE)*(AB11/1000)","v":0},{"$f":"VLOOKUP(AA11,SaatgutMineraldünger!$B$3:$N$198,10,FALSE)*(AB11/1000)","v":0},{"$f":"VLOOKUP(AA11,SaatgutMineraldünger!$B$3:$N$198,11,FALSE)*(AB11/1000)","v":0},{"$f":"VLOOKUP(AA11,SaatgutMineraldünger!$B$3:$N$198,12,FALSE)*(AB11/1000)","v":0},{"$f":"VLOOKUP(AA11,SaatgutMineraldünger!$B$3:$N$198,13,FALSE)*(AB11/1000)","v":0},{"$f":"VLOOKUP(A11,SaatgutMineraldünger!$A$3:$B$198,2,FALSE)","v":0},0,{"$f":"VLOOKUP(AM11,SaatgutMineraldünger!$B$3:$N$198,4,FALSE)*(AN11/1000)","v":0},{"$f":"VLOOKUP(AM11,SaatgutMineraldünger!$B$3:$N$198,5,FALSE)*(AN11/1000)","v":0},{"$f":"VLOOKUP(AM11,SaatgutMineraldünger!$B$3:$N$198,6,FALSE)*(AN11/1000)","v":0},{"$f":"VLOOKUP(AM11,SaatgutMineraldünger!$B$3:$N$198,7,FALSE)*(AN11/1000)","v":0},{"$f":"VLOOKUP(AM11,SaatgutMineraldünger!$B$3:$N$198,8,FALSE)*(AN11/1000)","v":0},{"$f":"VLOOKUP(AM11,SaatgutMineraldünger!$B$3:$N$198,9,FALSE)*(AN11/1000)","v":0},{"$f":"VLOOKUP(AM11,SaatgutMineraldünger!$B$3:$N$198,10,FALSE)*(AN11/1000)","v":0},{"$f":"VLOOKUP(AM11,SaatgutMineraldünger!$B$3:$N$198,11,FALSE)*(AN11/1000)","v":0},{"$f":"VLOOKUP(AM11,SaatgutMineraldünger!$B$3:$N$198,12,FALSE)*(AN11/1000)","v":0},{"$f":"VLOOKUP(AM11,SaatgutMineraldünger!$B$3:$N$198,13,FALSE)*(AN11/1000)","v":0},0,0,0,0,0,0,0,0,0,0,0]
["Bitte wählen:",null,null,{"$f":"VLOOKUP(O12,SaatgutMineraldünger!$B$3:$N$42,2,FALSE)","v":0},{"$nulls":3},{"$f":"VLOOKUP(O12,SaatgutMineraldünger!$B$3:$N$42,2,FALSE)","v":0},{"$nulls":3},{"$f":"VLOOKUP(O12,SaatgutMineraldünger!$B$3:$N$42,2,FALSE)","v":0},null,null,{"$f":"VLOOKUP(A12,SaatgutMineraldünger!$A$3:$B$198,2,FALSE)","v":0},0,{"$f":"VLOOKUP(O12,SaatgutMineraldünger!$B$3:$N$198,4,FALSE)*(P12/1000)","v":0},{"$f":"VLOOKUP(O12,SaatgutMineraldünger!$B$3:$N$198,5,FALSE)*(P12/1000)","v":0},{"$f":"VLOOKUP(O12,SaatgutMineraldünger!$B$3:$N$198,6,FALSE)*(P12/1000)","v":0},{"$f":"VLOOKUP(O12,SaatgutMineraldünger!$B$3:$N$198,7,FALSE)*(P12/1000)","v":0},{"$f":"VLOOKUP(O12,SaatgutMineraldünger!$B$3:$N$198,8,FALSE)*(P12/1000)","v":0},{"$f":"VLOOKUP(O12,SaatgutMineraldünger!$B$3:$N$198,9,FALSE)*(P12/1000)","v":0},{"$f":"VLOOKUP(O12,SaatgutMineraldünger!$B$3:$N$198,10,FALSE)*(P12/1000)","v":0},{"$f":"VLOOKUP(O12,SaatgutMineraldünger!$B$3:$N$198,11,FALSE)*(P12/1000)","v":0},{"$f":"VLOOKUP(O12,SaatgutMineraldünger!$B$3:$N$42,12,FALSE)*(P12/1000)","v":0},{"$f":"VLOOKUP(O12,SaatgutMineraldünger!$B$3:$N$198,13,FALSE)*(P12/1000)","v":0},{"$f":"VLOOKUP(A12,SaatgutMineraldünger!$A$3:$B$198,2,FALSE)","v":0},0,{"$f":"VLOOKUP(AA12,SaatgutMineraldünger!$B$3:$N$198,4,FALSE)*(AB12/1000)","v":0},{"$f":"VLOOKUP(AA12,SaatgutMineraldünger!$B$3:$N$198,5,FALSE)*(AB12/1000)","v":0},{"$f":"VLOOKUP(AA12,SaatgutMineraldünger!$B$3:$N$198,6,FALSE)*(AB12/1000)","v":0},{"$f":"VLOOKUP(AA12,SaatgutMineraldünger!$B$3:$N$198,7,FALSE)*(AB12/1000)","v":0},{"$f":"VLOOKUP(AA12,SaatgutMineraldünger!$B$3:$N$198,8,FALSE)*(AB12/1000)","v":0},{"$f":"VLOOKUP(AA12,SaatgutMineraldünger!$B$3:$N$198,9,FALSE)*(AB12/1000)","v":0},{"$f":"VLOOKUP(AA12,SaatgutMineraldünger!$B$3:$N$198,10,FALSE)*(AB12/1000)","v":0},{"$f":"VLOOKUP(AA12,SaatgutMineraldünger!$B$3:$N$198,11,FALSE)*(AB12/1000)","v":0},{"$f":"VLOOKUP(AA12,SaatgutMineraldünger!$B$3:$N$198,12,FALSE)*(AB12/1000)","v":0},{"$f":"VLOOKUP(AA12,SaatgutMineraldünger!$B$3:$N$198,13,FALSE)*(AB12/1000)","v":0},{"$f":"VLOOKUP(A12,SaatgutMineraldünger!$A$3:$B$198,2,FALSE)","v":0},0,{"$f":"VLOOKUP(AM12,SaatgutMineraldünger!$B$3:$N$198,4,FALSE)*(AN12/1000)","v":0},{"$f":"VLOOKUP(AM12,SaatgutMineraldünger!$B$3:$N$198,5,FALSE)*(AN12/1000)","v":0},{"$f":"VLOOKUP(AM12,SaatgutMineraldünger!$B$3:$N$198,6,FALSE)*(AN12/1000)","v":0},{"$f":"VLOOKUP(AM12,SaatgutMineraldünger!$B$3:$N$198,7,FALSE)*(AN12/1000)","v":0},{"$f":"VLOOKUP(AM12,SaatgutMineraldünger!$B$3:$N$198,8,FALSE)*(AN12/1000)","v":0},{"$f":"VLOOKUP(AM12,SaatgutMineraldünger!$B$3:$N$198,9,FALSE)*(AN12/1000)","v":0},{"$f":"VLOOKUP(AM12,SaatgutMineraldünger!$B$3:$N$198,10,FALSE)*(AN12/1000)","v":0},{"$f":"VLOOKUP(AM12,SaatgutMineraldünger!$B$3:$N$198,11,FALSE)*(AN12/1000)","v":0},{"$f":"VLOOKUP(AM12,SaatgutMineraldünger!$B$3:$N$198,12,FALSE)*(AN12/1000)","v":0},{"$f":"VLOOKUP(AM12,SaatgutMineraldünger!$B$3:$N$198,13,FALSE)*(AN12/1000)","v":0},0,0,0,0,0,0,0,0,0,0,0]
["Bitte wählen:",null,null,{"$f":"VLOOKUP(O13,SaatgutMineraldünger!$B$3:$N$42,2,FALSE)","v":0},{"$nulls":3},{"$f":"VLOOKUP(O13,SaatgutMineraldünger!$B$3:$N$42,2,FALSE)","v":0},{"$nulls":3},{"$f":"VLOOKUP(O13,SaatgutMineraldünger!$B$3:$N$42,2,FALSE)","v":0},null,null,{"$f":"VLOOKUP(A13,SaatgutMineraldünger!$A$3:$B$198,2,FALSE)","v":0},0,{"$f":"VLOOKUP(O13,SaatgutMineraldünger!$B$3:$N$198,4,FALSE)*(P13/1000)","v":0},{"$f":"VLOOKUP(O13,SaatgutMineraldünger!$B$3:$N$198,5,FALSE)*(P13/1000)","v":0},{"$f":"VLOOKUP(O13,SaatgutMineraldünger!$B$3:$N$198,6,FALSE)*(P13/1000)","v":0},{"$f":"VLOOKUP(O13,SaatgutMineraldünger!$B$3:$N$198,7,FALSE)*(P13/1000)","v":0},{"$f":"VLOOKUP(O13,SaatgutMineraldünger!$B$3:$N$198,8,FALSE)*(P13/1000)","v":0},{"$f":"VLOOKUP(O13,SaatgutMineraldünger!$B$3:$N$198,9,FALSE)*(P13/1000)","v":0},{"$f":"VLOOKUP(O13,SaatgutMineraldünger!$B$3:$N$198,10,FALSE)*(P13/1000)","v":0},{"$f":"VLOOKUP(O13,SaatgutMineraldünger!$B$3:$N$198,11,FALSE)*(P13/1000)","v":0},{"$f":"VLOOKUP(O13,SaatgutMineraldünger!$B$3:$N$42,12,FALSE)*(P13/1000)","v":0},{"$f":"VLOOKUP(O13,SaatgutMineraldünger!$B$3:$N$198,13,FALSE)*(P13/1000)","v":0},{"$f":"VLOOKUP(A13,SaatgutMineraldünger!$A$3:$B$198,2,FALSE)","v":0},0,{"$f":"VLOOKUP(AA13,SaatgutMineraldünger!$B$3:$N$198,4,FALSE)*(AB13/1000)","v":0},{"$f":"VLOOKUP(AA13,SaatgutMineraldünger!$B$3:$N$198,5,FALSE)*(AB13/1000)","v":0},{"$f":"VLOOKUP(AA13,SaatgutMineraldünger!$B$3:$N$198,6,FALSE)*(AB13/1000)","v":0},{"$f":"VLOOKUP(AA13,SaatgutMineraldünger!$B$3:$N$198,7,FALSE)*(AB13/1000)","v":0},{"$f":"VLOOKUP(AA13,SaatgutMineraldünger!$B$3:$N$198,8,FALSE)*(AB13/1000)","v":0},{"$f":"VLOOKUP(AA13,SaatgutMineraldünger!$B$3:$N$198,9,FALSE)*(AB13/1000)","v":0},{"$f":"VLOOKUP(AA13,SaatgutMineraldünger!$B$3:$N$198,10,FALSE)*(AB13/1000)","v":0},{"$f":"VLOOKUP(AA13,SaatgutMineraldünger!$B$3:$N$198,11,FALSE)*(AB13/1000)","v":0},{"$f":"VLOOKUP(AA13,SaatgutMineraldünger!$B$3:$N$198,12,FALSE)*(AB13/1000)","v":0},{"$f":"VLOOKUP(AA13,SaatgutMineraldünger!$B$3:$N$198,13,FALSE)*(AB13/1000)","v":0},{"$f":"VLOOKUP(A13,SaatgutMineraldünger!$A$3:$B$198,2,FALSE)","v":0},0,{"$f":"VLOOKUP(AM13,SaatgutMineraldünger!$B$3:$N$198,4,FALSE)*(AN13/1000)","v":0},{"$f":"VLOOKUP(AM13,SaatgutMineraldünger!$B$3:$N$198,5,FALSE)*(AN13/1000)","v":0},{"$f":"VLOOKUP(AM13,SaatgutMineraldünger!$B$3:$N$198,6,FALSE)*(AN13/1000)","v":0},{"$f":"VLOOKUP(AM13,SaatgutMineraldünger!$B$3:$N$198,7,FALSE)*(AN13/1000)","v":0},{"$f":"VLOOKUP(AM13,SaatgutMineraldünger!$B$3:$N$198,8,FALSE)*(AN13/1000)","v":0},{"$f":"VLOOKUP(AM13,SaatgutMineraldünger!$B$3:$N$198,9,FALSE)*(AN13/1000)","v":0},{"$f":"VLOOKUP(AM13,SaatgutMineraldünger!$B$3:$N$198,10,FALSE)*(AN13/1000)","v":0},{"$f":"VLOOKUP(AM13,SaatgutMineraldünger!$B$3:$N$198,11,FALSE)*(AN13/1000)","v":0},{"$f":"VLOOKUP(AM13,SaatgutMineraldünger!$B$3:$N$198,12,FALSE)*(AN13/1000)","v":0},{"$f":"VLOOKUP(AM13,SaatgutMineraldünger!$B$3:$N$198,13,FALSE)*(AN13/1000)","v":0},0,0,0,0,0,0,0,0,0,0,0]
["Bitte wählen:",null,null,{"$f":"VLOOKUP(O14,SaatgutMineraldünger!$B$3:$N$42,2,FALSE)","v":0},{"$nulls":3},{"$f":"VLOOKUP(O14,SaatgutMineraldünger!$B$3:$N$42,2,FALSE)","v":0},{"$nulls":3},{"$f":"VLOOKUP(O14,SaatgutMineraldünger!$B$3:$N$42,2,FALSE)","v":0},null,null,{"$f":"VLOOKUP(A14,SaatgutMineraldünger!$A$3:$B$198,2,FALSE)","v":0},0,{"$f":"VLOOKUP(O14,SaatgutMineraldünger!$B$3:$N$198,4,FALSE)*(P14/1000)","v":0},{"$f":"VLOOKUP(O14,SaatgutMineraldünger!$B$3:$N$198,5,FALSE)*(P14/1000)","v":0},{"$f":"VLOOKUP(O14,SaatgutMineraldünger!$B$3:$N$198,6,FALSE)*(P14/1000)","v":0},{"$f":"VLOOKUP(O14,SaatgutMineraldünger!$B$3:$N$198,7,FALSE)*(P14/1000)","v":0},{"$f":"VLOOKUP(O14,SaatgutMineraldünger!$B$3:$N$198,8,FALSE)*(P14/1000)","v":0},{"$f":"VLOOKUP(O14,SaatgutMineraldünger!$B$3:$N$198,9,FALSE)*(P14/1000)","v":0},{"$f":"VLOOKUP(O14,SaatgutMineraldünger!$B$3:$N$198,10,FALSE)*(P14/1000)","v":0},{"$f":"VLOOKUP(O14,SaatgutMineraldünger!$B$3:$N$198,11,FALSE)*(P14/1000)","v":0},{"$f":"VLOOKUP(O14,SaatgutMineraldünger!$B$3:$N$42,12,FALSE)*(P14/1000)","v":0},{"$f":"VLOOKUP(O14,SaatgutMineraldünger!$B$3:$N$198,13,FALSE)*(P14/1000)","v":0},{"$f":"VLOOKUP(A14,SaatgutMineraldünger!$A$3:$B$198,2,FALSE)","v":0},0,{"$f":"VLOOKUP(AA14,SaatgutMineraldünger!$B$3:$N$198,4,FALSE)*(AB14/1000)","v":0},{"$f":"VLOOKUP(AA14,SaatgutMineraldünger!$B$3:$N$198,5,FALSE)*(AB14/1000)","v":0},{"$f":"VLOOKUP(AA14,SaatgutMineraldünger!$B$3:$N$198,6,FALSE)*(AB14/1000)","v":0},{"$f":"VLOOKUP(AA14,SaatgutMineraldünger!$B$3:$N$198,7,FALSE)*(AB14/1000)","v":0},{"$f":"VLOOKUP(AA14,SaatgutMineraldünger!$B$3:$N$198,8,FALSE)*(AB14/1000)","v":0},{"$f":"VLOOKUP(AA14,SaatgutMineraldünger!$B$3:$N$198,9,FALSE)*(AB14/1000)","v":0},{"$f":"VLOOKUP(AA14,SaatgutMineraldünger!$B$3:$N$198,10,FALSE)*(AB14/1000)","v":0},{"$f":"VLOOKUP(AA14,SaatgutMineraldünger!$B$3:$N$198,11,FALSE)*(AB14/1000)","v":0},{"$f":"VLOOKUP(AA14,SaatgutMineraldünger!$B$3:$N$198,12,FALSE)*(AB14/1000)","v":0},{"$f":"VLOOKUP(AA14,SaatgutMineraldünger!$B$3:$N$198,13,FALSE)*(AB14/1000)","v":0},{"$f":"VLOOKUP(A14,SaatgutMineraldünger!$A$3:$B$198,2,FALSE)","v":0},0,{"$f":"VLOOKUP(AM14,SaatgutMineraldünger!$B$3:$N$198,4,FALSE)*(AN14/1000)","v":0},{"$f":"VLOOKUP(AM14,SaatgutMineraldünger!$B$3:$N$198,5,FALSE)*(AN14/1000)","v":0},{"$f":"VLOOKUP(AM14,SaatgutMineraldünger!$B$3:$N$198,6,FALSE)*(AN14/1000)","v":0},{"$f":"VLOOKUP(AM14,SaatgutMineraldünger!$B$3:$N$198,7,FALSE)*(AN14/1000)","v":0},{"$f":"VLOOKUP(AM14,SaatgutMineraldünger!$B$3:$N$198,8,FALSE)*(AN14/1000)","v":0},{"$f":"VLOOKUP(AM14,SaatgutMineraldünger!$B$3:$N$198,9,FALSE)*(AN14/1000)","v":0},{"$f":"VLOOKUP(AM14,SaatgutMineraldünger!$B$3:$N$198,10,FALSE)*(AN14/1000)","v":0},{"$f":"VLOOKUP(AM14,SaatgutMineraldünger!$B$3:$N$198,11,FALSE)*(AN14/1000)","v":0},{"$f":"VLOOKUP(AM14,SaatgutMineraldünger!$B$3:$N$198,12,FALSE)*(AN14/1000)","v":0},{"$f":"VLOOKUP(AM14,SaatgutMineraldünger!$B$3:$N$198,13,FALSE)*(AN14/1000)","v":0},0,0,0,0,0,0,0,0,0,0,0]
["Bitte wählen:",null,null,{"$f":"VLOOKUP(O15,SaatgutMineraldünger!$B$3:$N$42,2,FALSE)","v":0},{"$nulls":3},{"$f":"VLOOKUP(O15,SaatgutMineraldünger!$B$3:$N$42,2,FALSE)","v":0},{"$nulls":3},{"$f":"VLOOKUP(O15,SaatgutMineraldünger!$B$3:$N$42,2,FALSE)","v":0},null,null,{"$f":"VLOOKUP(A15,SaatgutMineraldünger!$A$3:$B$198,2,FALSE)","v":0},0,{"$f":"VLOOKUP(O15,SaatgutMineraldünger!$B$3:$N$198,4,FALSE)*(P15/1000)","v":0},{"$f":"VLOOKUP(O15,SaatgutMineraldünger!$B$3:$N$198,5,FALSE)*(P15/1000)","v":0},{"$f":"VLOOKUP(O15,SaatgutMineraldünger!$B$3:$N$198,6,FALSE)*(P15/1000)","v":0},{"$f":"VLOOKUP(O15,SaatgutMineraldünger!$B$3:$N$198,7,FALSE)*(P15/1000)","v":0},{"$f":"VLOOKUP(O15,SaatgutMineraldünger!$B$3:$N$198,8,FALSE)*(P15/1000)","v":0},{"$f":"VLOOKUP(O15,SaatgutMineraldünger!$B$3:$N$198,9,FALSE)*(P15/1000)","v":0},{"$f":"VLOOKUP(O15,SaatgutMineraldünger!$B$3:$N$198,10,FALSE)*(P15/1000)","v":0},{"$f":"VLOOKUP(O15,SaatgutMineraldünger!$B$3:$N$198,11,FALSE)*(P15/1000)","v":0},{"$f":"VLOOKUP(O15,SaatgutMineraldünger!$B$3:$N$42,12,FALSE)*(P15/1000)","v":0},{"$f":"VLOOKUP(O15,SaatgutMineraldünger!$B$3:$N$198,13,FALSE)*(P15/1000)","v":0},{"$f":"VLOOKUP(A15,SaatgutMineraldünger!$A$3:$B$198,2,FALSE)","v":0},0,{"$f":"VLOOKUP(AA15,SaatgutMineraldünger!$B$3:$N$198,4,FALSE)*(AB15/1000)","v":0},{"$f":"VLOOKUP(AA15,SaatgutMineraldünger!$B$3:$N$198,5,FALSE)*(AB15/1000)","v":0},{"$f":"VLOOKUP(AA15,SaatgutMineraldünger!$B$3:$N$198,6,FALSE)*(AB15/1000)","v":0},{"$f":"VLOOKUP(AA15,SaatgutMineraldünger!$B$3:$N$198,7,FALSE)*(AB15/1000)","v":0},{"$f":"VLOOKUP(AA15,SaatgutMineraldünger!$B$3:$N$198,8,FALSE)*(AB15/1000)","v":0},{"$f":"VLOOKUP(AA15,SaatgutMineraldünger!$B$3:$N$198,9,FALSE)*(AB15/1000)","v":0},{"$f":"VLOOKUP(AA15,SaatgutMineraldünger!$B$3:$N$198,10,FALSE)*(AB15/1000)","v":0},{"$f":"VLOOKUP(AA15,SaatgutMineraldünger!$B$3:$N$198,11,FALSE)*(AB15/1000)","v":0},{"$f":"VLOOKUP(AA15,SaatgutMineraldünger!$B$3:$N$198,12,FALSE)*(AB15/1000)","v":0},{"$f":"VLOOKUP(AA15,SaatgutMineraldünger!$B$3:$N$198,13,FALSE)*(AB15/1000)","v":0},{"$f":"VLOOKUP(A15,SaatgutMineraldünger!$A$3:$B$198,2,FALSE)","v":0},0,{"$f":"VLOOKUP(AM15,SaatgutMineraldünger!$B$3:$N$198,4,FALSE)*(AN15/1000)","v":0},{"$f":"VLOOKUP(AM15,SaatgutMineraldünger!$B$3:$N$198,5,FALSE)*(AN15/1000)","v":0},{"$f":"VLOOKUP(AM15,SaatgutMineraldünger!$B$3:$N$198,6,FALSE)*(AN15/1000)","v":0},{"$f":"VLOOKUP(AM15,SaatgutMineraldünger!$B$3:$N$198,7,FALSE)*(AN15/1000)","v":0},{"$f":"VLOOKUP(AM15,SaatgutMineraldünger!$B$3:$N$198,8,FALSE)*(AN15/1000)","v":0},{"$f":"VLOOKUP(AM15,SaatgutMineraldünger!$B$3:$N$198,9,FALSE)*(AN15/1000)","v":0},{"$f":"VLOOKUP(AM15,SaatgutMineraldünger!$B$3:$N$198,10,FALSE)*(AN15/1000)","v":0},{"$f":"VLOOKUP(AM15,SaatgutMineraldünger!$B$3:$N$198,11,FALSE)*(AN15/1000)","v":0},{"$f":"VLOOKUP(AM15,SaatgutMineraldünger!$B$3:$N$198,12,FALSE)*(AN15/1000)","v":0},{"$f":"VLOOKUP(AM15,SaatgutMineraldünger!$B$3:$N$198,13,FALSE)*(AN15/1000)","v":0},0,0,0,0,0,0,0,0,0,0,0]
["Bitte wählen:",null,null,{"$f":"VLOOKUP(O16,SaatgutMineraldünger!$B$3:$N$42,2,FALSE)","v":0},{"$nulls":3},{"$f":"VLOOKUP(O16,SaatgutMineraldünger!$B$3:$N$42,2,FALSE)","v":0},{"$nulls":3},{"$f":"VLOOKUP(O16,SaatgutMineraldünger!$B$3:$N$42,2,FALSE)","v":0},null,null,{"$f":"VLOOKUP(A16,SaatgutMineraldünger!$A$3:$B$198,2,FALSE)","v":0},0,{"$f":"VLOOKUP(O16,SaatgutMineraldünger!$B$3:$N$198,4,FALSE)*(P16/1000)","v":0},{"$f":"VLOOKUP(O16,SaatgutMineraldünger!$B$3:$N$198,5,FALSE)*(P16/1000)","v":0},{"$f":"VLOOKUP(O16,SaatgutMineraldünger!$B$3:$N$198,6,FALSE)*(P16/1000)","v":0},{"$f":"VLOOKUP(O16,SaatgutMineraldünger!$B$3:$N$198,7,FALSE)*(P16/1000)","v":0},{"$f":"VLOOKUP(O16,SaatgutMineraldünger!$B$3:$N$198,8,FALSE)*(P16/1000)","v":0},{"$f":"VLOOKUP(O16,SaatgutMineraldünger!$B$3:$N$198,9,FALSE)*(P16/1000)","v":0},{"$f":"VLOOKUP(O16,SaatgutMineraldünger!$B$3:$N$198,10,FALSE)*(P16/1000)","v":0},{"$f":"VLOOKUP(O16,SaatgutMineraldünger!$B$3:$N$198,11,FALSE)*(P16/1000)","v":0},{"$f":"VLOOKUP(O16,SaatgutMineraldünger!$B$3:$N$42,12,FALSE)*(P16/1000)","v":0},{"$f":"VLOOKUP(O16,SaatgutMineraldünger!$B$3:$N$198,13,FALSE)*(P16/1000)","v":0},{"$f":"VLOOKUP(A16,SaatgutMineraldünger!$A$3:$B$198,2,FALSE)","v":0},0,{"$f":"VLOOKUP(AA16,SaatgutMineraldünger!$B$3:$N$198,4,FALSE)*(AB16/1000)","v":0},{"$f":"VLOOKUP(AA16,SaatgutMineraldünger!$B$3:$N$198,5,FALSE)*(AB16/1000)","v":0},{"$f":"VLOOKUP(AA16,SaatgutMineraldünger!$B$3:$N$198,6,FALSE)*(AB16/1000)","v":0},{"$f":"VLOOKUP(AA16,SaatgutMineraldünger!$B$3:$N$198,7,FALSE)*(AB16/1000)","v":0},{"$f":"VLOOKUP(AA16,SaatgutMineraldünger!$B$3:$N$198,8,FALSE)*(AB16/1000)","v":0},{"$f":"VLOOKUP(AA16,SaatgutMineraldünger!$B$3:$N$198,9,FALSE)*(AB16/1000)","v":0},{"$f":"VLOOKUP(AA16,SaatgutMineraldünger!$B$3:$N$198,10,FALSE)*(AB16/1000)","v":0},{"$f":"VLOOKUP(AA16,SaatgutMineraldünger!$B$3:$N$198,11,FALSE)*(AB16/1000)","v":0},{"$f":"VLOOKUP(AA16,SaatgutMineraldünger!$B$3:$N$198,12,FALSE)*(AB16/1000)","v":0},{"$f":"VLOOKUP(AA16,SaatgutMineraldünger!$B$3:$N$198,13,FALSE)*(AB16/1000)","v":0},{"$f":"VLOOKUP(A16,SaatgutMineraldünger!$A$3:$B$198,2,FALSE)","v":0},0,{"$f":"VLOOKUP(AM16,SaatgutMineraldünger!$B$3:$N$198,4,FALSE)*(AN16/1000)","v":0},{"$f":"VLOOKUP(AM16,SaatgutMineraldünger!$B$3:$N$198,5,FALSE)*(AN16/1000)","v":0},{"$f":"VLOOKUP(AM16,SaatgutMineraldünger!$B$3:$N$198,6,FALSE)*(AN16/1000)","v":0},{"$f":"VLOOKUP(AM16,SaatgutMineraldünger!$B$3:$N$198,7,FALSE)*(AN16/1000)","v":0},{"$f":"VLOOKUP(AM16,SaatgutMineraldünger!$B$3:$N$198,8,FALSE)*(AN16/1000)","v":0},{"$f":"VLOOKUP(AM16,SaatgutMineraldünger!$B$3:$N$198,9,FALSE)*(AN16/1000)","v":0},{"$f":"VLOOKUP(AM16,SaatgutMineraldünger!$B$3:$N$198,10,FALSE)*(AN16/1000)","v":0},{"$f":"VLOOKUP(AM16,SaatgutMineraldünger!$B$3:$N$198,11,FALSE)*(AN16/1000)","v":0},{"$f":"VLOOKUP(AM16,SaatgutMineraldünger!$B$3:$N$198,12,FALSE)*(AN16/1000)","v":0},{"$f":"VLOOKUP(AM16,SaatgutMineraldünger!$B$3:$N$198,13,FALSE)*(AN16/1000)","v":0},0,0,0,0,0,0,0,0,0,0,0]
["Bitte wählen:",null,null,{"$f":"VLOOKUP(O17,SaatgutMineraldünger!$B$3:$N$42,2,FALSE)","v":0},{"$nulls":3},{"$f":"VLOOKUP(O17,SaatgutMineraldünger!$B$3:$N$42,2,FALSE)","v":0},{"$nulls":3},{"$f":"VLOOKUP(O17,SaatgutMineraldünger!$B$3:$N$42,2,FALSE)","v":0},null,null,{"$f":"VLOOKUP(A17,SaatgutMineraldünger!$A$3:$B$198,2,FALSE)","v":0},0,{"$f":"VLOOKUP(O17,SaatgutMineraldünger!$B$3:$N$198,4,FALSE)*(P17/1000)","v":0},{"$f":"VLOOKUP(O17,SaatgutMineraldünger!$B$3:$N$198,5,FALSE)*(P17/1000)","v":0},{"$f":"VLOOKUP(O17,SaatgutMineraldünger!$B$3:$N$198,6,FALSE)*(P17/1000)","v":0},{"$f":"VLOOKUP(O17,SaatgutMineraldünger!$B$3:$N$198,7,FALSE)*(P17/1000)","v":0},{"$f":"VLOOKUP(O17,SaatgutMineraldünger!$B$3:$N$198,8,FALSE)*(P17/1000)","v":0},{"$f":"VLOOKUP(O17,SaatgutMineraldünger!$B$3:$N$198,9,FALSE)*(P17/1000)","v":0},{"$f":"VLOOKUP(O17,SaatgutMineraldünger!$B$3:$N$198,10,FALSE)*(P17/1000)","v":0},{"$f":"VLOOKUP(O17,SaatgutMineraldünger!$B$3:$N$198,11,FALSE)*(P17/1000)","v":0},{"$f":"VLOOKUP(O17,SaatgutMineraldünger!$B$3:$N$42,12,FALSE)*(P17/1000)","v":0},{"$f":"VLOOKUP(O17,SaatgutMineraldünger!$B$3:$N$198,13,FALSE)*(P17/1000)","v":0},{"$f":"VLOOKUP(A17,SaatgutMineraldünger!$A$3:$B$198,2,FALSE)","v":0},0,{"$f":"VLOOKUP(AA17,SaatgutMineraldünger!$B$3:$N$198,4,FALSE)*(AB17/1000)","v":0},{"$f":"VLOOKUP(AA17,SaatgutMineraldünger!$B$3:$N$198,5,FALSE)*(AB17/1000)","v":0},{"$f":"VLOOKUP(AA17,SaatgutMineraldünger!$B$3:$N$198,6,FALSE)*(AB17/1000)","v":0},{"$f":"VLOOKUP(AA17,SaatgutMineraldünger!$B$3:$N$198,7,FALSE)*(AB17/1000)","v":0},{"$f":"VLOOKUP(AA17,SaatgutMineraldünger!$B$3:$N$198,8,FALSE)*(AB17/1000)","v":0},{"$f":"VLOOKUP(AA17,SaatgutMineraldünger!$B$3:$N$198,9,FALSE)*(AB17/1000)","v":0},{"$f":"VLOOKUP(AA17,SaatgutMineraldünger!$B$3:$N$198,10,FALSE)*(AB17/1000)","v":0},{"$f":"VLOOKUP(AA17,SaatgutMineraldünger!$B$3:$N$198,11,FALSE)*(AB17/1000)","v":0},{"$f":"VLOOKUP(AA17,SaatgutMineraldünger!$B$3:$N$198,12,FALSE)*(AB17/1000)","v":0},{"$f":"VLOOKUP(AA17,SaatgutMineraldünger!$B$3:$N$198,13,FALSE)*(AB17/1000)","v":0},{"$f":"VLOOKUP(A17,SaatgutMineraldünger!$A$3:$B$198,2,FALSE)","v":0},0,{"$f":"VLOOKUP(AM17,SaatgutMineraldünger!$B$3:$N$198,4,FALSE)*(AN17/1000)","v":0},{"$f":"VLOOKUP(AM17,SaatgutMineraldünger!$B$3:$N$198,5,FALSE)*(AN17/1000)","v":0},{"$f":"VLOOKUP(AM17,SaatgutMineraldünger!$B$3:$N$198,6,FALSE)*(AN17/1000)","v":0},{"$f":"VLOOKUP(AM17,SaatgutMineraldünger!$B$3:$N$198,7,FALSE)*(AN17/1000)","v":0},{"$f":"VLOOKUP(AM17,SaatgutMineraldünger!$B$3:$N$198,8,FALSE)*(AN17/1000)","v":0},{"$f":"VLOOKUP(AM17,SaatgutMineraldünger!$B$3:$N$198,9,FALSE)*(AN17/1000)","v":0},{"$f":"VLOOKUP(AM17,SaatgutMineraldünger!$B$3:$N$198,10,FALSE)*(AN17/1000)","v":0},{"$f":"VLOOKUP(AM17,SaatgutMineraldünger!$B$3:$N$198,11,FALSE)*(AN17/1000)","v":0},{"$f":"VLOOKUP(AM17,SaatgutMineraldünger!$B$3:$N$198,12,FALSE)*(AN17/1000)","v":0},{"$f":"VLOOKUP(AM17,SaatgutMineraldünger!$B$3:$N$198,13,FALSE)*(AN17/1000)","v":0},0,0,0,0,0,0,0,0,0,0,0]
["Bitte wählen:",null,null,{"$f":"VLOOKUP(O18,SaatgutMineraldünger!$B$3:$N$42,2,FALSE)","v":0},{"$nulls":3},{"$f":"VLOOKUP(O18,SaatgutMineraldünger!$B$3:$N$42,2,FALSE)","v":0},{"$nulls":3},{"$f":"VLOOKUP(O18,SaatgutMineraldünger!$B$3:$N$42,2,FALSE)","v":0},null,null,{"$f":"VLOOKUP(A18,SaatgutMineraldünger!$A$3:$B$198,2,FALSE)","v":0},0,{"$f":"VLOOKUP(O18,SaatgutMineraldünger!$B$3:$N$198,4,FALSE)*(P18/1000)","v":0},{"$f":"VLOOKUP(O18,SaatgutMineraldünger!$B$3:$N$198,5,FALSE)*(P18/1000)","v":0},{"$f":"VLOOKUP(O18,SaatgutMineraldünger!$B$3:$N$198,6,FALSE)*(P18/1000)","v":0},{"$f":"VLOOKUP(O18,SaatgutMineraldünger!$B$3:$N$198,7,FALSE)*(P18/1000)","v":0},{"$f":"VLOOKUP(O18,SaatgutMineraldünger!$B$3:$N$198,8,FALSE)*(P18/1000)","v":0},{"$f":"VLOOKUP(O18,SaatgutMineraldünger!$B$3:$N$198,9,FALSE)*(P18/1000)","v":0},{"$f":"VLOOKUP(O18,SaatgutMineraldünger!$B$3:$N$198,10,FALSE)*(P18/1000)","v":0},{"$f":"VLOOKUP(O18,SaatgutMineraldünger!$B$3:$N$198,11,FALSE)*(P18/1000)","v":0},{"$f":"VLOOKUP(O18,SaatgutMineraldünger!$B$3:$N$42,12,FALSE)*(P18/1000)","v":0},{"$f":"VLOOKUP(O18,SaatgutMineraldünger!$B$3:$N$198,13,FALSE)*(P18/1000)","v":0},{"$f":"VLOOKUP(A18,SaatgutMineraldünger!$A$3:$B$198,2,FALSE)","v":0},0,{"$f":"VLOOKUP(AA18,SaatgutMineraldünger!$B$3:$N$198,4,FALSE)*(AB18/1000)","v":0},{"$f":"VLOOKUP(AA18,SaatgutMineraldünger!$B$3:$N$198,5,FALSE)*(AB18/1000)","v":0},{"$f":"VLOOKUP(AA18,SaatgutMineraldünger!$B$3:$N$198,6,FALSE)*(AB18/1000)","v":0},{"$f":"VLOOKUP(AA18,SaatgutMineraldünger!$B$3:$N$198,7,FALSE)*(AB18/1000)","v":0},{"$f":"VLOOKUP(AA18,SaatgutMineraldünger!$B$3:$N$198,8,FALSE)*(AB18/1000)","v":0},{"$f":"VLOOKUP(AA18,SaatgutMineraldünger!$B$3:$N$198,9,FALSE)*(AB18/1000)","v":0},{"$f":"VLOOKUP(AA18,SaatgutMineraldünger!$B$3:$N$198,10,FALSE)*(AB18/1000)","v":0},{"$f":"VLOOKUP(AA18,SaatgutMineraldünger!$B$3:$N$198,11,FALSE)*(AB18/1000)","v":0},{"$f":"VLOOKUP(AA18,SaatgutMineraldünger!$B$3:$N$198,12,FALSE)*(AB18/1000)","v":0},{"$f":"VLOOKUP(AA18,SaatgutMineraldünger!$B$3:$N$198,13,FALSE)*(AB18/1000)","v":0},{"$f":"VLOOKUP(A18,SaatgutMineraldünger!$A$3:$B$198,2,FALSE)","v":0},0,{"$f":"VLOOKUP(AM18,SaatgutMineraldünger!$B$3:$N$198,4,FALSE)*(AN18/1000)","v":0},{"$f":"VLOOKUP(AM18,SaatgutMineraldünger!$B$3:$N$198,5,FALSE)*(AN18/1000)","v":0},{"$f":"VLOOKUP(AM18,SaatgutMineraldünger!$B$3:$N$198,6,FALSE)*(AN18/1000)","v":0},{"$f":"VLOOKUP(AM18,SaatgutMineraldünger!$B$3:$N$198,7,FALSE)*(AN18/1000)","v":0},{"$f":"VLOOKUP(AM18,SaatgutMineraldünger!$B$3:$N$198,8,FALSE)*(AN18/1000)","v":0},{"$f":"VLOOKUP(AM18,SaatgutMineraldünger!$B$3:$N$198,9,FALSE)*(AN18/1000)","v":0},{"$f":"VLOOKUP(AM18,SaatgutMineraldünger!$B$3:$N$198,10,FALSE)*(AN18/1000)","v":0},{"$f":"VLOOKUP(AM18,SaatgutMineraldünger!$B$3:$N$198,11,FALSE)*(AN18/1000)","v":0},{"$f":"VLOOKUP(AM18,SaatgutMineraldünger!$B$3:$N$198,12,FALSE)*(AN18/1000)","v":0},{"$f":"VLOOKUP(AM18,SaatgutMineraldünger!$B$3:$N$198,13,FALSE)*(AN18/1000)","v":0},0,0,0,0,0,0,0,0,0,0,0]
["Bitte wählen:",null,null,{"$f":"VLOOKUP(O19,SaatgutMineraldünger!$B$3:$N$42,2,FALSE)","v":0},{"$nulls":3},{"$f":"VLOOKUP(O19,SaatgutMineraldünger!$B$3:$N$42,2,FALSE)","v":0},{"$nulls":3},{"$f":"VLOOKUP(O19,SaatgutMineraldünger!$B$3:$N$42,2,FALSE)","v":0},null,null,{"$f":"VLOOKUP(A19,SaatgutMineraldünger!$A$3:$B$198,2,FALSE)","v":0},0,{"$f":"VLOOKUP(O19,SaatgutMineraldünger!$B$3:$N$198,4,FALSE)*(P19/1000)","v":0},{"$f":"VLOOKUP(O19,SaatgutMineraldünger!$B$3:$N$198,5,FALSE)*(P19/1000)","v":0},{"$f":"VLOOKUP(O19,SaatgutMineraldünger!$B$3:$N$198,6,FALSE)*(P19/1000)","v":0},{"$f":"VLOOKUP(O19,SaatgutMineraldünger!$B$3:$N$198,7,FALSE)*(P19/1000)","v":0},{"$f":"VLOOKUP(O19,SaatgutMineraldünger!$B$3:$N$198,8,FALSE)*(P19/1000)","v":0},{"$f":"VLOOKUP(O19,SaatgutMineraldünger!$B$3:$N$198,9,FALSE)*(P19/1000)","v":0},{"$f":"VLOOKUP(O19,SaatgutMineraldünger!$B$3:$N$198,10,FALSE)*(P19/1000)","v":0},{"$f":"VLOOKUP(O19,SaatgutMineraldünger!$B$3:$N$198,11,FALSE)*(P19/1000)","v":0},{"$f":"VLOOKUP(O19,SaatgutMineraldünger!$B$3:$N$42,12,FALSE)*(P19/1000)","v":0},{"$f":"VLOOKUP(O19,SaatgutMineraldünger!$B$3:$N$198,13,FALSE)*(P19/1000)","v":0},{"$f":"VLOOKUP(A19,SaatgutMineraldünger!$A$3:$B$198,2,FALSE)","v":0},0,{"$f":"VLOOKUP(AA19,SaatgutMineraldünger!$B$3:$N$198,4,FALSE)*(AB19/1000)","v":0},{"$f":"VLOOKUP(AA19,SaatgutMineraldünger!$B$3:$N$198,5,FALSE)*(AB19/1000)","v":0},{"$f":"VLOOKUP(AA19,SaatgutMineraldünger!$B$3:$N$198,6,FALSE)*(AB19/1000)","v":0},{"$f":"VLOOKUP(AA19,SaatgutMineraldünger!$B$3:$N$198,7,FALSE)*(AB19/1000)","v":0},{"$f":"VLOOKUP(AA19,SaatgutMineraldünger!$B$3:$N$198,8,FALSE)*(AB19/1000)","v":0},{"$f":"VLOOKUP(AA19,SaatgutMineraldünger!$B$3:$N$198,9,FALSE)*(AB19/1000)","v":0},{"$f":"VLOOKUP(AA19,SaatgutMineraldünger!$B$3:$N$198,10,FALSE)*(AB19/1000)","v":0},{"$f":"VLOOKUP(AA19,SaatgutMineraldünger!$B$3:$N$198,11,FALSE)*(AB19/1000)","v":0},{"$f":"VLOOKUP(AA19,SaatgutMineraldünger!$B$3:$N$198,12,FALSE)*(AB19/1000)","v":0},{"$f":"VLOOKUP(AA19,SaatgutMineraldünger!$B$3:$N$198,13,FALSE)*(AB19/1000)","v":0},{"$f":"VLOOKUP(A19,SaatgutMineraldünger!$A$3:$B$198,2,FALSE)","v":0},0,{"$f":"VLOOKUP(AM19,SaatgutMineraldünger!$B$3:$N$198,4,FALSE)*(AN19/1000)","v":0},{"$f":"VLOOKUP(AM19,SaatgutMineraldünger!$B$3:$N$198,5,FALSE)*(AN19/1000)","v":0},{"$f":"VLOOKUP(AM19,SaatgutMineraldünger!$B$3:$N$198,6,FALSE)*(AN19/1000)","v":0},{"$f":"VLOOKUP(AM19,SaatgutMineraldünger!$B$3:$N$198,7,FALSE)*(AN19/1000)","v":0},{"$f":"VLOOKUP(AM19,SaatgutMineraldünger!$B$3:$N$198,8,FALSE)*(AN19/1000)","v":0},{"$f":"VLOOKUP(AM19,SaatgutMineraldünger!$B$3:$N$198,9,FALSE)*(AN19/1000)","v":0},{"$f":"VLOOKUP(AM19,SaatgutMineraldünger!$B$3:$N$198,10,FALSE)*(AN19/1000)","v":0},{"$f":"VLOOKUP(AM19,SaatgutMineraldünger!$B$3:$N$198,11,FALSE)*(AN19/1000)","v":0},{"$f":"VLOOKUP(AM19,SaatgutMineraldünger!$B$3:$N$198,12,FALSE)*(AN19/1000)","v":0},{"$f":"VLOOKUP(AM19,SaatgutMineraldünger!$B$3:$N$198,13,FALSE)*(AN19/1000)","v":0},0,0,0,0,0,0,0,0,0,0,0]
["Bitte wählen:",null,null,{"$f":"VLOOKUP(O20,SaatgutMineraldünger!$B$3:$N$42,2,FALSE)","v":0},{"$nulls":3},{"$f":"VLOOKUP(O20,SaatgutMineraldünger!$B$3:$N$42,2,FALSE)","v":0},{"$nulls":3},{"$f":"VLOOKUP(O20,SaatgutMineraldünger!$B$3:$N$42,2,FALSE)","v":0},null,null,{"$f":"VLOOKUP(A20,SaatgutMineraldünger!$A$3:$B$198,2,FALSE)","v":0},0,{"$f":"VLOOKUP(O20,SaatgutMineraldünger!$B$3:$N$198,4,FALSE)*(P20/1000)","v":0},{"$f":"VLOOKUP(O20,SaatgutMineraldünger!$B$3:$N$198,5,FALSE)*(P20/1000)","v":0},{"$f":"VLOOKUP(O20,SaatgutMineraldünger!$B$3:$N$198,6,FALSE)*(P20/1000)","v":0},{"$f":"VLOOKUP(O20,SaatgutMineraldünger!$B$3:$N$198,7,FALSE)*(P20/1000)","v":0},{"$f":"VLOOKUP(O20,SaatgutMineraldünger!$B$3:$N$198,8,FALSE)*(P20/1000)","v":0},{"$f":"VLOOKUP(O20,SaatgutMineraldünger!$B$3:$N$198,9,FALSE)*(P20/1000)","v":0},{"$f":"VLOOKUP(O20,SaatgutMineraldünger!$B$3:$N$198,10,FALSE)*(P20/1000)","v":0},{"$f":"VLOOKUP(O20,SaatgutMineraldünger!$B$3:$N$198,11,FALSE)*(P20/1000)","v":0},{"$f":"VLOOKUP(O20,SaatgutMineraldünger!$B$3:$N$42,12,FALSE)*(P20/1000)","v":0},{"$f":"VLOOKUP(O20,SaatgutMineraldünger!$B$3:$N$198,13,FALSE)*(P20/1000)","v":0},{"$f":"VLOOKUP(A20,SaatgutMineraldünger!$A$3:$B$198,2,FALSE)","v":0},0,{"$f":"VLOOKUP(AA20,SaatgutMineraldünger!$B$3:$N$198,4,FALSE)*(AB20/1000)","v":0},{"$f":"VLOOKUP(AA20,SaatgutMineraldünger!$B$3:$N$198,5,FALSE)*(AB20/1000)","v":0},{"$f":"VLOOKUP(AA20,SaatgutMineraldünger!$B$3:$N$198,6,FALSE)*(AB20/1000)","v":0},{"$f":"VLOOKUP(AA20,SaatgutMineraldünger!$B$3:$N$198,7,FALSE)*(AB20/1000)","v":0},{"$f":"VLOOKUP(AA20,SaatgutMineraldünger!$B$3:$N$198,8,FALSE)*(AB20/1000)","v":0},{"$f":"VLOOKUP(AA20,SaatgutMineraldünger!$B$3:$N$198,9,FALSE)*(AB20/1000)","v":0},{"$f":"VLOOKUP(AA20,SaatgutMineraldünger!$B$3:$N$198,10,FALSE)*(AB20/1000)","v":0},{"$f":"VLOOKUP(AA20,SaatgutMineraldünger!$B$3:$N$198,11,FALSE)*(AB20/1000)","v":0},{"$f":"VLOOKUP(AA20,SaatgutMineraldünger!$B$3:$N$198,12,FALSE)*(AB20/1000)","v":0},{"$f":"VLOOKUP(AA20,SaatgutMineraldünger!$B$3:$N$198,13,FALSE)*(AB20/1000)","v":0},{"$f":"VLOOKUP(A20,SaatgutMineraldünger!$A$3:$B$198,2,FALSE)","v":0},0,{"$f":"VLOOKUP(AM20,SaatgutMineraldünger!$B$3:$N$198,4,FALSE)*(AN20/1000)","v":0},{"$f":"VLOOKUP(AM20,SaatgutMineraldünger!$B$3:$N$198,5,FALSE)*(AN20/1000)","v":0},{"$f":"VLOOKUP(AM20,SaatgutMineraldünger!$B$3:$N$198,6,FALSE)*(AN20/1000)","v":0},{"$f":"VLOOKUP(AM20,SaatgutMineraldünger!$B$3:$N$198,7,FALSE)*(AN20/1000)","v":0},{"$f":"VLOOKUP(AM20,SaatgutMineraldünger!$B$3:$N$198,8,FALSE)*(AN20/1000)","v":0},{"$f":"VLOOKUP(AM20,SaatgutMineraldünger!$B$3:$N$198,9,FALSE)*(AN20/1000)","v":0},{"$f":"VLOOKUP(AM20,SaatgutMineraldünger!$B$3:$N$198,10,FALSE)*(AN20/1000)","v":0},{"$f":"VLOOKUP(AM20,SaatgutMineraldünger!$B$3:$N$198,11,FALSE)*(AN20/1000)","v":0},{"$f":"VLOOKUP(AM20,SaatgutMineraldünger!$B$3:$N$198,12,FALSE)*(AN20/1000)","v":0},{"$f":"VLOOKUP(AM20,SaatgutMineraldünger!$B$3:$N$198,13,FALSE)*(AN20/1000)","v":0},0,0,0,0,0,0,0,0,{"$f":"AVERAGE(X20,AJ20,AV20)","v":0},0,0]
["Bitte wählen:",null,null,{"$f":"VLOOKUP(O21,SaatgutMineraldünger!$B$3:$N$42,2,FALSE)","v":0},{"$nulls":3},{"$f":"VLOOKUP(O21,SaatgutMineraldünger!$B$3:$N$42,2,FALSE)","v":0},{"$nulls":3},{"$f":"VLOOKUP(O21,SaatgutMineraldünger!$B$3:$N$42,2,FALSE)","v":0},null,null,{"$f":"VLOOKUP(A21,SaatgutMineraldünger!$A$3:$B$198,2,FALSE)","v":0},0,{"$f":"VLOOKUP(O21,SaatgutMineraldünger!$B$3:$N$198,4,FALSE)*(P21/1000)","v":0},{"$f":"VLOOKUP(O21,SaatgutMineraldünger!$B$3:$N$198,5,FALSE)*(P21/1000)","v":0},{"$f":"VLOOKUP(O21,SaatgutMineraldünger!$B$3:$N$198,6,FALSE)*(P21/1000)","v":0},{"$f":"VLOOKUP(O21,SaatgutMineraldünger!$B$3:$N$198,7,FALSE)*(P21/1000)","v":0},{"$f":"VLOOKUP(O21,SaatgutMineraldünger!$B$3:$N$198,8,FALSE)*(P21/1000)","v":0},{"$f":"VLOOKUP(O21,SaatgutMineraldünger!$B$3:$N$198,9,FALSE)*(P21/1000)","v":0},{"$f":"VLOOKUP(O21,SaatgutMineraldünger!$B$3:$N$198,10,FALSE)*(P21/1000)","v":0},{"$f":"VLOOKUP(O21,SaatgutMineraldünger!$B$3:$N$198,11,FALSE)*(P21/1000)","v":0},{"$f":"VLOOKUP(O21,SaatgutMineraldünger!$B$3:$N$42,12,FALSE)*(P21/1000)","v":0},{"$f":"VLOOKUP(O21,SaatgutMineraldünger!$B$3:$N$198,13,FALSE)*(P21/1000)","v":0},{"$f":"VLOOKUP(A21,SaatgutMineraldünger!$A$3:$B$198,2,FALSE)","v":0},0,{"$f":"VLOOKUP(AA21,SaatgutMineraldünger!$B$3:$N$198,4,FALSE)*(AB21/1000)","v":0},{"$f":"VLOOKUP(AA21,SaatgutMineraldünger!$B$3:$N$198,5,FALSE)*(AB21/1000)","v":0},{"$f":"VLOOKUP(AA21,SaatgutMineraldünger!$B$3:$N$198,6,FALSE)*(AB21/1000)","v":0},{"$f":"VLOOKUP(AA21,SaatgutMineraldünger!$B$3:$N$198,7,FALSE)*(AB21/1000)","v":0},{"$f":"VLOOKUP(AA21,SaatgutMineraldünger!$B$3:$N$198,8,FALSE)*(AB21/1000)","v":0},{"$f":"VLOOKUP(AA21,SaatgutMineraldünger!$B$3:$N$198,9,FALSE)*(AB21/1000)","v":0},{"$f":"VLOOKUP(AA21,SaatgutMineraldünger!$B$3:$N$198,10,FALSE)*(AB21/1000)","v":0},{"$f":"VLOOKUP(AA21,SaatgutMineraldünger!$B$3:$N$198,11,FALSE)*(AB21/1000)","v":0},{"$f":"VLOOKUP(AA21,SaatgutMineraldünger!$B$3:$N$198,12,FALSE)*(AB21/1000)","v":0},{"$f":"VLOOKUP(AA21,SaatgutMineraldünger!$B$3:$N$198,13,FALSE)*(AB21/1000)","v":0},{"$f":"VLOOKUP(A21,SaatgutMineraldünger!$A$3:$B$198,2,FALSE)","v":0},0,{"$f":"VLOOKUP(AM21,SaatgutMineraldünger!$B$3:$N$198,4,FALSE)*(AN21/1000)","v":0},{"$f":"VLOOKUP(AM21,SaatgutMineraldünger!$B$3:$N$198,5,FALSE)*(AN21/1000)","v":0},{"$f":"VLOOKUP(AM21,SaatgutMineraldünger!$B$3:$N$198,6,FALSE)*(AN21/1000)","v":0},{"$f":"VLOOKUP(AM21,SaatgutMineraldünger!$B$3:$N$198,7,FALSE)*(AN21/1000)","v":0},{"$f":"VLOOKUP(AM21,SaatgutMineraldünger!$B$3:$N$198,8,FALSE)*(AN21/1000)","v":0},{"$f":"VLOOKUP(AM21,SaatgutMineraldünger!$B$3:$N$198,9,FALSE)*(AN21/1000)","v":0},{"$f":"VLOOKUP(AM21,SaatgutMineraldünger!$B$3:$N$198,10,FALSE)*(AN21/1000)","v":0},{"$f":"VLOOKUP(AM21,SaatgutMineraldünger!$B$3:$N$198,11,FALSE)*(AN21/1000)","v":0},{"$f":"VLOOKUP(AM21,SaatgutMineraldünger!$B$3:$N$198,12,FALSE)*(AN21/1000)","v":0},{"$f":"VLOOKUP(AM21,SaatgutMineraldünger!$B$3:$N$198,13,FALSE)*(AN21/1000)","v":0},0,0,0,0,0,0,0,0,0,0,0]
["Bitte wählen:",null,null,{"$f":"VLOOKUP(O22,SaatgutMineraldünger!$B$3:$N$42,2,FALSE)","v":0},{"$nulls":3},{"$f":"VLOOKUP(O22,SaatgutMineraldünger!$B$3:$N$42,2,FALSE)","v":0},{"$nulls":3},{"$f":"VLOOKUP(O22,SaatgutMineraldünger!$B$3:$N$42,2,FALSE)","v":0},null,null,{"$f":"VLOOKUP(A22,SaatgutMineraldünger!$A$3:$B$198,2,FALSE)","v":0},0,{"$f":"VLOOKUP(O22,SaatgutMineraldünger!$B$3:$N$198,4,FALSE)*(P22/1000)","v":0},{"$f":"VLOOKUP(O22,SaatgutMineraldünger!$B$3:$N$198,5,FALSE)*(P22/1000)","v":0},{"$f":"VLOOKUP(O22,SaatgutMineraldünger!$B$3:$N$198,6,FALSE)*(P22/1000)","v":0},{"$f":"VLOOKUP(O22,SaatgutMineraldünger!$B$3:$N$198,7,FALSE)*(P22/1000)","v":0},{"$f":"VLOOKUP(O22,SaatgutMineraldünger!$B$3:$N$198,8,FALSE)*(P22/1000)","v":0},{"$f":"VLOOKUP(O22,SaatgutMineraldünger!$B$3:$N$198,9,FALSE)*(P22/1000)","v":0},{"$f":"VLOOKUP(O22,SaatgutMineraldünger!$B$3:$N$198,10,FALSE)*(P22/1000)","v":0},{"$f":"VLOOKUP(O22,SaatgutMineraldünger!$B$3:$N$198,11,FALSE)*(P22/1000)","v":0},{"$f":"VLOOKUP(O22,SaatgutMineraldünger!$B$3:$N$42,12,FALSE)*(P22/1000)","v":0},{"$f":"VLOOKUP(O22,SaatgutMineraldünger!$B$3:$N$198,13,FALSE)*(P22/1000)","v":0},{"$f":"VLOOKUP(A22,SaatgutMineraldünger!$A$3:$B$198,2,FALSE)","v":0},0,{"$f":"VLOOKUP(AA22,SaatgutMineraldünger!$B$3:$N$198,4,FALSE)*(AB22/1000)","v":0},{"$f":"VLOOKUP(AA22,SaatgutMineraldünger!$B$3:$N$198,5,FALSE)*(AB22/1000)","v":0},{"$f":"VLOOKUP(AA22,SaatgutMineraldünger!$B$3:$N$198,6,FALSE)*(AB22/1000)","v":0},{"$f":"VLOOKUP(AA22,SaatgutMineraldünger!$B$3:$N$198,7,FALSE)*(AB22/1000)","v":0},{"$f":"VLOOKUP(AA22,SaatgutMineraldünger!$B$3:$N$198,8,FALSE)*(AB22/1000)","v":0},{"$f":"VLOOKUP(AA22,SaatgutMineraldünger!$B$3:$N$198,9,FALSE)*(AB22/1000)","v":0},{"$f":"VLOOKUP(AA22,SaatgutMineraldünger!$B$3:$N$198,10,FALSE)*(AB22/1000)","v":0},{"$f":"VLOOKUP(AA22,SaatgutMineraldünger!$B$3:$N$198,11,FALSE)*(AB22/1000)","v":0},{"$f":"VLOOKUP(AA22,SaatgutMineraldünger!$B$3:$N$198,12,FALSE)*(AB22/1000)","v":0},{"$f":"VLOOKUP(AA22,SaatgutMineraldünger!$B$3:$N$198,13,FALSE)*(AB22/1000)","v":0},{"$f":"VLOOKUP(A22,SaatgutMineraldünger!$A$3:$B$198,2,FALSE)","v":0},0,{"$f":"VLOOKUP(AM22,SaatgutMineraldünger!$B$3:$N$198,4,FALSE)*(AN22/1000)","v":0},{"$f":"VLOOKUP(AM22,SaatgutMineraldünger!$B$3:$N$198,5,FALSE)*(AN22/1000)","v":0},{"$f":"VLOOKUP(AM22,SaatgutMineraldünger!$B$3:$N$198,6,FALSE)*(AN22/1000)","v":0},{"$f":"VLOOKUP(AM22,SaatgutMineraldünger!$B$3:$N$198,7,FALSE)*(AN22/1000)","v":0},{"$f":"VLOOKUP(AM22,SaatgutMineraldünger!$B$3:$N$198,8,FALSE)*(AN22/1000)","v":0},{"$f":"VLOOKUP(AM22,SaatgutMineraldünger!$B$3:$N$198,9,FALSE)*(AN22/1000)","v":0},{"$f":"VLOOKUP(AM22,SaatgutMineraldünger!$B$3:$N$198,10,FALSE)*(AN22/1000)","v":0},{"$f":"VLOOKUP(AM22,SaatgutMineraldünger!$B$3:$N$198,11,FALSE)*(AN22/1000)","v":0},{"$f":"VLOOKUP(AM22,SaatgutMineraldünger!$B$3:$N$198,12,FALSE)*(AN22/1000)","v":0},{"$f":"VLOOKUP(AM22,SaatgutMineraldünger!$B$3:$N$198,13,FALSE)*(AN22/1000)","v":0},0,0,0,0,0,0,0,0,0,0,0]
["Bitte wählen:",null,null,{"$f":"VLOOKUP(O23,SaatgutMineraldünger!$B$3:$N$42,2,FALSE)","v":0},{"$nulls":3},{"$f":"VLOOKUP(O23,SaatgutMineraldünger!$B$3:$N$42,2,FALSE)","v":0},{"$nulls":3},{"$f":"VLOOKUP(O23,SaatgutMineraldünger!$B$3:$N$42,2,FALSE)","v":0},null,null,{"$f":"VLOOKUP(A23,SaatgutMineraldünger!$A$3:$B$198,2,FALSE)","v":0},0,{"$f":"VLOOKUP(O23,SaatgutMineraldünger!$B$3:$N$198,4,FALSE)*(P23/1000)","v":0},{"$f":"VLOOKUP(O23,SaatgutMineraldünger!$B$3:$N$198,5,FALSE)*(P23/1000)","v":0},{"$f":"VLOOKUP(O23,SaatgutMineraldünger!$B$3:$N$198,6,FALSE)*(P23/1000)","v":0},{"$f":"VLOOKUP(O23,SaatgutMineraldünger!$B$3:$N$198,7,FALSE)*(P23/1000)","v":0},{"$f":"VLOOKUP(O23,SaatgutMineraldünger!$B$3:$N$198,8,FALSE)*(P23/1000)","v":0},{"$f":"VLOOKUP(O23,SaatgutMineraldünger!$B$3:$N$198,9,FALSE)*(P23/1000)","v":0},{"$f":"VLOOKUP(O23,SaatgutMineraldünger!$B$3:$N$198,10,FALSE)*(P23/1000)","v":0},{"$f":"VLOOKUP(O23,SaatgutMineraldünger!$B$3:$N$198,11,FALSE)*(P23/1000)","v":0},{"$f":"VLOOKUP(O23,SaatgutMineraldünger!$B$3:$N$42,12,FALSE)*(P23/1000)","v":0},{"$f":"VLOOKUP(O23,SaatgutMineraldünger!$B$3:$N$198,13,FALSE)*(P23/1000)","v":0},{"$f":"VLOOKUP(A23,SaatgutMineraldünger!$A$3:$B$198,2,FALSE)","v":0},0,{"$f":"VLOOKUP(AA23,SaatgutMineraldünger!$B$3:$N$198,4,FALSE)*(AB23/1000)","v":0},{"$f":"VLOOKUP(AA23,SaatgutMineraldünger!$B$3:$N$198,5,FALSE)*(AB23/1000)","v":0},{"$f":"VLOOKUP(AA23,SaatgutMineraldünger!$B$3:$N$198,6,FALSE)*(AB23/1000)","v":0},{"$f":"VLOOKUP(AA23,SaatgutMineraldünger!$B$3:$N$198,7,FALSE)*(AB23/1000)","v":0},{"$f":"VLOOKUP(AA23,SaatgutMineraldünger!$B$3:$N$198,8,FALSE)*(AB23/1000)","v":0},{"$f":"VLOOKUP(AA23,SaatgutMineraldünger!$B$3:$N$198,9,FALSE)*(AB23/1000)","v":0},{"$f":"VLOOKUP(AA23,SaatgutMineraldünger!$B$3:$N$198,10,FALSE)*(AB23/1000)","v":0},{"$f":"VLOOKUP(AA23,SaatgutMineraldünger!$B$3:$N$198,11,FALSE)*(AB23/1000)","v":0},{"$f":"VLOOKUP(AA23,SaatgutMineraldünger!$B$3:$N$198,12,FALSE)*(AB23/1000)","v":0},{"$f":"VLOOKUP(AA23,SaatgutMineraldünger!$B$3:$N$198,13,FALSE)*(AB23/1000)","v":0},{"$f":"VLOOKUP(A23,SaatgutMineraldünger!$A$3:$B$198,2,FALSE)","v":0},0,{"$f":"VLOOKUP(AM23,SaatgutMineraldünger!$B$3:$N$198,4,FALSE)*(AN23/1000)","v":0},{"$f":"VLOOKUP(AM23,SaatgutMineraldünger!$B$3:$N$198,5,FALSE)*(AN23/1000)","v":0},{"$f":"VLOOKUP(AM23,SaatgutMineraldünger!$B$3:$N$198,6,FALSE)*(AN23/1000)","v":0},{"$f":"VLOOKUP(AM23,SaatgutMineraldünger!$B$3:$N$198,7,FALSE)*(AN23/1000)","v":0},{"$f":"VLOOKUP(AM23,SaatgutMineraldünger!$B$3:$N$198,8,FALSE)*(AN23/1000)","v":0},{"$f":"VLOOKUP(AM23,SaatgutMineraldünger!$B$3:$N$198,9,FALSE)*(AN23/1000)","v":0},{"$f":"VLOOKUP(AM23,SaatgutMineraldünger!$B$3:$N$198,10,FALSE)*(AN23/1000)","v":0},{"$f":"VLOOKUP(AM23,SaatgutMineraldünger!$B$3:$N$198,11,FALSE)*(AN23/1000)","v":0},{"$f":"VLOOKUP(AM23,SaatgutMineraldünger!$B$3:$N$198,12,FALSE)*(AN23/1000)","v":0},{"$f":"VLOOKUP(AM23,SaatgutMineraldünger!$B$3:$N$198,13,FALSE)*(AN23/1000)","v":0},0,0,0,0,0,0,0,0,0,0,0]
["Bitte wählen:",null,null,{"$f":"VLOOKUP(O24,SaatgutMineraldünger!$B$3:$N$42,2,FALSE)","v":0},{"$nulls":3},{"$f":"VLOOKUP(O24,SaatgutMineraldünger!$B$3:$N$42,2,FALSE)","v":0},{"$nulls":3},{"$f":"VLOOKUP(O24,SaatgutMineraldünger!$B$3:$N$42,2,FALSE)","v":0},null,null,{"$f":"VLOOKUP(A24,SaatgutMineraldünger!$A$3:$B$198,2,FALSE)","v":0},0,{"$f":"VLOOKUP(O24,SaatgutMineraldünger!$B$3:$N$198,4,FALSE)*(P24/1000)","v":0},{"$f":"VLOOKUP(O24,SaatgutMineraldünger!$B$3:$N$198,5,FALSE)*(P24/1000)","v":0},{"$f":"VLOOKUP(O24,SaatgutMineraldünger!$B$3:$N$198,6,FALSE)*(P24/1000)","v":0},{"$f":"VLOOKUP(O24,SaatgutMineraldünger!$B$3:$N$198,7,FALSE)*(P24/1000)","v":0},{"$f":"VLOOKUP(O24,SaatgutMineraldünger!$B$3:$N$198,8,FALSE)*(P24/1000)","v":0},{"$f":"VLOOKUP(O24,SaatgutMineraldünger!$B$3:$N$198,9,FALSE)*(P24/1000)","v":0},{"$f":"VLOOKUP(O24,SaatgutMineraldünger!$B$3:$N$198,10,FALSE)*(P24/1000)","v":0},{"$f":"VLOOKUP(O24,SaatgutMineraldünger!$B$3:$N$198,11,FALSE)*(P24/1000)","v":0},{"$f":"VLOOKUP(O24,SaatgutMineraldünger!$B$3:$N$42,12,FALSE)*(P24/1000)","v":0},{"$f":"VLOOKUP(O24,SaatgutMineraldünger!$B$3:$N$198,13,FALSE)*(P24/1000)","v":0},{"$f":"VLOOKUP(A24,SaatgutMineraldünger!$A$3:$B$198,2,FALSE)","v":0},0,{"$f":"VLOOKUP(AA24,SaatgutMineraldünger!$B$3:$N$198,4,FALSE)*(AB24/1000)","v":0},{"$f":"VLOOKUP(AA24,SaatgutMineraldünger!$B$3:$N$198,5,FALSE)*(AB24/1000)","v":0},{"$f":"VLOOKUP(AA24,SaatgutMineraldünger!$B$3:$N$198,6,FALSE)*(AB24/1000)","v":0},{"$f":"VLOOKUP(AA24,SaatgutMineraldünger!$B$3:$N$198,7,FALSE)*(AB24/1000)","v":0},{"$f":"VLOOKUP(AA24,SaatgutMineraldünger!$B$3:$N$198,8,FALSE)*(AB24/1000)","v":0},{"$f":"VLOOKUP(AA24,SaatgutMineraldünger!$B$3:$N$198,9,FALSE)*(AB24/1000)","v":0},{"$f":"VLOOKUP(AA24,SaatgutMineraldünger!$B$3:$N$198,10,FALSE)*(AB24/1000)","v":0},{"$f":"VLOOKUP(AA24,SaatgutMineraldünger!$B$3:$N$198,11,FALSE)*(AB24/1000)","v":0},{"$f":"VLOOKUP(AA24,SaatgutMineraldünger!$B$3:$N$198,12,FALSE)*(AB24/1000)","v":0},{"$f":"VLOOKUP(AA24,SaatgutMineraldünger!$B$3:$N$198,13,FALSE)*(AB24/1000)","v":0},{"$f":"VLOOKUP(A24,SaatgutMineraldünger!$A$3:$B$198,2,FALSE)","v":0},0,{"$f":"VLOOKUP(AM24,SaatgutMineraldünger!$B$3:$N$198,4,FALSE)*(AN24/1000)","v":0},{"$f":"VLOOKUP(AM24,SaatgutMineraldünger!$B$3:$N$198,5,FALSE)*(AN24/1000)","v":0},{"$f":"VLOOKUP(AM24,SaatgutMineraldünger!$B$3:$N$198,6,FALSE)*(AN24/1000)","v":0},{"$f":"VLOOKUP(AM24,SaatgutMineraldünger!$B$3:$N$198,7,FALSE)*(AN24/1000)","v":0},{"$f":"VLOOKUP(AM24,SaatgutMineraldünger!$B$3:$N$198,8,FALSE)*(AN24/1000)","v":0},{"$f":"VLOOKUP(AM24,SaatgutMineraldünger!$B$3:$N$198,9,FALSE)*(AN24/1000)","v":0},{"$f":"VLOOKUP(AM24,SaatgutMineraldünger!$B$3:$N$198,10,FALSE)*(AN24/1000)","v":0},{"$f":"VLOOKUP(AM24,SaatgutMineraldünger!$B$3:$N$198,11,FALSE)*(AN24/1000)","v":0},{"$f":"VLOOKUP(AM24,SaatgutMineraldünger!$B$3:$N$198,12,FALSE)*(AN24/1000)","v":0},{"$f":"VLOOKUP(AM24,SaatgutMineraldünger!$B$3:$N$198,13,FALSE)*(AN24/1000)","v":0},0,0,0,0,0,0,0,0,0,0,0]
["Bitte wählen:",null,null,{"$f":"VLOOKUP(O25,SaatgutMineraldünger!$B$3:$N$42,2,FALSE)","v":0},{"$nulls":3},{"$f":"VLOOKUP(O25,SaatgutMineraldünger!$B$3:$N$42,2,FALSE)","v":0},{"$nulls":3},{"$f":"VLOOKUP(O25,SaatgutMineraldünger!$B$3:$N$42,2,FALSE)","v":0},null,null,{"$f":"VLOOKUP(A25,SaatgutMineraldünger!$A$3:$B$198,2,FALSE)","v":0},0,{"$f":"VLOOKUP(O25,SaatgutMineraldünger!$B$3:$N$198,4,FALSE)*(P25/1000)","v":0},{"$f":"VLOOKUP(O25,SaatgutMineraldünger!$B$3:$N$198,5,FALSE)*(P25/1000)","v":0},{"$f":"VLOOKUP(O25,SaatgutMineraldünger!$B$3:$N$198,6,FALSE)*(P25/1000)","v":0},{"$f":"VLOOKUP(O25,SaatgutMineraldünger!$B$3:$N$198,7,FALSE)*(P25/1000)","v":0},{"$f":"VLOOKUP(O25,SaatgutMineraldünger!$B$3:$N$198,8,FALSE)*(P25/1000)","v":0},{"$f":"VLOOKUP(O25,SaatgutMineraldünger!$B$3:$N$198,9,FALSE)*(P25/1000)","v":0},{"$f":"VLOOKUP(O25,SaatgutMineraldünger!$B$3:$N$198,10,FALSE)*(P25/1000)","v":0},{"$f":"VLOOKUP(O25,SaatgutMineraldünger!$B$3:$N$198,11,FALSE)*(P25/1000)","v":0},{"$f":"VLOOKUP(O25,SaatgutMineraldünger!$B$3:$N$42,12,FALSE)*(P25/1000)","v":0},{"$f":"VLOOKUP(O25,SaatgutMineraldünger!$B$3:$N$198,13,FALSE)*(P25/1000)","v":0},{"$f":"VLOOKUP(A25,SaatgutMineraldünger!$A$3:$B$198,2,FALSE)","v":0},0,{"$f":"VLOOKUP(AA25,SaatgutMineraldünger!$B$3:$N$198,4,FALSE)*(AB25/1000)","v":0},{"$f":"VLOOKUP(AA25,SaatgutMineraldünger!$B$3:$N$198,5,FALSE)*(AB25/1000)","v":0},{"$f":"VLOOKUP(AA25,SaatgutMineraldünger!$B$3:$N$198,6,FALSE)*(AB25/1000)","v":0},{"$f":"VLOOKUP(AA25,SaatgutMineraldünger!$B$3:$N$198,7,FALSE)*(AB25/1000)","v":0},{"$f":"VLOOKUP(AA25,SaatgutMineraldünger!$B$3:$N$198,8,FALSE)*(AB25/1000)","v":0},{"$f":"VLOOKUP(AA25,SaatgutMineraldünger!$B$3:$N$198,9,FALSE)*(AB25/1000)","v":0},{"$f":"VLOOKUP(AA25,SaatgutMineraldünger!$B$3:$N$198,10,FALSE)*(AB25/1000)","v":0},{"$f":"VLOOKUP(AA25,SaatgutMineraldünger!$B$3:$N$198,11,FALSE)*(AB25/1000)","v":0},{"$f":"VLOOKUP(AA25,SaatgutMineraldünger!$B$3:$N$198,12,FALSE)*(AB25/1000)","v":0},{"$f":"VLOOKUP(AA25,SaatgutMineraldünger!$B$3:$N$198,13,FALSE)*(AB25/1000)","v":0},{"$f":"VLOOKUP(A25,SaatgutMineraldünger!$A$3:$B$198,2,FALSE)","v":0},0,{"$f":"VLOOKUP(AM25,SaatgutMineraldünger!$B$3:$N$198,4,FALSE)*(AN25/1000)","v":0},{"$f":"VLOOKUP(AM25,SaatgutMineraldünger!$B$3:$N$198,5,FALSE)*(AN25/1000)","v":0},{"$f":"VLOOKUP(AM25,SaatgutMineraldünger!$B$3:$N$198,6,FALSE)*(AN25/1000)","v":0},{"$f":"VLOOKUP(AM25,SaatgutMineraldünger!$B$3:$N$198,7,FALSE)*(AN25/1000)","v":0},{"$f":"VLOOKUP(AM25,SaatgutMineraldünger!$B$3:$N$198,8,FALSE)*(AN25/1000)","v":0},{"$f":"VLOOKUP(AM25,SaatgutMineraldünger!$B$3:$N$198,9,FALSE)*(AN25/1000)","v":0},{"$f":"VLOOKUP(AM25,SaatgutMineraldünger!$B$3:$N$198,10,FALSE)*(AN25/1000)","v":0},{"$f":"VLOOKUP(AM25,SaatgutMineraldünger!$B$3:$N$198,11,FALSE)*(AN25/1000)","v":0},{"$f":"VLOOKUP(AM25,SaatgutMineraldünger!$B$3:$N$198,12,FALSE)*(AN25/1000)","v":0},{"$f":"VLOOKUP(AM25,SaatgutMineraldünger!$B$3:$N$198,13,FALSE)*(AN25/1000)","v":0},0,0,0,0,0,0,0,0,0,0,0]
["Gesamt Nährstoffinput ",{"$nulls":13},{"$f":"Betriebsdaten!$B$29","v":2022},{"$nulls":11},{"$f":"Betriebsdaten!$B$30","v":2021},{"$nulls":11},{"$f":"Betriebsdaten!$B$31","v":2020},{"$nulls":11},"Durchschnitt"]
[{"$nulls":14},"Summe",null,"C","N","NH4-N","P2O5","K2O","Ca","MgO","S","Na","Cl","Summe",null,"C","N","NH4-N","P2O5","K2O","Ca","MgO","S","Na","Cl","Summe",null,"C","N","NH4-N","P2O5","K2O","Ca","MgO","S","Na","Cl","Summe","C","N","NH4-N","P2O5","K2O","Ca","MgO","S","Na","Cl"]
[{"$nulls":16},"kg*a-1","kg*a-1","kg*a-1","kg*a-1","kg*a-1","kg*a-1","kg*a-1","kg*a-1","kg*a-1","kg*a-1",null,null,"kg*a-1","kg*a-1","kg*a-1","kg*a-1","kg*a-1","kg*a-1","kg*a-1","kg*a-1","kg*a-1","kg*a-1",null,null,"kg*a-1","kg*a-1","kg*a-1","kg*a-1","kg*a-1","kg*a-1","kg*a-1","kg*a-1","kg*a-1","kg*a-1",null,"kg*a-1","kg*a-1","kg*a-1","kg*a-1","kg*a-1","kg*a-1","kg*a-1","kg*a-1","kg*a-1","kg*a-1"]
[{"$nulls":16},{"$f":"SUM(Q6:Q25)","v":0},0,0,0,0,0,0,0,0,0,null,null,{"$f":"SUM(AC6:AC25)","v":0},0,0,0,0,0,0,{"$f":"SUM(AJ6:AJ25)","v":0},0,0,null,null,{"$f":"SUM(AO6:AO25)","v":0},0,{"$f":"SUM(AQ6:AQ25)","v":0},0,0,0,0,0,0,0,null,{"$f":"SUM(AZ6:AZ25)","v":0},0,0,0,0,0,0,0,0,{"$f":"SUM(BI6:BI25)","v":0}]

{"sheet":"Pflanzenbau","index":5,"n_rows":97,"n_cols":18,"rows_kept":97,"merged":[[0,0,0,13],[1,0,1,13],[2,2,2,5],[2,6,2,10],[2,12,2,15],[63,0,63,15],[65,0,65,10],[66,0,67,0],[66,2,66,5],[66,6,66,10],[66,11,66,15],[90,0,90,15],[92,0,92,2]]}
["A.3 Pflanzenbau"]
["Bitte geben Sie alle angebauten Kulturen incl. Untersaaten und Zwischenfrüchten und ihre Anbaufläche für die letzten drei Anbausaisons an. Bitte geben Sie immer die angebaute Fläche sowie entweder den Ertrag in dt/ha oder in dt an. Die jeweils andere Angabe lässt sich dann berechnen. Die Flächen auf denen Sie Grobfutter anbauen, müssen bei \"Grobfutter A5.2\" eingetragen werden. Fügen Sie für Zwischenfrüchte und Gras-Schnitte, die ungefähre Höhe bei Einarbeitung oder Schnitt und Anzahl der Schnitte hinzu. (Bemerkung: Schnitthöhe / Zwischenfrüchte: Einarbeitungshöhe & Leguminosenanteil / Ertrag bei Leguminosen / Bsp.: 3 Schnitte bei 50 cm Höhe) Düngung BW: Bei Nutzung \"Begrünungszwischenfrucht\" oder \"stillgelegt/aus d. Erzeugung genommmen\" wird der Ertrag automatisch auf 0 gesetzt. Bei Brachen ist nur die Nutzung \"stillgelegt/aus d. Erzeugung genommmen\" möglich. In den Bemerkungen sollte festgehalten werden ob die Erträge belegt, berechnet oder geschätzt sind. "]
["Kultur","Durchschnittsertrag",{"$f":"Betriebsdaten!$B$29","v":2022},{"$nulls":3},{"$f":"Betriebsdaten!$B$30","v":2021},{"$nulls":5},{"$f":"Betriebsdaten!$B$31","v":2020}]
[{"$f":"HYPERLINK(\"#'Fruchtfolge Tabellen'!$B$197\",\"eigenen Kultur hinzufügen\")","v":"eigenen Kultur hinzufügen"},"dt/ha","Fläche (ha)","Ertrag (dt/ha)","Ertrag dt","Bemerkung","Kultur","Fläche (ha)","Ertrag (dt/ha)","Ertrag (dt)","Bermerkung","Kultur","Fläche (ha)","Ertrag (dt/ha)","Ertrag (dt)","Bemerkung"]
["Bitte wählen:",{"$f":"VLOOKUP(A5,'Fruchtfolge Tabellen'!$B$1:$D$231,3,FALSE)","v":0},{"$nulls":4},{"$f":"A5","v":"Bitte wählen:"},{"$nulls":4},{"$f":"A5","v":"Bitte wählen:"}]
["Bitte wählen:",{"$f":"VLOOKUP(A6,'Fruchtfolge Tabellen'!$B$1:$D$231,3,FALSE)","v":0},{"$nulls":4},{"$f":"A6","v":"Bitte wählen:"},{"$nulls":4},{"$f":"A6","v":"Bitte wählen:"}]
["Bitte wählen:",{"$f":"VLOOKUP(A7,'Fruchtfolge Tabellen'!$B$1:$D$231,3,FALSE)","v":0},{"$nulls":4},"Bitte wählen:",{"$nulls":4},"Bitte wählen:"]
["Bitte wählen:",{"$f":"VLOOKUP(A8,'Fruchtfolge Tabellen'!$B$1:$D$231,3,FALSE)","v":0},{"$nulls":4},"Bitte wählen:",{"$nulls":4},"Bitte wählen:"]
["Bitte wählen:",{"$f":"VLOOKUP(A9,'Fruchtfolge Tabellen'!$B$1:$D$231,3,FALSE)","v":0},{"$nulls":4},"Bitte wählen:",{"$nulls":4},"Bitte wählen:"]
["Bitte wählen:",{"$f":"VLOOKUP(A10,'Fruchtfolge Tabellen'!$B$1:$D$231,3,FALSE)","v":0},{"$nulls":4},"Bitte wählen:",{"$nulls":4},"Bitte wählen:"]
["Bitte wählen:",{"$f":"VLOOKUP(A11,'Fruchtfolge Tabellen'!$B$1:$D$231,3,FALSE)","v":0},{"$nulls":4},"Bitte wählen:",{"$nulls":4},"Bitte wählen:"]
["Bitte wählen:",{"$f":"VLOOKUP(A12,'Fruchtfolge Tabellen'!$B$1:$D$231,3,FALSE)","v":0},{"$nulls":4},"Bitte wählen:",{"$nulls":4},"Bitte wählen:"]
["Bitte wählen:",{"$f":"VLOOKUP(A13,'Fruchtfolge Tabellen'!$B$1:$D$231,3,FALSE)","v":0},{"$nulls":4},"Bitte wählen:",{"$nulls":4},"Bitte wählen:"]
["Bitte wählen:",{"$f":"VLOOKUP(A14,'Fruchtfolge Tabellen'!$B$1:$D$231,3,FALSE)","v":0},{"$nulls":4},"Bitte wählen:",{"$nulls":4},"Bitte wählen:"]
["Bitte wählen:",{"$f":"VLOOKUP(A15,'Fruchtfolge Tabellen'!$B$1:$D$231,3,FALSE)","v":0},{"$nulls":4},"Bitte wählen:",{"$nulls":4},"Bitte wählen:"]
["Bitte wählen:",{"$f":"VLOOKUP(A16,'Fruchtfolge Tabellen'!$B$1:$D$231,3,FALSE)","v":0},{"$nulls":4},"Bitte wählen:",{"$nulls":4},"Bitte wählen:"]
["Bitte wählen:",{"$f":"VLOOKUP(A17,'Fruchtfolge Tabellen'!$B$1:$D$231,3,FALSE)","v":0},{"$nulls":4},"Bitte wählen:",{"$nulls":4},"Bitte wählen:"]
["Bitte wählen:",{"$f":"VLOOKUP(A18,'Fruchtfolge Tabellen'!$B$1:$D$231,3,FALSE)","v":0},{"$nulls":4},"Bitte wählen:",{"$nulls":4},"Bitte wählen:"]
["Bitte wählen:",{"$f":"VLOOKUP(A19,'Fruchtfolge Tabellen'!$B$1:$D$231,3,FALSE)","v":0},{"$nulls":4},"Bitte wählen:",{"$nulls":4},"Bitte wählen:"]
["Bitte wählen:",{"$f":"VLOOKUP(A20,'Fruchtfolge Tabellen'!$B$1:$D$231,3,FALSE)","v":0},{"$nulls":4},"Bitte wählen:",{"$nulls":4},"Bitte wählen:"]
["Bitte wählen:",{"$f":"VLOOKUP(A21,'Fruchtfolge Tabellen'!$B$1:$D$231,3,FALSE)","v":0},{"$nulls":4},"Bitte wählen:",{"$nulls":4},"Bitte wählen:"]
["Bitte wählen:",{"$f":"VLOOKUP(A22,'Fruchtfolge Tabellen'!$B$1:$D$231,3,FALSE)","v":0},{"$nulls":4},"Bitte wählen:",{"$nulls":4},"Bitte wählen:"]
["Bitte wählen:",{"$f":"VLOOKUP(A23,'Fruchtfolge Tabellen'!$B$1:$D$231,3,FALSE)","v":0},{"$nulls":4},"Bitte wählen:",{"$nulls":4},"Bitte wählen:"]
["Bitte wählen:",{"$f":"VLOOKUP(A24,'Fruchtfolge Tabellen'!$B$1:$D$231,3,FALSE)","v":0},{"$nulls":4},"Bitte wählen:",{"$nulls":4},"Bitte wählen:"]
["Bitte wählen:",{"$f":"VLOOKUP(A25,'Fruchtfolge Tabellen'!$B$1:$D$231,3,FALSE)","v":0},{"$nulls":4},"Bitte wählen:",{"$nulls":4},"Bitte wählen:"]
["Bitte wählen:",{"$f":"VLOOKUP(A26,'Fruchtfolge Tabellen'!$B$1:$D$231,3,FALSE)","v":0},{"$nulls":4},"Bitte wählen:",{"$nulls":4},"Bitte wählen:"]
["Bitte wählen:",{"$f":"VLOOKUP(A27,'Fruchtfolge Tabellen'!$B$1:$D$231,3,FALSE)","v":0},{"$nulls":4},"Bitte wählen:",{"$nulls":4},"Bitte wählen:"]
["Bitte wählen:",{"$f":"VLOOKUP(A28,'Fruchtfolge Tabellen'!$B$1:$D$231,3,FALSE)","v":0},{"$nulls":4},"Bitte wählen:",{"$nulls":4},"Bitte wählen:"]
["Bitte wählen:",{"$f":"VLOOKUP(A29,'Fruchtfolge Tabellen'!$B$1:$D$231,3,FALSE)","v":0},{"$nulls":4},"Bitte wählen:",{"$nulls":4},"Bitte wählen:"]
["Bitte wählen:",{"$f":"VLOOKUP(A30,'Fruchtfolge Tabellen'!$B$1:$D$231,3,FALSE)","v":0},{"$nulls":4},"Bitte wählen:",{"$nulls":4},"Bitte wählen:"]
["Bitte wählen:",{"$f":"VLOOKUP(A31,'Fruchtfolge Tabellen'!$B$1:$D$231,3,FALSE)","v":0},{"$nulls":4},"Bitte wählen:",{"$nulls":4},"Bitte wählen:"]
["Bitte wählen:",{"$f":"VLOOKUP(A32,'Fruchtfolge Tabellen'!$B$1:$D$231,3,FALSE)","v":0},{"$nulls":4},"Bitte wählen:",{"$nulls":4},"Bitte wählen:"]
["Bitte wählen:",{"$f":"VLOOKUP(A33,'Fruchtfolge Tabellen'!$B$1:$D$231,3,FALSE)","v":0},{"$nulls":4},"Bitte wählen:",{"$nulls":4},"Bitte wählen:"]
["Bitte wählen:",{"$f":"VLOOKUP(A34,'Fruchtfolge Tabellen'!$B$1:$D$231,3,FALSE)","v":0},{"$nulls":4},"Bitte wählen:",{"$nulls":4},"Bitte wählen:"]
["Bitte wählen:",{"$f":"VLOOKUP(A35,'Fruchtfolge Tabellen'!$B$1:$D$231,3,FALSE)","v":0},{"$nulls":4},"Bitte wählen:",{"$nulls":4},"Bitte wählen:"]
["Bitte wählen:",{"$f":"VLOOKUP(A36,'Fruchtfolge Tabellen'!$B$1:$D$231,3,FALSE)","v":0},{"$nulls":4},"Bitte wählen:",{"$nulls":4},"Bitte wählen:"]
["Bitte wählen:",{"$f":"VLOOKUP(A37,'Fruchtfolge Tabellen'!$B$1:$D$231,3,FALSE)","v":0},{"$nulls":4},"Bitte wählen:",{"$nulls":4},"Bitte wählen:"]
["Bitte wählen:",{"$f":"VLOOKUP(A38,'Fruchtfolge Tabellen'!$B$1:$D$231,3,FALSE)","v":0},{"$nulls":4},"Bitte wählen:",{"$nulls":4},"Bitte wählen:"]
["Bitte wählen:",{"$f":"VLOOKUP(A39,'Fruchtfolge Tabellen'!$B$1:$D$231,3,FALSE)","v":0},{"$nulls":4},"Bitte wählen:",{"$nulls":4},"Bitte wählen:"]
["Bitte wählen:",{"$f":"VLOOKUP(A40,'Fruchtfolge Tabellen'!$B$1:$D$231,3,FALSE)","v":0},{"$nulls":4},"Bitte wählen:",{"$nulls":4},"Bitte wählen:"]
["Bitte wählen:",{"$f":"VLOOKUP(A41,'Fruchtfolge Tabellen'!$B$1:$D$231,3,FALSE)","v":0},{"$nulls":4},"Bitte wählen:",{"$nulls":4},"Bitte wählen:"]
["Bitte wählen:",{"$f":"VLOOKUP(A42,'Fruchtfolge Tabellen'!$B$1:$D$231,3,FALSE)","v":0},{"$nulls":4},"Bitte wählen:",{"$nulls":4},"Bitte wählen:"]
["Bitte wählen:",{"$f":"VLOOKUP(A43,'Fruchtfolge Tabellen'!$B$1:$D$231,3,FALSE)","v":0},{"$nulls":4},"Bitte wählen:",{"$nulls":4},"Bitte wählen:"]
["Bitte wählen:",{"$f":"VLOOKUP(A44,'Fruchtfolge Tabellen'!$B$1:$D$231,3,FALSE)","v":0},{"$nulls":4},"Bitte wählen:",{"$nulls":4},"Bitte wählen:"]
["Bitte wählen:",{"$f":"VLOOKUP(A45,'Fruchtfolge Tabellen'!$B$1:$D$231,3,FALSE)","v":0},{"$nulls":4},"Bitte wählen:",{"$nulls":4},"Bitte wählen:"]
["Bitte wählen:",{"$f":"VLOOKUP(A46,'Fruchtfolge Tabellen'!$B$1:$D$231,3,FALSE)","v":0},{"$nulls":4},"Bitte wählen:",{"$nulls":4},"Bitte wählen:"]
["Bitte wählen:",{"$f":"VLOOKUP(A47,'Fruchtfolge Tabellen'!$B$1:$D$231,3,FALSE)","v":0},{"$nulls":4},"Bitte wählen:",{"$nulls":4},"Bitte wählen:"]
["Bitte wählen:",{"$f":"VLOOKUP(A48,'Fruchtfolge Tabellen'!$B$1:$D$231,3,FALSE)","v":0},{"$nulls":4},"Bitte wählen:",{"$nulls":4},"Bitte wählen:"]
["Bitte wählen:",{"$f":"VLOOKUP(A49,'Fruchtfolge Tabellen'!$B$1:$D$231,3,FALSE)","v":0},{"$nulls":4},"Bitte wählen:",{"$nulls":4},"Bitte wählen:"]
["Bitte wählen:",{"$f":"VLOOKUP(A50,'Fruchtfolge Tabellen'!$B$1:$D$231,3,FALSE)","v":0},{"$nulls":4},"Bitte wählen:",{"$nulls":4},"Bitte wählen:"]
["Bitte wählen:",{"$f":"VLOOKUP(A51,'Fruchtfolge Tabellen'!$B$1:$D$231,3,FALSE)","v":0},{"$nulls":4},"Bitte wählen:",{"$nulls":4},"Bitte wählen:"]
["Bitte wählen:",{"$f":"VLOOKUP(A52,'Fruchtfolge Tabellen'!$B$1:$D$231,3,FALSE)","v":0},{"$nulls":4},"Bitte wählen:",{"$nulls":4},"Bitte wählen:"]
["Bitte wählen:",{"$f":"VLOOKUP(A53,'Fruchtfolge Tabellen'!$B$1:$D$231,3,FALSE)","v":0},{"$nulls":4},"Bitte wählen:",{"$nulls":4},"Bitte wählen:"]
["Bitte wählen:",{"$f":"VLOOKUP(A54,'Fruchtfolge Tabellen'!$B$1:$D$231,3,FALSE)","v":0},{"$nulls":4},"Bitte wählen:",{"$nulls":4},"Bitte wählen:"]
["Bitte wählen:",{"$f":"VLOOKUP(A55,'Fruchtfolge Tabellen'!$B$1:$D$231,3,FALSE)","v":0},{"$nulls":4},"Bitte wählen:",{"$nulls":4},"Bitte wählen:"]
["Bitte wählen:",{"$f":"VLOOKUP(A56,'Fruchtfolge Tabellen'!$B$1:$D$231,3,FALSE)","v":0},{"$nulls":4},"Bitte wählen:",{"$nulls":4},"Bitte wählen:"]
["Bitte wählen:",{"$f":"VLOOKUP(A57,'Fruchtfolge Tabellen'!$B$1:$D$231,3,FALSE)","v":0},{"$nulls":4},"Bitte wählen:",{"$nulls":4},"Bitte wählen:"]
["Bitte wählen:",{"$f":"VLOOKUP(A58,'Fruchtfolge Tabellen'!$B$1:$D$231,3,FALSE)","v":0},{"$nulls":4},"Bitte wählen:",{"$nulls":4},"Bitte wählen:"]
["Bitte wählen:",{"$f":"VLOOKUP(A59,'Fruchtfolge Tabellen'!$B$1:$D$231,3,FALSE)","v":0},{"$nulls":4},"Bitte wählen:",{"$nulls":4},"Bitte wählen:"]
["Bitte wählen:",{"$f":"VLOOKUP(A60,'Fruchtfolge Tabellen'!$B$1:$D$231,3,FALSE)","v":0},{"$nulls":4},"Bitte wählen:",{"$nulls":4},"Bitte wählen:"]
["Bitte wählen:",{"$f":"VLOOKUP(A61,'Fruchtfolge Tabellen'!$B$1:$D$231,3,FALSE)","v":0},{"$nulls":4},"Bitte wählen:",{"$nulls":4},"Bitte wählen:"]
["Bitte wählen:",{"$f":"VLOOKUP(A62,'Fruchtfolge Tabellen'!$B$1:$D$231,3,FALSE)","v":0},{"$nulls":4},"Bitte wählen:",{"$nulls":4},"Bitte wählen:"]
["Bitte wählen:",{"$f":"VLOOKUP(A63,'Fruchtfolge Tabellen'!$B$1:$D$231,3,FALSE)","v":0},{"$nulls":4},"Bitte wählen:",{"$nulls":4},"Bitte wählen:"]
[]
["A.6.2 Grobfutter"]
["Die Flächen auf denen Sie Grobfutter anbauen müssen seperat eingetragen werden. Bitte wählen Sie die entsprechenden Kulturen aus und geben Sie die angebaute Fläche sowie die entsprechende Nutzung für die Bewirtschaftungsjahre 2016, 2017 und 2018 an. Bei der Verwendung unterschieden Sie bitte in eigene Wiederkäuer, eigene Nicht-Wiederkäuer und eigene Biogasanlage. Die Mengenangabe in Tonnen spielt vor allem eine Rolle bei der Verwendung in der eigenen Biogasanlage bzw. bei eigenen Nicht-Wiederkäuern. Fügen Sie für Zwischenfrüchte und Gras-Schnitte, die ungefähre Höhe bei Einarbeitung oder Schnitt und Anzahl der Schnitte hinzu. (Bemerkung: Schnitthöhe / Zwischenfrüchte: Einarbeitungshöhe & Leguminosenanteil / Ertrag bei Leguminosen / Bsp.: 3 Schnitte bei 50 cm Höhe)\n"]
["Kultur","Durchschnittsertrag",{"$f":"Betriebsdaten!$B$29","v":2022},{"$nulls":3},{"$f":"Betriebsdaten!$B$30","v":2021},{"$nulls":4},{"$f":"Betriebsdaten!$B$31","v":2020}]
[null,"dt/ha","Fläche (ha)","Ertrag (dt/ha)","Ertrag (dt)","Bemerkung","Kultur","Fläche (ha)","Ertrag (dt/ha)","Ertrag (dt)","Bemerkung","Kultur","Fläche (ha)","Ertrag (dt/ha)","Ertrag (dt)","Bemerkung"]
["Grünroggen (FM)",{"$f":"VLOOKUP(A69,'Fruchtfolge Tabellen'!$S$3:$T$41,2,FALSE)","v":250},{"$nulls":4},{"$f":"A69","v":"Grünroggen (FM)"},{"$nulls":4},{"$f":"A69","v":"Grünroggen (FM)"},{"$nulls":5},"Tabelle Durchschnittswerte erträge wiesen direkt verrechnen mit ha angabe"]
["Bitte wählen:",{"$f":"VLOOKUP(A70,'Fruchtfolge Tabellen'!$S$3:$T$41,2,FALSE)","v":0},{"$nulls":4},{"$f":"A70","v":"Bitte wählen:"},{"$nulls":4},{"$f":"A70","v":"Bitte wählen:"}]
["Bitte wählen:",{"$f":"VLOOKUP(A71,'Fruchtfolge Tabellen'!$S$3:$T$41,2,FALSE)","v":0},{"$nulls":4},"Bitte wählen:",{"$nulls":4},"Bitte wählen:"]
["Bitte wählen:",{"$f":"VLOOKUP(A72,'Fruchtfolge Tabellen'!$S$3:$T$41,2,FALSE)","v":0},{"$nulls":4},"Bitte wählen:",{"$nulls":4},"Bitte wählen:"]
["Bitte wählen:",{"$f":"VLOOKUP(A73,'Fruchtfolge Tabellen'!$S$3:$T$41,2,FALSE)","v":0},{"$nulls":4},"Bitte wählen:",{"$nulls":4},"Bitte wählen:"]
["Bitte wählen:",{"$f":"VLOOKUP(A74,'Fruchtfolge Tabellen'!$S$3:$T$41,2,FALSE)","v":0},{"$nulls":4},"Bitte wählen:",{"$nulls":4},"Bitte wählen:"]
["Bitte wählen:",{"$f":"VLOOKUP(A75,'Fruchtfolge Tabellen'!$S$3:$T$41,2,FALSE)","v":0},{"$nulls":4},"Bitte wählen:",{"$nulls":4},"Bitte wählen:"]
["Bitte wählen:",{"$f":"VLOOKUP(A76,'Fruchtfolge Tabellen'!$S$3:$T$41,2,FALSE)","v":0},{"$nulls":4},"Bitte wählen:",{"$nulls":4},"Bitte wählen:"]
["Bitte wählen:",{"$f":"VLOOKUP(A77,'Fruchtfolge Tabellen'!$S$3:$T$41,2,FALSE)","v":0},{"$nulls":4},"Bitte wählen:",{"$nulls":4},"Bitte wählen:"]
["Bitte wählen:",{"$f":"VLOOKUP(A78,'Fruchtfolge Tabellen'!$S$3:$T$41,2,FALSE)","v":0},{"$nulls":4},"Bitte wählen:",{"$nulls":4},"Bitte wählen:"]
["Bitte wählen:",{"$f":"VLOOKUP(A79,'Fruchtfolge Tabellen'!$S$3:$T$41,2,FALSE)","v":0},{"$nulls":4},"Bitte wählen:",{"$nulls":4},"Bitte wählen:"]
["Bitte wählen:",{"$f":"VLOOKUP(A80,'Fruchtfolge Tabellen'!$S$3:$T$41,2,FALSE)","v":0},{"$nulls":4},"Bitte wählen:",{"$nulls":4},"Bitte wählen:"]
["Bitte wählen:",{"$f":"VLOOKUP(A81,'Fruchtfolge Tabellen'!$S$3:$T$41,2,FALSE)","v":0},{"$nulls":4},"Bitte wählen:",{"$nulls":4},"Bitte wählen:"]
["Bitte wählen:",{"$f":"VLOOKUP(A82,'Fruchtfolge Tabellen'!$S$3:$T$41,2,FALSE)","v":0},{"$nulls":4},"Bitte wählen:",{"$nulls":4},"Bitte wählen:"]
["Bitte wählen:",{"$f":"VLOOKUP(A83,'Fruchtfolge Tabellen'!$S$3:$T$41,2,FALSE)","v":0},{"$nulls":4},"Bitte wählen:",{"$nulls":4},"Bitte wählen:"]
["Bitte wählen:",{"$f":"VLOOKUP(A84,'Fruchtfolge Tabellen'!$S$3:$T$41,2,FALSE)","v":0},{"$nulls":4},"Bitte wählen:",{"$nulls":4},"Bitte wählen:"]
["Bitte wählen:",{"$f":"VLOOKUP(A85,'Fruchtfolge Tabellen'!$S$3:$T$41,2,FALSE)","v":0},{"$nulls":4},"Bitte wählen:",{"$nulls":4},"Bitte wählen:"]
["Bitte wählen:",{"$f":"VLOOKUP(A86,'Fruchtfolge Tabellen'!$S$3:$T$41,2,FALSE)","v":0},{"$nulls":4},"Bitte wählen:",{"$nulls":4},"Bitte wählen:"]
["Bitte wählen:",{"$f":"VLOOKUP(A87,'Fruchtfolge Tabellen'!$S$3:$T$41,2,FALSE)","v":0},{"$nulls":4},"Bitte wählen:",{"$nulls":4},"Bitte wählen:"]
["Bitte wählen:",{"$f":"VLOOKUP(A88,'Fruchtfolge Tabellen'!$S$3:$T$41,2,FALSE)","v":0},{"$nulls":4},"Bitte wählen:",{"$nulls":4},"Bitte wählen:"]
["Bitte wählen:",{"$f":"VLOOKUP(A89,'Fruchtfolge Tabellen'!$S$3:$T$41,2,FALSE)","v":0},{"$nulls":4},"Bitte wählen:",{"$nulls":4},"Bitte wählen:"]
["Bitte wählen:",{"$f":"VLOOKUP(A90,'Fruchtfolge Tabellen'!$S$3:$T$41,2,FALSE)","v":0},{"$nulls":4},"Bitte wählen:",{"$nulls":4},"Bitte wählen:"]
[]
["A.6.3 Grobfutteranteil"]
["Bitte geben Sie die jeweiligen Grobfutteranteile der betriebsspezifischen Fütterung für Ihre Grünland bzw Ackerflächen an. (Insgesamt sollten Sie mit beiden Angaben auf 100% landen)"]
["Grobfutteranteil","Anteil in Fütterung","Anteil in Fütterung","Anteil in Fütterung"]
[null,{"$f":"Betriebsdaten!$B$29","v":2022},{"$f":"Betriebsdaten!$B$30","v":2021},{"$f":"Betriebsdaten!$B$31","v":2020}]
["Grünland (%)"]
["Ackerland (%)"]

{"sheet":"N-Fixierung","index":6,"n_rows":71,"n_cols":25,"rows_kept":71,"merged":[[0,0,0,15],[1,0,1,15],[2,0,3,0],[2,2,2,4],[2,5,2,7],[2,8,2,10],[2,15,4,15],[15,0,16,1],[17,2,17,4],[17,5,17,7],[18,2,18,4],[18,5,18,7],[19,2,19,4],[19,5,19,7],[19,9,19,13],[20,2,20,4],[20,5,20,7],[20,9,20,14],[21,2,21,4],[21,5,21,7],[22,2,22,4],[22,5,22,7],[23,2,23,4],[23,5,23,7],[24,2,24,4],[24,5,24,7],[25,2,25,4],[25,5,25,7]]}
["A.5.1 Nährstoffzufuhr"]
["Im Folgendem soll die Stickstoffixierung der Leguminosen berechnet werden. Bitte geben Sie hierzu die Fläche und den Durchschnittlichen Ertrag der angebauten Leguminosen an."]
["Leguminosen-Art",null,{"$f":"Betriebsdaten!$B$29","v":2022},null,null,{"$f":"Betriebsdaten!$B$30","v":2021},null,null,{"$f":"Betriebsdaten!$B$31","v":2020},null,null,{"$f":"Betriebsdaten!$B$29","v":2022},{"$f":"Betriebsdaten!$B$30","v":2021},{"$f":"Betriebsdaten!$B$31","v":2020},"Durchschnitt","Notizen"]
[null,"Kodierung","dt/ha","ha","Gesamt (dt)","dt/ha","ha","Gesamt (dt)","dt/ha","ha","Gesamt (dt)","N","N","N","N"]
[{"$nulls":11},"kg/a","kg/a","kg/a","kg/a"]
["Bitte wählen:",{"$f":"VLOOKUP(A6,$A$29:$H$75,8,FALSE)","v":0},null,null,{"$f":"D6*C6","v":0},null,null,{"$f":"G6*F6","v":0},null,null,{"$f":"J6*I6","v":0},{"$f":"VLOOKUP(B6,$H$29:$K$71,4,FALSE)*E6","v":0},{"$f":"VLOOKUP(B6,$H$29:$K$71,4,FALSE)*H6","v":0},{"$f":"VLOOKUP(B6,$H$29:$K$71,4,FALSE)*K6","v":0},{"$f":"AVERAGE(N6,M6,L6)","v":0}]
["Bitte wählen:",{"$f":"VLOOKUP(A7,$A$29:$H$75,8,FALSE)","v":0},null,null,{"$f":"D7*C7","v":0},null,null,{"$f":"G7*F7","v":0},null,null,{"$f":"J7*I7","v":0},{"$f":"VLOOKUP(B7,$H$29:$K$71,4,FALSE)*E7","v":0},{"$f":"VLOOKUP(B7,$H$29:$K$71,4,FALSE)*H7","v":0},{"$f":"VLOOKUP(B7,$H$29:$K$71,4,FALSE)*K7","v":0},{"$f":"AVERAGE(N7,M7,L7)","v":0}]
["Bitte wählen:",0,null,null,0,null,null,0,null,null,0,0,0,0,0]
["Bitte wählen:",0,null,null,0,null,null,0,null,null,0,0,0,0,0]
["Bitte wählen:",0,null,null,0,null,null,0,null,null,0,0,0,0,0]
["Bitte wählen:",0,null,null,0,null,null,0,null,null,0,0,0,0,0]
["Bitte wählen:",0,null,null,0,null,null,0,null,null,0,0,0,0,0]
["Bitte wählen:",0,null,null,0,null,null,0,null,null,0,0,0,0,0]
["Bitte wählen:",0,null,null,0,null,null,0,null,null,0,0,0,0,0]
[{"$nulls":8},"Summe",null,null,{"$f":"SUM(L6:L14)","v":0},{"$f":"SUM(M6:M14)","v":0},{"$f":"SUM(N6:N14)","v":0},{"$f":"SUM(O6:O14)","v":0}]
["Für eine bessere Abschätzung der N-Stickstofffixierung benötigen wir Angaben über den Leguminosenanteil im Grünland."]
[]
["Stickstoffbindung",{"$f":"Betriebsdaten!$B$29","v":2022},{"$f":"Betriebsdaten!$B$30","v":2021},null,null,{"$f":"Betriebsdaten!$B$31","v":2020},{"$nulls":3},"Biomasse-Rechner für Zwischenfrüchte "]
["Grünland","Fläche (ha)","Fläche (ha)",null,null,"Fläche (ha)"]
["Leguminosenanteil < 5%",{"$nulls":8},"nach Möller et al. 2011"]
["Leguminosenanteil 5-10%",{"$nulls":8},"je 10cm Bestandeshöhe, 0.5t Biomasse"]
["Leguminosenanteil 10-20%",{"$nulls":8},"Höhe (cm)",null,"Faktor (t/10cm)",null,"Biomasse (dt/ha)"]
["Leguminosenanteil > 20%",{"$nulls":8},10,null,0.5,null,{"$f":"J23*L23","v":5}]
["Ackerland",{"$nulls":10},0.5,null,{"$f":"J24/10*L24","v":0}]
["Leguminosen, ZF",{"$nulls":10},0.5,null,{"$f":"J25/10*L25","v":0}]
["SUMME",{"$f":"SUM(B20:B25)","v":0},{"$f":"SUM(C20:C25)","v":0},null,null,{"$f":"SUM(F20:F25)","v":0}]
[{"$nulls":10},"Umrechungsdaten auf Basis von REPRO (Hülsbergen) und BeSyd (Sachsen) "]
["Leguminosen-Art",{"$nulls":4},"Fruchtart",null,null,"Index",null,"Umrechnungsfaktor Ertrag (N/t Ertrag)","Leg-Anteil","Ndfa"," TM anteil","%N_FM",null,null,"Verdeckte Daten "]
["Bitte wählen:",{"$nulls":6},0,0,0,{"$nulls":5},"FM ber. A.TM","TM aus FM","TM Ert Repro","TM EWR anteil","N EWR Anteil","NHP+NEWR/FixHP","FixHP","NFixNP","FixEWR"]
["Klee  (Reinsaat)",{"$nulls":4},"Futter",null,1,1,null,{"$f":"O30*L30*M30*U30","v":0.6248},{"v":1,"d":"1.0"},{"v":0.8,"d":"0.80"},0.2,0.55,{"$f":"R30/N30","v":600},{"$f":"J30*N30","v":0},120,0.6,0.7,{"$f":"(V30+X30)/V30","v":{"v":1.42,"d":"1.4"}},{"$f":"R30/N30*O30*L30*M30","v":{"v":264,"d":"264.0"}},{"$f":"AC30*AD30*L30*M30","v":{"v":0,"d":"0.0"}},{"$f":"R30/N30*S30*O30*T30*L30*M30","v":{"v":110.88000000000002,"d":"110.9"}}]
["Klee-Gras (30:70)",{"$nulls":4},"Futter",null,2,2,null,{"$f":"O31*L31*M31*U31","v":{"v":0.23057999999999998,"d":"0.2306"}},0.3,{"v":0.9,"d":"0.90"},0.2,0.56,600,0,120,0.75,0.7,{"v":1.525,"d":"1.5"},{"v":90.72000000000001,"d":"90.7"},{"v":0,"d":"0.0"},{"v":47.628,"d":"47.6"}]
["Klee-Gras (50:50)",{"$nulls":4},"Futter",null,3,3,null,{"v":0.3911625,"d":"0.3912"},0.5,{"v":0.9,"d":"0.90"},0.2,0.57,600,0,120,0.75,0.7,{"v":1.5250000000000001,"d":"1.5"},{"v":153.89999999999998,"d":"153.9"},{"v":0,"d":"0.0"},{"v":80.7975,"d":"80.8"}]
["Klee-Gras (70:30)",{"$nulls":4},"Futter",null,4,4,null,{"v":0.5572349999999999,"d":"0.5572"},0.7,{"v":0.9,"d":"0.90"},0.2,0.58,600,0,120,0.75,0.7,{"v":1.525,"d":"1.5"},{"v":219.24,"d":"219.2"},{"v":0,"d":"0.0"},{"v":115.10099999999998,"d":"115.1"}]
["Klee-Luzerne-Gemenge",{"$nulls":4},"Futter",null,5,5,null,{"v":0.3911625,"d":"0.3912"},0.5,{"v":0.9,"d":"0.90"},0.2,0.57,600,0,120,0.75,0.7,{"v":1.5250000000000001,"d":"1.5"},{"v":153.89999999999998,"d":"153.9"},{"v":0,"d":"0.0"},{"v":80.7975,"d":"80.8"}]
["Luzerne (Reinsaat)",{"$nulls":4},"Futter",null,6,6,null,0.7564,{"v":1,"d":"1.0"},{"v":0.8,"d":"0.80"},0.2,0.62,600,0,120,0.75,0.7,{"v":1.525,"d":"1.5"},297.6,{"v":0,"d":"0.0"},{"v":156.24,"d":"156.2"}]
["Luzerne-Gras (30:70)",{"$nulls":4},"Futter",null,7,7,null,{"v":0.241164,"d":"0.2412"},0.3,{"v":0.9,"d":"0.90"},0.2,0.56,600,0,120,0.85,0.7,{"v":1.595,"d":"1.6"},{"v":90.72000000000001,"d":"90.7"},{"v":0,"d":"0.0"},{"v":53.9784,"d":"54.0"}]
["Luzerne-Gras (50:50)",{"$nulls":4},"Futter",null,8,8,null,{"v":0.4091175,"d":"0.4091"},0.5,{"v":0.9,"d":"0.90"},0.2,0.57,600,0,120,0.85,0.7,{"v":1.595,"d":"1.6"},{"v":153.89999999999998,"d":"153.9"},{"v":0,"d":"0.0"},{"v":91.5705,"d":"91.6"}]
["Luzerne-Gras (70:30)",{"$nulls":4},"Futter",null,9,9,null,{"v":0.5828129999999999,"d":"0.5828"},0.7,{"v":0.9,"d":"0.90"},0.2,0.58,600,0,120,0.85,0.7,{"v":1.5949999999999998,"d":"1.6"},{"v":219.24,"d":"219.2"},{"v":0,"d":"0.0"},{"v":130.44779999999997,"d":"130.4"}]
["Weißklee (Reinsaat)",{"$nulls":4},"Futter",null,10,10,null,0.6248,{"v":1,"d":"1.0"},{"v":0.8,"d":"0.80"},0.2,0.55,600,0,120,0.6,0.7,{"v":1.42,"d":"1.4"},{"v":264,"d":"264.0"},{"v":0,"d":"0.0"},{"v":110.88000000000002,"d":"110.9"}]
["Weißklee- Gras (50:50)",{"$nulls":4},"Futter",null,11,11,null,0.5467,{"v":1,"d":"1.0"},{"v":0.7,"d":"0.70"},0.2,0.55,425,0,85,0.6,0.7,{"v":1.42,"d":"1.4"},{"v":163.625,"d":"163.6"},{"v":0,"d":"0.0"},{"v":68.7225,"d":"68.7"}]
["Körnerleguminosen-Getreide-Gemenge (50:50)",{"$nulls":4},"Futter",null,12,12,null,{"v":0.24992,"d":"0.2499"},0.5,{"v":0.8,"d":"0.80"},0.2,0.44,400,0,80,0.6,0.7,{"v":1.42,"d":"1.4"},70.4,{"v":0,"d":"0.0"},{"v":29.567999999999998,"d":"29.6"}]
["Brache Blühmischung",{"$nulls":4},"Zwischenfrucht",null,13,13,null,{"v":0.0800625,"d":"0.0801"},0.2,0.75,0.15,0.35,{"v":266.6666666666667,"d":"267"},0,40,0.75,0.7,{"v":1.5250000000000001,"d":"1.5"},{"v":14,"d":"14.0"},{"v":0,"d":"0.0"},{"v":7.3500000000000005,"d":"7.4"}]
["Brache Kleegras ",{"$nulls":4},"Zwischenfrucht",null,14,14,null,{"v":0.19556249999999997,"d":"0.1956"},0.5,0.75,0.15,0.35,{"v":566.6666666666667,"d":"567"},0,85,0.7,0.7,{"v":1.49,"d":"1.5"},{"v":74.375,"d":"74.4"},{"v":0,"d":"0.0"},{"v":36.44375,"d":"36.4"}]
["Ackerbohne GD",{"$nulls":4},"Zwischenfrucht",null,15,15,null,{"v":0.5184000000000001,"d":"0.5184"},{"v":1,"d":"1.0"},{"v":0.8,"d":"0.80"},0.2,0.48,375,0,75,0.5,0.7,{"v":1.35,"d":"1.4"},{"v":144,"d":"144.0"},{"v":0,"d":"0.0"},50.4]
["ZW Herb: Körnerleguminosen",{"$nulls":4},"Zwischenfrucht",null,16,16,null,{"v":0.39345,"d":"0.3935"},{"v":1,"d":"1.0"},{"v":0.6,"d":"0.60"},0.15,0.43,{"v":166.66666666666669,"d":"167"},0,25,1.05,0.5,{"v":1.5250000000000001,"d":"1.5"},{"v":43,"d":"43.0"},{"v":0,"d":"0.0"},{"v":22.575000000000003,"d":"22.6"}]
["ZW Herb: Feinleguminosen",{"$nulls":4},"Zwischenfrucht",null,17,17,null,{"v":0.24080000000000001,"d":"0.2408"},0.5,{"v":0.7,"d":"0.70"},0.15,0.43,{"v":133.33333333333334,"d":"133"},0,20,1,0.6,1.6,{"v":20.066666666666666,"d":"20.1"},{"v":0,"d":"0.0"},{"v":12.04,"d":"12.0"}]
["ZW üW: Landsberger Gemenge",{"$nulls":4},"Zwischenfrucht",null,18,18,null,{"v":0.23259599999999994,"d":"0.2326"},0.6,{"v":0.7,"d":"0.70"},0.15,0.39,{"v":166.66666666666669,"d":"167"},0,25,0.7,0.6,{"v":1.42,"d":"1.4"},{"v":27.300000000000004,"d":"27.3"},{"v":0,"d":"0.0"},{"v":11.466,"d":"11.5"}]
["ZW Herb: Leguminosen-Nicht Leguminosen Gemenge",{"$nulls":4},"Zwischenfrucht",null,19,19,null,{"v":0.18719999999999998,"d":"0.1872"},0.5,{"v":0.6,"d":"0.60"},0.15,0.39,{"v":166.66666666666669,"d":"167"},0,25,1,0.6,{"v":1.5999999999999999,"d":"1.6"},{"v":19.500000000000004,"d":"19.5"},{"v":0,"d":"0.0"},{"v":11.700000000000001,"d":"11.7"}]
["ZW üW: Leguminosen-Nicht Leguminosen Gemenge",{"$nulls":4},"Zwischenfrucht",null,20,20,null,{"v":0.19383,"d":"0.1938"},0.5,{"v":0.7,"d":"0.70"},0.15,0.39,{"v":166.66666666666669,"d":"167"},0,25,0.7,0.6,{"v":1.4200000000000002,"d":"1.4"},{"v":22.750000000000004,"d":"22.8"},{"v":0,"d":"0.0"},{"v":9.555,"d":"9.6"}]
["ZW üW: Wickroggen",{"$nulls":4},"Zwischenfrucht",null,21,21,null,{"v":0.16613999999999998,"d":"0.1661"},0.5,{"v":0.6,"d":"0.60"},0.15,0.39,{"v":166.66666666666669,"d":"167"},0,25,0.7,0.6,{"v":1.42,"d":"1.4"},{"v":19.500000000000004,"d":"19.5"},{"v":0,"d":"0.0"},{"v":8.19,"d":"8.2"}]
["Ackerbohne",{"$nulls":4},"Drusch",null,22,22,null,{"v":3.9749499999999998,"d":"3.9750"},{"v":1,"d":"1.0"},{"v":0.7,"d":"0.70"},0.86,4.1,{"v":40.69767441860465,"d":"41"},0,35,0.7,0.55,{"v":1.385,"d":"1.4"},{"v":116.80232558139532,"d":"116.8"},{"v":0,"d":"0.0"},{"v":44.9688953488372,"d":"45.0"},{"$f":"(V51+W51+X51)/V51","v":{"v":1.385,"d":"1.4"}}]
["Erbse",{"$nulls":4},"Drusch",null,23,23,null,{"v":3.294,"d":"3.2940"},{"v":1,"d":"1.0"},{"v":0.6,"d":"0.60"},0.86,3.6,{"v":40.69767441860465,"d":"41"},0,35,1.05,0.5,{"v":1.525,"d":"1.5"},{"v":87.90697674418604,"d":"87.9"},{"v":0,"d":"0.0"},{"v":46.15116279069767,"d":"46.2"},{"v":1.525,"d":"1.5"}]
["Linse",{"$nulls":4},"Drusch",null,24,24,null,3.0723,{"v":1,"d":"1.0"},{"v":0.6,"d":"0.60"},0.86,3.85,{"v":23.25581395348837,"d":"23"},0,20,0.6,0.55,{"v":1.3299999999999998,"d":"1.3"},{"v":53.72093023255813,"d":"53.7"},{"v":0,"d":"0.0"},{"v":17.727906976744183,"d":"17.7"},{"v":1.3299999999999998,"d":"1.3"}]
["Lupine, blau",{"$nulls":4},"Drusch",null,25,25,null,{"v":4.51584,"d":"4.5158"},{"v":1,"d":"1.0"},{"v":0.7,"d":"0.70"},0.86,4.48,{"v":23.25581395348837,"d":"23"},0,20,1.1,0.4,{"v":1.44,"d":"1.4"},{"v":72.93023255813954,"d":"72.9"},{"v":0,"d":"0.0"},{"v":32.0893023255814,"d":"32.1"},{"v":1.44,"d":"1.4"}]
["Lupine, gelb",{"$nulls":4},"Drusch",null,26,26,null,{"v":6.23952,"d":"6.2395"},{"v":1,"d":"1.0"},{"v":0.7,"d":"0.70"},0.86,6.19,{"v":23.25581395348837,"d":"23"},0,20,1.1,0.4,{"v":1.44,"d":"1.4"},{"v":100.76744186046511,"d":"100.8"},{"v":0,"d":"0.0"},{"v":44.33767441860466,"d":"44.3"},{"v":1.44,"d":"1.4"}]
["Lupine, weiß",{"$nulls":4},"Drusch",null,27,27,null,{"v":4.858560000000001,"d":"4.8586"},{"v":1,"d":"1.0"},{"v":0.7,"d":"0.70"},0.86,4.82,{"v":23.25581395348837,"d":"23"},0,20,1.1,0.4,{"v":1.4400000000000002,"d":"1.4"},{"v":78.46511627906976,"d":"78.5"},{"v":0,"d":"0.0"},{"v":34.5246511627907,"d":"34.5"},{"v":1.4400000000000002,"d":"1.4"}]
["Wicke",{"$nulls":4},"Drusch",null,28,28,null,{"v":3.9731999999999994,"d":"3.9732"},{"v":1,"d":"1.0"},{"v":0.6,"d":"0.60"},0.86,3.85,{"v":23.25581395348837,"d":"23"},0,20,1.8,0.4,{"v":1.7199999999999998,"d":"1.7"},{"v":53.72093023255813,"d":"53.7"},{"v":0,"d":"0.0"},{"v":38.67906976744185,"d":"38.7"},{"v":1.7199999999999998,"d":"1.7"}]
["Sojabohne",{"$nulls":4},"Drusch",null,29,29,null,{"v":3.5111999999999997,"d":"3.5112"},{"v":1,"d":"1.0"},{"v":0.6,"d":"0.60"},0.86,4.4,{"v":29.069767441860467,"d":"29"},0,25,0.6,0.55,{"v":1.3299999999999998,"d":"1.3"},{"v":76.74418604651164,"d":"76.7"},{"v":0,"d":"0.0"},{"v":25.325581395348838,"d":"25.3"},{"v":1.3299999999999998,"d":"1.3"}]
["Körnerleguminosen-Nichtleguminosen Gemenge",{"$nulls":4},"Drusch",null,30,30,null,{"v":0.225105707178,"d":"0.2251"},{"v":0.33,"d":"0.3"},{"v":0.213,"d":"0.21"},0.86,3.03,{"v":40.69767441860465,"d":"41"},0,35,0.365,0.156,{"v":1.05694,"d":"1.1"},{"v":8.667737790697673,"d":"8.7"},{"v":0,"d":"0.0"},{"v":0.4935409898023256,"d":"0.5"},{"v":1.05694,"d":"1.1"}]
["Körnerleguminosen-Gemengen",{"$nulls":4},"Drusch",null,31,31,null,{"v":4.382683860720001,"d":"4.3827"},{"v":1,"d":"1.0"},{"v":0.638,"d":"0.64"},0.86,4.54,{"v":29.069767441860467,"d":"29"},0,25,1.094,0.469,{"v":1.5130860000000002,"d":"1.5"},{"v":84.20116279069768,"d":"84.2"},{"v":0,"d":"0.0"},{"v":43.20243781162792,"d":"43.2"},{"v":1.5130860000000002,"d":"1.5"}]
["Weide extensiv",{"$nulls":4},"Grünland",null,32,32,null,{"v":0.009856,"d":"0.0099"},0.2,{"v":0.8,"d":"0.80"},0.2,0.04,375,0,75,0.9,0.6,{"v":1.54,"d":"1.5"},{"v":2.4000000000000004,"d":"2.4"},{"v":0,"d":"0.0"},{"v":1.2960000000000003,"d":"1.3"},{"v":1.54,"d":"1.5"}]
["Weide intensiv",{"$nulls":4},"Grünland",null,33,33,null,{"v":0.070064,"d":"0.0701"},0.1,{"v":0.8,"d":"0.80"},0.2,0.58,500,0,100,0.85,0.6,{"v":1.51,"d":"1.5"},{"v":23.200000000000003,"d":"23.2"},{"v":0,"d":"0.0"},{"v":11.832,"d":"11.8"},{"v":1.51,"d":"1.5"}]
["Wiese extensiv",{"$nulls":4},"Grünland",null,34,34,null,{"v":0.088704,"d":"0.0887"},0.2,{"v":0.8,"d":"0.80"},0.2,0.36,375,0,75,0.9,0.6,{"v":1.54,"d":"1.5"},21.6,{"v":0,"d":"0.0"},{"v":11.664,"d":"11.7"},{"v":1.54,"d":"1.5"}]
["Wiese intensiv",{"$nulls":4},"Grünland",null,35,35,null,{"v":0.06764800000000001,"d":"0.0676"},0.1,{"v":0.8,"d":"0.80"},0.2,0.56,500,0,100,0.85,0.6,{"v":1.51,"d":"1.5"},{"v":22.400000000000002,"d":"22.4"},{"v":0,"d":"0.0"},{"v":11.424000000000001,"d":"11.4"},{"v":1.51,"d":"1.5"}]
["Grünland 10% Weißklee","nach KTBL",{"$nulls":3},"Grünland",null,36,36,null,0.8]
["Grünland 25% Weißklee",{"$nulls":4},"Grünland",null,37,37,null,2]
["Grünland 40% Weißklee",{"$nulls":4},"Grünland",null,38,38,null,3.2]
[{"$nulls":7},39,39]
["Dicke Bohne",{"$nulls":4},"Pflücke",null,40,40]
["Grünspießerbse, Buschbohnen",{"$nulls":4},"Pflücke",null,41,41]
["Buschbohne",{"$nulls":4},"Pflücke",null,42,42]

{"sheet":"Wi-Dü-Aufnahme","index":7,"n_rows":33,"n_cols":54,"rows_kept":33,"merged":[[0,0,0,5],[0,6,4,6],[2,0,2,5],[2,7,2,18],[2,19,2,30],[2,31,2,42],[2,43,2,53],[3,7,4,7],[3,8,4,8],[3,19,4,19],[3,20,4,20],[3,31,4,31],[3,32,4,32],[3,43,4,43],[5,0,12,0],[13,0,20,0],[21,0,28,0],[29,0,32,6],[29,7,29,18],[29,19,29,30],[29,31,29,42],[29,43,29,53],[30,7,32,8],[30,19,32,20],[30,31,32,32],[30,43,32,43]]}
["A.6.Tierische Nährstoffinputs"]
[]
["A.6.1. Wirtschaftsdüngeraufnahme: Bitte geben Sie die jeweiligen aufgenommenen Mengen organischen Dünger in t oder m³ an. Desweiteren benötigen wir Informationen über die Herkunft des Wirtschaftsdüngers sowie die Entfernung (Transportstrecke) als auch die Ausbringmethode. Abschließend werden noch die Daten zur Zusammensetzung des aufgenommenen Wirtschaftsdüngers erfragt. Nutzen Sie bitte den Hyperlink in B5, sollten Sie organischen Dünger aufgenommen haben, der nicht im Drop Down Menü aufgeführt ist, um weitere Düngemittel anzulegen.\nHier auch die organischen Handelsdünger eintragen",{"$nulls":6},{"$f":"Betriebsdaten!$B$29","v":2022},{"$nulls":11},{"$f":"Betriebsdaten!$B$30","v":2021},{"$nulls":11},{"$f":"Betriebsdaten!$B$31","v":2020},{"$nulls":11},"Durchschnitt"]
["Jahr","Düngerart",null,"Menge ","Fläche","Menge",null,"Code","Menge (kg)","C","N","NH4-N","P2O5","K2O","Ca","MgO","S","Na","Cl","Code","Menge (kg)","C","N","NH4-N","P2O5","K2O","Ca","MgO","S","Na","Cl","Code","Menge (kg)","C","N","NH4-N","P2O5","K2O","Ca","MgO","S","Na","Cl","Menge (kg)","C","N","NH4-N","P2O5","K2O","Ca","MgO","S","Na","Cl"]
[null,{"$f":"HYPERLINK(\"#'Wirtschaftsdünger Tabellen'!B66\",\"eigenen Wirtschaftsdünger bzw. Biogasanlagengärrest hinzufügen\")","v":"eigenen Wirtschaftsdünger bzw. Biogasanlagengärrest hinzufügen"},"Bemerkung","m³ bzw t/ha","ha","m³ bzw. t",{"$nulls":3},"kg*a-1","kg*a-1","kg*a-1","kg*a-1","kg*a-1","kg*a-1","kg*a-1","kg*a-1","kg*a-1","kg*a-1",null,null,"kg*a-1","kg*a-1","kg*a-1","kg*a-1","kg*a-1","kg*a-1","kg*a-1","kg*a-1","kg*a-1","kg*a-1",null,null,"kg*a-1","kg*a-1","kg*a-1","kg*a-1","kg*a-1","kg*a-1","kg*a-1","kg*a-1","kg*a-1","kg*a-1",null,"kg*a-1","kg*a-1","kg*a-1","kg*a-1","kg*a-1","kg*a-1","kg*a-1","kg*a-1","kg*a-1","kg*a-1"]
[{"$f":"Betriebsdaten!$B$29","v":2022},"Bitte wählen:",{"$nulls":3},0,null,{"$f":"VLOOKUP(B6,'Wirtschaftsdünger Tabellen'!$B$3:$C$90,2,FALSE)","v":0},{"$f":"F6*1000","v":0},{"$f":"VLOOKUP(H6,'Wirtschaftsdünger Tabellen'!$C$3:$Q$90,5,FALSE)*(I6/1000)","v":0},{"$f":"VLOOKUP(H6,'Wirtschaftsdünger Tabellen'!$C$3:$Q$90,6,FALSE)*(I6/1000)","v":0},{"$f":"VLOOKUP(H6,'Wirtschaftsdünger Tabellen'!$C$3:$Q$90,7,FALSE)*(I6/1000)","v":0},{"$f":"VLOOKUP(H6,'Wirtschaftsdünger Tabellen'!$C$3:$Q$90,8,FALSE)*(I6/1000)","v":0},{"$f":"VLOOKUP(H6,'Wirtschaftsdünger Tabellen'!$C$3:$Q$90,9,FALSE)*(I6/1000)","v":0},{"$f":"VLOOKUP(H6,'Wirtschaftsdünger Tabellen'!$C$3:$Q$90,10,FALSE)*(I6/1000)","v":0},{"$f":"VLOOKUP(H6,'Wirtschaftsdünger Tabellen'!$C$3:$Q$90,11,FALSE)*(I6/1000)","v":0},{"$f":"VLOOKUP(H6,'Wirtschaftsdünger Tabellen'!$C$3:$Q$90,12,FALSE)*(I6/1000)","v":0},{"$f":"VLOOKUP(H6,'Wirtschaftsdünger Tabellen'!$C$3:$Q$90,13,FALSE)*(I6/1000)","v":0},{"$f":"VLOOKUP(H6,'Wirtschaftsdünger Tabellen'!$C$3:$Q$90,14,FALSE)*(I6/1000)","v":0}]
[null,"Bitte wählen:",{"$nulls":3},0,null,{"$f":"VLOOKUP(B7,'Wirtschaftsdünger Tabellen'!$B$3:$C$90,2,FALSE)","v":0},0,{"$f":"VLOOKUP(H7,'Wirtschaftsdünger Tabellen'!$C$3:$Q$90,5,FALSE)*(I7/1000)","v":0},{"$f":"VLOOKUP(H7,'Wirtschaftsdünger Tabellen'!$C$3:$Q$90,6,FALSE)*(I7/1000)","v":0},{"$f":"VLOOKUP(H7,'Wirtschaftsdünger Tabellen'!$C$3:$Q$90,7,FALSE)*(I7/1000)","v":0},{"$f":"VLOOKUP(H7,'Wirtschaftsdünger Tabellen'!$C$3:$Q$90,8,FALSE)*(I7/1000)","v":0},{"$f":"VLOOKUP(H7,'Wirtschaftsdünger Tabellen'!$C$3:$Q$90,9,FALSE)*(I7/1000)","v":0},{"$f":"VLOOKUP(H7,'Wirtschaftsdünger Tabellen'!$C$3:$Q$90,10,FALSE)*(I7/1000)","v":0},{"$f":"VLOOKUP(H7,'Wirtschaftsdünger Tabellen'!$C$3:$Q$90,11,FALSE)*(I7/1000)","v":0},{"$f":"VLOOKUP(H7,'Wirtschaftsdünger Tabellen'!$C$3:$Q$90,12,FALSE)*(I7/1000)","v":0},{"$f":"VLOOKUP(H7,'Wirtschaftsdünger Tabellen'!$C$3:$Q$90,13,FALSE)*(I7/1000)","v":0},{"$f":"VLOOKUP(H7,'Wirtschaftsdünger Tabellen'!$C$3:$Q$90,14,FALSE)*(I7/1000)","v":0}]
[null,"Bitte wählen:",{"$nulls":3},0,null,{"$f":"VLOOKUP(B8,'Wirtschaftsdünger Tabellen'!$B$3:$C$90,2,FALSE)","v":0},0,{"$f":"VLOOKUP(H8,'Wirtschaftsdünger Tabellen'!$C$3:$Q$90,5,FALSE)*(I8/1000)","v":0},{"$f":"VLOOKUP(H8,'Wirtschaftsdünger Tabellen'!$C$3:$Q$90,6,FALSE)*(I8/1000)","v":0},{"$f":"VLOOKUP(H8,'Wirtschaftsdünger Tabellen'!$C$3:$Q$90,7,FALSE)*(I8/1000)","v":0},{"$f":"VLOOKUP(H8,'Wirtschaftsdünger Tabellen'!$C$3:$Q$90,8,FALSE)*(I8/1000)","v":0},{"$f":"VLOOKUP(H8,'Wirtschaftsdünger Tabellen'!$C$3:$Q$90,9,FALSE)*(I8/1000)","v":0},{"$f":"VLOOKUP(H8,'Wirtschaftsdünger Tabellen'!$C$3:$Q$90,10,FALSE)*(I8/1000)","v":0},{"$f":"VLOOKUP(H8,'Wirtschaftsdünger Tabellen'!$C$3:$Q$90,11,FALSE)*(I8/1000)","v":0},{"$f":"VLOOKUP(H8,'Wirtschaftsdünger Tabellen'!$C$3:$Q$90,12,FALSE)*(I8/1000)","v":0},{"$f":"VLOOKUP(H8,'Wirtschaftsdünger Tabellen'!$C$3:$Q$90,13,FALSE)*(I8/1000)","v":0},{"$f":"VLOOKUP(H8,'Wirtschaftsdünger Tabellen'!$C$3:$Q$90,14,FALSE)*(I8/1000)","v":0}]
[null,"Bitte wählen:",{"$nulls":3},0,null,{"$f":"VLOOKUP(B9,'Wirtschaftsdünger Tabellen'!$B$3:$C$90,2,FALSE)","v":0},0,{"$f":"VLOOKUP(H9,'Wirtschaftsdünger Tabellen'!$C$3:$Q$90,5,FALSE)*(I9/1000)","v":0},{"$f":"VLOOKUP(H9,'Wirtschaftsdünger Tabellen'!$C$3:$Q$90,6,FALSE)*(I9/1000)","v":0},{"$f":"VLOOKUP(H9,'Wirtschaftsdünger Tabellen'!$C$3:$Q$90,7,FALSE)*(I9/1000)","v":0},{"$f":"VLOOKUP(H9,'Wirtschaftsdünger Tabellen'!$C$3:$Q$90,8,FALSE)*(I9/1000)","v":0},{"$f":"VLOOKUP(H9,'Wirtschaftsdünger Tabellen'!$C$3:$Q$90,9,FALSE)*(I9/1000)","v":0},{"$f":"VLOOKUP(H9,'Wirtschaftsdünger Tabellen'!$C$3:$Q$90,10,FALSE)*(I9/1000)","v":0},{"$f":"VLOOKUP(H9,'Wirtschaftsdünger Tabellen'!$C$3:$Q$90,11,FALSE)*(I9/1000)","v":0},{"$f":"VLOOKUP(H9,'Wirtschaftsdünger Tabellen'!$C$3:$Q$90,12,FALSE)*(I9/1000)","v":0},{"$f":"VLOOKUP(H9,'Wirtschaftsdünger Tabellen'!$C$3:$Q$90,13,FALSE)*(I9/1000)","v":0},{"$f":"VLOOKUP(H9,'Wirtschaftsdünger Tabellen'!$C$3:$Q$90,14,FALSE)*(I9/1000)","v":0}]
[null,"Bitte wählen:",{"$nulls":3},{"$f":"E10*D10","v":0},null,{"$f":"VLOOKUP(B10,'Wirtschaftsdünger Tabellen'!$B$3:$C$90,2,FALSE)","v":0},0,{"$f":"VLOOKUP(H10,'Wirtschaftsdünger Tabellen'!$C$3:$Q$90,5,FALSE)*(I10/1000)","v":0},{"$f":"VLOOKUP(H10,'Wirtschaftsdünger Tabellen'!$C$3:$Q$90,6,FALSE)*(I10/1000)","v":0},{"$f":"VLOOKUP(H10,'Wirtschaftsdünger Tabellen'!$C$3:$Q$90,7,FALSE)*(I10/1000)","v":0},{"$f":"VLOOKUP(H10,'Wirtschaftsdünger Tabellen'!$C$3:$Q$90,8,FALSE)*(I10/1000)","v":0},{"$f":"VLOOKUP(H10,'Wirtschaftsdünger Tabellen'!$C$3:$Q$90,9,FALSE)*(I10/1000)","v":0},{"$f":"VLOOKUP(H10,'Wirtschaftsdünger Tabellen'!$C$3:$Q$90,10,FALSE)*(I10/1000)","v":0},{"$f":"VLOOKUP(H10,'Wirtschaftsdünger Tabellen'!$C$3:$Q$90,11,FALSE)*(I10/1000)","v":0},{"$f":"VLOOKUP(H10,'Wirtschaftsdünger Tabellen'!$C$3:$Q$90,12,FALSE)*(I10/1000)","v":0},{"$f":"VLOOKUP(H10,'Wirtschaftsdünger Tabellen'!$C$3:$Q$90,13,FALSE)*(I10/1000)","v":0},{"$f":"VLOOKUP(H10,'Wirtschaftsdünger Tabellen'!$C$3:$Q$90,14,FALSE)*(I10/1000)","v":0}]
[null,"Bitte wählen:",{"$nulls":3},0,null,{"$f":"VLOOKUP(B11,'Wirtschaftsdünger Tabellen'!$B$3:$C$90,2,FALSE)","v":0},0,{"$f":"VLOOKUP(H11,'Wirtschaftsdünger Tabellen'!$C$3:$Q$90,5,FALSE)*(I11/1000)","v":0},{"$f":"VLOOKUP(H11,'Wirtschaftsdünger Tabellen'!$C$3:$Q$90,6,FALSE)*(I11/1000)","v":0},{"$f":"VLOOKUP(H11,'Wirtschaftsdünger Tabellen'!$C$3:$Q$90,7,FALSE)*(I11/1000)","v":0},{"$f":"VLOOKUP(H11,'Wirtschaftsdünger Tabellen'!$C$3:$Q$90,8,FALSE)*(I11/1000)","v":0},{"$f":"VLOOKUP(H11,'Wirtschaftsdünger Tabellen'!$C$3:$Q$90,9,FALSE)*(I11/1000)","v":0},{"$f":"VLOOKUP(H11,'Wirtschaftsdünger Tabellen'!$C$3:$Q$90,10,FALSE)*(I11/1000)","v":0},{"$f":"VLOOKUP(H11,'Wirtschaftsdünger Tabellen'!$C$3:$Q$90,11,FALSE)*(I11/1000)","v":0},{"$f":"VLOOKUP(H11,'Wirtschaftsdünger Tabellen'!$C$3:$Q$90,12,FALSE)*(I11/1000)","v":0},{"$f":"VLOOKUP(H11,'Wirtschaftsdünger Tabellen'!$C$3:$Q$90,13,FALSE)*(I11/1000)","v":0},{"$f":"VLOOKUP(H11,'Wirtschaftsdünger Tabellen'!$C$3:$Q$90,14,FALSE)*(I11/1000)","v":0}]
[null,"Bitte wählen:",{"$nulls":3},0,null,{"$f":"VLOOKUP(B12,'Wirtschaftsdünger Tabellen'!$B$3:$C$90,2,FALSE)","v":0},0,{"$f":"VLOOKUP(H12,'Wirtschaftsdünger Tabellen'!$C$3:$Q$90,5,FALSE)*(I12/1000)","v":0},{"$f":"VLOOKUP(H12,'Wirtschaftsdünger Tabellen'!$C$3:$Q$90,6,FALSE)*(I12/1000)","v":0},{"$f":"VLOOKUP(H12,'Wirtschaftsdünger Tabellen'!$C$3:$Q$90,7,FALSE)*(I12/1000)","v":0},{"$f":"VLOOKUP(H12,'Wirtschaftsdünger Tabellen'!$C$3:$Q$90,8,FALSE)*(I12/1000)","v":0},{"$f":"VLOOKUP(H12,'Wirtschaftsdünger Tabellen'!$C$3:$Q$90,9,FALSE)*(I12/1000)","v":0},{"$f":"VLOOKUP(H12,'Wirtschaftsdünger Tabellen'!$C$3:$Q$90,10,FALSE)*(I12/1000)","v":0},{"$f":"VLOOKUP(H12,'Wirtschaftsdünger Tabellen'!$C$3:$Q$90,11,FALSE)*(I12/1000)","v":0},{"$f":"VLOOKUP(H12,'Wirtschaftsdünger Tabellen'!$C$3:$Q$90,12,FALSE)*(I12/1000)","v":0},{"$f":"VLOOKUP(H12,'Wirtschaftsdünger Tabellen'!$C$3:$Q$90,13,FALSE)*(I12/1000)","v":0},{"$f":"VLOOKUP(H12,'Wirtschaftsdünger Tabellen'!$C$3:$Q$90,14,FALSE)*(I12/1000)","v":0}]
[null,"Bitte wählen:",{"$nulls":3},0,null,{"$f":"VLOOKUP(B13,'Wirtschaftsdünger Tabellen'!$B$3:$C$90,2,FALSE)","v":0},0,{"$f":"VLOOKUP(H13,'Wirtschaftsdünger Tabellen'!$C$3:$Q$90,5,FALSE)*(I13/1000)","v":0},{"$f":"VLOOKUP(H13,'Wirtschaftsdünger Tabellen'!$C$3:$Q$90,6,FALSE)*(I13/1000)","v":0},{"$f":"VLOOKUP(H13,'Wirtschaftsdünger Tabellen'!$C$3:$Q$90,7,FALSE)*(I13/1000)","v":0},{"$f":"VLOOKUP(H13,'Wirtschaftsdünger Tabellen'!$C$3:$Q$90,8,FALSE)*(I13/1000)","v":0},{"$f":"VLOOKUP(H13,'Wirtschaftsdünger Tabellen'!$C$3:$Q$90,9,FALSE)*(I13/1000)","v":0},{"$f":"VLOOKUP(H13,'Wirtschaftsdünger Tabellen'!$C$3:$Q$90,10,FALSE)*(I13/1000)","v":0},{"$f":"VLOOKUP(H13,'Wirtschaftsdünger Tabellen'!$C$3:$Q$90,11,FALSE)*(I13/1000)","v":0},{"$f":"VLOOKUP(H13,'Wirtschaftsdünger Tabellen'!$C$3:$Q$90,12,FALSE)*(I13/1000)","v":0},{"$f":"VLOOKUP(H13,'Wirtschaftsdünger Tabellen'!$C$3:$Q$90,13,FALSE)*(I13/1000)","v":0},{"$f":"VLOOKUP(H13,'Wirtschaftsdünger Tabellen'!$C$3:$Q$90,14,FALSE)*(I13/1000)","v":0}]
[{"$f":"Betriebsdaten!$B$30","v":2021},"Bitte wählen:",{"$nulls":3},0,{"$nulls":13},{"$f":"VLOOKUP(B14,'Wirtschaftsdünger Tabellen'!$B$3:$C$90,2,FALSE)","v":0},{"$f":"F14*1000","v":0},{"$f":"VLOOKUP(T14,'Wirtschaftsdünger Tabellen'!$C$3:$Q$90,5,FALSE)*(U14/1000)","v":0},{"$f":"VLOOKUP(T14,'Wirtschaftsdünger Tabellen'!$C$3:$Q$90,6,FALSE)*(U14/1000)","v":0},{"$f":"VLOOKUP(T14,'Wirtschaftsdünger Tabellen'!$C$3:$Q$90,7,FALSE)*(U14/1000)","v":0},{"$f":"VLOOKUP(T14,'Wirtschaftsdünger Tabellen'!$C$3:$Q$90,8,FALSE)*(U14/1000)","v":0},{"$f":"VLOOKUP(T14,'Wirtschaftsdünger Tabellen'!$C$3:$Q$90,9,FALSE)*(U14/1000)","v":0},{"$f":"VLOOKUP(T14,'Wirtschaftsdünger Tabellen'!$C$3:$Q$90,10,FALSE)*(U14/1000)","v":0},{"$f":"VLOOKUP(T14,'Wirtschaftsdünger Tabellen'!$C$3:$Q$90,11,FALSE)*(U14/1000)","v":0},{"$f":"VLOOKUP(T14,'Wirtschaftsdünger Tabellen'!$C$3:$Q$90,12,FALSE)*(U14/1000)","v":0},{"$f":"VLOOKUP(T14,'Wirtschaftsdünger Tabellen'!$C$3:$Q$90,13,FALSE)*(U14/1000)","v":0},{"$f":"VLOOKUP(T14,'Wirtschaftsdünger Tabellen'!$C$3:$Q$90,14,FALSE)*(U14/1000)","v":0}]
[null,"Bitte wählen:",{"$nulls":3},0,{"$nulls":13},{"$f":"VLOOKUP(B15,'Wirtschaftsdünger Tabellen'!$B$3:$C$90,2,FALSE)","v":0},{"$f":"F15*1000","v":0},{"$f":"VLOOKUP(T15,'Wirtschaftsdünger Tabellen'!$C$3:$Q$90,5,FALSE)*(U15/1000)","v":0},{"$f":"VLOOKUP(T15,'Wirtschaftsdünger Tabellen'!$C$3:$Q$90,6,FALSE)*(U15/1000)","v":0},{"$f":"VLOOKUP(T15,'Wirtschaftsdünger Tabellen'!$C$3:$Q$90,7,FALSE)*(U15/1000)","v":0},{"$f":"VLOOKUP(T15,'Wirtschaftsdünger Tabellen'!$C$3:$Q$90,8,FALSE)*(U15/1000)","v":0},{"$f":"VLOOKUP(T15,'Wirtschaftsdünger Tabellen'!$C$3:$Q$90,9,FALSE)*(U15/1000)","v":0},{"$f":"VLOOKUP(T15,'Wirtschaftsdünger Tabellen'!$C$3:$Q$90,10,FALSE)*(U15/1000)","v":0},{"$f":"VLOOKUP(T15,'Wirtschaftsdünger Tabellen'!$C$3:$Q$90,11,FALSE)*(U15/1000)","v":0},{"$f":"VLOOKUP(T15,'Wirtschaftsdünger Tabellen'!$C$3:$Q$90,12,FALSE)*(U15/1000)","v":0},{"$f":"VLOOKUP(T15,'Wirtschaftsdünger Tabellen'!$C$3:$Q$90,13,FALSE)*(U15/1000)","v":0},{"$f":"VLOOKUP(T15,'Wirtschaftsdünger Tabellen'!$C$3:$Q$90,14,FALSE)*(U15/1000)","v":0}]
[null,"Bitte wählen:",{"$nulls":3},0,{"$nulls":13},{"$f":"VLOOKUP(B16,'Wirtschaftsdünger Tabellen'!$B$3:$C$90,2,FALSE)","v":0},0,{"$f":"VLOOKUP(T16,'Wirtschaftsdünger Tabellen'!$C$3:$Q$90,5,FALSE)*(U16/1000)","v":0},{"$f":"VLOOKUP(T16,'Wirtschaftsdünger Tabellen'!$C$3:$Q$90,6,FALSE)*(U16/1000)","v":0},{"$f":"VLOOKUP(T16,'Wirtschaftsdünger Tabellen'!$C$3:$Q$90,7,FALSE)*(U16/1000)","v":0},{"$f":"VLOOKUP(T16,'Wirtschaftsdünger Tabellen'!$C$3:$Q$90,8,FALSE)*(U16/1000)","v":0},{"$f":"VLOOKUP(T16,'Wirtschaftsdünger Tabellen'!$C$3:$Q$90,9,FALSE)*(U16/1000)","v":0},{"$f":"VLOOKUP(T16,'Wirtschaftsdünger Tabellen'!$C$3:$Q$90,10,FALSE)*(U16/1000)","v":0},{"$f":"VLOOKUP(T16,'Wirtschaftsdünger Tabellen'!$C$3:$Q$90,11,FALSE)*(U16/1000)","v":0},{"$f":"VLOOKUP(T16,'Wirtschaftsdünger Tabellen'!$C$3:$Q$90,12,FALSE)*(U16/1000)","v":0},{"$f":"VLOOKUP(T16,'Wirtschaftsdünger Tabellen'!$C$3:$Q$90,13,FALSE)*(U16/1000)","v":0},{"$f":"VLOOKUP(T16,'Wirtschaftsdünger Tabellen'!$C$3:$Q$90,14,FALSE)*(U16/1000)","v":0}]
[null,"Bitte wählen:",{"$nulls":3},0,{"$nulls":13},{"$f":"VLOOKUP(B17,'Wirtschaftsdünger Tabellen'!$B$3:$C$90,2,FALSE)","v":0},0,{"$f":"VLOOKUP(T17,'Wirtschaftsdünger Tabellen'!$C$3:$Q$90,5,FALSE)*(U17/1000)","v":0},{"$f":"VLOOKUP(T17,'Wirtschaftsdünger Tabellen'!$C$3:$Q$90,6,FALSE)*(U17/1000)","v":0},{"$f":"VLOOKUP(T17,'Wirtschaftsdünger Tabellen'!$C$3:$Q$90,7,FALSE)*(U17/1000)","v":0},{"$f":"VLOOKUP(T17,'Wirtschaftsdünger Tabellen'!$C$3:$Q$90,8,FALSE)*(U17/1000)","v":0},{"$f":"VLOOKUP(T17,'Wirtschaftsdünger Tabellen'!$C$3:$Q$90,9,FALSE)*(U17/1000)","v":0},{"$f":"VLOOKUP(T17,'Wirtschaftsdünger Tabellen'!$C$3:$Q$90,10,FALSE)*(U17/1000)","v":0},{"$f":"VLOOKUP(T17,'Wirtschaftsdünger Tabellen'!$C$3:$Q$90,11,FALSE)*(U17/1000)","v":0},{"$f":"VLOOKUP(T17,'Wirtschaftsdünger Tabellen'!$C$3:$Q$90,12,FALSE)*(U17/1000)","v":0},{"$f":"VLOOKUP(T17,'Wirtschaftsdünger Tabellen'!$C$3:$Q$90,13,FALSE)*(U17/1000)","v":0},{"$f":"VLOOKUP(T17,'Wirtschaftsdünger Tabellen'!$C$3:$Q$90,14,FALSE)*(U17/1000)","v":0}]
[null,"Bitte wählen:",{"$nulls":3},0,{"$nulls":13},{"$f":"VLOOKUP(B18,'Wirtschaftsdünger Tabellen'!$B$3:$C$90,2,FALSE)","v":0},0,{"$f":"VLOOKUP(T18,'Wirtschaftsdünger Tabellen'!$C$3:$Q$90,5,FALSE)*(U18/1000)","v":0},{"$f":"VLOOKUP(T18,'Wirtschaftsdünger Tabellen'!$C$3:$Q$90,6,FALSE)*(U18/1000)","v":0},{"$f":"VLOOKUP(T18,'Wirtschaftsdünger Tabellen'!$C$3:$Q$90,7,FALSE)*(U18/1000)","v":0},{"$f":"VLOOKUP(T18,'Wirtschaftsdünger Tabellen'!$C$3:$Q$90,8,FALSE)*(U18/1000)","v":0},{"$f":"VLOOKUP(T18,'Wirtschaftsdünger Tabellen'!$C$3:$Q$90,9,FALSE)*(U18/1000)","v":0},{"$f":"VLOOKUP(T18,'Wirtschaftsdünger Tabellen'!$C$3:$Q$90,10,FALSE)*(U18/1000)","v":0},{"$f":"VLOOKUP(T18,'Wirtschaftsdünger Tabellen'!$C$3:$Q$90,11,FALSE)*(U18/1000)","v":0},{"$f":"VLOOKUP(T18,'Wirtschaftsdünger Tabellen'!$C$3:$Q$90,12,FALSE)*(U18/1000)","v":0},{"$f":"VLOOKUP(T18,'Wirtschaftsdünger Tabellen'!$C$3:$Q$90,13,FALSE)*(U18/1000)","v":0},{"$f":"VLOOKUP(T18,'Wirtschaftsdünger Tabellen'!$C$3:$Q$90,14,FALSE)*(U18/1000)","v":0}]
[null,"Bitte wählen:",{"$nulls":3},0,{"$nulls":13},{"$f":"VLOOKUP(B19,'Wirtschaftsdünger Tabellen'!$B$3:$C$90,2,FALSE)","v":0},0,{"$f":"VLOOKUP(T19,'Wirtschaftsdünger Tabellen'!$C$3:$Q$90,5,FALSE)*(U19/1000)","v":0},{"$f":"VLOOKUP(T19,'Wirtschaftsdünger Tabellen'!$C$3:$Q$90,6,FALSE)*(U19/1000)","v":0},{"$f":"VLOOKUP(T19,'Wirtschaftsdünger Tabellen'!$C$3:$Q$90,7,FALSE)*(U19/1000)","v":0},{"$f":"VLOOKUP(T19,'Wirtschaftsdünger Tabellen'!$C$3:$Q$90,8,FALSE)*(U19/1000)","v":0},{"$f":"VLOOKUP(T19,'Wirtschaftsdünger Tabellen'!$C$3:$Q$90,9,FALSE)*(U19/1000)","v":0},{"$f":"VLOOKUP(T19,'Wirtschaftsdünger Tabellen'!$C$3:$Q$90,10,FALSE)*(U19/1000)","v":0},{"$f":"VLOOKUP(T19,'Wirtschaftsdünger Tabellen'!$C$3:$Q$90,11,FALSE)*(U19/1000)","v":0},{"$f":"VLOOKUP(T19,'Wirtschaftsdünger Tabellen'!$C$3:$Q$90,12,FALSE)*(U19/1000)","v":0},{"$f":"VLOOKUP(T19,'Wirtschaftsdünger Tabellen'!$C$3:$Q$90,13,FALSE)*(U19/1000)","v":0},{"$f":"VLOOKUP(T19,'Wirtschaftsdünger Tabellen'!$C$3:$Q$90,14,FALSE)*(U19/1000)","v":0}]
[null,"Bitte wählen:",{"$nulls":3},0,{"$nulls":13},{"$f":"VLOOKUP(B20,'Wirtschaftsdünger Tabellen'!$B$3:$C$90,2,FALSE)","v":0},0,{"$f":"VLOOKUP(T20,'Wirtschaftsdünger Tabellen'!$C$3:$Q$90,5,FALSE)*(U20/1000)","v":0},{"$f":"VLOOKUP(T20,'Wirtschaftsdünger Tabellen'!$C$3:$Q$90,6,FALSE)*(U20/1000)","v":0},{"$f":"VLOOKUP(T20,'Wirtschaftsdünger Tabellen'!$C$3:$Q$90,7,FALSE)*(U20/1000)","v":0},{"$f":"VLOOKUP(T20,'Wirtschaftsdünger Tabellen'!$C$3:$Q$90,8,FALSE)*(U20/1000)","v":0},{"$f":"VLOOKUP(T20,'Wirtschaftsdünger Tabellen'!$C$3:$Q$90,9,FALSE)*(U20/1000)","v":0},{"$f":"VLOOKUP(T20,'Wirtschaftsdünger Tabellen'!$C$3:$Q$90,10,FALSE)*(U20/1000)","v":0},{"$f":"VLOOKUP(T20,'Wirtschaftsdünger Tabellen'!$C$3:$Q$90,11,FALSE)*(U20/1000)","v":0},{"$f":"VLOOKUP(T20,'Wirtschaftsdünger Tabellen'!$C$3:$Q$90,12,FALSE)*(U20/1000)","v":0},{"$f":"VLOOKUP(T20,'Wirtschaftsdünger Tabellen'!$C$3:$Q$90,13,FALSE)*(U20/1000)","v":0},{"$f":"VLOOKUP(T20,'Wirtschaftsdünger Tabellen'!$C$3:$Q$90,14,FALSE)*(U20/1000)","v":0}]
[null,"Bitte wählen:",{"$nulls":3},0,{"$nulls":13},{"$f":"VLOOKUP(B21,'Wirtschaftsdünger Tabellen'!$B$3:$C$90,2,FALSE)","v":0},0,{"$f":"VLOOKUP(T21,'Wirtschaftsdünger Tabellen'!$C$3:$Q$90,5,FALSE)*(U21/1000)","v":0},{"$f":"VLOOKUP(T21,'Wirtschaftsdünger Tabellen'!$C$3:$Q$90,6,FALSE)*(U21/1000)","v":0},{"$f":"VLOOKUP(T21,'Wirtschaftsdünger Tabellen'!$C$3:$Q$90,7,FALSE)*(U21/1000)","v":0},{"$f":"VLOOKUP(T21,'Wirtschaftsdünger Tabellen'!$C$3:$Q$90,8,FALSE)*(U21/1000)","v":0},{"$f":"VLOOKUP(T21,'Wirtschaftsdünger Tabellen'!$C$3:$Q$90,9,FALSE)*(U21/1000)","v":0},{"$f":"VLOOKUP(T21,'Wirtschaftsdünger Tabellen'!$C$3:$Q$90,10,FALSE)*(U21/1000)","v":0},{"$f":"VLOOKUP(T21,'Wirtschaftsdünger Tabellen'!$C$3:$Q$90,11,FALSE)*(U21/1000)","v":0},{"$f":"VLOOKUP(T21,'Wirtschaftsdünger Tabellen'!$C$3:$Q$90,12,FALSE)*(U21/1000)","v":0},{"$f":"VLOOKUP(T21,'Wirtschaftsdünger Tabellen'!$C$3:$Q$90,13,FALSE)*(U21/1000)","v":0},{"$f":"VLOOKUP(T21,'Wirtschaftsdünger Tabellen'!$C$3:$Q$90,14,FALSE)*(U21/1000)","v":0}]
[{"$f":"Betriebsdaten!$B$31","v":2020},"Bitte wählen:",{"$nulls":3},0,{"$nulls":25},{"$f":"VLOOKUP(B22,'Wirtschaftsdünger Tabellen'!$B$3:$C$90,2,FALSE)","v":0},{"$f":"F22*1000","v":0},{"$f":"VLOOKUP(AF22,'Wirtschaftsdünger Tabellen'!$C$3:$Q$90,5,FALSE)*(AG22/1000)","v":0},{"$f":"VLOOKUP(AF22,'Wirtschaftsdünger Tabellen'!$C$3:$Q$90,6,FALSE)*(AG22/1000)","v":0},{"$f":"VLOOKUP(AF22,'Wirtschaftsdünger Tabellen'!$C$3:$Q$90,7,FALSE)*(AG22/1000)","v":0},{"$f":"VLOOKUP(AF22,'Wirtschaftsdünger Tabellen'!$C$3:$Q$90,8,FALSE)*(AG22/1000)","v":0},{"$f":"VLOOKUP(AF22,'Wirtschaftsdünger Tabellen'!$C$3:$Q$90,9,FALSE)*(AG22/1000)","v":0},{"$f":"VLOOKUP(AF22,'Wirtschaftsdünger Tabellen'!$C$3:$Q$90,10,FALSE)*(AG22/1000)","v":0},{"$f":"VLOOKUP(AF22,'Wirtschaftsdünger Tabellen'!$C$3:$Q$90,11,FALSE)*(AG22/1000)","v":0},{"$f":"VLOOKUP(AF22,'Wirtschaftsdünger Tabellen'!$C$3:$Q$90,12,FALSE)*(AG22/1000)","v":0},{"$f":"VLOOKUP(AF22,'Wirtschaftsdünger Tabellen'!$C$3:$Q$90,13,FALSE)*(AG22/1000)","v":0},{"$f":"VLOOKUP(AF22,'Wirtschaftsdünger Tabellen'!$C$3:$Q$90,14,FALSE)*(AG22/1000)","v":0},{"$f":"AVERAGE(I6,U14,AG22)","v":0},0,0,0,0,0,0,0,0,0,0]
[null,"Bitte wählen:",{"$nulls":3},0,{"$nulls":25},{"$f":"VLOOKUP(B23,'Wirtschaftsdünger Tabellen'!$B$3:$C$90,2,FALSE)","v":0},{"$f":"F23*1000","v":0},{"$f":"VLOOKUP(AF23,'Wirtschaftsdünger Tabellen'!$C$3:$Q$90,5,FALSE)*(AG23/1000)","v":0},{"$f":"VLOOKUP(AF23,'Wirtschaftsdünger Tabellen'!$C$3:$Q$90,6,FALSE)*(AG23/1000)","v":0},{"$f":"VLOOKUP(AF23,'Wirtschaftsdünger Tabellen'!$C$3:$Q$90,7,FALSE)*(AG23/1000)","v":0},{"$f":"VLOOKUP(AF23,'Wirtschaftsdünger Tabellen'!$C$3:$Q$90,8,FALSE)*(AG23/1000)","v":0},{"$f":"VLOOKUP(AF23,'Wirtschaftsdünger Tabellen'!$C$3:$Q$90,9,FALSE)*(AG23/1000)","v":0},{"$f":"VLOOKUP(AF23,'Wirtschaftsdünger Tabellen'!$C$3:$Q$90,10,FALSE)*(AG23/1000)","v":0},{"$f":"VLOOKUP(AF23,'Wirtschaftsdünger Tabellen'!$C$3:$Q$90,11,FALSE)*(AG23/1000)","v":0},{"$f":"VLOOKUP(AF23,'Wirtschaftsdünger Tabellen'!$C$3:$Q$90,12,FALSE)*(AG23/1000)","v":0},{"$f":"VLOOKUP(AF23,'Wirtschaftsdünger Tabellen'!$C$3:$Q$90,13,FALSE)*(AG23/1000)","v":0},{"$f":"VLOOKUP(AF23,'Wirtschaftsdünger Tabellen'!$C$3:$Q$90,14,FALSE)*(AG23/1000)","v":0},0,0,0,0,0,0,0,0,0,0,0]
[null,"Bitte wählen:",{"$nulls":3},0,{"$nulls":25},{"$f":"VLOOKUP(B24,'Wirtschaftsdünger Tabellen'!$B$3:$C$90,2,FALSE)","v":0},0,{"$f":"VLOOKUP(AF24,'Wirtschaftsdünger Tabellen'!$C$3:$Q$90,5,FALSE)*(AG24/1000)","v":0},{"$f":"VLOOKUP(AF24,'Wirtschaftsdünger Tabellen'!$C$3:$Q$90,6,FALSE)*(AG24/1000)","v":0},{"$f":"VLOOKUP(AF24,'Wirtschaftsdünger Tabellen'!$C$3:$Q$90,7,FALSE)*(AG24/1000)","v":0},{"$f":"VLOOKUP(AF24,'Wirtschaftsdünger Tabellen'!$C$3:$Q$90,8,FALSE)*(AG24/1000)","v":0},{"$f":"VLOOKUP(AF24,'Wirtschaftsdünger Tabellen'!$C$3:$Q$90,9,FALSE)*(AG24/1000)","v":0},{"$f":"VLOOKUP(AF24,'Wirtschaftsdünger Tabellen'!$C$3:$Q$90,10,FALSE)*(AG24/1000)","v":0},{"$f":"VLOOKUP(AF24,'Wirtschaftsdünger Tabellen'!$C$3:$Q$90,11,FALSE)*(AG24/1000)","v":0},{"$f":"VLOOKUP(AF24,'Wirtschaftsdünger Tabellen'!$C$3:$Q$90,12,FALSE)*(AG24/1000)","v":0},{"$f":"VLOOKUP(AF24,'Wirtschaftsdünger Tabellen'!$C$3:$Q$90,13,FALSE)*(AG24/1000)","v":0},{"$f":"VLOOKUP(AF24,'Wirtschaftsdünger Tabellen'!$C$3:$Q$90,14,FALSE)*(AG24/1000)","v":0},0,0,0,0,0,0,0,0,0,0,0]
[null,"Bitte wählen:",{"$nulls":3},0,{"$nulls":25},{"$f":"VLOOKUP(B25,'Wirtschaftsdünger Tabellen'!$B$3:$C$90,2,FALSE)","v":0},0,{"$f":"VLOOKUP(AF25,'Wirtschaftsdünger Tabellen'!$C$3:$Q$90,5,FALSE)*(AG25/1000)","v":0},{"$f":"VLOOKUP(AF25,'Wirtschaftsdünger Tabellen'!$C$3:$Q$90,6,FALSE)*(AG25/1000)","v":0},{"$f":"VLOOKUP(AF25,'Wirtschaftsdünger Tabellen'!$C$3:$Q$90,7,FALSE)*(AG25/1000)","v":0},{"$f":"VLOOKUP(AF25,'Wirtschaftsdünger Tabellen'!$C$3:$Q$90,8,FALSE)*(AG25/1000)","v":0},{"$f":"VLOOKUP(AF25,'Wirtschaftsdünger Tabellen'!$C$3:$Q$90,9,FALSE)*(AG25/1000)","v":0},{"$f":"VLOOKUP(AF25,'Wirtschaftsdünger Tabellen'!$C$3:$Q$90,10,FALSE)*(AG25/1000)","v":0},{"$f":"VLOOKUP(AF25,'Wirtschaftsdünger Tabellen'!$C$3:$Q$90,11,FALSE)*(AG25/1000)","v":0},{"$f":"VLOOKUP(AF25,'Wirtschaftsdünger Tabellen'!$C$3:$Q$90,12,FALSE)*(AG25/1000)","v":0},{"$f":"VLOOKUP(AF25,'Wirtschaftsdünger Tabellen'!$C$3:$Q$90,13,FALSE)*(AG25/1000)","v":0},{"$f":"VLOOKUP(AF25,'Wirtschaftsdünger Tabellen'!$C$3:$Q$90,14,FALSE)*(AG25/1000)","v":0},0,0,0,0,0,0,0,0,0,0,0]
[null,"Bitte wählen:",{"$nulls":3},0,{"$nulls":25},{"$f":"VLOOKUP(B26,'Wirtschaftsdünger Tabellen'!$B$3:$C$90,2,FALSE)","v":0},0,{"$f":"VLOOKUP(AF26,'Wirtschaftsdünger Tabellen'!$C$3:$Q$90,5,FALSE)*(AG26/1000)","v":0},{"$f":"VLOOKUP(AF26,'Wirtschaftsdünger Tabellen'!$C$3:$Q$90,6,FALSE)*(AG26/1000)","v":0},{"$f":"VLOOKUP(AF26,'Wirtschaftsdünger Tabellen'!$C$3:$Q$90,7,FALSE)*(AG26/1000)","v":0},{"$f":"VLOOKUP(AF26,'Wirtschaftsdünger Tabellen'!$C$3:$Q$90,8,FALSE)*(AG26/1000)","v":0},{"$f":"VLOOKUP(AF26,'Wirtschaftsdünger Tabellen'!$C$3:$Q$90,9,FALSE)*(AG26/1000)","v":0},{"$f":"VLOOKUP(AF26,'Wirtschaftsdünger Tabellen'!$C$3:$Q$90,10,FALSE)*(AG26/1000)","v":0},{"$f":"VLOOKUP(AF26,'Wirtschaftsdünger Tabellen'!$C$3:$Q$90,11,FALSE)*(AG26/1000)","v":0},{"$f":"VLOOKUP(AF26,'Wirtschaftsdünger Tabellen'!$C$3:$Q$90,12,FALSE)*(AG26/1000)","v":0},{"$f":"VLOOKUP(AF26,'Wirtschaftsdünger Tabellen'!$C$3:$Q$90,13,FALSE)*(AG26/1000)","v":0},{"$f":"VLOOKUP(AF26,'Wirtschaftsdünger Tabellen'!$C$3:$Q$90,14,FALSE)*(AG26/1000)","v":0},0,0,0,0,0,0,0,0,0,0,0]
[null,"Bitte wählen:",{"$nulls":3},0,{"$nulls":25},{"$f":"VLOOKUP(B27,'Wirtschaftsdünger Tabellen'!$B$3:$C$90,2,FALSE)","v":0},0,{"$f":"VLOOKUP(AF27,'Wirtschaftsdünger Tabellen'!$C$3:$Q$90,5,FALSE)*(AG27/1000)","v":0},{"$f":"VLOOKUP(AF27,'Wirtschaftsdünger Tabellen'!$C$3:$Q$90,6,FALSE)*(AG27/1000)","v":0},{"$f":"VLOOKUP(AF27,'Wirtschaftsdünger Tabellen'!$C$3:$Q$90,7,FALSE)*(AG27/1000)","v":0},{"$f":"VLOOKUP(AF27,'Wirtschaftsdünger Tabellen'!$C$3:$Q$90,8,FALSE)*(AG27/1000)","v":0},{"$f":"VLOOKUP(AF27,'Wirtschaftsdünger Tabellen'!$C$3:$Q$90,9,FALSE)*(AG27/1000)","v":0},{"$f":"VLOOKUP(AF27,'Wirtschaftsdünger Tabellen'!$C$3:$Q$90,10,FALSE)*(AG27/1000)","v":0},{"$f":"VLOOKUP(AF27,'Wirtschaftsdünger Tabellen'!$C$3:$Q$90,11,FALSE)*(AG27/1000)","v":0},{"$f":"VLOOKUP(AF27,'Wirtschaftsdünger Tabellen'!$C$3:$Q$90,12,FALSE)*(AG27/1000)","v":0},{"$f":"VLOOKUP(AF27,'Wirtschaftsdünger Tabellen'!$C$3:$Q$90,13,FALSE)*(AG27/1000)","v":0},{"$f":"VLOOKUP(AF27,'Wirtschaftsdünger Tabellen'!$C$3:$Q$90,14,FALSE)*(AG27/1000)","v":0},0,0,0,0,0,0,0,0,0,0,0]
[null,"Bitte wählen:",{"$nulls":3},0,{"$nulls":25},{"$f":"VLOOKUP(B28,'Wirtschaftsdünger Tabellen'!$B$3:$C$90,2,FALSE)","v":0},0,{"$f":"VLOOKUP(AF28,'Wirtschaftsdünger Tabellen'!$C$3:$Q$90,5,FALSE)*(AG28/1000)","v":0},{"$f":"VLOOKUP(AF28,'Wirtschaftsdünger Tabellen'!$C$3:$Q$90,6,FALSE)*(AG28/1000)","v":0},{"$f":"VLOOKUP(AF28,'Wirtschaftsdünger Tabellen'!$C$3:$Q$90,7,FALSE)*(AG28/1000)","v":0},{"$f":"VLOOKUP(AF28,'Wirtschaftsdünger Tabellen'!$C$3:$Q$90,8,FALSE)*(AG28/1000)","v":0},{"$f":"VLOOKUP(AF28,'Wirtschaftsdünger Tabellen'!$C$3:$Q$90,9,FALSE)*(AG28/1000)","v":0},{"$f":"VLOOKUP(AF28,'Wirtschaftsdünger Tabellen'!$C$3:$Q$90,10,FALSE)*(AG28/1000)","v":0},{"$f":"VLOOKUP(AF28,'Wirtschaftsdünger Tabellen'!$C$3:$Q$90,11,FALSE)*(AG28/1000)","v":0},{"$f":"VLOOKUP(AF28,'Wirtschaftsdünger Tabellen'!$C$3:$Q$90,12,FALSE)*(AG28/1000)","v":0},{"$f":"VLOOKUP(AF28,'Wirtschaftsdünger Tabellen'!$C$3:$Q$90,13,FALSE)*(AG28/1000)","v":0},{"$f":"VLOOKUP(AF28,'Wirtschaftsdünger Tabellen'!$C$3:$Q$90,14,FALSE)*(AG28/1000)","v":0},0,0,0,0,0,0,0,0,0,0,0]
[null,"Bitte wählen:",{"$nulls":3},0,{"$nulls":25},{"$f":"VLOOKUP(B29,'Wirtschaftsdünger Tabellen'!$B$3:$C$90,2,FALSE)","v":0},0,{"$f":"VLOOKUP(AF29,'Wirtschaftsdünger Tabellen'!$C$3:$Q$90,5,FALSE)*(AG29/1000)","v":0},{"$f":"VLOOKUP(AF29,'Wirtschaftsdünger Tabellen'!$C$3:$Q$90,6,FALSE)*(AG29/1000)","v":0},{"$f":"VLOOKUP(AF29,'Wirtschaftsdünger Tabellen'!$C$3:$Q$90,7,FALSE)*(AG29/1000)","v":0},{"$f":"VLOOKUP(AF29,'Wirtschaftsdünger Tabellen'!$C$3:$Q$90,8,FALSE)*(AG29/1000)","v":0},{"$f":"VLOOKUP(AF29,'Wirtschaftsdünger Tabellen'!$C$3:$Q$90,9,FALSE)*(AG29/1000)","v":0},{"$f":"VLOOKUP(AF29,'Wirtschaftsdünger Tabellen'!$C$3:$Q$90,10,FALSE)*(AG29/1000)","v":0},{"$f":"VLOOKUP(AF29,'Wirtschaftsdünger Tabellen'!$C$3:$Q$90,11,FALSE)*(AG29/1000)","v":0},{"$f":"VLOOKUP(AF29,'Wirtschaftsdünger Tabellen'!$C$3:$Q$90,12,FALSE)*(AG29/1000)","v":0},{"$f":"VLOOKUP(AF29,'Wirtschaftsdünger Tabellen'!$C$3:$Q$90,13,FALSE)*(AG29/1000)","v":0},{"$f":"VLOOKUP(AF29,'Wirtschaftsdünger Tabellen'!$C$3:$Q$90,14,FALSE)*(AG29/1000)","v":0},0,0,0,0,0,0,0,0,0,0,0]
["Gesamt Nährstoffinput ",{"$nulls":6},{"$f":"Betriebsdaten!$B$29","v":2022},{"$nulls":11},{"$f":"Betriebsdaten!$B$30","v":2021},{"$nulls":11},{"$f":"Betriebsdaten!$B$31","v":2020},{"$nulls":11},"Durchschnitt"]
[{"$nulls":7},"Summe",null,"C","N","NH4-N","P2O5","K2O","Ca","MgO","S","Na","Cl","Summe",null,"C","N","NH4-N","P2O5","K2O","Ca","MgO","S","Na","Cl","Summe",null,"C","N","NH4-N","P2O5","K2O","Ca","MgO","S","Na","Cl","Summe","C","N","NH4-N","P2O5","K2O","Ca","MgO","S","Na","Cl"]
[{"$nulls":9},"kg*a-1","kg*a-1","kg*a-1","kg*a-1","kg*a-1","kg*a-1","kg*a-1","kg*a-1","kg*a-1","kg*a-1",null,null,"kg*a-1","kg*a-1","kg*a-1","kg*a-1","kg*a-1","kg*a-1","kg*a-1","kg*a-1","kg*a-1","kg*a-1",null,null,"kg*a-1","kg*a-1","kg*a-1","kg*a-1","kg*a-1","kg*a-1","kg*a-1","kg*a-1","kg*a-1","kg*a-1",null,"kg*a-1","kg*a-1","kg*a-1","kg*a-1","kg*a-1","kg*a-1","kg*a-1","kg*a-1","kg*a-1","kg*a-1"]
[{"$nulls":9},{"$f":"SUM(J6:J13)","v":0},{"$f":"SUM(K6:K13)","v":0},0,0,0,0,0,0,0,0,null,null,{"$f":"SUM(V14:V21)","v":0},{"$f":"SUM(W14:W21)","v":0},0,0,0,0,0,0,0,0,null,null,{"$f":"SUM(AH22:AH29)","v":0},{"$f":"SUM(AI22:AI29)","v":0},0,0,0,0,0,0,0,0,null,{"$f":"SUM(AS22:AS29)","v":0},{"$f":"SUM(AT22:AT29)","v":0},0,0,0,0,0,0,0,0]

{"sheet":"Fu-Mi;Biogassubstr. Zuk.","index":8,"n_rows":26,"n_cols":58,"rows_kept":26,"merged":[[0,0,0,9],[1,0,1,9],[2,0,3,0],[2,1,2,3],[2,4,2,6],[2,7,2,9],[2,11,2,22],[2,23,2,34],[2,35,2,46],[2,47,2,57],[3,11,4,11],[3,12,4,12],[3,23,4,23],[3,24,4,24],[3,35,4,35],[3,36,4,36],[3,47,4,47],[22,0,25,10],[22,11,22,22],[22,23,22,34],[22,35,22,46],[22,47,22,57],[23,11,25,12],[23,23,25,24],[23,35,25,36],[23,47,25,47]]}
["A.7 Nährstoffinputs"]
["A7.2. Futtermittel/Biogassubstrat Bitte geben Sie alle Nährstoffinputs durch Zukauf von Futtermitteln und Biogassubstrat an. Sollten eigene Untersuchungsergebnisse zu Nährstoffergebnissen vorliegen, rechnen wir gerne mit betriebspezifischen Daten. (N-Gehalt [kg/t FM], TS-Gehalt* %, P2O5-Gehalt* [kg/t FM], K2O-Gehalt* [kg/t FM], MgO-Gehalt* [kg/t FM], CaO-Gehalt* [kg/t FM], Grobfutter) Nutzen Sie bitte den Hyperlink in A5, sollten Sie Futtermittel und Biogassubstrat zugekauft haben, das nicht in der Liste des Drop-Down-Menüs aufgeführt ist. Bei Mineralfutter sollte zusätzlich aufgeführt werden um welches Futter es sich handelt."]
["Futtermittel ",{"$f":"Betriebsdaten!$B$29","v":2022},null,null,{"$f":"Betriebsdaten!B30","v":2021},null,null,{"$f":"Betriebsdaten!B31","v":2020},{"$nulls":3},{"$f":"Betriebsdaten!$B$29","v":2022},{"$nulls":11},{"$f":"Betriebsdaten!$B$30","v":2021},{"$nulls":11},{"$f":"Betriebsdaten!$B$31","v":2020},{"$nulls":11},"Durchschnitt"]
[null,"Menge ","Nährstoffgehalte ",null,"Menge ","Nährstoffgehalte ",null,"Menge ","Nährstoffgehalte ",null,null,"Code","Menge (kg)","C","N","NH4-N","P2O5","K2O","Ca","MgO","S","Na","Cl","Code","Menge (kg)","C","N","NH4-N","P2O5","K2O","Ca","MgO","S","Na","Cl","Code","Menge (kg)","C","N","NH4-N","P2O5","K2O","Ca","MgO","S","Na","Cl","Menge (kg)","C","N","NH4-N","P2O5","K2O","Ca","MgO","S","Na","Cl"]
[{"$f":"HYPERLINK(\"#Futtermitteltabelle!B173\",\"eigene Futtermittel hinzufügen\")","v":"eigene Futtermittel hinzufügen"},null,"Einheit","Bemerkung",null,"Einheit","Bemerkung",null,"Einheit","Bemerkung",{"$nulls":3},"kg*a-1","kg*a-1","kg*a-1","kg*a-1","kg*a-1","kg*a-1","kg*a-1","kg*a-1","kg*a-1","kg*a-1",null,null,"kg*a-1","kg*a-1","kg*a-1","kg*a-1","kg*a-1","kg*a-1","kg*a-1","kg*a-1","kg*a-1","kg*a-1",null,null,"kg*a-1","kg*a-1","kg*a-1","kg*a-1","kg*a-1","kg*a-1","kg*a-1","kg*a-1","kg*a-1","kg*a-1",null,"kg*a-1","kg*a-1","kg*a-1","kg*a-1","kg*a-1","kg*a-1","kg*a-1","kg*a-1","kg*a-1","kg*a-1"]
["Bitte wählen:",null,{"$f":"VLOOKUP(A6,Futtermitteltabelle!$B$3:$F$193,5,FALSE)","v":0},null,null,{"$f":"VLOOKUP(A6,Futtermitteltabelle!$B$3:$F$193,5,FALSE)","v":0},null,null,{"$f":"VLOOKUP(A6,Futtermitteltabelle!$B$3:$F$193,5,FALSE)","v":0},null,null,{"$f":"VLOOKUP(A6,Futtermitteltabelle!$B$3:$E$193,4,FALSE)","v":0},{"$f":"B6*1000","v":0},{"$f":"VLOOKUP(L6,Futtermitteltabelle!$E$3:$R$193,5,FALSE)*(M6/1000)","v":0},{"$f":"VLOOKUP(L6,Futtermitteltabelle!$E$3:$R$193,6,FALSE)*(M6/1000)","v":0},{"$f":"VLOOKUP(L6,Futtermitteltabelle!$E$3:$R$193,7,FALSE)*(M6/1000)","v":0},{"$f":"VLOOKUP(L6,Futtermitteltabelle!$E$3:$R$193,8,FALSE)*(M6/1000)","v":0},{"$f":"VLOOKUP(L6,Futtermitteltabelle!$E$3:$R$193,9,FALSE)*(M6/1000)","v":0},{"$f":"VLOOKUP(L6,Futtermitteltabelle!$E$3:$R$193,10,FALSE)*(M6/1000)","v":0},{"$f":"VLOOKUP(L6,Futtermitteltabelle!$E$3:$R$193,11,FALSE)*(M6/1000)","v":0},{"$f":"VLOOKUP(L6,Futtermitteltabelle!$E$3:$R$193,12,FALSE)*(M6/1000)","v":0},{"$f":"VLOOKUP(L6,Futtermitteltabelle!$E$3:$R$193,13,FALSE)*(M6/1000)","v":0},{"$f":"VLOOKUP(L6,Futtermitteltabelle!$E$3:$R$193,14,FALSE)*(M6/1000)","v":0},{"$f":"VLOOKUP(A6,Futtermitteltabelle!$B$3:$E$193,4,FALSE)","v":0},{"$f":"E6*1000","v":0},{"$f":"VLOOKUP(X6,Futtermitteltabelle!$E$3:$R$193,5,FALSE)*(Y6/1000)","v":0},{"$f":"VLOOKUP(X6,Futtermitteltabelle!$E$3:$R$193,6,FALSE)*(Y6/1000)","v":0},{"$f":"VLOOKUP(X6,Futtermitteltabelle!$E$3:$R$193,7,FALSE)*(Y6/1000)","v":0},{"$f":"VLOOKUP(X6,Futtermitteltabelle!$E$3:$R$193,8,FALSE)*(Y6/1000)","v":0},{"$f":"VLOOKUP(X6,Futtermitteltabelle!$E$3:$R$193,9,FALSE)*(Y6/1000)","v":0},{"$f":"VLOOKUP(X6,Futtermitteltabelle!$E$3:$R$193,10,FALSE)*(Y6/1000)","v":0},{"$f":"VLOOKUP(X6,Futtermitteltabelle!$E$3:$R$193,11,FALSE)*(Y6/1000)","v":0},{"$f":"VLOOKUP(X6,Futtermitteltabelle!$E$3:$R$193,12,FALSE)*(Y6/1000)","v":0},{"$f":"VLOOKUP(X6,Futtermitteltabelle!$E$3:$R$193,13,FALSE)*(Y6/1000)","v":0},{"$f":"VLOOKUP(X6,Futtermitteltabelle!$E$3:$R$193,14,FALSE)*(Y6/1000)","v":0},{"$f":"VLOOKUP(A6,Futtermitteltabelle!$B$3:$E$193,4,FALSE)","v":0},{"$f":"H6*1000","v":0},{"$f":"VLOOKUP(AJ6,Futtermitteltabelle!$E$3:$R$193,5,FALSE)*(AK6/1000)","v":0},{"$f":"VLOOKUP(AJ6,Futtermitteltabelle!$E$3:$R$193,6,FALSE)*(AK6/1000)","v":0},{"$f":"VLOOKUP(AJ6,Futtermitteltabelle!$E$3:$R$193,7,FALSE)*(AK6/1000)","v":0},{"$f":"VLOOKUP(AJ6,Futtermitteltabelle!$E$3:$R$193,8,FALSE)*(AK6/1000)","v":0},{"$f":"VLOOKUP(AJ6,Futtermitteltabelle!$E$3:$R$193,9,FALSE)*(AK6/1000)","v":0},{"$f":"VLOOKUP(AJ6,Futtermitteltabelle!$E$3:$R$193,10,FALSE)*(AK6/1000)","v":0},{"$f":"VLOOKUP(AJ6,Futtermitteltabelle!$E$3:$R$193,11,FALSE)*(AK6/1000)","v":0},{"$f":"VLOOKUP(AJ6,Futtermitteltabelle!$E$3:$R$193,12,FALSE)*(AK6/1000)","v":0},{"$f":"VLOOKUP(AJ6,Futtermitteltabelle!$E$3:$R$193,13,FALSE)*(AK6/1000)","v":0},{"$f":"VLOOKUP(AJ6,Futtermitteltabelle!$E$3:$R$193,14,FALSE)*(AK6/1000)","v":0},{"$f":"AVERAGE(M6,Y6,AK6)","v":0},0,0,0,0,0,0,0,0,0,0]
["Bitte wählen:",null,{"$f":"VLOOKUP(A7,Futtermitteltabelle!$B$3:$F$193,5,FALSE)","v":0},null,null,{"$f":"VLOOKUP(A7,Futtermitteltabelle!$B$3:$F$193,5,FALSE)","v":0},null,null,{"$f":"VLOOKUP(A7,Futtermitteltabelle!$B$3:$F$193,5,FALSE)","v":0},null,null,{"$f":"VLOOKUP(A7,Futtermitteltabelle!$B$3:$E$193,4,FALSE)","v":0},0,{"$f":"VLOOKUP(L7,Futtermitteltabelle!$E$3:$R$193,5,FALSE)*(M7/1000)","v":0},{"$f":"VLOOKUP(L7,Futtermitteltabelle!$E$3:$R$193,6,FALSE)*(M7/1000)","v":0},{"$f":"VLOOKUP(L7,Futtermitteltabelle!$E$3:$R$193,7,FALSE)*(M7/1000)","v":0},{"$f":"VLOOKUP(L7,Futtermitteltabelle!$E$3:$R$193,8,FALSE)*(M7/1000)","v":0},{"$f":"VLOOKUP(L7,Futtermitteltabelle!$E$3:$R$193,9,FALSE)*(M7/1000)","v":0},{"$f":"VLOOKUP(L7,Futtermitteltabelle!$E$3:$R$193,10,FALSE)*(M7/1000)","v":0},{"$f":"VLOOKUP(L7,Futtermitteltabelle!$E$3:$R$193,11,FALSE)*(M7/1000)","v":0},{"$f":"VLOOKUP(L7,Futtermitteltabelle!$E$3:$R$193,12,FALSE)*(M7/1000)","v":0},{"$f":"VLOOKUP(L7,Futtermitteltabelle!$E$3:$R$193,13,FALSE)*(M7/1000)","v":0},{"$f":"VLOOKUP(L7,Futtermitteltabelle!$E$3:$R$193,14,FALSE)*(M7/1000)","v":0},{"$f":"VLOOKUP(A7,Futtermitteltabelle!$B$3:$E$193,4,FALSE)","v":0},0,{"$f":"VLOOKUP(X7,Futtermitteltabelle!$E$3:$R$193,5,FALSE)*(Y7/1000)","v":0},{"$f":"VLOOKUP(X7,Futtermitteltabelle!$E$3:$R$193,6,FALSE)*(Y7/1000)","v":0},{"$f":"VLOOKUP(X7,Futtermitteltabelle!$E$3:$R$193,7,FALSE)*(Y7/1000)","v":0},{"$f":"VLOOKUP(X7,Futtermitteltabelle!$E$3:$R$193,8,FALSE)*(Y7/1000)","v":0},{"$f":"VLOOKUP(X7,Futtermitteltabelle!$E$3:$R$193,9,FALSE)*(Y7/1000)","v":0},{"$f":"VLOOKUP(X7,Futtermitteltabelle!$E$3:$R$193,10,FALSE)*(Y7/1000)","v":0},{"$f":"VLOOKUP(X7,Futtermitteltabelle!$E$3:$R$193,11,FALSE)*(Y7/1000)","v":0},{"$f":"VLOOKUP(X7,Futtermitteltabelle!$E$3:$R$193,12,FALSE)*(Y7/1000)","v":0},{"$f":"VLOOKUP(X7,Futtermitteltabelle!$E$3:$R$193,13,FALSE)*(Y7/1000)","v":0},{"$f":"VLOOKUP(X7,Futtermitteltabelle!$E$3:$R$193,14,FALSE)*(Y7/1000)","v":0},{"$f":"VLOOKUP(A7,Futtermitteltabelle!$B$3:$E$193,4,FALSE)","v":0},{"$f":"H7*1000","v":0},{"$f":"VLOOKUP(AJ7,Futtermitteltabelle!$E$3:$R$193,5,FALSE)*(AK7/1000)","v":0},{"$f":"VLOOKUP(AJ7,Futtermitteltabelle!$E$3:$R$193,6,FALSE)*(AK7/1000)","v":0},{"$f":"VLOOKUP(AJ7,Futtermitteltabelle!$E$3:$R$193,7,FALSE)*(AK7/1000)","v":0},{"$f":"VLOOKUP(AJ7,Futtermitteltabelle!$E$3:$R$193,8,FALSE)*(AK7/1000)","v":0},{"$f":"VLOOKUP(AJ7,Futtermitteltabelle!$E$3:$R$193,9,FALSE)*(AK7/1000)","v":0},{"$f":"VLOOKUP(AJ7,Futtermitteltabelle!$E$3:$R$193,10,FALSE)*(AK7/1000)","v":0},{"$f":"VLOOKUP(AJ7,Futtermitteltabelle!$E$3:$R$193,11,FALSE)*(AK7/1000)","v":0},{"$f":"VLOOKUP(AJ7,Futtermitteltabelle!$E$3:$R$193,12,FALSE)*(AK7/1000)","v":0},{"$f":"VLOOKUP(AJ7,Futtermitteltabelle!$E$3:$R$193,13,FALSE)*(AK7/1000)","v":0},{"$f":"VLOOKUP(AJ7,Futtermitteltabelle!$E$3:$R$193,14,FALSE)*(AK7/1000)","v":0},{"$f":"AVERAGE(M7,Y7,AK7)","v":0},{"$f":"AVERAGE(N7,Z7,AL7)","v":0},{"$f":"AVERAGE(O7,AA7,AM7)","v":0},{"$f":"AVERAGE(P7,AB7,AN7)","v":0},{"$f":"AVERAGE(Q7,AC7,AO7)","v":0},{"$f":"AVERAGE(R7,AD7,AP7)","v":0},{"$f":"AVERAGE(S7,AE7,AQ7)","v":0},{"$f":"AVERAGE(T7,AF7,AR7)","v":0},{"$f":"AVERAGE(U7,AG7,AS7)","v":0},{"$f":"AVERAGE(V7,AH7,AT7)","v":0},{"$f":"AVERAGE(W7,AI7,AU7)","v":0}]
["Bitte wählen:",null,{"$f":"VLOOKUP(A8,Futtermitteltabelle!$B$3:$F$193,5,FALSE)","v":0},null,null,{"$f":"VLOOKUP(A8,Futtermitteltabelle!$B$3:$F$193,5,FALSE)","v":0},null,null,{"$f":"VLOOKUP(A8,Futtermitteltabelle!$B$3:$F$193,5,FALSE)","v":0},null,null,{"$f":"VLOOKUP(A8,Futtermitteltabelle!$B$3:$E$193,4,FALSE)","v":0},0,{"$f":"VLOOKUP(L8,Futtermitteltabelle!$E$3:$R$193,5,FALSE)*(M8/1000)","v":0},{"$f":"VLOOKUP(L8,Futtermitteltabelle!$E$3:$R$193,6,FALSE)*(M8/1000)","v":0},{"$f":"VLOOKUP(L8,Futtermitteltabelle!$E$3:$R$193,7,FALSE)*(M8/1000)","v":0},{"$f":"VLOOKUP(L8,Futtermitteltabelle!$E$3:$R$193,8,FALSE)*(M8/1000)","v":0},{"$f":"VLOOKUP(L8,Futtermitteltabelle!$E$3:$R$193,9,FALSE)*(M8/1000)","v":0},{"$f":"VLOOKUP(L8,Futtermitteltabelle!$E$3:$R$193,10,FALSE)*(M8/1000)","v":0},{"$f":"VLOOKUP(L8,Futtermitteltabelle!$E$3:$R$193,11,FALSE)*(M8/1000)","v":0},{"$f":"VLOOKUP(L8,Futtermitteltabelle!$E$3:$R$193,12,FALSE)*(M8/1000)","v":0},{"$f":"VLOOKUP(L8,Futtermitteltabelle!$E$3:$R$193,13,FALSE)*(M8/1000)","v":0},{"$f":"VLOOKUP(L8,Futtermitteltabelle!$E$3:$R$193,14,FALSE)*(M8/1000)","v":0},{"$f":"VLOOKUP(A8,Futtermitteltabelle!$B$3:$E$193,4,FALSE)","v":0},0,{"$f":"VLOOKUP(X8,Futtermitteltabelle!$E$3:$R$193,5,FALSE)*(Y8/1000)","v":0},{"$f":"VLOOKUP(X8,Futtermitteltabelle!$E$3:$R$193,6,FALSE)*(Y8/1000)","v":0},{"$f":"VLOOKUP(X8,Futtermitteltabelle!$E$3:$R$193,7,FALSE)*(Y8/1000)","v":0},{"$f":"VLOOKUP(X8,Futtermitteltabelle!$E$3:$R$193,8,FALSE)*(Y8/1000)","v":0},{"$f":"VLOOKUP(X8,Futtermitteltabelle!$E$3:$R$193,9,FALSE)*(Y8/1000)","v":0},{"$f":"VLOOKUP(X8,Futtermitteltabelle!$E$3:$R$193,10,FALSE)*(Y8/1000)","v":0},{"$f":"VLOOKUP(X8,Futtermitteltabelle!$E$3:$R$193,11,FALSE)*(Y8/1000)","v":0},{"$f":"VLOOKUP(X8,Futtermitteltabelle!$E$3:$R$193,12,FALSE)*(Y8/1000)","v":0},{"$f":"VLOOKUP(X8,Futtermitteltabelle!$E$3:$R$193,13,FALSE)*(Y8/1000)","v":0},{"$f":"VLOOKUP(X8,Futtermitteltabelle!$E$3:$R$193,14,FALSE)*(Y8/1000)","v":0},{"$f":"VLOOKUP(A8,Futtermitteltabelle!$B$3:$E$193,4,FALSE)","v":0},0,{"$f":"VLOOKUP(AJ8,Futtermitteltabelle!$E$3:$R$193,5,FALSE)*(AK8/1000)","v":0},{"$f":"VLOOKUP(AJ8,Futtermitteltabelle!$E$3:$R$193,6,FALSE)*(AK8/1000)","v":0},{"$f":"VLOOKUP(AJ8,Futtermitteltabelle!$E$3:$R$193,7,FALSE)*(AK8/1000)","v":0},{"$f":"VLOOKUP(AJ8,Futtermitteltabelle!$E$3:$R$193,8,FALSE)*(AK8/1000)","v":0},{"$f":"VLOOKUP(AJ8,Futtermitteltabelle!$E$3:$R$193,9,FALSE)*(AK8/1000)","v":0},{"$f":"VLOOKUP(AJ8,Futtermitteltabelle!$E$3:$R$193,10,FALSE)*(AK8/1000)","v":0},{"$f":"VLOOKUP(AJ8,Futtermitteltabelle!$E$3:$R$193,11,FALSE)*(AK8/1000)","v":0},{"$f":"VLOOKUP(AJ8,Futtermitteltabelle!$E$3:$R$193,12,FALSE)*(AK8/1000)","v":0},{"$f":"VLOOKUP(AJ8,Futtermitteltabelle!$E$3:$R$193,13,FALSE)*(AK8/1000)","v":0},{"$f":"VLOOKUP(AJ8,Futtermitteltabelle!$E$3:$R$193,14,FALSE)*(AK8/1000)","v":0},0,0,0,0,0,0,0,0,0,0,0]
["Bitte wählen:",null,{"$f":"VLOOKUP(A9,Futtermitteltabelle!$B$3:$F$193,5,FALSE)","v":0},null,null,{"$f":"VLOOKUP(A9,Futtermitteltabelle!$B$3:$F$193,5,FALSE)","v":0},null,null,{"$f":"VLOOKUP(A9,Futtermitteltabelle!$B$3:$F$193,5,FALSE)","v":0},null,null,{"$f":"VLOOKUP(A9,Futtermitteltabelle!$B$3:$E$193,4,FALSE)","v":0},0,{"$f":"VLOOKUP(L9,Futtermitteltabelle!$E$3:$R$193,5,FALSE)*(M9/1000)","v":0},{"$f":"VLOOKUP(L9,Futtermitteltabelle!$E$3:$R$193,6,FALSE)*(M9/1000)","v":0},{"$f":"VLOOKUP(L9,Futtermitteltabelle!$E$3:$R$193,7,FALSE)*(M9/1000)","v":0},{"$f":"VLOOKUP(L9,Futtermitteltabelle!$E$3:$R$193,8,FALSE)*(M9/1000)","v":0},{"$f":"VLOOKUP(L9,Futtermitteltabelle!$E$3:$R$193,9,FALSE)*(M9/1000)","v":0},{"$f":"VLOOKUP(L9,Futtermitteltabelle!$E$3:$R$193,10,FALSE)*(M9/1000)","v":0},{"$f":"VLOOKUP(L9,Futtermitteltabelle!$E$3:$R$193,11,FALSE)*(M9/1000)","v":0},{"$f":"VLOOKUP(L9,Futtermitteltabelle!$E$3:$R$193,12,FALSE)*(M9/1000)","v":0},{"$f":"VLOOKUP(L9,Futtermitteltabelle!$E$3:$R$193,13,FALSE)*(M9/1000)","v":0},{"$f":"VLOOKUP(L9,Futtermitteltabelle!$E$3:$R$193,14,FALSE)*(M9/1000)","v":0},{"$f":"VLOOKUP(A9,Futtermitteltabelle!$B$3:$E$193,4,FALSE)","v":0},0,{"$f":"VLOOKUP(X9,Futtermitteltabelle!$E$3:$R$193,5,FALSE)*(Y9/1000)","v":0},{"$f":"VLOOKUP(X9,Futtermitteltabelle!$E$3:$R$193,6,FALSE)*(Y9/1000)","v":0},{"$f":"VLOOKUP(X9,Futtermitteltabelle!$E$3:$R$193,7,FALSE)*(Y9/1000)","v":0},{"$f":"VLOOKUP(X9,Futtermitteltabelle!$E$3:$R$193,8,FALSE)*(Y9/1000)","v":0},{"$f":"VLOOKUP(X9,Futtermitteltabelle!$E$3:$R$193,9,FALSE)*(Y9/1000)","v":0},{"$f":"VLOOKUP(X9,Futtermitteltabelle!$E$3:$R$193,10,FALSE)*(Y9/1000)","v":0},{"$f":"VLOOKUP(X9,Futtermitteltabelle!$E$3:$R$193,11,FALSE)*(Y9/1000)","v":0},{"$f":"VLOOKUP(X9,Futtermitteltabelle!$E$3:$R$193,12,FALSE)*(Y9/1000)","v":0},{"$f":"VLOOKUP(X9,Futtermitteltabelle!$E$3:$R$193,13,FALSE)*(Y9/1000)","v":0},{"$f":"VLOOKUP(X9,Futtermitteltabelle!$E$3:$R$193,14,FALSE)*(Y9/1000)","v":0},{"$f":"VLOOKUP(A9,Futtermitteltabelle!$B$3:$E$193,4,FALSE)","v":0},0,{"$f":"VLOOKUP(AJ9,Futtermitteltabelle!$E$3:$R$193,5,FALSE)*(AK9/1000)","v":0},{"$f":"VLOOKUP(AJ9,Futtermitteltabelle!$E$3:$R$193,6,FALSE)*(AK9/1000)","v":0},{"$f":"VLOOKUP(AJ9,Futtermitteltabelle!$E$3:$R$193,7,FALSE)*(AK9/1000)","v":0},{"$f":"VLOOKUP(AJ9,Futtermitteltabelle!$E$3:$R$193,8,FALSE)*(AK9/1000)","v":0},{"$f":"VLOOKUP(AJ9,Futtermitteltabelle!$E$3:$R$193,9,FALSE)*(AK9/1000)","v":0},{"$f":"VLOOKUP(AJ9,Futtermitteltabelle!$E$3:$R$193,10,FALSE)*(AK9/1000)","v":0},{"$f":"VLOOKUP(AJ9,Futtermitteltabelle!$E$3:$R$193,11,FALSE)*(AK9/1000)","v":0},{"$f":"VLOOKUP(AJ9,Futtermitteltabelle!$E$3:$R$193,12,FALSE)*(AK9/1000)","v":0},{"$f":"VLOOKUP(AJ9,Futtermitteltabelle!$E$3:$R$193,13,FALSE)*(AK9/1000)","v":0},{"$f":"VLOOKUP(AJ9,Futtermitteltabelle!$E$3:$R$193,14,FALSE)*(AK9/1000)","v":0},0,0,0,0,0,0,0,0,0,0,0]
["Bitte wählen:",null,{"$f":"VLOOKUP(A10,Futtermitteltabelle!$B$3:$F$193,5,FALSE)","v":0},null,null,{"$f":"VLOOKUP(A10,Futtermitteltabelle!$B$3:$F$193,5,FALSE)","v":0},null,null,{"$f":"VLOOKUP(A10,Futtermitteltabelle!$B$3:$F$193,5,FALSE)","v":0},null,null,{"$f":"VLOOKUP(A10,Futtermitteltabelle!$B$3:$E$193,4,FALSE)","v":0},0,{"$f":"VLOOKUP(L10,Futtermitteltabelle!$E$3:$R$193,5,FALSE)*(M10/1000)","v":0},{"$f":"VLOOKUP(L10,Futtermitteltabelle!$E$3:$R$193,6,FALSE)*(M10/1000)","v":0},{"$f":"VLOOKUP(L10,Futtermitteltabelle!$E$3:$R$193,7,FALSE)*(M10/1000)","v":0},{"$f":"VLOOKUP(L10,Futtermitteltabelle!$E$3:$R$193,8,FALSE)*(M10/1000)","v":0},{"$f":"VLOOKUP(L10,Futtermitteltabelle!$E$3:$R$193,9,FALSE)*(M10/1000)","v":0},{"$f":"VLOOKUP(L10,Futtermitteltabelle!$E$3:$R$193,10,FALSE)*(M10/1000)","v":0},{"$f":"VLOOKUP(L10,Futtermitteltabelle!$E$3:$R$193,11,FALSE)*(M10/1000)","v":0},{"$f":"VLOOKUP(L10,Futtermitteltabelle!$E$3:$R$193,12,FALSE)*(M10/1000)","v":0},{"$f":"VLOOKUP(L10,Futtermitteltabelle!$E$3:$R$193,13,FALSE)*(M10/1000)","v":0},{"$f":"VLOOKUP(L10,Futtermitteltabelle!$E$3:$R$193,14,FALSE)*(M10/1000)","v":0},{"$f":"VLOOKUP(A10,Futtermitteltabelle!$B$3:$E$193,4,FALSE)","v":0},0,{"$f":"VLOOKUP(X10,Futtermitteltabelle!$E$3:$R$193,5,FALSE)*(Y10/1000)","v":0},{"$f":"VLOOKUP(X10,Futtermitteltabelle!$E$3:$R$193,6,FALSE)*(Y10/1000)","v":0},{"$f":"VLOOKUP(X10,Futtermitteltabelle!$E$3:$R$193,7,FALSE)*(Y10/1000)","v":0},{"$f":"VLOOKUP(X10,Futtermitteltabelle!$E$3:$R$193,8,FALSE)*(Y10/1000)","v":0},{"$f":"VLOOKUP(X10,Futtermitteltabelle!$E$3:$R$193,9,FALSE)*(Y10/1000)","v":0},{"$f":"VLOOKUP(X10,Futtermitteltabelle!$E$3:$R$193,10,FALSE)*(Y10/1000)","v":0},{"$f":"VLOOKUP(X10,Futtermitteltabelle!$E$3:$R$193,11,FALSE)*(Y10/1000)","v":0},{"$f":"VLOOKUP(X10,Futtermitteltabelle!$E$3:$R$193,12,FALSE)*(Y10/1000)","v":0},{"$f":"VLOOKUP(X10,Futtermitteltabelle!$E$3:$R$193,13,FALSE)*(Y10/1000)","v":0},{"$f":"VLOOKUP(X10,Futtermitteltabelle!$E$3:$R$193,14,FALSE)*(Y10/1000)","v":0},{"$f":"VLOOKUP(A10,Futtermitteltabelle!$B$3:$E$193,4,FALSE)","v":0},0,{"$f":"VLOOKUP(AJ10,Futtermitteltabelle!$E$3:$R$193,5,FALSE)*(AK10/1000)","v":0},{"$f":"VLOOKUP(AJ10,Futtermitteltabelle!$E$3:$R$193,6,FALSE)*(AK10/1000)","v":0},{"$f":"VLOOKUP(AJ10,Futtermitteltabelle!$E$3:$R$193,7,FALSE)*(AK10/1000)","v":0},{"$f":"VLOOKUP(AJ10,Futtermitteltabelle!$E$3:$R$193,8,FALSE)*(AK10/1000)","v":0},{"$f":"VLOOKUP(AJ10,Futtermitteltabelle!$E$3:$R$193,9,FALSE)*(AK10/1000)","v":0},{"$f":"VLOOKUP(AJ10,Futtermitteltabelle!$E$3:$R$193,10,FALSE)*(AK10/1000)","v":0},{"$f":"VLOOKUP(AJ10,Futtermitteltabelle!$E$3:$R$193,11,FALSE)*(AK10/1000)","v":0},{"$f":"VLOOKUP(AJ10,Futtermitteltabelle!$E$3:$R$193,12,FALSE)*(AK10/1000)","v":0},{"$f":"VLOOKUP(AJ10,Futtermitteltabelle!$E$3:$R$193,13,FALSE)*(AK10/1000)","v":0},{"$f":"VLOOKUP(AJ10,Futtermitteltabelle!$E$3:$R$193,14,FALSE)*(AK10/1000)","v":0},0,0,0,0,0,0,0,0,0,0,0]
["Bitte wählen:",null,{"$f":"VLOOKUP(A11,Futtermitteltabelle!$B$3:$F$193,5,FALSE)","v":0},null,null,{"$f":"VLOOKUP(A11,Futtermitteltabelle!$B$3:$F$193,5,FALSE)","v":0},null,null,{"$f":"VLOOKUP(A11,Futtermitteltabelle!$B$3:$F$193,5,FALSE)","v":0},null,null,{"$f":"VLOOKUP(A11,Futtermitteltabelle!$B$3:$E$193,4,FALSE)","v":0},0,{"$f":"VLOOKUP(L11,Futtermitteltabelle!$E$3:$R$193,5,FALSE)*(M11/1000)","v":0},{"$f":"VLOOKUP(L11,Futtermitteltabelle!$E$3:$R$193,6,FALSE)*(M11/1000)","v":0},{"$f":"VLOOKUP(L11,Futtermitteltabelle!$E$3:$R$193,7,FALSE)*(M11/1000)","v":0},{"$f":"VLOOKUP(L11,Futtermitteltabelle!$E$3:$R$193,8,FALSE)*(M11/1000)","v":0},{"$f":"VLOOKUP(L11,Futtermitteltabelle!$E$3:$R$193,9,FALSE)*(M11/1000)","v":0},{"$f":"VLOOKUP(L11,Futtermitteltabelle!$E$3:$R$193,10,FALSE)*(M11/1000)","v":0},{"$f":"VLOOKUP(L11,Futtermitteltabelle!$E$3:$R$193,11,FALSE)*(M11/1000)","v":0},{"$f":"VLOOKUP(L11,Futtermitteltabelle!$E$3:$R$193,12,FALSE)*(M11/1000)","v":0},{"$f":"VLOOKUP(L11,Futtermitteltabelle!$E$3:$R$193,13,FALSE)*(M11/1000)","v":0},{"$f":"VLOOKUP(L11,Futtermitteltabelle!$E$3:$R$193,14,FALSE)*(M11/1000)","v":0},{"$f":"VLOOKUP(A11,Futtermitteltabelle!$B$3:$E$193,4,FALSE)","v":0},0,{"$f":"VLOOKUP(X11,Futtermitteltabelle!$E$3:$R$193,5,FALSE)*(Y11/1000)","v":0},{"$f":"VLOOKUP(X11,Futtermitteltabelle!$E$3:$R$193,6,FALSE)*(Y11/1000)","v":0},{"$f":"VLOOKUP(X11,Futtermitteltabelle!$E$3:$R$193,7,FALSE)*(Y11/1000)","v":0},{"$f":"VLOOKUP(X11,Futtermitteltabelle!$E$3:$R$193,8,FALSE)*(Y11/1000)","v":0},{"$f":"VLOOKUP(X11,Futtermitteltabelle!$E$3:$R$193,9,FALSE)*(Y11/1000)","v":0},{"$f":"VLOOKUP(X11,Futtermitteltabelle!$E$3:$R$193,10,FALSE)*(Y11/1000)","v":0},{"$f":"VLOOKUP(X11,Futtermitteltabelle!$E$3:$R$193,11,FALSE)*(Y11/1000)","v":0},{"$f":"VLOOKUP(X11,Futtermitteltabelle!$E$3:$R$193,12,FALSE)*(Y11/1000)","v":0},{"$f":"VLOOKUP(X11,Futtermitteltabelle!$E$3:$R$193,13,FALSE)*(Y11/1000)","v":0},{"$f":"VLOOKUP(X11,Futtermitteltabelle!$E$3:$R$193,14,FALSE)*(Y11/1000)","v":0},{"$f":"VLOOKUP(A11,Futtermitteltabelle!$B$3:$E$193,4,FALSE)","v":0},0,{"$f":"VLOOKUP(AJ11,Futtermitteltabelle!$E$3:$R$193,5,FALSE)*(AK11/1000)","v":0},{"$f":"VLOOKUP(AJ11,Futtermitteltabelle!$E$3:$R$193,6,FALSE)*(AK11/1000)","v":0},{"$f":"VLOOKUP(AJ11,Futtermitteltabelle!$E$3:$R$193,7,FALSE)*(AK11/1000)","v":0},{"$f":"VLOOKUP(AJ11,Futtermitteltabelle!$E$3:$R$193,8,FALSE)*(AK11/1000)","v":0},{"$f":"VLOOKUP(AJ11,Futtermitteltabelle!$E$3:$R$193,9,FALSE)*(AK11/1000)","v":0},{"$f":"VLOOKUP(AJ11,Futtermitteltabelle!$E$3:$R$193,10,FALSE)*(AK11/1000)","v":0},{"$f":"VLOOKUP(AJ11,Futtermitteltabelle!$E$3:$R$193,11,FALSE)*(AK11/1000)","v":0},{"$f":"VLOOKUP(AJ11,Futtermitteltabelle!$E$3:$R$193,12,FALSE)*(AK11/1000)","v":0},{"$f":"VLOOKUP(AJ11,Futtermitteltabelle!$E$3:$R$193,13,FALSE)*(AK11/1000)","v":0},{"$f":"VLOOKUP(AJ11,Futtermitteltabelle!$E$3:$R$193,14,FALSE)*(AK11/1000)","v":0},0,0,0,0,0,0,0,0,0,0,0]
["Bitte wählen:",null,{"$f":"VLOOKUP(A12,Futtermitteltabelle!$B$3:$F$193,5,FALSE)","v":0},null,null,{"$f":"VLOOKUP(A12,Futtermitteltabelle!$B$3:$F$193,5,FALSE)","v":0},null,null,{"$f":"VLOOKUP(A12,Futtermitteltabelle!$B$3:$F$193,5,FALSE)","v":0},null,null,{"$f":"VLOOKUP(A12,Futtermitteltabelle!$B$3:$E$193,4,FALSE)","v":0},0,{"$f":"VLOOKUP(L12,Futtermitteltabelle!$E$3:$R$193,5,FALSE)*(M12/1000)","v":0},{"$f":"VLOOKUP(L12,Futtermitteltabelle!$E$3:$R$193,6,FALSE)*(M12/1000)","v":0},{"$f":"VLOOKUP(L12,Futtermitteltabelle!$E$3:$R$193,7,FALSE)*(M12/1000)","v":0},{"$f":"VLOOKUP(L12,Futtermitteltabelle!$E$3:$R$193,8,FALSE)*(M12/1000)","v":0},{"$f":"VLOOKUP(L12,Futtermitteltabelle!$E$3:$R$193,9,FALSE)*(M12/1000)","v":0},{"$f":"VLOOKUP(L12,Futtermitteltabelle!$E$3:$R$193,10,FALSE)*(M12/1000)","v":0},{"$f":"VLOOKUP(L12,Futtermitteltabelle!$E$3:$R$193,11,FALSE)*(M12/1000)","v":0},{"$f":"VLOOKUP(L12,Futtermitteltabelle!$E$3:$R$193,12,FALSE)*(M12/1000)","v":0},{"$f":"VLOOKUP(L12,Futtermitteltabelle!$E$3:$R$193,13,FALSE)*(M12/1000)","v":0},{"$f":"VLOOKUP(L12,Futtermitteltabelle!$E$3:$R$193,14,FALSE)*(M12/1000)","v":0},{"$f":"VLOOKUP(A12,Futtermitteltabelle!$B$3:$E$193,4,FALSE)","v":0},0,{"$f":"VLOOKUP(X12,Futtermitteltabelle!$E$3:$R$193,5,FALSE)*(Y12/1000)","v":0},{"$f":"VLOOKUP(X12,Futtermitteltabelle!$E$3:$R$193,6,FALSE)*(Y12/1000)","v":0},{"$f":"VLOOKUP(X12,Futtermitteltabelle!$E$3:$R$193,7,FALSE)*(Y12/1000)","v":0},{"$f":"VLOOKUP(X12,Futtermitteltabelle!$E$3:$R$193,8,FALSE)*(Y12/1000)","v":0},{"$f":"VLOOKUP(X12,Futtermitteltabelle!$E$3:$R$193,9,FALSE)*(Y12/1000)","v":0},{"$f":"VLOOKUP(X12,Futtermitteltabelle!$E$3:$R$193,10,FALSE)*(Y12/1000)","v":0},{"$f":"VLOOKUP(X12,Futtermitteltabelle!$E$3:$R$193,11,FALSE)*(Y12/1000)","v":0},{"$f":"VLOOKUP(X12,Futtermitteltabelle!$E$3:$R$193,12,FALSE)*(Y12/1000)","v":0},{"$f":"VLOOKUP(X12,Futtermitteltabelle!$E$3:$R$193,13,FALSE)*(Y12/1000)","v":0},{"$f":"VLOOKUP(X12,Futtermitteltabelle!$E$3:$R$193,14,FALSE)*(Y12/1000)","v":0},{"$f":"VLOOKUP(A12,Futtermitteltabelle!$B$3:$E$193,4,FALSE)","v":0},0,{"$f":"VLOOKUP(AJ12,Futtermitteltabelle!$E$3:$R$193,5,FALSE)*(AK12/1000)","v":0},{"$f":"VLOOKUP(AJ12,Futtermitteltabelle!$E$3:$R$193,6,FALSE)*(AK12/1000)","v":0},{"$f":"VLOOKUP(AJ12,Futtermitteltabelle!$E$3:$R$193,7,FALSE)*(AK12/1000)","v":0},{"$f":"VLOOKUP(AJ12,Futtermitteltabelle!$E$3:$R$193,8,FALSE)*(AK12/1000)","v":0},{"$f":"VLOOKUP(AJ12,Futtermitteltabelle!$E$3:$R$193,9,FALSE)*(AK12/1000)","v":0},{"$f":"VLOOKUP(AJ12,Futtermitteltabelle!$E$3:$R$193,10,FALSE)*(AK12/1000)","v":0},{"$f":"VLOOKUP(AJ12,Futtermitteltabelle!$E$3:$R$193,11,FALSE)*(AK12/1000)","v":0},{"$f":"VLOOKUP(AJ12,Futtermitteltabelle!$E$3:$R$193,12,FALSE)*(AK12/1000)","v":0},{"$f":"VLOOKUP(AJ12,Futtermitteltabelle!$E$3:$R$193,13,FALSE)*(AK12/1000)","v":0},{"$f":"VLOOKUP(AJ12,Futtermitteltabelle!$E$3:$R$193,14,FALSE)*(AK12/1000)","v":0},0,0,0,0,0,0,0,0,0,0,0]
["Bitte wählen:",null,{"$f":"VLOOKUP(A13,Futtermitteltabelle!$B$3:$F$193,5,FALSE)","v":0},null,null,{"$f":"VLOOKUP(A13,Futtermitteltabelle!$B$3:$F$193,5,FALSE)","v":0},null,null,{"$f":"VLOOKUP(A13,Futtermitteltabelle!$B$3:$F$193,5,FALSE)","v":0},null,null,{"$f":"VLOOKUP(A13,Futtermitteltabelle!$B$3:$E$193,4,FALSE)","v":0},0,{"$f":"VLOOKUP(L13,Futtermitteltabelle!$E$3:$R$193,5,FALSE)*(M13/1000)","v":0},{"$f":"VLOOKUP(L13,Futtermitteltabelle!$E$3:$R$193,6,FALSE)*(M13/1000)","v":0},{"$f":"VLOOKUP(L13,Futtermitteltabelle!$E$3:$R$193,7,FALSE)*(M13/1000)","v":0},{"$f":"VLOOKUP(L13,Futtermitteltabelle!$E$3:$R$193,8,FALSE)*(M13/1000)","v":0},{"$f":"VLOOKUP(L13,Futtermitteltabelle!$E$3:$R$193,9,FALSE)*(M13/1000)","v":0},{"$f":"VLOOKUP(L13,Futtermitteltabelle!$E$3:$R$193,10,FALSE)*(M13/1000)","v":0},{"$f":"VLOOKUP(L13,Futtermitteltabelle!$E$3:$R$193,11,FALSE)*(M13/1000)","v":0},{"$f":"VLOOKUP(L13,Futtermitteltabelle!$E$3:$R$193,12,FALSE)*(M13/1000)","v":0},{"$f":"VLOOKUP(L13,Futtermitteltabelle!$E$3:$R$193,13,FALSE)*(M13/1000)","v":0},{"$f":"VLOOKUP(L13,Futtermitteltabelle!$E$3:$R$193,14,FALSE)*(M13/1000)","v":0},{"$f":"VLOOKUP(A13,Futtermitteltabelle!$B$3:$E$193,4,FALSE)","v":0},0,{"$f":"VLOOKUP(X13,Futtermitteltabelle!$E$3:$R$193,5,FALSE)*(Y13/1000)","v":0},{"$f":"VLOOKUP(X13,Futtermitteltabelle!$E$3:$R$193,6,FALSE)*(Y13/1000)","v":0},{"$f":"VLOOKUP(X13,Futtermitteltabelle!$E$3:$R$193,7,FALSE)*(Y13/1000)","v":0},{"$f":"VLOOKUP(X13,Futtermitteltabelle!$E$3:$R$193,8,FALSE)*(Y13/1000)","v":0},{"$f":"VLOOKUP(X13,Futtermitteltabelle!$E$3:$R$193,9,FALSE)*(Y13/1000)","v":0},{"$f":"VLOOKUP(X13,Futtermitteltabelle!$E$3:$R$193,10,FALSE)*(Y13/1000)","v":0},{"$f":"VLOOKUP(X13,Futtermitteltabelle!$E$3:$R$193,11,FALSE)*(Y13/1000)","v":0},{"$f":"VLOOKUP(X13,Futtermitteltabelle!$E$3:$R$193,12,FALSE)*(Y13/1000)","v":0},{"$f":"VLOOKUP(X13,Futtermitteltabelle!$E$3:$R$193,13,FALSE)*(Y13/1000)","v":0},{"$f":"VLOOKUP(X13,Futtermitteltabelle!$E$3:$R$193,14,FALSE)*(Y13/1000)","v":0},{"$f":"VLOOKUP(A13,Futtermitteltabelle!$B$3:$E$193,4,FALSE)","v":0},0,{"$f":"VLOOKUP(AJ13,Futtermitteltabelle!$E$3:$R$193,5,FALSE)*(AK13/1000)","v":0},{"$f":"VLOOKUP(AJ13,Futtermitteltabelle!$E$3:$R$193,6,FALSE)*(AK13/1000)","v":0},{"$f":"VLOOKUP(AJ13,Futtermitteltabelle!$E$3:$R$193,7,FALSE)*(AK13/1000)","v":0},{"$f":"VLOOKUP(AJ13,Futtermitteltabelle!$E$3:$R$193,8,FALSE)*(AK13/1000)","v":0},{"$f":"VLOOKUP(AJ13,Futtermitteltabelle!$E$3:$R$193,9,FALSE)*(AK13/1000)","v":0},{"$f":"VLOOKUP(AJ13,Futtermitteltabelle!$E$3:$R$193,10,FALSE)*(AK13/1000)","v":0},{"$f":"VLOOKUP(AJ13,Futtermitteltabelle!$E$3:$R$193,11,FALSE)*(AK13/1000)","v":0},{"$f":"VLOOKUP(AJ13,Futtermitteltabelle!$E$3:$R$193,12,FALSE)*(AK13/1000)","v":0},{"$f":"VLOOKUP(AJ13,Futtermitteltabelle!$E$3:$R$193,13,FALSE)*(AK13/1000)","v":0},{"$f":"VLOOKUP(AJ13,Futtermitteltabelle!$E$3:$R$193,14,FALSE)*(AK13/1000)","v":0},0,0,0,0,0,0,0,0,0,0,0]
["Bitte wählen:",null,{"$f":"VLOOKUP(A14,Futtermitteltabelle!$B$3:$F$193,5,FALSE)","v":0},null,null,{"$f":"VLOOKUP(A14,Futtermitteltabelle!$B$3:$F$193,5,FALSE)","v":0},null,null,{"$f":"VLOOKUP(A14,Futtermitteltabelle!$B$3:$F$193,5,FALSE)","v":0},null,null,{"$f":"VLOOKUP(A14,Futtermitteltabelle!$B$3:$E$193,4,FALSE)","v":0},0,{"$f":"VLOOKUP(L14,Futtermitteltabelle!$E$3:$R$193,5,FALSE)*(M14/1000)","v":0},{"$f":"VLOOKUP(L14,Futtermitteltabelle!$E$3:$R$193,6,FALSE)*(M14/1000)","v":0},{"$f":"VLOOKUP(L14,Futtermitteltabelle!$E$3:$R$193,7,FALSE)*(M14/1000)","v":0},{"$f":"VLOOKUP(L14,Futtermitteltabelle!$E$3:$R$193,8,FALSE)*(M14/1000)","v":0},{"$f":"VLOOKUP(L14,Futtermitteltabelle!$E$3:$R$193,9,FALSE)*(M14/1000)","v":0},{"$f":"VLOOKUP(L14,Futtermitteltabelle!$E$3:$R$193,10,FALSE)*(M14/1000)","v":0},{"$f":"VLOOKUP(L14,Futtermitteltabelle!$E$3:$R$193,11,FALSE)*(M14/1000)","v":0},{"$f":"VLOOKUP(L14,Futtermitteltabelle!$E$3:$R$193,12,FALSE)*(M14/1000)","v":0},{"$f":"VLOOKUP(L14,Futtermitteltabelle!$E$3:$R$193,13,FALSE)*(M14/1000)","v":0},{"$f":"VLOOKUP(L14,Futtermitteltabelle!$E$3:$R$193,14,FALSE)*(M14/1000)","v":0},{"$f":"VLOOKUP(A14,Futtermitteltabelle!$B$3:$E$193,4,FALSE)","v":0},0,{"$f":"VLOOKUP(X14,Futtermitteltabelle!$E$3:$R$193,5,FALSE)*(Y14/1000)","v":0},{"$f":"VLOOKUP(X14,Futtermitteltabelle!$E$3:$R$193,6,FALSE)*(Y14/1000)","v":0},{"$f":"VLOOKUP(X14,Futtermitteltabelle!$E$3:$R$193,7,FALSE)*(Y14/1000)","v":0},{"$f":"VLOOKUP(X14,Futtermitteltabelle!$E$3:$R$193,8,FALSE)*(Y14/1000)","v":0},{"$f":"VLOOKUP(X14,Futtermitteltabelle!$E$3:$R$193,9,FALSE)*(Y14/1000)","v":0},{"$f":"VLOOKUP(X14,Futtermitteltabelle!$E$3:$R$193,10,FALSE)*(Y14/1000)","v":0},{"$f":"VLOOKUP(X14,Futtermitteltabelle!$E$3:$R$193,11,FALSE)*(Y14/1000)","v":0},{"$f":"VLOOKUP(X14,Futtermitteltabelle!$E$3:$R$193,12,FALSE)*(Y14/1000)","v":0},{"$f":"VLOOKUP(X14,Futtermitteltabelle!$E$3:$R$193,13,FALSE)*(Y14/1000)","v":0},{"$f":"VLOOKUP(X14,Futtermitteltabelle!$E$3:$R$193,14,FALSE)*(Y14/1000)","v":0},{"$f":"VLOOKUP(A14,Futtermitteltabelle!$B$3:$E$193,4,FALSE)","v":0},0,{"$f":"VLOOKUP(AJ14,Futtermitteltabelle!$E$3:$R$193,5,FALSE)*(AK14/1000)","v":0},{"$f":"VLOOKUP(AJ14,Futtermitteltabelle!$E$3:$R$193,6,FALSE)*(AK14/1000)","v":0},{"$f":"VLOOKUP(AJ14,Futtermitteltabelle!$E$3:$R$193,7,FALSE)*(AK14/1000)","v":0},{"$f":"VLOOKUP(AJ14,Futtermitteltabelle!$E$3:$R$193,8,FALSE)*(AK14/1000)","v":0},{"$f":"VLOOKUP(AJ14,Futtermitteltabelle!$E$3:$R$193,9,FALSE)*(AK14/1000)","v":0},{"$f":"VLOOKUP(AJ14,Futtermitteltabelle!$E$3:$R$193,10,FALSE)*(AK14/1000)","v":0},{"$f":"VLOOKUP(AJ14,Futtermitteltabelle!$E$3:$R$193,11,FALSE)*(AK14/1000)","v":0},{"$f":"VLOOKUP(AJ14,Futtermitteltabelle!$E$3:$R$193,12,FALSE)*(AK14/1000)","v":0},{"$f":"VLOOKUP(AJ14,Futtermitteltabelle!$E$3:$R$193,13,FALSE)*(AK14/1000)","v":0},{"$f":"VLOOKUP(AJ14,Futtermitteltabelle!$E$3:$R$193,14,FALSE)*(AK14/1000)","v":0},0,0,0,0,0,0,0,0,0,0,0]
["Bitte wählen:",null,{"$f":"VLOOKUP(A15,Futtermitteltabelle!$B$3:$F$193,5,FALSE)","v":0},null,null,{"$f":"VLOOKUP(A15,Futtermitteltabelle!$B$3:$F$193,5,FALSE)","v":0},null,null,{"$f":"VLOOKUP(A15,Futtermitteltabelle!$B$3:$F$193,5,FALSE)","v":0},null,null,{"$f":"VLOOKUP(A15,Futtermitteltabelle!$B$3:$E$193,4,FALSE)","v":0},0,{"$f":"VLOOKUP(L15,Futtermitteltabelle!$E$3:$R$193,5,FALSE)*(M15/1000)","v":0},{"$f":"VLOOKUP(L15,Futtermitteltabelle!$E$3:$R$193,6,FALSE)*(M15/1000)","v":0},{"$f":"VLOOKUP(L15,Futtermitteltabelle!$E$3:$R$193,7,FALSE)*(M15/1000)","v":0},{"$f":"VLOOKUP(L15,Futtermitteltabelle!$E$3:$R$193,8,FALSE)*(M15/1000)","v":0},{"$f":"VLOOKUP(L15,Futtermitteltabelle!$E$3:$R$193,9,FALSE)*(M15/1000)","v":0},{"$f":"VLOOKUP(L15,Futtermitteltabelle!$E$3:$R$193,10,FALSE)*(M15/1000)","v":0},{"$f":"VLOOKUP(L15,Futtermitteltabelle!$E$3:$R$193,11,FALSE)*(M15/1000)","v":0},{"$f":"VLOOKUP(L15,Futtermitteltabelle!$E$3:$R$193,12,FALSE)*(M15/1000)","v":0},{"$f":"VLOOKUP(L15,Futtermitteltabelle!$E$3:$R$193,13,FALSE)*(M15/1000)","v":0},{"$f":"VLOOKUP(L15,Futtermitteltabelle!$E$3:$R$193,14,FALSE)*(M15/1000)","v":0},{"$f":"VLOOKUP(A15,Futtermitteltabelle!$B$3:$E$193,4,FALSE)","v":0},0,{"$f":"VLOOKUP(X15,Futtermitteltabelle!$E$3:$R$193,5,FALSE)*(Y15/1000)","v":0},{"$f":"VLOOKUP(X15,Futtermitteltabelle!$E$3:$R$193,6,FALSE)*(Y15/1000)","v":0},{"$f":"VLOOKUP(X15,Futtermitteltabelle!$E$3:$R$193,7,FALSE)*(Y15/1000)","v":0},{"$f":"VLOOKUP(X15,Futtermitteltabelle!$E$3:$R$193,8,FALSE)*(Y15/1000)","v":0},{"$f":"VLOOKUP(X15,Futtermitteltabelle!$E$3:$R$193,9,FALSE)*(Y15/1000)","v":0},{"$f":"VLOOKUP(X15,Futtermitteltabelle!$E$3:$R$193,10,FALSE)*(Y15/1000)","v":0},{"$f":"VLOOKUP(X15,Futtermitteltabelle!$E$3:$R$193,11,FALSE)*(Y15/1000)","v":0},{"$f":"VLOOKUP(X15,Futtermitteltabelle!$E$3:$R$193,12,FALSE)*(Y15/1000)","v":0},{"$f":"VLOOKUP(X15,Futtermitteltabelle!$E$3:$R$193,13,FALSE)*(Y15/1000)","v":0},{"$f":"VLOOKUP(X15,Futtermitteltabelle!$E$3:$R$193,14,FALSE)*(Y15/1000)","v":0},{"$f":"VLOOKUP(A15,Futtermitteltabelle!$B$3:$E$193,4,FALSE)","v":0},0,{"$f":"VLOOKUP(AJ15,Futtermitteltabelle!$E$3:$R$193,5,FALSE)*(AK15/1000)","v":0},{"$f":"VLOOKUP(AJ15,Futtermitteltabelle!$E$3:$R$193,6,FALSE)*(AK15/1000)","v":0},{"$f":"VLOOKUP(AJ15,Futtermitteltabelle!$E$3:$R$193,7,FALSE)*(AK15/1000)","v":0},{"$f":"VLOOKUP(AJ15,Futtermitteltabelle!$E$3:$R$193,8,FALSE)*(AK15/1000)","v":0},{"$f":"VLOOKUP(AJ15,Futtermitteltabelle!$E$3:$R$193,9,FALSE)*(AK15/1000)","v":0},{"$f":"VLOOKUP(AJ15,Futtermitteltabelle!$E$3:$R$193,10,FALSE)*(AK15/1000)","v":0},{"$f":"VLOOKUP(AJ15,Futtermitteltabelle!$E$3:$R$193,11,FALSE)*(AK15/1000)","v":0},{"$f":"VLOOKUP(AJ15,Futtermitteltabelle!$E$3:$R$193,12,FALSE)*(AK15/1000)","v":0},{"$f":"VLOOKUP(AJ15,Futtermitteltabelle!$E$3:$R$193,13,FALSE)*(AK15/1000)","v":0},{"$f":"VLOOKUP(AJ15,Futtermitteltabelle!$E$3:$R$193,14,FALSE)*(AK15/1000)","v":0},0,0,0,0,0,0,0,0,0,0,0]
["Bitte wählen:",null,{"$f":"VLOOKUP(A16,Futtermitteltabelle!$B$3:$F$193,5,FALSE)","v":0},null,null,{"$f":"VLOOKUP(A16,Futtermitteltabelle!$B$3:$F$193,5,FALSE)","v":0},null,null,{"$f":"VLOOKUP(A16,Futtermitteltabelle!$B$3:$F$193,5,FALSE)","v":0},null,null,{"$f":"VLOOKUP(A16,Futtermitteltabelle!$B$3:$E$193,4,FALSE)","v":0},0,{"$f":"VLOOKUP(L16,Futtermitteltabelle!$E$3:$R$193,5,FALSE)*(M16/1000)","v":0},{"$f":"VLOOKUP(L16,Futtermitteltabelle!$E$3:$R$193,6,FALSE)*(M16/1000)","v":0},{"$f":"VLOOKUP(L16,Futtermitteltabelle!$E$3:$R$193,7,FALSE)*(M16/1000)","v":0},{"$f":"VLOOKUP(L16,Futtermitteltabelle!$E$3:$R$193,8,FALSE)*(M16/1000)","v":0},{"$f":"VLOOKUP(L16,Futtermitteltabelle!$E$3:$R$193,9,FALSE)*(M16/1000)","v":0},{"$f":"VLOOKUP(L16,Futtermitteltabelle!$E$3:$R$193,10,FALSE)*(M16/1000)","v":0},{"$f":"VLOOKUP(L16,Futtermitteltabelle!$E$3:$R$193,11,FALSE)*(M16/1000)","v":0},{"$f":"VLOOKUP(L16,Futtermitteltabelle!$E$3:$R$193,12,FALSE)*(M16/1000)","v":0},{"$f":"VLOOKUP(L16,Futtermitteltabelle!$E$3:$R$193,13,FALSE)*(M16/1000)","v":0},{"$f":"VLOOKUP(L16,Futtermitteltabelle!$E$3:$R$193,14,FALSE)*(M16/1000)","v":0},{"$f":"VLOOKUP(A16,Futtermitteltabelle!$B$3:$E$193,4,FALSE)","v":0},0,{"$f":"VLOOKUP(X16,Futtermitteltabelle!$E$3:$R$193,5,FALSE)*(Y16/1000)","v":0},{"$f":"VLOOKUP(X16,Futtermitteltabelle!$E$3:$R$193,6,FALSE)*(Y16/1000)","v":0},{"$f":"VLOOKUP(X16,Futtermitteltabelle!$E$3:$R$193,7,FALSE)*(Y16/1000)","v":0},{"$f":"VLOOKUP(X16,Futtermitteltabelle!$E$3:$R$193,8,FALSE)*(Y16/1000)","v":0},{"$f":"VLOOKUP(X16,Futtermitteltabelle!$E$3:$R$193,9,FALSE)*(Y16/1000)","v":0},{"$f":"VLOOKUP(X16,Futtermitteltabelle!$E$3:$R$193,10,FALSE)*(Y16/1000)","v":0},{"$f":"VLOOKUP(X16,Futtermitteltabelle!$E$3:$R$193,11,FALSE)*(Y16/1000)","v":0},{"$f":"VLOOKUP(X16,Futtermitteltabelle!$E$3:$R$193,12,FALSE)*(Y16/1000)","v":0},{"$f":"VLOOKUP(X16,Futtermitteltabelle!$E$3:$R$193,13,FALSE)*(Y16/1000)","v":0},{"$f":"VLOOKUP(X16,Futtermitteltabelle!$E$3:$R$193,14,FALSE)*(Y16/1000)","v":0},{"$f":"VLOOKUP(A16,Futtermitteltabelle!$B$3:$E$193,4,FALSE)","v":0},0,{"$f":"VLOOKUP(AJ16,Futtermitteltabelle!$E$3:$R$193,5,FALSE)*(AK16/1000)","v":0},{"$f":"VLOOKUP(AJ16,Futtermitteltabelle!$E$3:$R$193,6,FALSE)*(AK16/1000)","v":0},{"$f":"VLOOKUP(AJ16,Futtermitteltabelle!$E$3:$R$193,7,FALSE)*(AK16/1000)","v":0},{"$f":"VLOOKUP(AJ16,Futtermitteltabelle!$E$3:$R$193,8,FALSE)*(AK16/1000)","v":0},{"$f":"VLOOKUP(AJ16,Futtermitteltabelle!$E$3:$R$193,9,FALSE)*(AK16/1000)","v":0},{"$f":"VLOOKUP(AJ16,Futtermitteltabelle!$E$3:$R$193,10,FALSE)*(AK16/1000)","v":0},{"$f":"VLOOKUP(AJ16,Futtermitteltabelle!$E$3:$R$193,11,FALSE)*(AK16/1000)","v":0},{"$f":"VLOOKUP(AJ16,Futtermitteltabelle!$E$3:$R$193,12,FALSE)*(AK16/1000)","v":0},{"$f":"VLOOKUP(AJ16,Futtermitteltabelle!$E$3:$R$193,13,FALSE)*(AK16/1000)","v":0},{"$f":"VLOOKUP(AJ16,Futtermitteltabelle!$E$3:$R$193,14,FALSE)*(AK16/1000)","v":0},0,0,0,0,0,0,0,0,0,0,0]
["Bitte wählen:",null,{"$f":"VLOOKUP(A17,Futtermitteltabelle!$B$3:$F$193,5,FALSE)","v":0},null,null,{"$f":"VLOOKUP(A17,Futtermitteltabelle!$B$3:$F$193,5,FALSE)","v":0},null,null,{"$f":"VLOOKUP(A17,Futtermitteltabelle!$B$3:$F$193,5,FALSE)","v":0},null,null,{"$f":"VLOOKUP(A17,Futtermitteltabelle!$B$3:$E$193,4,FALSE)","v":0},0,{"$f":"VLOOKUP(L17,Futtermitteltabelle!$E$3:$R$193,5,FALSE)*(M17/1000)","v":0},{"$f":"VLOOKUP(L17,Futtermitteltabelle!$E$3:$R$193,6,FALSE)*(M17/1000)","v":0},{"$f":"VLOOKUP(L17,Futtermitteltabelle!$E$3:$R$193,7,FALSE)*(M17/1000)","v":0},{"$f":"VLOOKUP(L17,Futtermitteltabelle!$E$3:$R$193,8,FALSE)*(M17/1000)","v":0},{"$f":"VLOOKUP(L17,Futtermitteltabelle!$E$3:$R$193,9,FALSE)*(M17/1000)","v":0},{"$f":"VLOOKUP(L17,Futtermitteltabelle!$E$3:$R$193,10,FALSE)*(M17/1000)","v":0},{"$f":"VLOOKUP(L17,Futtermitteltabelle!$E$3:$R$193,11,FALSE)*(M17/1000)","v":0},{"$f":"VLOOKUP(L17,Futtermitteltabelle!$E$3:$R$193,12,FALSE)*(M17/1000)","v":0},{"$f":"VLOOKUP(L17,Futtermitteltabelle!$E$3:$R$193,13,FALSE)*(M17/1000)","v":0},{"$f":"VLOOKUP(L17,Futtermitteltabelle!$E$3:$R$193,14,FALSE)*(M17/1000)","v":0},{"$f":"VLOOKUP(A17,Futtermitteltabelle!$B$3:$E$193,4,FALSE)","v":0},0,{"$f":"VLOOKUP(X17,Futtermitteltabelle!$E$3:$R$193,5,FALSE)*(Y17/1000)","v":0},{"$f":"VLOOKUP(X17,Futtermitteltabelle!$E$3:$R$193,6,FALSE)*(Y17/1000)","v":0},{"$f":"VLOOKUP(X17,Futtermitteltabelle!$E$3:$R$193,7,FALSE)*(Y17/1000)","v":0},{"$f":"VLOOKUP(X17,Futtermitteltabelle!$E$3:$R$193,8,FALSE)*(Y17/1000)","v":0},{"$f":"VLOOKUP(X17,Futtermitteltabelle!$E$3:$R$193,9,FALSE)*(Y17/1000)","v":0},{"$f":"VLOOKUP(X17,Futtermitteltabelle!$E$3:$R$193,10,FALSE)*(Y17/1000)","v":0},{"$f":"VLOOKUP(X17,Futtermitteltabelle!$E$3:$R$193,11,FALSE)*(Y17/1000)","v":0},{"$f":"VLOOKUP(X17,Futtermitteltabelle!$E$3:$R$193,12,FALSE)*(Y17/1000)","v":0},{"$f":"VLOOKUP(X17,Futtermitteltabelle!$E$3:$R$193,13,FALSE)*(Y17/1000)","v":0},{"$f":"VLOOKUP(X17,Futtermitteltabelle!$E$3:$R$193,14,FALSE)*(Y17/1000)","v":0},{"$f":"VLOOKUP(A17,Futtermitteltabelle!$B$3:$E$193,4,FALSE)","v":0},0,{"$f":"VLOOKUP(AJ17,Futtermitteltabelle!$E$3:$R$193,5,FALSE)*(AK17/1000)","v":0},{"$f":"VLOOKUP(AJ17,Futtermitteltabelle!$E$3:$R$193,6,FALSE)*(AK17/1000)","v":0},{"$f":"VLOOKUP(AJ17,Futtermitteltabelle!$E$3:$R$193,7,FALSE)*(AK17/1000)","v":0},{"$f":"VLOOKUP(AJ17,Futtermitteltabelle!$E$3:$R$193,8,FALSE)*(AK17/1000)","v":0},{"$f":"VLOOKUP(AJ17,Futtermitteltabelle!$E$3:$R$193,9,FALSE)*(AK17/1000)","v":0},{"$f":"VLOOKUP(AJ17,Futtermitteltabelle!$E$3:$R$193,10,FALSE)*(AK17/1000)","v":0},{"$f":"VLOOKUP(AJ17,Futtermitteltabelle!$E$3:$R$193,11,FALSE)*(AK17/1000)","v":0},{"$f":"VLOOKUP(AJ17,Futtermitteltabelle!$E$3:$R$193,12,FALSE)*(AK17/1000)","v":0},{"$f":"VLOOKUP(AJ17,Futtermitteltabelle!$E$3:$R$193,13,FALSE)*(AK17/1000)","v":0},{"$f":"VLOOKUP(AJ17,Futtermitteltabelle!$E$3:$R$193,14,FALSE)*(AK17/1000)","v":0},0,0,0,0,0,0,0,0,0,0,0]
["Bitte wählen:",null,{"$f":"VLOOKUP(A18,Futtermitteltabelle!$B$3:$F$193,5,FALSE)","v":0},null,null,{"$f":"VLOOKUP(A18,Futtermitteltabelle!$B$3:$F$193,5,FALSE)","v":0},null,null,{"$f":"VLOOKUP(A18,Futtermitteltabelle!$B$3:$F$193,5,FALSE)","v":0},null,null,{"$f":"VLOOKUP(A18,Futtermitteltabelle!$B$3:$E$193,4,FALSE)","v":0},0,{"$f":"VLOOKUP(L18,Futtermitteltabelle!$E$3:$R$193,5,FALSE)*(M18/1000)","v":0},{"$f":"VLOOKUP(L18,Futtermitteltabelle!$E$3:$R$193,6,FALSE)*(M18/1000)","v":0},{"$f":"VLOOKUP(L18,Futtermitteltabelle!$E$3:$R$193,7,FALSE)*(M18/1000)","v":0},{"$f":"VLOOKUP(L18,Futtermitteltabelle!$E$3:$R$193,8,FALSE)*(M18/1000)","v":0},{"$f":"VLOOKUP(L18,Futtermitteltabelle!$E$3:$R$193,9,FALSE)*(M18/1000)","v":0},{"$f":"VLOOKUP(L18,Futtermitteltabelle!$E$3:$R$193,10,FALSE)*(M18/1000)","v":0},{"$f":"VLOOKUP(L18,Futtermitteltabelle!$E$3:$R$193,11,FALSE)*(M18/1000)","v":0},{"$f":"VLOOKUP(L18,Futtermitteltabelle!$E$3:$R$193,12,FALSE)*(M18/1000)","v":0},{"$f":"VLOOKUP(L18,Futtermitteltabelle!$E$3:$R$193,13,FALSE)*(M18/1000)","v":0},{"$f":"VLOOKUP(L18,Futtermitteltabelle!$E$3:$R$193,14,FALSE)*(M18/1000)","v":0},{"$f":"VLOOKUP(A18,Futtermitteltabelle!$B$3:$E$193,4,FALSE)","v":0},0,{"$f":"VLOOKUP(X18,Futtermitteltabelle!$E$3:$R$193,5,FALSE)*(Y18/1000)","v":0},{"$f":"VLOOKUP(X18,Futtermitteltabelle!$E$3:$R$193,6,FALSE)*(Y18/1000)","v":0},{"$f":"VLOOKUP(X18,Futtermitteltabelle!$E$3:$R$193,7,FALSE)*(Y18/1000)","v":0},{"$f":"VLOOKUP(X18,Futtermitteltabelle!$E$3:$R$193,8,FALSE)*(Y18/1000)","v":0},{"$f":"VLOOKUP(X18,Futtermitteltabelle!$E$3:$R$193,9,FALSE)*(Y18/1000)","v":0},{"$f":"VLOOKUP(X18,Futtermitteltabelle!$E$3:$R$193,10,FALSE)*(Y18/1000)","v":0},{"$f":"VLOOKUP(X18,Futtermitteltabelle!$E$3:$R$193,11,FALSE)*(Y18/1000)","v":0},{"$f":"VLOOKUP(X18,Futtermitteltabelle!$E$3:$R$193,12,FALSE)*(Y18/1000)","v":0},{"$f":"VLOOKUP(X18,Futtermitteltabelle!$E$3:$R$193,13,FALSE)*(Y18/1000)","v":0},{"$f":"VLOOKUP(X18,Futtermitteltabelle!$E$3:$R$193,14,FALSE)*(Y18/1000)","v":0},{"$f":"VLOOKUP(A18,Futtermitteltabelle!$B$3:$E$193,4,FALSE)","v":0},0,{"$f":"VLOOKUP(AJ18,Futtermitteltabelle!$E$3:$R$193,5,FALSE)*(AK18/1000)","v":0},{"$f":"VLOOKUP(AJ18,Futtermitteltabelle!$E$3:$R$193,6,FALSE)*(AK18/1000)","v":0},{"$f":"VLOOKUP(AJ18,Futtermitteltabelle!$E$3:$R$193,7,FALSE)*(AK18/1000)","v":0},{"$f":"VLOOKUP(AJ18,Futtermitteltabelle!$E$3:$R$193,8,FALSE)*(AK18/1000)","v":0},{"$f":"VLOOKUP(AJ18,Futtermitteltabelle!$E$3:$R$193,9,FALSE)*(AK18/1000)","v":0},{"$f":"VLOOKUP(AJ18,Futtermitteltabelle!$E$3:$R$193,10,FALSE)*(AK18/1000)","v":0},{"$f":"VLOOKUP(AJ18,Futtermitteltabelle!$E$3:$R$193,11,FALSE)*(AK18/1000)","v":0},{"$f":"VLOOKUP(AJ18,Futtermitteltabelle!$E$3:$R$193,12,FALSE)*(AK18/1000)","v":0},{"$f":"VLOOKUP(AJ18,Futtermitteltabelle!$E$3:$R$193,13,FALSE)*(AK18/1000)","v":0},{"$f":"VLOOKUP(AJ18,Futtermitteltabelle!$E$3:$R$193,14,FALSE)*(AK18/1000)","v":0},0,0,0,0,0,0,0,0,0,0,0]
["Bitte wählen:",null,{"$f":"VLOOKUP(A19,Futtermitteltabelle!$B$3:$F$193,5,FALSE)","v":0},null,null,{"$f":"VLOOKUP(A19,Futtermitteltabelle!$B$3:$F$193,5,FALSE)","v":0},null,null,{"$f":"VLOOKUP(A19,Futtermitteltabelle!$B$3:$F$193,5,FALSE)","v":0},null,null,{"$f":"VLOOKUP(A19,Futtermitteltabelle!$B$3:$E$193,4,FALSE)","v":0},0,{"$f":"VLOOKUP(L19,Futtermitteltabelle!$E$3:$R$193,5,FALSE)*(M19/1000)","v":0},{"$f":"VLOOKUP(L19,Futtermitteltabelle!$E$3:$R$193,6,FALSE)*(M19/1000)","v":0},{"$f":"VLOOKUP(L19,Futtermitteltabelle!$E$3:$R$193,7,FALSE)*(M19/1000)","v":0},{"$f":"VLOOKUP(L19,Futtermitteltabelle!$E$3:$R$193,8,FALSE)*(M19/1000)","v":0},{"$f":"VLOOKUP(L19,Futtermitteltabelle!$E$3:$R$193,9,FALSE)*(M19/1000)","v":0},{"$f":"VLOOKUP(L19,Futtermitteltabelle!$E$3:$R$193,10,FALSE)*(M19/1000)","v":0},{"$f":"VLOOKUP(L19,Futtermitteltabelle!$E$3:$R$193,11,FALSE)*(M19/1000)","v":0},{"$f":"VLOOKUP(L19,Futtermitteltabelle!$E$3:$R$193,12,FALSE)*(M19/1000)","v":0},{"$f":"VLOOKUP(L19,Futtermitteltabelle!$E$3:$R$193,13,FALSE)*(M19/1000)","v":0},{"$f":"VLOOKUP(L19,Futtermitteltabelle!$E$3:$R$193,14,FALSE)*(M19/1000)","v":0},{"$f":"VLOOKUP(A19,Futtermitteltabelle!$B$3:$E$193,4,FALSE)","v":0},0,{"$f":"VLOOKUP(X19,Futtermitteltabelle!$E$3:$R$193,5,FALSE)*(Y19/1000)","v":0},{"$f":"VLOOKUP(X19,Futtermitteltabelle!$E$3:$R$193,6,FALSE)*(Y19/1000)","v":0},{"$f":"VLOOKUP(X19,Futtermitteltabelle!$E$3:$R$193,7,FALSE)*(Y19/1000)","v":0},{"$f":"VLOOKUP(X19,Futtermitteltabelle!$E$3:$R$193,8,FALSE)*(Y19/1000)","v":0},{"$f":"VLOOKUP(X19,Futtermitteltabelle!$E$3:$R$193,9,FALSE)*(Y19/1000)","v":0},{"$f":"VLOOKUP(X19,Futtermitteltabelle!$E$3:$R$193,10,FALSE)*(Y19/1000)","v":0},{"$f":"VLOOKUP(X19,Futtermitteltabelle!$E$3:$R$193,11,FALSE)*(Y19/1000)","v":0},{"$f":"VLOOKUP(X19,Futtermitteltabelle!$E$3:$R$193,12,FALSE)*(Y19/1000)","v":0},{"$f":"VLOOKUP(X19,Futtermitteltabelle!$E$3:$R$193,13,FALSE)*(Y19/1000)","v":0},{"$f":"VLOOKUP(X19,Futtermitteltabelle!$E$3:$R$193,14,FALSE)*(Y19/1000)","v":0},{"$f":"VLOOKUP(A19,Futtermitteltabelle!$B$3:$E$193,4,FALSE)","v":0},0,{"$f":"VLOOKUP(AJ19,Futtermitteltabelle!$E$3:$R$193,5,FALSE)*(AK19/1000)","v":0},{"$f":"VLOOKUP(AJ19,Futtermitteltabelle!$E$3:$R$193,6,FALSE)*(AK19/1000)","v":0},{"$f":"VLOOKUP(AJ19,Futtermitteltabelle!$E$3:$R$193,7,FALSE)*(AK19/1000)","v":0},{"$f":"VLOOKUP(AJ19,Futtermitteltabelle!$E$3:$R$193,8,FALSE)*(AK19/1000)","v":0},{"$f":"VLOOKUP(AJ19,Futtermitteltabelle!$E$3:$R$193,9,FALSE)*(AK19/1000)","v":0},{"$f":"VLOOKUP(AJ19,Futtermitteltabelle!$E$3:$R$193,10,FALSE)*(AK19/1000)","v":0},{"$f":"VLOOKUP(AJ19,Futtermitteltabelle!$E$3:$R$193,11,FALSE)*(AK19/1000)","v":0},{"$f":"VLOOKUP(AJ19,Futtermitteltabelle!$E$3:$R$193,12,FALSE)*(AK19/1000)","v":0},{"$f":"VLOOKUP(AJ19,Futtermitteltabelle!$E$3:$R$193,13,FALSE)*(AK19/1000)","v":0},{"$f":"VLOOKUP(AJ19,Futtermitteltabelle!$E$3:$R$193,14,FALSE)*(AK19/1000)","v":0},0,0,0,0,0,0,0,0,0,0,0]
["Bitte wählen:",null,{"$f":"VLOOKUP(A20,Futtermitteltabelle!$B$3:$F$193,5,FALSE)","v":0},null,null,{"$f":"VLOOKUP(A20,Futtermitteltabelle!$B$3:$F$193,5,FALSE)","v":0},null,null,{"$f":"VLOOKUP(A20,Futtermitteltabelle!$B$3:$F$193,5,FALSE)","v":0},null,null,{"$f":"VLOOKUP(A20,Futtermitteltabelle!$B$3:$E$193,4,FALSE)","v":0},0,{"$f":"VLOOKUP(L20,Futtermitteltabelle!$E$3:$R$193,5,FALSE)*(M20/1000)","v":0},{"$f":"VLOOKUP(L20,Futtermitteltabelle!$E$3:$R$193,6,FALSE)*(M20/1000)","v":0},{"$f":"VLOOKUP(L20,Futtermitteltabelle!$E$3:$R$193,7,FALSE)*(M20/1000)","v":0},{"$f":"VLOOKUP(L20,Futtermitteltabelle!$E$3:$R$193,8,FALSE)*(M20/1000)","v":0},{"$f":"VLOOKUP(L20,Futtermitteltabelle!$E$3:$R$193,9,FALSE)*(M20/1000)","v":0},{"$f":"VLOOKUP(L20,Futtermitteltabelle!$E$3:$R$193,10,FALSE)*(M20/1000)","v":0},{"$f":"VLOOKUP(L20,Futtermitteltabelle!$E$3:$R$193,11,FALSE)*(M20/1000)","v":0},{"$f":"VLOOKUP(L20,Futtermitteltabelle!$E$3:$R$193,12,FALSE)*(M20/1000)","v":0},{"$f":"VLOOKUP(L20,Futtermitteltabelle!$E$3:$R$193,13,FALSE)*(M20/1000)","v":0},{"$f":"VLOOKUP(L20,Futtermitteltabelle!$E$3:$R$193,14,FALSE)*(M20/1000)","v":0},{"$f":"VLOOKUP(A20,Futtermitteltabelle!$B$3:$E$193,4,FALSE)","v":0},0,{"$f":"VLOOKUP(X20,Futtermitteltabelle!$E$3:$R$193,5,FALSE)*(Y20/1000)","v":0},{"$f":"VLOOKUP(X20,Futtermitteltabelle!$E$3:$R$193,6,FALSE)*(Y20/1000)","v":0},{"$f":"VLOOKUP(X20,Futtermitteltabelle!$E$3:$R$193,7,FALSE)*(Y20/1000)","v":0},{"$f":"VLOOKUP(X20,Futtermitteltabelle!$E$3:$R$193,8,FALSE)*(Y20/1000)","v":0},{"$f":"VLOOKUP(X20,Futtermitteltabelle!$E$3:$R$193,9,FALSE)*(Y20/1000)","v":0},{"$f":"VLOOKUP(X20,Futtermitteltabelle!$E$3:$R$193,10,FALSE)*(Y20/1000)","v":0},{"$f":"VLOOKUP(X20,Futtermitteltabelle!$E$3:$R$193,11,FALSE)*(Y20/1000)","v":0},{"$f":"VLOOKUP(X20,Futtermitteltabelle!$E$3:$R$193,12,FALSE)*(Y20/1000)","v":0},{"$f":"VLOOKUP(X20,Futtermitteltabelle!$E$3:$R$193,13,FALSE)*(Y20/1000)","v":0},{"$f":"VLOOKUP(X20,Futtermitteltabelle!$E$3:$R$193,14,FALSE)*(Y20/1000)","v":0},{"$f":"VLOOKUP(A20,Futtermitteltabelle!$B$3:$E$193,4,FALSE)","v":0},0,{"$f":"VLOOKUP(AJ20,Futtermitteltabelle!$E$3:$R$193,5,FALSE)*(AK20/1000)","v":0},{"$f":"VLOOKUP(AJ20,Futtermitteltabelle!$E$3:$R$193,6,FALSE)*(AK20/1000)","v":0},{"$f":"VLOOKUP(AJ20,Futtermitteltabelle!$E$3:$R$193,7,FALSE)*(AK20/1000)","v":0},{"$f":"VLOOKUP(AJ20,Futtermitteltabelle!$E$3:$R$193,8,FALSE)*(AK20/1000)","v":0},{"$f":"VLOOKUP(AJ20,Futtermitteltabelle!$E$3:$R$193,9,FALSE)*(AK20/1000)","v":0},{"$f":"VLOOKUP(AJ20,Futtermitteltabelle!$E$3:$R$193,10,FALSE)*(AK20/1000)","v":0},{"$f":"VLOOKUP(AJ20,Futtermitteltabelle!$E$3:$R$193,11,FALSE)*(AK20/1000)","v":0},{"$f":"VLOOKUP(AJ20,Futtermitteltabelle!$E$3:$R$193,12,FALSE)*(AK20/1000)","v":0},{"$f":"VLOOKUP(AJ20,Futtermitteltabelle!$E$3:$R$193,13,FALSE)*(AK20/1000)","v":0},{"$f":"VLOOKUP(AJ20,Futtermitteltabelle!$E$3:$R$193,14,FALSE)*(AK20/1000)","v":0},0,0,0,0,0,0,0,0,0,0,0]
["Bitte wählen:",null,{"$f":"VLOOKUP(A21,Futtermitteltabelle!$B$3:$F$193,5,FALSE)","v":0},null,null,{"$f":"VLOOKUP(A21,Futtermitteltabelle!$B$3:$F$193,5,FALSE)","v":0},null,null,{"$f":"VLOOKUP(A21,Futtermitteltabelle!$B$3:$F$193,5,FALSE)","v":0},null,null,{"$f":"VLOOKUP(A21,Futtermitteltabelle!$B$3:$E$193,4,FALSE)","v":0},0,{"$f":"VLOOKUP(L21,Futtermitteltabelle!$E$3:$R$193,5,FALSE)*(M21/1000)","v":0},{"$f":"VLOOKUP(L21,Futtermitteltabelle!$E$3:$R$193,6,FALSE)*(M21/1000)","v":0},{"$f":"VLOOKUP(L21,Futtermitteltabelle!$E$3:$R$193,7,FALSE)*(M21/1000)","v":0},{"$f":"VLOOKUP(L21,Futtermitteltabelle!$E$3:$R$193,8,FALSE)*(M21/1000)","v":0},{"$f":"VLOOKUP(L21,Futtermitteltabelle!$E$3:$R$193,9,FALSE)*(M21/1000)","v":0},{"$f":"VLOOKUP(L21,Futtermitteltabelle!$E$3:$R$193,10,FALSE)*(M21/1000)","v":0},{"$f":"VLOOKUP(L21,Futtermitteltabelle!$E$3:$R$193,11,FALSE)*(M21/1000)","v":0},{"$f":"VLOOKUP(L21,Futtermitteltabelle!$E$3:$R$193,12,FALSE)*(M21/1000)","v":0},{"$f":"VLOOKUP(L21,Futtermitteltabelle!$E$3:$R$193,13,FALSE)*(M21/1000)","v":0},{"$f":"VLOOKUP(L21,Futtermitteltabelle!$E$3:$R$193,14,FALSE)*(M21/1000)","v":0},{"$f":"VLOOKUP(A21,Futtermitteltabelle!$B$3:$E$193,4,FALSE)","v":0},0,{"$f":"VLOOKUP(X21,Futtermitteltabelle!$E$3:$R$193,5,FALSE)*(Y21/1000)","v":0},{"$f":"VLOOKUP(X21,Futtermitteltabelle!$E$3:$R$193,6,FALSE)*(Y21/1000)","v":0},{"$f":"VLOOKUP(X21,Futtermitteltabelle!$E$3:$R$193,7,FALSE)*(Y21/1000)","v":0},{"$f":"VLOOKUP(X21,Futtermitteltabelle!$E$3:$R$193,8,FALSE)*(Y21/1000)","v":0},{"$f":"VLOOKUP(X21,Futtermitteltabelle!$E$3:$R$193,9,FALSE)*(Y21/1000)","v":0},{"$f":"VLOOKUP(X21,Futtermitteltabelle!$E$3:$R$193,10,FALSE)*(Y21/1000)","v":0},{"$f":"VLOOKUP(X21,Futtermitteltabelle!$E$3:$R$193,11,FALSE)*(Y21/1000)","v":0},{"$f":"VLOOKUP(X21,Futtermitteltabelle!$E$3:$R$193,12,FALSE)*(Y21/1000)","v":0},{"$f":"VLOOKUP(X21,Futtermitteltabelle!$E$3:$R$193,13,FALSE)*(Y21/1000)","v":0},{"$f":"VLOOKUP(X21,Futtermitteltabelle!$E$3:$R$193,14,FALSE)*(Y21/1000)","v":0},{"$f":"VLOOKUP(A21,Futtermitteltabelle!$B$3:$E$193,4,FALSE)","v":0},0,{"$f":"VLOOKUP(AJ21,Futtermitteltabelle!$E$3:$R$193,5,FALSE)*(AK21/1000)","v":0},{"$f":"VLOOKUP(AJ21,Futtermitteltabelle!$E$3:$R$193,6,FALSE)*(AK21/1000)","v":0},{"$f":"VLOOKUP(AJ21,Futtermitteltabelle!$E$3:$R$193,7,FALSE)*(AK21/1000)","v":0},{"$f":"VLOOKUP(AJ21,Futtermitteltabelle!$E$3:$R$193,8,FALSE)*(AK21/1000)","v":0},{"$f":"VLOOKUP(AJ21,Futtermitteltabelle!$E$3:$R$193,9,FALSE)*(AK21/1000)","v":0},{"$f":"VLOOKUP(AJ21,Futtermitteltabelle!$E$3:$R$193,10,FALSE)*(AK21/1000)","v":0},{"$f":"VLOOKUP(AJ21,Futtermitteltabelle!$E$3:$R$193,11,FALSE)*(AK21/1000)","v":0},{"$f":"VLOOKUP(AJ21,Futtermitteltabelle!$E$3:$R$193,12,FALSE)*(AK21/1000)","v":0},{"$f":"VLOOKUP(AJ21,Futtermitteltabelle!$E$3:$R$193,13,FALSE)*(AK21/1000)","v":0},{"$f":"VLOOKUP(AJ21,Futtermitteltabelle!$E$3:$R$193,14,FALSE)*(AK21/1000)","v":0},0,0,0,0,0,0,0,0,0,0,0]
["Bitte wählen:",null,{"$f":"VLOOKUP(A22,Futtermitteltabelle!$B$3:$F$193,5,FALSE)","v":0},null,null,{"$f":"VLOOKUP(A22,Futtermitteltabelle!$B$3:$F$193,5,FALSE)","v":0},null,null,{"$f":"VLOOKUP(A22,Futtermitteltabelle!$B$3:$F$193,5,FALSE)","v":0},null,null,{"$f":"VLOOKUP(A22,Futtermitteltabelle!$B$3:$E$193,4,FALSE)","v":0},0,{"$f":"VLOOKUP(L22,Futtermitteltabelle!$E$3:$R$193,5,FALSE)*(M22/1000)","v":0},{"$f":"VLOOKUP(L22,Futtermitteltabelle!$E$3:$R$193,6,FALSE)*(M22/1000)","v":0},{"$f":"VLOOKUP(L22,Futtermitteltabelle!$E$3:$R$193,7,FALSE)*(M22/1000)","v":0},{"$f":"VLOOKUP(L22,Futtermitteltabelle!$E$3:$R$193,8,FALSE)*(M22/1000)","v":0},{"$f":"VLOOKUP(L22,Futtermitteltabelle!$E$3:$R$193,9,FALSE)*(M22/1000)","v":0},{"$f":"VLOOKUP(L22,Futtermitteltabelle!$E$3:$R$193,10,FALSE)*(M22/1000)","v":0},{"$f":"VLOOKUP(L22,Futtermitteltabelle!$E$3:$R$193,11,FALSE)*(M22/1000)","v":0},{"$f":"VLOOKUP(L22,Futtermitteltabelle!$E$3:$R$193,12,FALSE)*(M22/1000)","v":0},{"$f":"VLOOKUP(L22,Futtermitteltabelle!$E$3:$R$193,13,FALSE)*(M22/1000)","v":0},{"$f":"VLOOKUP(L22,Futtermitteltabelle!$E$3:$R$193,14,FALSE)*(M22/1000)","v":0},{"$f":"VLOOKUP(A22,Futtermitteltabelle!$B$3:$E$193,4,FALSE)","v":0},0,{"$f":"VLOOKUP(X22,Futtermitteltabelle!$E$3:$R$193,5,FALSE)*(Y22/1000)","v":0},{"$f":"VLOOKUP(X22,Futtermitteltabelle!$E$3:$R$193,6,FALSE)*(Y22/1000)","v":0},{"$f":"VLOOKUP(X22,Futtermitteltabelle!$E$3:$R$193,7,FALSE)*(Y22/1000)","v":0},{"$f":"VLOOKUP(X22,Futtermitteltabelle!$E$3:$R$193,8,FALSE)*(Y22/1000)","v":0},{"$f":"VLOOKUP(X22,Futtermitteltabelle!$E$3:$R$193,9,FALSE)*(Y22/1000)","v":0},{"$f":"VLOOKUP(X22,Futtermitteltabelle!$E$3:$R$193,10,FALSE)*(Y22/1000)","v":0},{"$f":"VLOOKUP(X22,Futtermitteltabelle!$E$3:$R$193,11,FALSE)*(Y22/1000)","v":0},{"$f":"VLOOKUP(X22,Futtermitteltabelle!$E$3:$R$193,12,FALSE)*(Y22/1000)","v":0},{"$f":"VLOOKUP(X22,Futtermitteltabelle!$E$3:$R$193,13,FALSE)*(Y22/1000)","v":0},{"$f":"VLOOKUP(X22,Futtermitteltabelle!$E$3:$R$193,14,FALSE)*(Y22/1000)","v":0},{"$f":"VLOOKUP(A22,Futtermitteltabelle!$B$3:$E$193,4,FALSE)","v":0},0,{"$f":"VLOOKUP(AJ22,Futtermitteltabelle!$E$3:$R$193,5,FALSE)*(AK22/1000)","v":0},{"$f":"VLOOKUP(AJ22,Futtermitteltabelle!$E$3:$R$193,6,FALSE)*(AK22/1000)","v":0},{"$f":"VLOOKUP(AJ22,Futtermitteltabelle!$E$3:$R$193,7,FALSE)*(AK22/1000)","v":0},{"$f":"VLOOKUP(AJ22,Futtermitteltabelle!$E$3:$R$193,8,FALSE)*(AK22/1000)","v":0},{"$f":"VLOOKUP(AJ22,Futtermitteltabelle!$E$3:$R$193,9,FALSE)*(AK22/1000)","v":0},{"$f":"VLOOKUP(AJ22,Futtermitteltabelle!$E$3:$R$193,10,FALSE)*(AK22/1000)","v":0},{"$f":"VLOOKUP(AJ22,Futtermitteltabelle!$E$3:$R$193,11,FALSE)*(AK22/1000)","v":0},{"$f":"VLOOKUP(AJ22,Futtermitteltabelle!$E$3:$R$193,12,FALSE)*(AK22/1000)","v":0},{"$f":"VLOOKUP(AJ22,Futtermitteltabelle!$E$3:$R$193,13,FALSE)*(AK22/1000)","v":0},{"$f":"VLOOKUP(AJ22,Futtermitteltabelle!$E$3:$R$193,14,FALSE)*(AK22/1000)","v":0},0,0,0,0,0,0,0,0,0,0,0]
["Gesamt Nährstoffinput ",{"$nulls":10},{"$f":"Betriebsdaten!$B$29","v":2022},{"$nulls":11},{"$f":"Betriebsdaten!$B$30","v":2021},{"$nulls":11},{"$f":"Betriebsdaten!$B$31","v":2020},{"$nulls":11},"Durchschnitt"]
[{"$nulls":11},"Summe",null,"C","N","NH4-N","P2O5","K2O","Ca","MgO","S","Na","Cl","Summe",null,"C","N","NH4-N","P2O5","K2O","Ca","MgO","S","Na","Cl","Summe",null,"C","N","NH4-N","P2O5","K2O","Ca","MgO","S","Na","Cl","Summe","C","N","NH4-N","P2O5","K2O","Ca","MgO","S","Na","Cl"]
[{"$nulls":13},"kg*a-1","kg*a-1","kg*a-1","kg*a-1","kg*a-1","kg*a-1","kg*a-1","kg*a-1","kg*a-1","kg*a-1",null,null,"kg*a-1","kg*a-1","kg*a-1","kg*a-1","kg*a-1","kg*a-1","kg*a-1","kg*a-1","kg*a-1","kg*a-1",null,null,"kg*a-1","kg*a-1","kg*a-1","kg*a-1","kg*a-1","kg*a-1","kg*a-1","kg*a-1","kg*a-1","kg*a-1",null,"kg*a-1","kg*a-1","kg*a-1","kg*a-1","kg*a-1","kg*a-1","kg*a-1","kg*a-1","kg*a-1","kg*a-1"]
[{"$nulls":13},{"$f":"SUM(N6:N22)","v":0},{"$f":"SUM(O6:O22)","v":0},0,0,0,0,0,0,0,0,null,null,{"$f":"SUM(Z6:Z22)","v":0},0,0,0,0,0,0,0,0,0,null,null,{"$f":"SUM(AL6:AL22)","v":0},0,0,0,0,0,0,0,0,0,null,{"$f":"SUM(AW6:AW22)","v":0},0,0,0,0,0,{"$f":"SUM(BC6:BC22)","v":0},0,0,0]

{"sheet":"Gesamt Nährstoffinput","index":9,"n_rows":56,"n_cols":10,"rows_kept":56}
["Gesamt Inputs"]
[{"$f":"Betriebsdaten!$B$29","v":2022}]
["Nährstoffinputs"]
["C","N","NH4-N","P2O5","K2O","Ca","MgO","S","Na","Cl"]
["kg*a-1","kg*a-1","kg*a-1","kg*a-1","kg*a-1","kg*a-1","kg*a-1","kg*a-1","kg*a-1","kg*a-1"]
[{"$f":"(Tierzukauf!N16+'Wi-Dü-Aufnahme'!J33+Saatgut_MinD!Q29+'Fu-Mi;Biogassubstr. Zuk.'!N26)","v":0},{"$f":"(Tierzukauf!O16+'Wi-Dü-Aufnahme'!K33+Saatgut_MinD!R29+'Fu-Mi;Biogassubstr. Zuk.'!O26)","v":0},{"$f":"(Tierzukauf!P16+'Wi-Dü-Aufnahme'!L33+Saatgut_MinD!S29+'Fu-Mi;Biogassubstr. Zuk.'!P26)","v":0},{"$f":"(Tierzukauf!Q16+'Wi-Dü-Aufnahme'!M33+Saatgut_MinD!T29+'Fu-Mi;Biogassubstr. Zuk.'!Q26)","v":0},{"$f":"(Tierzukauf!R16+'Wi-Dü-Aufnahme'!N33+Saatgut_MinD!U29+'Fu-Mi;Biogassubstr. Zuk.'!R26)","v":0},{"$f":"(Tierzukauf!S16+'Wi-Dü-Aufnahme'!O33+Saatgut_MinD!V29+'Fu-Mi;Biogassubstr. Zuk.'!S26)","v":0},{"$f":"(Tierzukauf!T16+'Wi-Dü-Aufnahme'!P33+Saatgut_MinD!W29+'Fu-Mi;Biogassubstr. Zuk.'!T26)","v":0},{"$f":"(Tierzukauf!U16+'Wi-Dü-Aufnahme'!Q33+Saatgut_MinD!X29+'Fu-Mi;Biogassubstr. Zuk.'!U26)","v":0},{"$f":"(Tierzukauf!V16+'Wi-Dü-Aufnahme'!R33+Saatgut_MinD!Y29+'Fu-Mi;Biogassubstr. Zuk.'!V26)","v":0},{"$f":"(Tierzukauf!W16+'Wi-Dü-Aufnahme'!S33+Saatgut_MinD!Z29+'Fu-Mi;Biogassubstr. Zuk.'!W26)","v":0}]
["N-Fixierung"]
[null,"N"]
[null,"kg*a-1"]
[null,{"$f":"'N-Fixierung'!L15","v":0}]
["Gesamt Input"]
["C","N","NH4-N","P2O5","K2O","Ca","MgO","S","Na","Cl"]
["kg*a-1","kg*a-1","kg*a-1","kg*a-1","kg*a-1","kg*a-1","kg*a-1","kg*a-1","kg*a-1","kg*a-1"]
[{"$f":"A6+A10","v":0},{"$f":"B6+B10","v":0},0,0,0,0,0,0,0,0]
[]
[{"$f":"Betriebsdaten!$B$30","v":2021}]
["Nährstoffinputs"]
["C","N","NH4-N","P2O5","K2O","Ca","MgO","S","Na","Cl"]
["kg*a-1","kg*a-1","kg*a-1","kg*a-1","kg*a-1","kg*a-1","kg*a-1","kg*a-1","kg*a-1","kg*a-1"]
[{"$f":"(Tierzukauf!Z16+'Wi-Dü-Aufnahme'!V33+Saatgut_MinD!AC29+'Fu-Mi;Biogassubstr. Zuk.'!Z26)","v":0},{"$f":"(Tierzukauf!AA16+'Wi-Dü-Aufnahme'!W33+Saatgut_MinD!AD29+'Fu-Mi;Biogassubstr. Zuk.'!AA26)","v":0},{"$f":"(Tierzukauf!AB16+'Wi-Dü-Aufnahme'!X33+Saatgut_MinD!AE29+'Fu-Mi;Biogassubstr. Zuk.'!AB26)","v":0},{"$f":"(Tierzukauf!AC16+'Wi-Dü-Aufnahme'!Y33+Saatgut_MinD!AF29+'Fu-Mi;Biogassubstr. Zuk.'!AC26)","v":0},{"$f":"(Tierzukauf!AD16+'Wi-Dü-Aufnahme'!Z33+Saatgut_MinD!AG29+'Fu-Mi;Biogassubstr. Zuk.'!AD26)","v":0},{"$f":"(Tierzukauf!AE16+'Wi-Dü-Aufnahme'!AA33+Saatgut_MinD!AH29+'Fu-Mi;Biogassubstr. Zuk.'!AE26)","v":0},{"$f":"(Tierzukauf!AF16+'Wi-Dü-Aufnahme'!AB33+Saatgut_MinD!AI29+'Fu-Mi;Biogassubstr. Zuk.'!AF26)","v":0},{"$f":"(Tierzukauf!AG16+'Wi-Dü-Aufnahme'!AC33+Saatgut_MinD!AJ29+'Fu-Mi;Biogassubstr. Zuk.'!AG26)","v":0},{"$f":"(Tierzukauf!AH16+'Wi-Dü-Aufnahme'!AD33+Saatgut_MinD!AK29+'Fu-Mi;Biogassubstr. Zuk.'!AH26)","v":0},{"$f":"(Tierzukauf!AI16+'Wi-Dü-Aufnahme'!AE33+Saatgut_MinD!AL29+'Fu-Mi;Biogassubstr. Zuk.'!AI26)","v":0}]
["N-Fixierung"]
[null,"N"]
[null,"kg*a-1"]
[null,{"$f":"'N-Fixierung'!M15","v":0}]
["Gesamt Input"]
["C","N","NH4-N","P2O5","K2O","Ca","MgO","S","Na","Cl"]
["kg*a-1","kg*a-1","kg*a-1","kg*a-1","kg*a-1","kg*a-1","kg*a-1","kg*a-1","kg*a-1","kg*a-1"]
[{"$f":"A20+A24","v":0},0,0,0,0,0,0,0,0,0]
[]
[{"$f":"Betriebsdaten!$B$31","v":2020}]
["Nährstoffinputs"]
["C","N","NH4-N","P2O5","K2O","Ca","MgO","S","Na","Cl"]
["kg*a-1","kg*a-1","kg*a-1","kg*a-1","kg*a-1","kg*a-1","kg*a-1","kg*a-1","kg*a-1","kg*a-1"]
[{"$f":"(Tierzukauf!AL16+'Wi-Dü-Aufnahme'!AH33++Saatgut_MinD!AO29+'Fu-Mi;Biogassubstr. Zuk.'!AL26)","v":0},{"$f":"(Tierzukauf!AM16+'Wi-Dü-Aufnahme'!AI33++Saatgut_MinD!AP29+'Fu-Mi;Biogassubstr. Zuk.'!AM26)","v":0},{"$f":"(Tierzukauf!AN16+'Wi-Dü-Aufnahme'!AJ33++Saatgut_MinD!AQ29+'Fu-Mi;Biogassubstr. Zuk.'!AN26)","v":0},{"$f":"(Tierzukauf!AO16+'Wi-Dü-Aufnahme'!AK33++Saatgut_MinD!AR29+'Fu-Mi;Biogassubstr. Zuk.'!AO26)","v":0},{"$f":"(Tierzukauf!AP16+'Wi-Dü-Aufnahme'!AL33++Saatgut_MinD!AS29+'Fu-Mi;Biogassubstr. Zuk.'!AP26)","v":0},{"$f":"(Tierzukauf!AQ16+'Wi-Dü-Aufnahme'!AM33++Saatgut_MinD!AT29+'Fu-Mi;Biogassubstr. Zuk.'!AQ26)","v":0},{"$f":"(Tierzukauf!AR16+'Wi-Dü-Aufnahme'!AN33++Saatgut_MinD!AU29+'Fu-Mi;Biogassubstr. Zuk.'!AR26)","v":0},{"$f":"(Tierzukauf!AS16+'Wi-Dü-Aufnahme'!AO33++Saatgut_MinD!AV29+'Fu-Mi;Biogassubstr. Zuk.'!AS26)","v":0},{"$f":"(Tierzukauf!AT16+'Wi-Dü-Aufnahme'!AP33++Saatgut_MinD!AW29+'Fu-Mi;Biogassubstr. Zuk.'!AT26)","v":0},{"$f":"(Tierzukauf!AU16+'Wi-Dü-Aufnahme'!AQ33++Saatgut_MinD!AX29+'Fu-Mi;Biogassubstr. Zuk.'!AU26)","v":0}]
["N-Fixierung"]
[null,"N"]
[null,"kg*a-1"]
[null,{"$f":"'N-Fixierung'!N15","v":0}]
["Gesamt Input"]
["C","N","NH4-N","P2O5","K2O","Ca","MgO","S","Na","Cl"]
["kg*a-1","kg*a-1","kg*a-1","kg*a-1","kg*a-1","kg*a-1","kg*a-1","kg*a-1","kg*a-1","kg*a-1"]
[{"$f":"A34+A38","v":0},0,0,0,0,0,0,0,0,0]
[]
["Durchschnitt"]
["Nährstoffinputs"]
["C","N","NH4-N","P2O5","K2O","Ca","MgO","S","Na","Cl"]
["kg*a-1","kg*a-1","kg*a-1","kg*a-1","kg*a-1","kg*a-1","kg*a-1","kg*a-1","kg*a-1","kg*a-1"]
[{"$f":"(Tierzukauf!AW16+'Wi-Dü-Aufnahme'!AS33+Saatgut_MinD!AZ29+'Fu-Mi;Biogassubstr. Zuk.'!AW26)","v":0},{"$f":"(Tierzukauf!AX16+'Wi-Dü-Aufnahme'!AT33+Saatgut_MinD!BA29+'Fu-Mi;Biogassubstr. Zuk.'!AX26)","v":0},{"$f":"(Tierzukauf!AY16+'Wi-Dü-Aufnahme'!AU33+Saatgut_MinD!BB29+'Fu-Mi;Biogassubstr. Zuk.'!AY26)","v":0},{"$f":"(Tierzukauf!AZ16+'Wi-Dü-Aufnahme'!AV33+Saatgut_MinD!BC29+'Fu-Mi;Biogassubstr. Zuk.'!AZ26)","v":0},{"$f":"(Tierzukauf!BA16+'Wi-Dü-Aufnahme'!AW33+Saatgut_MinD!BD29+'Fu-Mi;Biogassubstr. Zuk.'!BA26)","v":0},{"$f":"(Tierzukauf!BB16+'Wi-Dü-Aufnahme'!AX33+Saatgut_MinD!BE29+'Fu-Mi;Biogassubstr. Zuk.'!BB26)","v":0},{"$f":"(Tierzukauf!BC16+'Wi-Dü-Aufnahme'!AY33+Saatgut_MinD!BF29+'Fu-Mi;Biogassubstr. Zuk.'!BC26)","v":0},{"$f":"(Tierzukauf!BD16+'Wi-Dü-Aufnahme'!AZ33+Saatgut_MinD!BG29+'Fu-Mi;Biogassubstr. Zuk.'!BD26)","v":0},{"$f":"(Tierzukauf!BE16+'Wi-Dü-Aufnahme'!BA33+Saatgut_MinD!BH29+'Fu-Mi;Biogassubstr. Zuk.'!BE26)","v":0},{"$f":"(Tierzukauf!BF16+'Wi-Dü-Aufnahme'!BB33+Saatgut_MinD!BI29+'Fu-Mi;Biogassubstr. Zuk.'!BF26)","v":0}]
["N-Fixierung"]
[null,"N"]
[null,"kg*a-1"]
[null,{"$f":"'N-Fixierung'!O15","v":0}]
["Gesamt Input"]
["C","N","NH4-N","P2O5","K2O","Ca","MgO","S","Na","Cl"]
["kg*a-1","kg*a-1","kg*a-1","kg*a-1","kg*a-1","kg*a-1","kg*a-1","kg*a-1","kg*a-1","kg*a-1"]
[{"$f":"A48+A52","v":0},0,0,0,0,0,0,0,0,0]

{"sheet":"Tierverk.; Tier.Prod.","index":10,"n_rows":48,"n_cols":64,"rows_kept":48,"merged":[[0,0,0,10],[1,0,1,9],[1,17,1,18],[1,29,1,30],[1,41,1,42],[1,53,1,54],[2,1,2,3],[2,4,2,6],[2,7,2,9],[2,17,2,28],[2,29,2,40],[2,41,2,52],[2,53,2,63],[3,17,4,17],[3,18,4,18],[3,29,4,29],[3,30,4,30],[3,41,4,41],[3,42,4,42],[3,53,4,53],[10,17,10,28],[10,29,10,40],[10,41,10,52],[10,53,10,63],[11,17,13,18],[11,29,13,30],[11,53,13,53],[15,0,15,9],[15,17,15,18],[15,29,15,30],[15,41,15,42],[15,53,15,54],[16,1,16,3],[16,4,16,6],[16,7,16,9],[16,17,16,28],[16,29,16,40],[16,41,16,52],[16,53,16,63],[17,17,18,17],[17,18,18,18],[17,29,18,29],[17,30,18,30],[17,41,18,41],[17,42,18,42],[17,53,18,53],[24,17,24,28],[24,29,24,40],[24,41,24,52],[24,53,24,63],[25,17,27,18],[25,29,27,30],[25,53,27,53],[28,0,28,10],[29,1,29,3],[29,4,29,6],[29,7,29,9],[29,17,29,28],[29,29,29,40],[29,41,29,52],[29,53,29,63],[30,17,31,17],[30,18,31,18],[30,29,31,29],[30,30,31,30],[30,41,31,41],[30,42,31,42],[30,53,31,53],[36,0,39,16],[36,17,36,28],[36,29,36,40],[36,41,36,52],[36,53,36,63],[37,17,39,18],[37,29,39,30],[37,41,39,42],[37,53,39,53],[44,0,47,16],[44,17,44,28],[44,29,44,40],[44,41,44,52],[44,53,44,63],[45,17,47,18],[45,29,47,30],[45,41,47,42],[45,53,47,53]]}
["A8.Tierische Nährstoffoutputs (Tierverkauf/verluste; Milchverkauf, Verkauf tier. Erzeugnisse)"]
["A8.1. Tierverkauf: Bitte geben Sie für das jeweilige Jahr die jeweiligen Tierischen Produkte (Verkauf & Verlust, inklusive Schafwolle u. Hühnerei), sowie das Lebendgewicht in Tonnen und die Stückzahl an. Nutzen Sie bitte die grünen Felder, sollten Sie Tierverkäufe bzw. Tierverluste haben, die nicht im Drop Down Menü gelistet sind.",{"$nulls":16},"Tierverkauf",{"$nulls":11},"Tierverkauf",{"$nulls":11},"Tierverkauf",{"$nulls":11},"Tierverkauf"]
[null,{"$f":"Betriebsdaten!$B$29","v":2022},null,null,{"$f":"Betriebsdaten!$B$30","v":2021},null,null,{"$f":"Betriebsdaten!$B$31","v":2020},{"$nulls":9},{"$f":"Betriebsdaten!$B$29","v":2022},{"$nulls":11},{"$f":"Betriebsdaten!$B$30","v":2021},{"$nulls":11},{"$f":"Betriebsdaten!$B$31","v":2020},{"$nulls":11},"Durchschnitt"]
[null,"Tierart","Anzahl ","Gewicht","Tierart","Anzahl ","Gewicht","Tierart","Anzahl ","Gewicht","Bemerkungen ",{"$nulls":6},"Code","Menge (kg)","C","N","NH4-N","P2O5","K2O","Ca","MgO","S","Na","Cl","Code","Menge (kg)","C","N","NH4-N","P2O5","K2O","Ca","MgO","S","Na","Cl","Code","Menge (kg)","C","N","NH4-N","P2O5","K2O","Ca","MgO","S","Na","Cl","Menge (kg)","C","N","NH4-N","P2O5","K2O","Ca","MgO","S","Na","Cl"]
[null,null,"Stück","t",null,"Stück","t",null,"Stück","t",{"$nulls":9},"kg*a-1","kg*a-1","kg*a-1","kg*a-1","kg*a-1","kg*a-1","kg*a-1","kg*a-1","kg*a-1","kg*a-1",null,null,"kg*a-1","kg*a-1","kg*a-1","kg*a-1","kg*a-1","kg*a-1","kg*a-1","kg*a-1","kg*a-1","kg*a-1",null,null,"kg*a-1","kg*a-1","kg*a-1","kg*a-1","kg*a-1","kg*a-1","kg*a-1","kg*a-1","kg*a-1","kg*a-1",null,"kg*a-1","kg*a-1","kg*a-1","kg*a-1","kg*a-1","kg*a-1","kg*a-1","kg*a-1","kg*a-1","kg*a-1"]
[null,"Bitte wählen:",null,null,"Bitte wählen:",null,null,"Bitte wählen:",{"$nulls":9},{"$f":"VLOOKUP(B6,'Tierbestand Tabellen'!$AE$5:$AF$44,2,FALSE)","v":0},{"$f":"D6*1000","v":0},{"$f":"VLOOKUP(R6,'Tierbestand Tabellen'!$AF$5:$AP$44,2,FALSE)*(S6/1000)","v":0},{"$f":"VLOOKUP(R6,'Tierbestand Tabellen'!$AF$5:$AP$44,3,FALSE)*(S6/1000)","v":0},{"$f":"VLOOKUP(R6,'Tierbestand Tabellen'!$AF$5:$AP$44,4,FALSE)*(S6/1000)","v":0},{"$f":"VLOOKUP(R6,'Tierbestand Tabellen'!$AF$5:$AP$44,5,FALSE)*(S6/1000)","v":0},{"$f":"VLOOKUP(R6,'Tierbestand Tabellen'!$AF$5:$AP$44,6,FALSE)*(S6/1000)","v":0},{"$f":"VLOOKUP(R6,'Tierbestand Tabellen'!$AF$5:$AP$44,7,FALSE)*(S6/1000)","v":0},{"$f":"VLOOKUP(R6,'Tierbestand Tabellen'!$AF$5:$AP$44,8,FALSE)*(S6/1000)","v":0},{"$f":"VLOOKUP(R6,'Tierbestand Tabellen'!$AF$5:$AP$44,9,FALSE)*(S6/1000)","v":0},{"$f":"VLOOKUP(R6,'Tierbestand Tabellen'!$AF$5:$AP$44,10,FALSE)*(S6/1000)","v":0},{"$f":"VLOOKUP(R6,'Tierbestand Tabellen'!$AF$5:$AP$44,11,FALSE)*(S6/1000)","v":0},{"$f":"VLOOKUP(E6,'Tierbestand Tabellen'!$AE$5:$AF$44,2,FALSE)","v":0},{"$f":"G6*1000","v":0},{"$f":"VLOOKUP(AD6,'Tierbestand Tabellen'!$AF$5:$AP$44,2,FALSE)*(AE6/1000)","v":0},{"$f":"VLOOKUP(AD6,'Tierbestand Tabellen'!$AF$5:$AP$44,3,FALSE)*(AE6/1000)","v":0},{"$f":"VLOOKUP(AD6,'Tierbestand Tabellen'!$AF$5:$AP$44,4,FALSE)*(AE6/1000)","v":0},{"$f":"VLOOKUP(AD6,'Tierbestand Tabellen'!$AF$5:$AP$44,5,FALSE)*(AE6/1000)","v":0},{"$f":"VLOOKUP(AD6,'Tierbestand Tabellen'!$AF$5:$AP$44,6,FALSE)*(AE6/1000)","v":0},{"$f":"VLOOKUP(AD6,'Tierbestand Tabellen'!$AF$5:$AP$44,7,FALSE)*(AE6/1000)","v":0},{"$f":"VLOOKUP(AD6,'Tierbestand Tabellen'!$AF$5:$AP$44,8,FALSE)*(AE6/1000)","v":0},{"$f":"VLOOKUP(AD6,'Tierbestand Tabellen'!$AF$5:$AP$44,9,FALSE)*(AE6/1000)","v":0},{"$f":"VLOOKUP(AD6,'Tierbestand Tabellen'!$AF$5:$AP$44,10,FALSE)*(AE6/1000)","v":0},{"$f":"VLOOKUP(AD6,'Tierbestand Tabellen'!$AF$5:$AP$44,11,FALSE)*(AE6/1000)","v":0},{"$f":"VLOOKUP(H6,'Tierbestand Tabellen'!$AE$5:$AF$44,2,FALSE)","v":0},{"$f":"J6*1000","v":0},{"$f":"VLOOKUP(AP6,'Tierbestand Tabellen'!$AF$5:$AP$44,2,FALSE)*(AQ6/1000)","v":0},{"$f":"VLOOKUP(AP6,'Tierbestand Tabellen'!$AF$5:$AP$44,3,FALSE)*(AQ6/1000)","v":0},{"$f":"VLOOKUP(AP6,'Tierbestand Tabellen'!$AF$5:$AP$44,4,FALSE)*(AQ6/1000)","v":0},{"$f":"VLOOKUP(AP6,'Tierbestand Tabellen'!$AF$5:$AP$44,5,FALSE)*(AQ6/1000)","v":0},{"$f":"VLOOKUP(AP6,'Tierbestand Tabellen'!$AF$5:$AP$44,6,FALSE)*(AQ6/1000)","v":0},{"$f":"VLOOKUP(AP6,'Tierbestand Tabellen'!$AF$5:$AP$44,7,FALSE)*(AQ6/1000)","v":0},{"$f":"VLOOKUP(AP6,'Tierbestand Tabellen'!$AF$5:$AP$44,8,FALSE)*(AQ6/1000)","v":0},{"$f":"VLOOKUP(AP6,'Tierbestand Tabellen'!$AF$5:$AP$44,9,FALSE)*(AQ6/1000)","v":0},{"$f":"VLOOKUP(AP6,'Tierbestand Tabellen'!$AF$5:$AP$44,10,FALSE)*(AQ6/1000)","v":0},{"$f":"VLOOKUP(AP6,'Tierbestand Tabellen'!$AF$5:$AP$44,11,FALSE)*(AQ6/1000)","v":0},{"$f":"AVERAGE(S6,AE6,AQ6)","v":0},0,0,{"$f":"AVERAGE(V6,AH6,AT6)","v":0},0,0,0,0,0,0,0]
[null,"Bitte wählen:",null,null,"Bitte wählen:",null,null,"Bitte wählen:",{"$nulls":9},{"$f":"VLOOKUP(B7,'Tierbestand Tabellen'!$AE$5:$AF$44,2,FALSE)","v":0},{"$f":"D7*1000","v":0},{"$f":"VLOOKUP(R7,'Tierbestand Tabellen'!$AF$5:$AP$44,2,FALSE)*(S7/1000)","v":0},{"$f":"VLOOKUP(R7,'Tierbestand Tabellen'!$AF$5:$AP$44,3,FALSE)*(S7/1000)","v":0},{"$f":"VLOOKUP(R7,'Tierbestand Tabellen'!$AF$5:$AP$44,4,FALSE)*(S7/1000)","v":0},{"$f":"VLOOKUP(R7,'Tierbestand Tabellen'!$AF$5:$AP$44,5,FALSE)*(S7/1000)","v":0},{"$f":"VLOOKUP(R7,'Tierbestand Tabellen'!$AF$5:$AP$44,6,FALSE)*(S7/1000)","v":0},{"$f":"VLOOKUP(R7,'Tierbestand Tabellen'!$AF$5:$AP$44,7,FALSE)*(S7/1000)","v":0},{"$f":"VLOOKUP(R7,'Tierbestand Tabellen'!$AF$5:$AP$44,8,FALSE)*(S7/1000)","v":0},{"$f":"VLOOKUP(R7,'Tierbestand Tabellen'!$AF$5:$AP$44,9,FALSE)*(S7/1000)","v":0},{"$f":"VLOOKUP(R7,'Tierbestand Tabellen'!$AF$5:$AP$44,10,FALSE)*(S7/1000)","v":0},{"$f":"VLOOKUP(R7,'Tierbestand Tabellen'!$AF$5:$AP$44,11,FALSE)*(S7/1000)","v":0},{"$f":"VLOOKUP(E7,'Tierbestand Tabellen'!$AE$5:$AF$44,2,FALSE)","v":0},{"$f":"G7*1000","v":0},{"$f":"VLOOKUP(AD7,'Tierbestand Tabellen'!$AF$5:$AP$44,2,FALSE)*(AE7/1000)","v":0},{"$f":"VLOOKUP(AD7,'Tierbestand Tabellen'!$AF$5:$AP$44,3,FALSE)*(AE7/1000)","v":0},{"$f":"VLOOKUP(AD7,'Tierbestand Tabellen'!$AF$5:$AP$44,4,FALSE)*(AE7/1000)","v":0},{"$f":"VLOOKUP(AD7,'Tierbestand Tabellen'!$AF$5:$AP$44,5,FALSE)*(AE7/1000)","v":0},{"$f":"VLOOKUP(AD7,'Tierbestand Tabellen'!$AF$5:$AP$44,6,FALSE)*(AE7/1000)","v":0},{"$f":"VLOOKUP(AD7,'Tierbestand Tabellen'!$AF$5:$AP$44,7,FALSE)*(AE7/1000)","v":0},{"$f":"VLOOKUP(AD7,'Tierbestand Tabellen'!$AF$5:$AP$44,8,FALSE)*(AE7/1000)","v":0},{"$f":"VLOOKUP(AD7,'Tierbestand Tabellen'!$AF$5:$AP$44,9,FALSE)*(AE7/1000)","v":0},{"$f":"VLOOKUP(AD7,'Tierbestand Tabellen'!$AF$5:$AP$44,10,FALSE)*(AE7/1000)","v":0},{"$f":"VLOOKUP(AD7,'Tierbestand Tabellen'!$AF$5:$AP$44,11,FALSE)*(AE7/1000)","v":0},{"$f":"VLOOKUP(H7,'Tierbestand Tabellen'!$AE$5:$AF$44,2,FALSE)","v":0},{"$f":"J7*1000","v":0},{"$f":"VLOOKUP(AP7,'Tierbestand Tabellen'!$AF$5:$AP$44,2,FALSE)*(AQ7/1000)","v":0},{"$f":"VLOOKUP(AP7,'Tierbestand Tabellen'!$AF$5:$AP$44,3,FALSE)*(AQ7/1000)","v":0},{"$f":"VLOOKUP(AP7,'Tierbestand Tabellen'!$AF$5:$AP$44,4,FALSE)*(AQ7/1000)","v":0},{"$f":"VLOOKUP(AP7,'Tierbestand Tabellen'!$AF$5:$AP$44,5,FALSE)*(AQ7/1000)","v":0},{"$f":"VLOOKUP(AP7,'Tierbestand Tabellen'!$AF$5:$AP$44,6,FALSE)*(AQ7/1000)","v":0},{"$f":"VLOOKUP(AP7,'Tierbestand Tabellen'!$AF$5:$AP$44,7,FALSE)*(AQ7/1000)","v":0},{"$f":"VLOOKUP(AP7,'Tierbestand Tabellen'!$AF$5:$AP$44,8,FALSE)*(AQ7/1000)","v":0},{"$f":"VLOOKUP(AP7,'Tierbestand Tabellen'!$AF$5:$AP$44,9,FALSE)*(AQ7/1000)","v":0},{"$f":"VLOOKUP(AP7,'Tierbestand Tabellen'!$AF$5:$AP$44,10,FALSE)*(AQ7/1000)","v":0},{"$f":"VLOOKUP(AP7,'Tierbestand Tabellen'!$AF$5:$AP$44,11,FALSE)*(AQ7/1000)","v":0},0,0,0,0,0,0,0,0,0,0,0]
[null,"Bitte wählen:",null,null,"Bitte wählen:",null,null,"Bitte wählen:",{"$nulls":9},{"$f":"VLOOKUP(B8,'Tierbestand Tabellen'!$AE$5:$AF$44,2,FALSE)","v":0},0,{"$f":"VLOOKUP(R8,'Tierbestand Tabellen'!$AF$5:$AP$44,2,FALSE)*(S8/1000)","v":0},{"$f":"VLOOKUP(R8,'Tierbestand Tabellen'!$AF$5:$AP$44,3,FALSE)*(S8/1000)","v":0},{"$f":"VLOOKUP(R8,'Tierbestand Tabellen'!$AF$5:$AP$44,4,FALSE)*(S8/1000)","v":0},{"$f":"VLOOKUP(R8,'Tierbestand Tabellen'!$AF$5:$AP$44,5,FALSE)*(S8/1000)","v":0},{"$f":"VLOOKUP(R8,'Tierbestand Tabellen'!$AF$5:$AP$44,6,FALSE)*(S8/1000)","v":0},{"$f":"VLOOKUP(R8,'Tierbestand Tabellen'!$AF$5:$AP$44,7,FALSE)*(S8/1000)","v":0},{"$f":"VLOOKUP(R8,'Tierbestand Tabellen'!$AF$5:$AP$44,8,FALSE)*(S8/1000)","v":0},{"$f":"VLOOKUP(R8,'Tierbestand Tabellen'!$AF$5:$AP$44,9,FALSE)*(S8/1000)","v":0},{"$f":"VLOOKUP(R8,'Tierbestand Tabellen'!$AF$5:$AP$44,10,FALSE)*(S8/1000)","v":0},{"$f":"VLOOKUP(R8,'Tierbestand Tabellen'!$AF$5:$AP$44,11,FALSE)*(S8/1000)","v":0},{"$f":"VLOOKUP(E8,'Tierbestand Tabellen'!$AE$5:$AF$44,2,FALSE)","v":0},0,{"$f":"VLOOKUP(AD8,'Tierbestand Tabellen'!$AF$5:$AP$44,2,FALSE)*(AE8/1000)","v":0},{"$f":"VLOOKUP(AD8,'Tierbestand Tabellen'!$AF$5:$AP$44,3,FALSE)*(AE8/1000)","v":0},{"$f":"VLOOKUP(AD8,'Tierbestand Tabellen'!$AF$5:$AP$44,4,FALSE)*(AE8/1000)","v":0},{"$f":"VLOOKUP(AD8,'Tierbestand Tabellen'!$AF$5:$AP$44,5,FALSE)*(AE8/1000)","v":0},{"$f":"VLOOKUP(AD8,'Tierbestand Tabellen'!$AF$5:$AP$44,6,FALSE)*(AE8/1000)","v":0},{"$f":"VLOOKUP(AD8,'Tierbestand Tabellen'!$AF$5:$AP$44,7,FALSE)*(AE8/1000)","v":0},{"$f":"VLOOKUP(AD8,'Tierbestand Tabellen'!$AF$5:$AP$44,8,FALSE)*(AE8/1000)","v":0},{"$f":"VLOOKUP(AD8,'Tierbestand Tabellen'!$AF$5:$AP$44,9,FALSE)*(AE8/1000)","v":0},{"$f":"VLOOKUP(AD8,'Tierbestand Tabellen'!$AF$5:$AP$44,10,FALSE)*(AE8/1000)","v":0},{"$f":"VLOOKUP(AD8,'Tierbestand Tabellen'!$AF$5:$AP$44,11,FALSE)*(AE8/1000)","v":0},{"$f":"VLOOKUP(H8,'Tierbestand Tabellen'!$AE$5:$AF$44,2,FALSE)","v":0},0,{"$f":"VLOOKUP(AP8,'Tierbestand Tabellen'!$AF$5:$AP$44,2,FALSE)*(AQ8/1000)","v":0},{"$f":"VLOOKUP(AP8,'Tierbestand Tabellen'!$AF$5:$AP$44,3,FALSE)*(AQ8/1000)","v":0},{"$f":"VLOOKUP(AP8,'Tierbestand Tabellen'!$AF$5:$AP$44,4,FALSE)*(AQ8/1000)","v":0},{"$f":"VLOOKUP(AP8,'Tierbestand Tabellen'!$AF$5:$AP$44,5,FALSE)*(AQ8/1000)","v":0},{"$f":"VLOOKUP(AP8,'Tierbestand Tabellen'!$AF$5:$AP$44,6,FALSE)*(AQ8/1000)","v":0},{"$f":"VLOOKUP(AP8,'Tierbestand Tabellen'!$AF$5:$AP$44,7,FALSE)*(AQ8/1000)","v":0},{"$f":"VLOOKUP(AP8,'Tierbestand Tabellen'!$AF$5:$AP$44,8,FALSE)*(AQ8/1000)","v":0},{"$f":"VLOOKUP(AP8,'Tierbestand Tabellen'!$AF$5:$AP$44,9,FALSE)*(AQ8/1000)","v":0},{"$f":"VLOOKUP(AP8,'Tierbestand Tabellen'!$AF$5:$AP$44,10,FALSE)*(AQ8/1000)","v":0},{"$f":"VLOOKUP(AP8,'Tierbestand Tabellen'!$AF$5:$AP$44,11,FALSE)*(AQ8/1000)","v":0},0,0,0,0,0,0,0,0,0,0,0]
[null,"Bitte wählen:",null,null,"Bitte wählen:",null,null,"Bitte wählen:",{"$nulls":9},{"$f":"VLOOKUP(B9,'Tierbestand Tabellen'!$AE$5:$AF$44,2,FALSE)","v":0},0,{"$f":"VLOOKUP(R9,'Tierbestand Tabellen'!$AF$5:$AP$44,2,FALSE)*(S9/1000)","v":0},{"$f":"VLOOKUP(R9,'Tierbestand Tabellen'!$AF$5:$AP$44,3,FALSE)*(S9/1000)","v":0},{"$f":"VLOOKUP(R9,'Tierbestand Tabellen'!$AF$5:$AP$44,4,FALSE)*(S9/1000)","v":0},{"$f":"VLOOKUP(R9,'Tierbestand Tabellen'!$AF$5:$AP$44,5,FALSE)*(S9/1000)","v":0},{"$f":"VLOOKUP(R9,'Tierbestand Tabellen'!$AF$5:$AP$44,6,FALSE)*(S9/1000)","v":0},{"$f":"VLOOKUP(R9,'Tierbestand Tabellen'!$AF$5:$AP$44,7,FALSE)*(S9/1000)","v":0},{"$f":"VLOOKUP(R9,'Tierbestand Tabellen'!$AF$5:$AP$44,8,FALSE)*(S9/1000)","v":0},{"$f":"VLOOKUP(R9,'Tierbestand Tabellen'!$AF$5:$AP$44,9,FALSE)*(S9/1000)","v":0},{"$f":"VLOOKUP(R9,'Tierbestand Tabellen'!$AF$5:$AP$44,10,FALSE)*(S9/1000)","v":0},{"$f":"VLOOKUP(R9,'Tierbestand Tabellen'!$AF$5:$AP$44,11,FALSE)*(S9/1000)","v":0},{"$f":"VLOOKUP(E9,'Tierbestand Tabellen'!$AE$5:$AF$44,2,FALSE)","v":0},0,{"$f":"VLOOKUP(AD9,'Tierbestand Tabellen'!$AF$5:$AP$44,2,FALSE)*(AE9/1000)","v":0},{"$f":"VLOOKUP(AD9,'Tierbestand Tabellen'!$AF$5:$AP$44,3,FALSE)*(AE9/1000)","v":0},{"$f":"VLOOKUP(AD9,'Tierbestand Tabellen'!$AF$5:$AP$44,4,FALSE)*(AE9/1000)","v":0},{"$f":"VLOOKUP(AD9,'Tierbestand Tabellen'!$AF$5:$AP$44,5,FALSE)*(AE9/1000)","v":0},{"$f":"VLOOKUP(AD9,'Tierbestand Tabellen'!$AF$5:$AP$44,6,FALSE)*(AE9/1000)","v":0},{"$f":"VLOOKUP(AD9,'Tierbestand Tabellen'!$AF$5:$AP$44,7,FALSE)*(AE9/1000)","v":0},{"$f":"VLOOKUP(AD9,'Tierbestand Tabellen'!$AF$5:$AP$44,8,FALSE)*(AE9/1000)","v":0},{"$f":"VLOOKUP(AD9,'Tierbestand Tabellen'!$AF$5:$AP$44,9,FALSE)*(AE9/1000)","v":0},{"$f":"VLOOKUP(AD9,'Tierbestand Tabellen'!$AF$5:$AP$44,10,FALSE)*(AE9/1000)","v":0},{"$f":"VLOOKUP(AD9,'Tierbestand Tabellen'!$AF$5:$AP$44,11,FALSE)*(AE9/1000)","v":0},{"$f":"VLOOKUP(H9,'Tierbestand Tabellen'!$AE$5:$AF$44,2,FALSE)","v":0},0,{"$f":"VLOOKUP(AP9,'Tierbestand Tabellen'!$AF$5:$AP$44,2,FALSE)*(AQ9/1000)","v":0},{"$f":"VLOOKUP(AP9,'Tierbestand Tabellen'!$AF$5:$AP$44,3,FALSE)*(AQ9/1000)","v":0},{"$f":"VLOOKUP(AP9,'Tierbestand Tabellen'!$AF$5:$AP$44,4,FALSE)*(AQ9/1000)","v":0},{"$f":"VLOOKUP(AP9,'Tierbestand Tabellen'!$AF$5:$AP$44,5,FALSE)*(AQ9/1000)","v":0},{"$f":"VLOOKUP(AP9,'Tierbestand Tabellen'!$AF$5:$AP$44,6,FALSE)*(AQ9/1000)","v":0},{"$f":"VLOOKUP(AP9,'Tierbestand Tabellen'!$AF$5:$AP$44,7,FALSE)*(AQ9/1000)","v":0},{"$f":"VLOOKUP(AP9,'Tierbestand Tabellen'!$AF$5:$AP$44,8,FALSE)*(AQ9/1000)","v":0},{"$f":"VLOOKUP(AP9,'Tierbestand Tabellen'!$AF$5:$AP$44,9,FALSE)*(AQ9/1000)","v":0},{"$f":"VLOOKUP(AP9,'Tierbestand Tabellen'!$AF$5:$AP$44,10,FALSE)*(AQ9/1000)","v":0},{"$f":"VLOOKUP(AP9,'Tierbestand Tabellen'!$AF$5:$AP$44,11,FALSE)*(AQ9/1000)","v":0},0,0,0,0,0,0,0,0,0,0,0]
[null,"Bitte wählen:",null,null,"Bitte wählen:",null,null,"Bitte wählen:",{"$nulls":9},{"$f":"VLOOKUP(B10,'Tierbestand Tabellen'!$AE$5:$AF$44,2,FALSE)","v":0},{"$f":"D10*1000","v":0},{"$f":"VLOOKUP(R10,'Tierbestand Tabellen'!$AF$5:$AP$44,2,FALSE)*(S10/1000)","v":0},{"$f":"VLOOKUP(R10,'Tierbestand Tabellen'!$AF$5:$AP$44,3,FALSE)*(S10/1000)","v":0},{"$f":"VLOOKUP(R10,'Tierbestand Tabellen'!$AF$5:$AP$44,4,FALSE)*(S10/1000)","v":0},{"$f":"VLOOKUP(R10,'Tierbestand Tabellen'!$AF$5:$AP$44,5,FALSE)*(S10/1000)","v":0},{"$f":"VLOOKUP(R10,'Tierbestand Tabellen'!$AF$5:$AP$44,6,FALSE)*(S10/1000)","v":0},{"$f":"VLOOKUP(R10,'Tierbestand Tabellen'!$AF$5:$AP$44,7,FALSE)*(S10/1000)","v":0},{"$f":"VLOOKUP(R10,'Tierbestand Tabellen'!$AF$5:$AP$44,8,FALSE)*(S10/1000)","v":0},{"$f":"VLOOKUP(R10,'Tierbestand Tabellen'!$AF$5:$AP$44,9,FALSE)*(S10/1000)","v":0},{"$f":"VLOOKUP(R10,'Tierbestand Tabellen'!$AF$5:$AP$44,10,FALSE)*(S10/1000)","v":0},{"$f":"VLOOKUP(R10,'Tierbestand Tabellen'!$AF$5:$AP$44,11,FALSE)*(S10/1000)","v":0},{"$f":"VLOOKUP(E10,'Tierbestand Tabellen'!$AE$5:$AF$44,2,FALSE)","v":0},0,{"$f":"VLOOKUP(AD10,'Tierbestand Tabellen'!$AF$5:$AP$44,2,FALSE)*(AE10/1000)","v":0},{"$f":"VLOOKUP(AD10,'Tierbestand Tabellen'!$AF$5:$AP$44,3,FALSE)*(AE10/1000)","v":0},{"$f":"VLOOKUP(AD10,'Tierbestand Tabellen'!$AF$5:$AP$44,4,FALSE)*(AE10/1000)","v":0},{"$f":"VLOOKUP(AD10,'Tierbestand Tabellen'!$AF$5:$AP$44,5,FALSE)*(AE10/1000)","v":0},{"$f":"VLOOKUP(AD10,'Tierbestand Tabellen'!$AF$5:$AP$44,6,FALSE)*(AE10/1000)","v":0},{"$f":"VLOOKUP(AD10,'Tierbestand Tabellen'!$AF$5:$AP$44,7,FALSE)*(AE10/1000)","v":0},{"$f":"VLOOKUP(AD10,'Tierbestand Tabellen'!$AF$5:$AP$44,8,FALSE)*(AE10/1000)","v":0},{"$f":"VLOOKUP(AD10,'Tierbestand Tabellen'!$AF$5:$AP$44,9,FALSE)*(AE10/1000)","v":0},{"$f":"VLOOKUP(AD10,'Tierbestand Tabellen'!$AF$5:$AP$44,10,FALSE)*(AE10/1000)","v":0},{"$f":"VLOOKUP(AD10,'Tierbestand Tabellen'!$AF$5:$AP$44,11,FALSE)*(AE10/1000)","v":0},{"$f":"VLOOKUP(H10,'Tierbestand Tabellen'!$AE$5:$AF$44,2,FALSE)","v":0},0,{"$f":"VLOOKUP(AP10,'Tierbestand Tabellen'!$AF$5:$AP$44,2,FALSE)*(AQ10/1000)","v":0},{"$f":"VLOOKUP(AP10,'Tierbestand Tabellen'!$AF$5:$AP$44,3,FALSE)*(AQ10/1000)","v":0},{"$f":"VLOOKUP(AP10,'Tierbestand Tabellen'!$AF$5:$AP$44,4,FALSE)*(AQ10/1000)","v":0},{"$f":"VLOOKUP(AP10,'Tierbestand Tabellen'!$AF$5:$AP$44,5,FALSE)*(AQ10/1000)","v":0},{"$f":"VLOOKUP(AP10,'Tierbestand Tabellen'!$AF$5:$AP$44,6,FALSE)*(AQ10/1000)","v":0},{"$f":"VLOOKUP(AP10,'Tierbestand Tabellen'!$AF$5:$AP$44,7,FALSE)*(AQ10/1000)","v":0},{"$f":"VLOOKUP(AP10,'Tierbestand Tabellen'!$AF$5:$AP$44,8,FALSE)*(AQ10/1000)","v":0},{"$f":"VLOOKUP(AP10,'Tierbestand Tabellen'!$AF$5:$AP$44,9,FALSE)*(AQ10/1000)","v":0},{"$f":"VLOOKUP(AP10,'Tierbestand Tabellen'!$AF$5:$AP$44,10,FALSE)*(AQ10/1000)","v":0},{"$f":"VLOOKUP(AP10,'Tierbestand Tabellen'!$AF$5:$AP$44,11,FALSE)*(AQ10/1000)","v":0},0,0,0,0,0,0,0,0,0,0,0]
[{"$nulls":17},{"$f":"Betriebsdaten!$B$29","v":2022},{"$nulls":11},{"$f":"Betriebsdaten!$B$30","v":2021},{"$nulls":11},{"$f":"Betriebsdaten!$B$31","v":2020},{"$nulls":11},"Durchschnitt"]
[{"$nulls":17},"Summe",null,"C","N","NH4-N","P2O5","K2O","Ca","MgO","S","Na","Cl","Summe",null,"C","N","NH4-N","P2O5","K2O","Ca","MgO","S","Na","Cl","Summe",null,"C","N","NH4-N","P2O5","K2O","Ca","MgO","S","Na","Cl","Summe","C","N","NH4-N","P2O5","K2O","Ca","MgO","S","Na","Cl"]
[{"$nulls":19},"kg*a-1","kg*a-1","kg*a-1","kg*a-1","kg*a-1","kg*a-1","kg*a-1","kg*a-1","kg*a-1","kg*a-1",null,null,"kg*a-1","kg*a-1","kg*a-1","kg*a-1","kg*a-1","kg*a-1","kg*a-1","kg*a-1","kg*a-1","kg*a-1",null,null,"kg*a-1","kg*a-1","kg*a-1","kg*a-1","kg*a-1","kg*a-1","kg*a-1","kg*a-1","kg*a-1","kg*a-1",null,"kg*a-1","kg*a-1","kg*a-1","kg*a-1","kg*a-1","kg*a-1","kg*a-1","kg*a-1","kg*a-1","kg*a-1"]
[{"$nulls":19},{"$f":"SUM(T6:T10)","v":0},0,0,0,0,0,0,0,0,0,null,null,{"$f":"SUM(AF6:AF10)","v":0},{"$f":"SUM(AG6:AG10)","v":0},null,{"$f":"SUM(AI6:AI10)","v":0},0,0,0,0,0,0,null,null,{"$f":"SUM(AR6:AR10)","v":0},0,0,0,0,0,0,0,0,0,null,{"$f":"SUM(BC6:BC10)","v":0},0,0,0,0,0,0,0,0,0]
[]
["A 8.2: Tierische Produkte mit Schlachtgewicht: Bitte geben Sie für das jeweilige Jahr die jeweiligen Tierischen Produkte , sowie das Schlachtgewicht in Tonnen und die Stückzahl an. Nutzen Sie bitte die grünen Felder, sollten Sie Tierverkäufe bzw. tierische Produke (Schlachtgewicht) haben, die nicht im Drop Down Menü aufgeführt sind.",{"$nulls":16},"Tier. Prod. (SG)",{"$nulls":11},"Tier. Prod. (SG)",{"$nulls":11},"Tier. Prod. (SG)",{"$nulls":11},"Tier. Prod. (SG)"]
[null,{"$f":"Betriebsdaten!$B$29","v":2022},null,null,{"$f":"Betriebsdaten!$B$30","v":2021},null,null,{"$f":"Betriebsdaten!$B$31","v":2020},{"$nulls":9},{"$f":"Betriebsdaten!$B$29","v":2022},{"$nulls":11},{"$f":"Betriebsdaten!$B$30","v":2021},{"$nulls":11},{"$f":"Betriebsdaten!$B$31","v":2020},{"$nulls":11},"Durchschnitt"]
[null,"Tierart","Anzahl ","Gewicht","Tierart","Anzahl ","Gewicht","Tierart","Anzahl ","Gewicht","Bemerkungen ",{"$nulls":6},"Code","Menge (kg)","C","N","NH4-N","P2O5","K2O","Ca","MgO","S","Na","Cl","Code","Menge (kg)","C","N","NH4-N","P2O5","K2O","Ca","MgO","S","Na","Cl","Code","Menge (kg)","C","N","NH4-N","P2O5","K2O","Ca","MgO","S","Na","Cl","Menge (kg)","C","N","NH4-N","P2O5","K2O","Ca","MgO","S","Na","Cl"]
[null,null,"Stück","t",null,"Stück","t",null,"Stück","t",{"$nulls":9},"kg*a-1","kg*a-1","kg*a-1","kg*a-1","kg*a-1","kg*a-1","kg*a-1","kg*a-1","kg*a-1","kg*a-1",null,null,"kg*a-1","kg*a-1","kg*a-1","kg*a-1","kg*a-1","kg*a-1","kg*a-1","kg*a-1","kg*a-1","kg*a-1",null,null,"kg*a-1","kg*a-1","kg*a-1","kg*a-1","kg*a-1","kg*a-1","kg*a-1","kg*a-1","kg*a-1","kg*a-1",null,"kg*a-1","kg*a-1","kg*a-1","kg*a-1","kg*a-1","kg*a-1","kg*a-1","kg*a-1","kg*a-1","kg*a-1"]
[null,"Bitte wählen:",null,null,"Bitte wählen:",null,null,"Bitte wählen:",{"$nulls":9},{"$f":"VLOOKUP(B20,'Tierbestand Tabellen'!$AE$5:$AF$44,2,FALSE)","v":0},{"$f":"D20*1000","v":0},{"$f":"VLOOKUP(R20,'Tierbestand Tabellen'!$AF$5:$AP$44,2,FALSE)*(S20/1000)","v":0},{"$f":"VLOOKUP(R20,'Tierbestand Tabellen'!$AF$5:$AP$44,3,FALSE)*(S20/1000)","v":0},{"$f":"VLOOKUP(R20,'Tierbestand Tabellen'!$AF$5:$AP$44,4,FALSE)*(S20/1000)","v":0},{"$f":"VLOOKUP(R20,'Tierbestand Tabellen'!$AF$5:$AP$44,5,FALSE)*(S20/1000)","v":0},{"$f":"VLOOKUP(R20,'Tierbestand Tabellen'!$AF$5:$AP$44,6,FALSE)*(S20/1000)","v":0},{"$f":"VLOOKUP(R20,'Tierbestand Tabellen'!$AF$5:$AP$44,7,FALSE)*(S20/1000)","v":0},{"$f":"VLOOKUP(R20,'Tierbestand Tabellen'!$AF$5:$AP$44,8,FALSE)*(S20/1000)","v":0},{"$f":"VLOOKUP(R20,'Tierbestand Tabellen'!$AF$5:$AP$44,9,FALSE)*(S20/1000)","v":0},{"$f":"VLOOKUP(R20,'Tierbestand Tabellen'!$AF$5:$AP$44,10,FALSE)*(S20/1000)","v":0},{"$f":"VLOOKUP(R20,'Tierbestand Tabellen'!$AF$5:$AP$44,11,FALSE)*(S20/1000)","v":0},{"$f":"VLOOKUP(E20,'Tierbestand Tabellen'!$AE$5:$AF$44,2,FALSE)","v":0},{"$f":"G20*1000","v":0},{"$f":"VLOOKUP(AD20,'Tierbestand Tabellen'!$AF$5:$AP$44,2,FALSE)*(AE20/1000)","v":0},{"$f":"VLOOKUP(AD20,'Tierbestand Tabellen'!$AF$5:$AP$44,3,FALSE)*(AE20/1000)","v":0},{"$f":"VLOOKUP(AD20,'Tierbestand Tabellen'!$AF$5:$AP$44,4,FALSE)*(AE20/1000)","v":0},{"$f":"VLOOKUP(AD20,'Tierbestand Tabellen'!$AF$5:$AP$44,5,FALSE)*(AE20/1000)","v":0},{"$f":"VLOOKUP(AD20,'Tierbestand Tabellen'!$AF$5:$AP$44,6,FALSE)*(AE20/1000)","v":0},{"$f":"VLOOKUP(AD20,'Tierbestand Tabellen'!$AF$5:$AP$44,7,FALSE)*(AE20/1000)","v":0},{"$f":"VLOOKUP(AD20,'Tierbestand Tabellen'!$AF$5:$AP$44,8,FALSE)*(AE20/1000)","v":0},{"$f":"VLOOKUP(AD20,'Tierbestand Tabellen'!$AF$5:$AP$44,9,FALSE)*(AE20/1000)","v":0},{"$f":"VLOOKUP(AD20,'Tierbestand Tabellen'!$AF$5:$AP$44,10,FALSE)*(AE20/1000)","v":0},{"$f":"VLOOKUP(AD20,'Tierbestand Tabellen'!$AF$5:$AP$44,11,FALSE)*(AE20/1000)","v":0},{"$f":"VLOOKUP(H20,'Tierbestand Tabellen'!$AE$5:$AF$44,2,FALSE)","v":0},{"$f":"J20*1000","v":0},{"$f":"VLOOKUP(AP20,'Tierbestand Tabellen'!$AF$5:$AP$44,2,FALSE)*(AQ20/1000)","v":0},{"$f":"VLOOKUP(AP20,'Tierbestand Tabellen'!$AF$5:$AP$44,3,FALSE)*(AQ20/1000)","v":0},{"$f":"VLOOKUP(AP20,'Tierbestand Tabellen'!$AF$5:$AP$44,4,FALSE)*(AQ20/1000)","v":0},{"$f":"VLOOKUP(AP20,'Tierbestand Tabellen'!$AF$5:$AP$44,5,FALSE)*(AQ20/1000)","v":0},{"$f":"VLOOKUP(AP20,'Tierbestand Tabellen'!$AF$5:$AP$44,6,FALSE)*(AQ20/1000)","v":0},{"$f":"VLOOKUP(AP20,'Tierbestand Tabellen'!$AF$5:$AP$44,7,FALSE)*(AQ20/1000)","v":0},{"$f":"VLOOKUP(AP20,'Tierbestand Tabellen'!$AF$5:$AP$44,8,FALSE)*(AQ20/1000)","v":0},{"$f":"VLOOKUP(AP20,'Tierbestand Tabellen'!$AF$5:$AP$44,9,FALSE)*(AQ20/1000)","v":0},{"$f":"VLOOKUP(AP20,'Tierbestand Tabellen'!$AF$5:$AP$44,10,FALSE)*(AQ20/1000)","v":0},{"$f":"VLOOKUP(AP20,'Tierbestand Tabellen'!$AF$5:$AP$44,11,FALSE)*(AQ20/1000)","v":0},{"$f":"AVERAGE(S20,AE20,AQ20)","v":0},0,{"$f":"AVERAGE(U20,AG20,AS20)","v":0},0,0,0,0,0,0,0,0]
[null,"Bitte wählen:",null,null,"Bitte wählen:",null,null,"Bitte wählen:",{"$nulls":9},{"$f":"VLOOKUP(B21,'Tierbestand Tabellen'!$AE$5:$AF$44,2,FALSE)","v":0},{"$f":"D21*1000","v":0},{"$f":"VLOOKUP(R21,'Tierbestand Tabellen'!$AF$5:$AP$44,2,FALSE)*(S21/1000)","v":0},{"$f":"VLOOKUP(R21,'Tierbestand Tabellen'!$AF$5:$AP$44,3,FALSE)*(S21/1000)","v":0},{"$f":"VLOOKUP(R21,'Tierbestand Tabellen'!$AF$5:$AP$44,4,FALSE)*(S21/1000)","v":0},{"$f":"VLOOKUP(R21,'Tierbestand Tabellen'!$AF$5:$AP$44,5,FALSE)*(S21/1000)","v":0},{"$f":"VLOOKUP(R21,'Tierbestand Tabellen'!$AF$5:$AP$44,6,FALSE)*(S21/1000)","v":0},{"$f":"VLOOKUP(R21,'Tierbestand Tabellen'!$AF$5:$AP$44,7,FALSE)*(S21/1000)","v":0},{"$f":"VLOOKUP(R21,'Tierbestand Tabellen'!$AF$5:$AP$44,8,FALSE)*(S21/1000)","v":0},{"$f":"VLOOKUP(R21,'Tierbestand Tabellen'!$AF$5:$AP$44,9,FALSE)*(S21/1000)","v":0},{"$f":"VLOOKUP(R21,'Tierbestand Tabellen'!$AF$5:$AP$44,10,FALSE)*(S21/1000)","v":0},{"$f":"VLOOKUP(R21,'Tierbestand Tabellen'!$AF$5:$AP$44,11,FALSE)*(S21/1000)","v":0},{"$f":"VLOOKUP(E21,'Tierbestand Tabellen'!$AE$5:$AF$44,2,FALSE)","v":0},{"$f":"G21*1000","v":0},{"$f":"VLOOKUP(AD21,'Tierbestand Tabellen'!$AF$5:$AP$44,2,FALSE)*(AE21/1000)","v":0},{"$f":"VLOOKUP(AD21,'Tierbestand Tabellen'!$AF$5:$AP$44,3,FALSE)*(AE21/1000)","v":0},{"$f":"VLOOKUP(AD21,'Tierbestand Tabellen'!$AF$5:$AP$44,4,FALSE)*(AE21/1000)","v":0},{"$f":"VLOOKUP(AD21,'Tierbestand Tabellen'!$AF$5:$AP$44,5,FALSE)*(AE21/1000)","v":0},{"$f":"VLOOKUP(AD21,'Tierbestand Tabellen'!$AF$5:$AP$44,6,FALSE)*(AE21/1000)","v":0},{"$f":"VLOOKUP(AD21,'Tierbestand Tabellen'!$AF$5:$AP$44,7,FALSE)*(AE21/1000)","v":0},{"$f":"VLOOKUP(AD21,'Tierbestand Tabellen'!$AF$5:$AP$44,8,FALSE)*(AE21/1000)","v":0},{"$f":"VLOOKUP(AD21,'Tierbestand Tabellen'!$AF$5:$AP$44,9,FALSE)*(AE21/1000)","v":0},{"$f":"VLOOKUP(AD21,'Tierbestand Tabellen'!$AF$5:$AP$44,10,FALSE)*(AE21/1000)","v":0},{"$f":"VLOOKUP(AD21,'Tierbestand Tabellen'!$AF$5:$AP$44,11,FALSE)*(AE21/1000)","v":0},{"$f":"VLOOKUP(H21,'Tierbestand Tabellen'!$AE$5:$AF$44,2,FALSE)","v":0},{"$f":"J21*1000","v":0},{"$f":"VLOOKUP(AP21,'Tierbestand Tabellen'!$AF$5:$AP$44,2,FALSE)*(AQ21/1000)","v":0},{"$f":"VLOOKUP(AP21,'Tierbestand Tabellen'!$AF$5:$AP$44,3,FALSE)*(AQ21/1000)","v":0},{"$f":"VLOOKUP(AP21,'Tierbestand Tabellen'!$AF$5:$AP$44,4,FALSE)*(AQ21/1000)","v":0},{"$f":"VLOOKUP(AP21,'Tierbestand Tabellen'!$AF$5:$AP$44,5,FALSE)*(AQ21/1000)","v":0},{"$f":"VLOOKUP(AP21,'Tierbestand Tabellen'!$AF$5:$AP$44,6,FALSE)*(AQ21/1000)","v":0},{"$f":"VLOOKUP(AP21,'Tierbestand Tabellen'!$AF$5:$AP$44,7,FALSE)*(AQ21/1000)","v":0},{"$f":"VLOOKUP(AP21,'Tierbestand Tabellen'!$AF$5:$AP$44,8,FALSE)*(AQ21/1000)","v":0},{"$f":"VLOOKUP(AP21,'Tierbestand Tabellen'!$AF$5:$AP$44,9,FALSE)*(AQ21/1000)","v":0},{"$f":"VLOOKUP(AP21,'Tierbestand Tabellen'!$AF$5:$AP$44,10,FALSE)*(AQ21/1000)","v":0},{"$f":"VLOOKUP(AP21,'Tierbestand Tabellen'!$AF$5:$AP$44,11,FALSE)*(AQ21/1000)","v":0},0,0,0,0,0,0,0,0,0,0,0]
[null,"Bitte wählen:",null,null,"Bitte wählen:",null,null,"Bitte wählen:",{"$nulls":9},{"$f":"VLOOKUP(B22,'Tierbestand Tabellen'!$AE$5:$AF$44,2,FALSE)","v":0},0,{"$f":"VLOOKUP(R22,'Tierbestand Tabellen'!$AF$5:$AP$44,2,FALSE)*(S22/1000)","v":0},{"$f":"VLOOKUP(R22,'Tierbestand Tabellen'!$AF$5:$AP$44,3,FALSE)*(S22/1000)","v":0},{"$f":"VLOOKUP(R22,'Tierbestand Tabellen'!$AF$5:$AP$44,4,FALSE)*(S22/1000)","v":0},{"$f":"VLOOKUP(R22,'Tierbestand Tabellen'!$AF$5:$AP$44,5,FALSE)*(S22/1000)","v":0},{"$f":"VLOOKUP(R22,'Tierbestand Tabellen'!$AF$5:$AP$44,6,FALSE)*(S22/1000)","v":0},{"$f":"VLOOKUP(R22,'Tierbestand Tabellen'!$AF$5:$AP$44,7,FALSE)*(S22/1000)","v":0},{"$f":"VLOOKUP(R22,'Tierbestand Tabellen'!$AF$5:$AP$44,8,FALSE)*(S22/1000)","v":0},{"$f":"VLOOKUP(R22,'Tierbestand Tabellen'!$AF$5:$AP$44,9,FALSE)*(S22/1000)","v":0},{"$f":"VLOOKUP(R22,'Tierbestand Tabellen'!$AF$5:$AP$44,10,FALSE)*(S22/1000)","v":0},{"$f":"VLOOKUP(R22,'Tierbestand Tabellen'!$AF$5:$AP$44,11,FALSE)*(S22/1000)","v":0},{"$f":"VLOOKUP(E22,'Tierbestand Tabellen'!$AE$5:$AF$44,2,FALSE)","v":0},0,{"$f":"VLOOKUP(AD22,'Tierbestand Tabellen'!$AF$5:$AP$44,2,FALSE)*(AE22/1000)","v":0},{"$f":"VLOOKUP(AD22,'Tierbestand Tabellen'!$AF$5:$AP$44,3,FALSE)*(AE22/1000)","v":0},{"$f":"VLOOKUP(AD22,'Tierbestand Tabellen'!$AF$5:$AP$44,4,FALSE)*(AE22/1000)","v":0},{"$f":"VLOOKUP(AD22,'Tierbestand Tabellen'!$AF$5:$AP$44,5,FALSE)*(AE22/1000)","v":0},{"$f":"VLOOKUP(AD22,'Tierbestand Tabellen'!$AF$5:$AP$44,6,FALSE)*(AE22/1000)","v":0},{"$f":"VLOOKUP(AD22,'Tierbestand Tabellen'!$AF$5:$AP$44,7,FALSE)*(AE22/1000)","v":0},{"$f":"VLOOKUP(AD22,'Tierbestand Tabellen'!$AF$5:$AP$44,8,FALSE)*(AE22/1000)","v":0},{"$f":"VLOOKUP(AD22,'Tierbestand Tabellen'!$AF$5:$AP$44,9,FALSE)*(AE22/1000)","v":0},{"$f":"VLOOKUP(AD22,'Tierbestand Tabellen'!$AF$5:$AP$44,10,FALSE)*(AE22/1000)","v":0},{"$f":"VLOOKUP(AD22,'Tierbestand Tabellen'!$AF$5:$AP$44,11,FALSE)*(AE22/1000)","v":0},{"$f":"VLOOKUP(H22,'Tierbestand Tabellen'!$AE$5:$AF$44,2,FALSE)","v":0},0,{"$f":"VLOOKUP(AP22,'Tierbestand Tabellen'!$AF$5:$AP$44,2,FALSE)*(AQ22/1000)","v":0},{"$f":"VLOOKUP(AP22,'Tierbestand Tabellen'!$AF$5:$AP$44,3,FALSE)*(AQ22/1000)","v":0},{"$f":"VLOOKUP(AP22,'Tierbestand Tabellen'!$AF$5:$AP$44,4,FALSE)*(AQ22/1000)","v":0},{"$f":"VLOOKUP(AP22,'Tierbestand Tabellen'!$AF$5:$AP$44,5,FALSE)*(AQ22/1000)","v":0},{"$f":"VLOOKUP(AP22,'Tierbestand Tabellen'!$AF$5:$AP$44,6,FALSE)*(AQ22/1000)","v":0},{"$f":"VLOOKUP(AP22,'Tierbestand Tabellen'!$AF$5:$AP$44,7,FALSE)*(AQ22/1000)","v":0},{"$f":"VLOOKUP(AP22,'Tierbestand Tabellen'!$AF$5:$AP$44,8,FALSE)*(AQ22/1000)","v":0},{"$f":"VLOOKUP(AP22,'Tierbestand Tabellen'!$AF$5:$AP$44,9,FALSE)*(AQ22/1000)","v":0},{"$f":"VLOOKUP(AP22,'Tierbestand Tabellen'!$AF$5:$AP$44,10,FALSE)*(AQ22/1000)","v":0},{"$f":"VLOOKUP(AP22,'Tierbestand Tabellen'!$AF$5:$AP$44,11,FALSE)*(AQ22/1000)","v":0},0,0,0,0,0,0,0,0,0,0,0]
[null,"Bitte wählen:",null,null,"Bitte wählen:",null,null,"Bitte wählen:",{"$nulls":9},{"$f":"VLOOKUP(B23,'Tierbestand Tabellen'!$AE$5:$AF$44,2,FALSE)","v":0},0,{"$f":"VLOOKUP(R23,'Tierbestand Tabellen'!$AF$5:$AP$44,2,FALSE)*(S23/1000)","v":0},{"$f":"VLOOKUP(R23,'Tierbestand Tabellen'!$AF$5:$AP$44,3,FALSE)*(S23/1000)","v":0},{"$f":"VLOOKUP(R23,'Tierbestand Tabellen'!$AF$5:$AP$44,4,FALSE)*(S23/1000)","v":0},{"$f":"VLOOKUP(R23,'Tierbestand Tabellen'!$AF$5:$AP$44,5,FALSE)*(S23/1000)","v":0},{"$f":"VLOOKUP(R23,'Tierbestand Tabellen'!$AF$5:$AP$44,6,FALSE)*(S23/1000)","v":0},{"$f":"VLOOKUP(R23,'Tierbestand Tabellen'!$AF$5:$AP$44,7,FALSE)*(S23/1000)","v":0},{"$f":"VLOOKUP(R23,'Tierbestand Tabellen'!$AF$5:$AP$44,8,FALSE)*(S23/1000)","v":0},{"$f":"VLOOKUP(R23,'Tierbestand Tabellen'!$AF$5:$AP$44,9,FALSE)*(S23/1000)","v":0},{"$f":"VLOOKUP(R23,'Tierbestand Tabellen'!$AF$5:$AP$44,10,FALSE)*(S23/1000)","v":0},{"$f":"VLOOKUP(R23,'Tierbestand Tabellen'!$AF$5:$AP$44,11,FALSE)*(S23/1000)","v":0},{"$f":"VLOOKUP(E23,'Tierbestand Tabellen'!$AE$5:$AF$44,2,FALSE)","v":0},0,{"$f":"VLOOKUP(AD23,'Tierbestand Tabellen'!$AF$5:$AP$44,2,FALSE)*(AE23/1000)","v":0},{"$f":"VLOOKUP(AD23,'Tierbestand Tabellen'!$AF$5:$AP$44,3,FALSE)*(AE23/1000)","v":0},{"$f":"VLOOKUP(AD23,'Tierbestand Tabellen'!$AF$5:$AP$44,4,FALSE)*(AE23/1000)","v":0},{"$f":"VLOOKUP(AD23,'Tierbestand Tabellen'!$AF$5:$AP$44,5,FALSE)*(AE23/1000)","v":0},{"$f":"VLOOKUP(AD23,'Tierbestand Tabellen'!$AF$5:$AP$44,6,FALSE)*(AE23/1000)","v":0},{"$f":"VLOOKUP(AD23,'Tierbestand Tabellen'!$AF$5:$AP$44,7,FALSE)*(AE23/1000)","v":0},{"$f":"VLOOKUP(AD23,'Tierbestand Tabellen'!$AF$5:$AP$44,8,FALSE)*(AE23/1000)","v":0},{"$f":"VLOOKUP(AD23,'Tierbestand Tabellen'!$AF$5:$AP$44,9,FALSE)*(AE23/1000)","v":0},{"$f":"VLOOKUP(AD23,'Tierbestand Tabellen'!$AF$5:$AP$44,10,FALSE)*(AE23/1000)","v":0},{"$f":"VLOOKUP(AD23,'Tierbestand Tabellen'!$AF$5:$AP$44,11,FALSE)*(AE23/1000)","v":0},{"$f":"VLOOKUP(H23,'Tierbestand Tabellen'!$AE$5:$AF$44,2,FALSE)","v":0},0,{"$f":"VLOOKUP(AP23,'Tierbestand Tabellen'!$AF$5:$AP$44,2,FALSE)*(AQ23/1000)","v":0},{"$f":"VLOOKUP(AP23,'Tierbestand Tabellen'!$AF$5:$AP$44,3,FALSE)*(AQ23/1000)","v":0},{"$f":"VLOOKUP(AP23,'Tierbestand Tabellen'!$AF$5:$AP$44,4,FALSE)*(AQ23/1000)","v":0},{"$f":"VLOOKUP(AP23,'Tierbestand Tabellen'!$AF$5:$AP$44,5,FALSE)*(AQ23/1000)","v":0},{"$f":"VLOOKUP(AP23,'Tierbestand Tabellen'!$AF$5:$AP$44,6,FALSE)*(AQ23/1000)","v":0},{"$f":"VLOOKUP(AP23,'Tierbestand Tabellen'!$AF$5:$AP$44,7,FALSE)*(AQ23/1000)","v":0},{"$f":"VLOOKUP(AP23,'Tierbestand Tabellen'!$AF$5:$AP$44,8,FALSE)*(AQ23/1000)","v":0},{"$f":"VLOOKUP(AP23,'Tierbestand Tabellen'!$AF$5:$AP$44,9,FALSE)*(AQ23/1000)","v":0},{"$f":"VLOOKUP(AP23,'Tierbestand Tabellen'!$AF$5:$AP$44,10,FALSE)*(AQ23/1000)","v":0},{"$f":"VLOOKUP(AP23,'Tierbestand Tabellen'!$AF$5:$AP$44,11,FALSE)*(AQ23/1000)","v":0},0,0,0,0,0,0,0,0,0,0,0]
[null,"Bitte wählen:",null,null,"Bitte wählen:",null,null,"Bitte wählen:",{"$nulls":9},{"$f":"VLOOKUP(B24,'Tierbestand Tabellen'!$AE$5:$AF$44,2,FALSE)","v":0},0,{"$f":"VLOOKUP(R24,'Tierbestand Tabellen'!$AF$5:$AP$44,2,FALSE)*(S24/1000)","v":0},{"$f":"VLOOKUP(R24,'Tierbestand Tabellen'!$AF$5:$AP$44,3,FALSE)*(S24/1000)","v":0},{"$f":"VLOOKUP(R24,'Tierbestand Tabellen'!$AF$5:$AP$44,4,FALSE)*(S24/1000)","v":0},{"$f":"VLOOKUP(R24,'Tierbestand Tabellen'!$AF$5:$AP$44,5,FALSE)*(S24/1000)","v":0},{"$f":"VLOOKUP(R24,'Tierbestand Tabellen'!$AF$5:$AP$44,6,FALSE)*(S24/1000)","v":0},{"$f":"VLOOKUP(R24,'Tierbestand Tabellen'!$AF$5:$AP$44,7,FALSE)*(S24/1000)","v":0},{"$f":"VLOOKUP(R24,'Tierbestand Tabellen'!$AF$5:$AP$44,8,FALSE)*(S24/1000)","v":0},{"$f":"VLOOKUP(R24,'Tierbestand Tabellen'!$AF$5:$AP$44,9,FALSE)*(S24/1000)","v":0},{"$f":"VLOOKUP(R24,'Tierbestand Tabellen'!$AF$5:$AP$44,10,FALSE)*(S24/1000)","v":0},{"$f":"VLOOKUP(R24,'Tierbestand Tabellen'!$AF$5:$AP$44,11,FALSE)*(S24/1000)","v":0},{"$f":"VLOOKUP(E24,'Tierbestand Tabellen'!$AE$5:$AF$44,2,FALSE)","v":0},0,{"$f":"VLOOKUP(AD24,'Tierbestand Tabellen'!$AF$5:$AP$44,2,FALSE)*(AE24/1000)","v":0},{"$f":"VLOOKUP(AD24,'Tierbestand Tabellen'!$AF$5:$AP$44,3,FALSE)*(AE24/1000)","v":0},{"$f":"VLOOKUP(AD24,'Tierbestand Tabellen'!$AF$5:$AP$44,4,FALSE)*(AE24/1000)","v":0},{"$f":"VLOOKUP(AD24,'Tierbestand Tabellen'!$AF$5:$AP$44,5,FALSE)*(AE24/1000)","v":0},{"$f":"VLOOKUP(AD24,'Tierbestand Tabellen'!$AF$5:$AP$44,6,FALSE)*(AE24/1000)","v":0},{"$f":"VLOOKUP(AD24,'Tierbestand Tabellen'!$AF$5:$AP$44,7,FALSE)*(AE24/1000)","v":0},{"$f":"VLOOKUP(AD24,'Tierbestand Tabellen'!$AF$5:$AP$44,8,FALSE)*(AE24/1000)","v":0},{"$f":"VLOOKUP(AD24,'Tierbestand Tabellen'!$AF$5:$AP$44,9,FALSE)*(AE24/1000)","v":0},{"$f":"VLOOKUP(AD24,'Tierbestand Tabellen'!$AF$5:$AP$44,10,FALSE)*(AE24/1000)","v":0},{"$f":"VLOOKUP(AD24,'Tierbestand Tabellen'!$AF$5:$AP$44,11,FALSE)*(AE24/1000)","v":0},{"$f":"VLOOKUP(H24,'Tierbestand Tabellen'!$AE$5:$AF$44,2,FALSE)","v":0},0,{"$f":"VLOOKUP(AP24,'Tierbestand Tabellen'!$AF$5:$AP$44,2,FALSE)*(AQ24/1000)","v":0},{"$f":"VLOOKUP(AP24,'Tierbestand Tabellen'!$AF$5:$AP$44,3,FALSE)*(AQ24/1000)","v":0},{"$f":"VLOOKUP(AP24,'Tierbestand Tabellen'!$AF$5:$AP$44,4,FALSE)*(AQ24/1000)","v":0},{"$f":"VLOOKUP(AP24,'Tierbestand Tabellen'!$AF$5:$AP$44,5,FALSE)*(AQ24/1000)","v":0},{"$f":"VLOOKUP(AP24,'Tierbestand Tabellen'!$AF$5:$AP$44,6,FALSE)*(AQ24/1000)","v":0},{"$f":"VLOOKUP(AP24,'Tierbestand Tabellen'!$AF$5:$AP$44,7,FALSE)*(AQ24/1000)","v":0},{"$f":"VLOOKUP(AP24,'Tierbestand Tabellen'!$AF$5:$AP$44,8,FALSE)*(AQ24/1000)","v":0},{"$f":"VLOOKUP(AP24,'Tierbestand Tabellen'!$AF$5:$AP$44,9,FALSE)*(AQ24/1000)","v":0},{"$f":"VLOOKUP(AP24,'Tierbestand Tabellen'!$AF$5:$AP$44,10,FALSE)*(AQ24/1000)","v":0},{"$f":"VLOOKUP(AP24,'Tierbestand Tabellen'!$AF$5:$AP$44,11,FALSE)*(AQ24/1000)","v":0},0,0,0,0,0,0,0,0,0,0,0]
[{"$nulls":17},{"$f":"Betriebsdaten!$B$29","v":2022},{"$nulls":11},{"$f":"Betriebsdaten!$B$30","v":2021},{"$nulls":11},{"$f":"Betriebsdaten!$B$31","v":2020},{"$nulls":11},"Durchschnitt"]
[{"$nulls":17},"Summe",null,"C","N","NH4-N","P2O5","K2O","Ca","MgO","S","Na","Cl","Summe",null,"C","N","NH4-N","P2O5","K2O","Ca","MgO","S","Na","Cl","Summe",null,"C","N","NH4-N","P2O5","K2O","Ca","MgO","S","Na","Cl","Summe","C","N","NH4-N","P2O5","K2O","Ca","MgO","S","Na","Cl"]
[{"$nulls":19},"kg*a-1","kg*a-1","kg*a-1","kg*a-1","kg*a-1","kg*a-1","kg*a-1","kg*a-1","kg*a-1","kg*a-1",null,null,"kg*a-1","kg*a-1","kg*a-1","kg*a-1","kg*a-1","kg*a-1","kg*a-1","kg*a-1","kg*a-1","kg*a-1",null,null,"kg*a-1","kg*a-1","kg*a-1","kg*a-1","kg*a-1","kg*a-1","kg*a-1","kg*a-1","kg*a-1","kg*a-1",null,"kg*a-1","kg*a-1","kg*a-1","kg*a-1","kg*a-1","kg*a-1","kg*a-1","kg*a-1","kg*a-1","kg*a-1"]
[{"$nulls":19},{"$f":"SUM(T20:T24)","v":0},{"$f":"SUM(U20:U24)","v":0},null,{"$f":"SUM(W20:W24)","v":0},0,0,0,0,0,0,null,null,{"$f":"SUM(AF20:AF24)","v":0},{"$f":"SUM(AG20:AG24)","v":0},null,{"$f":"SUM(AI20:AI24)","v":0},0,0,0,0,0,0,null,null,{"$f":"SUM(AR20:AR24)","v":0},0,0,0,0,0,0,0,0,0,null,{"$f":"SUM(BC20:BC24)","v":0},0,0,0,0,0,0,0,0,0]
["A.8.3 Milchverkauf: Bitte geben Sie die verkaufte Milch für die jeweiligen Jahre, mit Eiweißgehalt und Menge an. Bitte nutzen Sie die grünen Felder, sollten Sie Milch verkaufen, die nicht im Drop Down Menü aufgeführt ist.",{"$nulls":16},"Milch",{"$nulls":11},"Milch",{"$nulls":11},"Milch",{"$nulls":11},"Milch"]
[null,{"$f":"Betriebsdaten!$B$29","v":2022},null,null,{"$f":"Betriebsdaten!$B$30","v":2021},null,null,{"$f":"Betriebsdaten!$B$31","v":2020},{"$nulls":9},{"$f":"Betriebsdaten!$B$29","v":2022},{"$nulls":11},{"$f":"Betriebsdaten!$B$30","v":2021},{"$nulls":11},{"$f":"Betriebsdaten!$B$31","v":2020},{"$nulls":11},"Durchschnitt"]
[null,"Milch","Eiweißgehalt","Menge","Milch","Eiweißgehalt","Menge","Milch","Eiweißgehalt","Menge","Bemerkungen (Bsp: Abweichungen Eiweißgehalt)",{"$nulls":6},"Code","Menge (kg)","C","N","NH4-N","P2O5","K2O","Ca","MgO","S","Na","Cl","Code","Menge (kg)","C","N","NH4-N","P2O5","K2O","Ca","MgO","S","Na","Cl","Code","Menge (kg)","C","N","NH4-N","P2O5","K2O","Ca","MgO","S","Na","Cl","Menge (kg)","C","N","NH4-N","P2O5","K2O","Ca","MgO","S","Na","Cl"]
[null,null,"%","t",null,"%","t",null,"%","t",{"$nulls":9},"kg*a-1","kg*a-1","kg*a-1","kg*a-1","kg*a-1","kg*a-1","kg*a-1","kg*a-1","kg*a-1","kg*a-1",null,null,"kg*a-1","kg*a-1","kg*a-1","kg*a-1","kg*a-1","kg*a-1","kg*a-1","kg*a-1","kg*a-1","kg*a-1",null,null,"kg*a-1","kg*a-1","kg*a-1","kg*a-1","kg*a-1","kg*a-1","kg*a-1","kg*a-1","kg*a-1","kg*a-1",null,"kg*a-1","kg*a-1","kg*a-1","kg*a-1","kg*a-1","kg*a-1","kg*a-1","kg*a-1","kg*a-1","kg*a-1"]
[null,"Bitte wählen:",{"$f":"(VLOOKUP(B33,'Tierbestand Tabellen'!$AE$27:$AQ$41,13,FALSE))","v":0},null,"Bitte wählen:",{"$f":"(VLOOKUP(E33,'Tierbestand Tabellen'!$AE$27:$AQ$41,13,FALSE))","v":0},null,"Bitte wählen:",{"$f":"(VLOOKUP(H33,'Tierbestand Tabellen'!$AE$27:$AQ$41,13,FALSE))","v":0},{"$nulls":8},{"$f":"VLOOKUP(B33,'Tierbestand Tabellen'!$AE$5:$AF$44,2,FALSE)","v":0},{"$f":"D33*1000","v":0},{"$f":"VLOOKUP(R33,'Tierbestand Tabellen'!$AF$5:$AP$44,2,FALSE)*(S33/1000)","v":0},{"$f":"VLOOKUP(R33,'Tierbestand Tabellen'!$AF$5:$AP$44,3,FALSE)*(S33/1000)","v":0},{"$f":"VLOOKUP(R33,'Tierbestand Tabellen'!$AF$5:$AP$44,4,FALSE)*(S33/1000)","v":0},{"$f":"VLOOKUP(R33,'Tierbestand Tabellen'!$AF$5:$AP$44,5,FALSE)*(S33/1000)","v":0},{"$f":"VLOOKUP(R33,'Tierbestand Tabellen'!$AF$5:$AP$44,6,FALSE)*(S33/1000)","v":0},{"$f":"VLOOKUP(R33,'Tierbestand Tabellen'!$AF$5:$AP$44,7,FALSE)*(S33/1000)","v":0},{"$f":"VLOOKUP(R33,'Tierbestand Tabellen'!$AF$5:$AP$44,8,FALSE)*(S33/1000)","v":0},{"$f":"VLOOKUP(R33,'Tierbestand Tabellen'!$AF$5:$AP$44,9,FALSE)*(S33/1000)","v":0},{"$f":"VLOOKUP(R33,'Tierbestand Tabellen'!$AF$5:$AP$44,10,FALSE)*(S33/1000)","v":0},{"$f":"VLOOKUP(R33,'Tierbestand Tabellen'!$AF$5:$AP$44,11,FALSE)*(S33/1000)","v":0},{"$f":"VLOOKUP(E33,'Tierbestand Tabellen'!$AE$5:$AF$44,2,FALSE)","v":0},{"$f":"G33*1000","v":0},{"$f":"VLOOKUP(AD33,'Tierbestand Tabellen'!$AF$5:$AP$44,2,FALSE)*(AE33/1000)","v":0},{"$f":"VLOOKUP(AD33,'Tierbestand Tabellen'!$AF$5:$AP$44,3,FALSE)*(AE33/1000)","v":0},{"$f":"VLOOKUP(AD33,'Tierbestand Tabellen'!$AF$5:$AP$44,4,FALSE)*(AE33/1000)","v":0},{"$f":"VLOOKUP(AD33,'Tierbestand Tabellen'!$AF$5:$AP$44,5,FALSE)*(AE33/1000)","v":0},{"$f":"VLOOKUP(AD33,'Tierbestand Tabellen'!$AF$5:$AP$44,6,FALSE)*(AE33/1000)","v":0},{"$f":"VLOOKUP(AD33,'Tierbestand Tabellen'!$AF$5:$AP$44,7,FALSE)*(AE33/1000)","v":0},{"$f":"VLOOKUP(AD33,'Tierbestand Tabellen'!$AF$5:$AP$44,8,FALSE)*(AE33/1000)","v":0},{"$f":"VLOOKUP(AD33,'Tierbestand Tabellen'!$AF$5:$AP$44,9,FALSE)*(AE33/1000)","v":0},{"$f":"VLOOKUP(AD33,'Tierbestand Tabellen'!$AF$5:$AP$44,10,FALSE)*(AE33/1000)","v":0},{"$f":"VLOOKUP(AD33,'Tierbestand Tabellen'!$AF$5:$AP$44,11,FALSE)*(AE33/1000)","v":0},{"$f":"VLOOKUP(H33,'Tierbestand Tabellen'!$AE$5:$AF$44,2,FALSE)","v":0},{"$f":"J33*1000","v":0},{"$f":"VLOOKUP(AP33,'Tierbestand Tabellen'!$AF$5:$AP$44,2,FALSE)*(AQ33/1000)","v":0},{"$f":"VLOOKUP(AP33,'Tierbestand Tabellen'!$AF$5:$AP$44,3,FALSE)*(AQ33/1000)","v":0},{"$f":"VLOOKUP(AP33,'Tierbestand Tabellen'!$AF$5:$AP$44,4,FALSE)*(AQ33/1000)","v":0},{"$f":"VLOOKUP(AP33,'Tierbestand Tabellen'!$AF$5:$AP$44,5,FALSE)*(AQ33/1000)","v":0},{"$f":"VLOOKUP(AP33,'Tierbestand Tabellen'!$AF$5:$AP$44,6,FALSE)*(AQ33/1000)","v":0},{"$f":"VLOOKUP(AP33,'Tierbestand Tabellen'!$AF$5:$AP$44,7,FALSE)*(AQ33/1000)","v":0},{"$f":"VLOOKUP(AP33,'Tierbestand Tabellen'!$AF$5:$AP$44,8,FALSE)*(AQ33/1000)","v":0},{"$f":"VLOOKUP(AP33,'Tierbestand Tabellen'!$AF$5:$AP$44,9,FALSE)*(AQ33/1000)","v":0},{"$f":"VLOOKUP(AP33,'Tierbestand Tabellen'!$AF$5:$AP$44,10,FALSE)*(AQ33/1000)","v":0},{"$f":"VLOOKUP(AP33,'Tierbestand Tabellen'!$AF$5:$AP$44,11,FALSE)*(AQ33/1000)","v":0},{"$f":"AVERAGE(S33,AE33,AQ33)","v":0},{"$f":"AVERAGE(T33,AF33,AR33)","v":0},{"$f":"AVERAGE(U33,AG33,AS33)","v":0},{"$f":"AVERAGE(V33,AH33,AT33)","v":0},0,0,0,0,0,0,0]
[null,"Bitte wählen:",{"$f":"(VLOOKUP(B34,'Tierbestand Tabellen'!$AE$27:$AQ$41,13,FALSE))","v":0},null,"Bitte wählen:",{"$f":"(VLOOKUP(E34,'Tierbestand Tabellen'!$AE$27:$AQ$41,13,FALSE))","v":0},null,"Bitte wählen:",{"$f":"(VLOOKUP(H34,'Tierbestand Tabellen'!$AE$27:$AQ$41,13,FALSE))","v":0},{"$nulls":8},{"$f":"VLOOKUP(B34,'Tierbestand Tabellen'!$AE$5:$AF$44,2,FALSE)","v":0},{"$f":"D34*1000","v":0},{"$f":"VLOOKUP(R34,'Tierbestand Tabellen'!$AF$5:$AP$44,2,FALSE)*(S34/1000)","v":0},{"$f":"VLOOKUP(R34,'Tierbestand Tabellen'!$AF$5:$AP$44,3,FALSE)*(S34/1000)","v":0},{"$f":"VLOOKUP(R34,'Tierbestand Tabellen'!$AF$5:$AP$44,4,FALSE)*(S34/1000)","v":0},{"$f":"VLOOKUP(R34,'Tierbestand Tabellen'!$AF$5:$AP$44,5,FALSE)*(S34/1000)","v":0},{"$f":"VLOOKUP(R34,'Tierbestand Tabellen'!$AF$5:$AP$44,6,FALSE)*(S34/1000)","v":0},{"$f":"VLOOKUP(R34,'Tierbestand Tabellen'!$AF$5:$AP$44,7,FALSE)*(S34/1000)","v":0},{"$f":"VLOOKUP(R34,'Tierbestand Tabellen'!$AF$5:$AP$44,8,FALSE)*(S34/1000)","v":0},{"$f":"VLOOKUP(R34,'Tierbestand Tabellen'!$AF$5:$AP$44,9,FALSE)*(S34/1000)","v":0},{"$f":"VLOOKUP(R34,'Tierbestand Tabellen'!$AF$5:$AP$44,10,FALSE)*(S34/1000)","v":0},{"$f":"VLOOKUP(R34,'Tierbestand Tabellen'!$AF$5:$AP$44,11,FALSE)*(S34/1000)","v":0},{"$f":"VLOOKUP(E34,'Tierbestand Tabellen'!$AE$5:$AF$44,2,FALSE)","v":0},{"$f":"G34*1000","v":0},{"$f":"VLOOKUP(AD34,'Tierbestand Tabellen'!$AF$5:$AP$44,2,FALSE)*(AE34/1000)","v":0},{"$f":"VLOOKUP(AD34,'Tierbestand Tabellen'!$AF$5:$AP$44,3,FALSE)*(AE34/1000)","v":0},{"$f":"VLOOKUP(AD34,'Tierbestand Tabellen'!$AF$5:$AP$44,4,FALSE)*(AE34/1000)","v":0},{"$f":"VLOOKUP(AD34,'Tierbestand Tabellen'!$AF$5:$AP$44,5,FALSE)*(AE34/1000)","v":0},{"$f":"VLOOKUP(AD34,'Tierbestand Tabellen'!$AF$5:$AP$44,6,FALSE)*(AE34/1000)","v":0},{"$f":"VLOOKUP(AD34,'Tierbestand Tabellen'!$AF$5:$AP$44,7,FALSE)*(AE34/1000)","v":0},{"$f":"VLOOKUP(AD34,'Tierbestand Tabellen'!$AF$5:$AP$44,8,FALSE)*(AE34/1000)","v":0},{"$f":"VLOOKUP(AD34,'Tierbestand Tabellen'!$AF$5:$AP$44,9,FALSE)*(AE34/1000)","v":0},{"$f":"VLOOKUP(AD34,'Tierbestand Tabellen'!$AF$5:$AP$44,10,FALSE)*(AE34/1000)","v":0},{"$f":"VLOOKUP(AD34,'Tierbestand Tabellen'!$AF$5:$AP$44,11,FALSE)*(AE34/1000)","v":0},{"$f":"VLOOKUP(H34,'Tierbestand Tabellen'!$AE$5:$AF$44,2,FALSE)","v":0},{"$f":"J34*1000","v":0},{"$f":"VLOOKUP(AP34,'Tierbestand Tabellen'!$AF$5:$AP$44,2,FALSE)*(AQ34/1000)","v":0},{"$f":"VLOOKUP(AP34,'Tierbestand Tabellen'!$AF$5:$AP$44,3,FALSE)*(AQ34/1000)","v":0},{"$f":"VLOOKUP(AP34,'Tierbestand Tabellen'!$AF$5:$AP$44,4,FALSE)*(AQ34/1000)","v":0},{"$f":"VLOOKUP(AP34,'Tierbestand Tabellen'!$AF$5:$AP$44,5,FALSE)*(AQ34/1000)","v":0},{"$f":"VLOOKUP(AP34,'Tierbestand Tabellen'!$AF$5:$AP$44,6,FALSE)*(AQ34/1000)","v":0},{"$f":"VLOOKUP(AP34,'Tierbestand Tabellen'!$AF$5:$AP$44,7,FALSE)*(AQ34/1000)","v":0},{"$f":"VLOOKUP(AP34,'Tierbestand Tabellen'!$AF$5:$AP$44,8,FALSE)*(AQ34/1000)","v":0},{"$f":"VLOOKUP(AP34,'Tierbestand Tabellen'!$AF$5:$AP$44,9,FALSE)*(AQ34/1000)","v":0},{"$f":"VLOOKUP(AP34,'Tierbestand Tabellen'!$AF$5:$AP$44,10,FALSE)*(AQ34/1000)","v":0},{"$f":"VLOOKUP(AP34,'Tierbestand Tabellen'!$AF$5:$AP$44,11,FALSE)*(AQ34/1000)","v":0},{"$f":"AVERAGE(S34,AE34,AQ34)","v":0},{"$f":"AVERAGE(T34,AF34,AR34)","v":0},0,0,0,0,0,0,0,0,0]
[null,"Bitte wählen:",{"$f":"(VLOOKUP(B35,'Tierbestand Tabellen'!$AE$27:$AQ$41,13,FALSE))","v":0},null,"Bitte wählen:",{"$f":"(VLOOKUP(E35,'Tierbestand Tabellen'!$AE$27:$AQ$41,13,FALSE))","v":0},null,"Bitte wählen:",{"$f":"(VLOOKUP(H35,'Tierbestand Tabellen'!$AE$27:$AQ$41,13,FALSE))","v":0},{"$nulls":8},{"$f":"VLOOKUP(B35,'Tierbestand Tabellen'!$AE$5:$AF$44,2,FALSE)","v":0},0,{"$f":"VLOOKUP(R35,'Tierbestand Tabellen'!$AF$5:$AP$44,2,FALSE)*(S35/1000)","v":0},{"$f":"VLOOKUP(R35,'Tierbestand Tabellen'!$AF$5:$AP$44,3,FALSE)*(S35/1000)","v":0},{"$f":"VLOOKUP(R35,'Tierbestand Tabellen'!$AF$5:$AP$44,4,FALSE)*(S35/1000)","v":0},{"$f":"VLOOKUP(R35,'Tierbestand Tabellen'!$AF$5:$AP$44,5,FALSE)*(S35/1000)","v":0},{"$f":"VLOOKUP(R35,'Tierbestand Tabellen'!$AF$5:$AP$44,6,FALSE)*(S35/1000)","v":0},{"$f":"VLOOKUP(R35,'Tierbestand Tabellen'!$AF$5:$AP$44,7,FALSE)*(S35/1000)","v":0},{"$f":"VLOOKUP(R35,'Tierbestand Tabellen'!$AF$5:$AP$44,8,FALSE)*(S35/1000)","v":0},{"$f":"VLOOKUP(R35,'Tierbestand Tabellen'!$AF$5:$AP$44,9,FALSE)*(S35/1000)","v":0},{"$f":"VLOOKUP(R35,'Tierbestand Tabellen'!$AF$5:$AP$44,10,FALSE)*(S35/1000)","v":0},{"$f":"VLOOKUP(R35,'Tierbestand Tabellen'!$AF$5:$AP$44,11,FALSE)*(S35/1000)","v":0},{"$f":"VLOOKUP(E35,'Tierbestand Tabellen'!$AE$5:$AF$44,2,FALSE)","v":0},0,{"$f":"VLOOKUP(AD35,'Tierbestand Tabellen'!$AF$5:$AP$44,2,FALSE)*(AE35/1000)","v":0},{"$f":"VLOOKUP(AD35,'Tierbestand Tabellen'!$AF$5:$AP$44,3,FALSE)*(AE35/1000)","v":0},{"$f":"VLOOKUP(AD35,'Tierbestand Tabellen'!$AF$5:$AP$44,4,FALSE)*(AE35/1000)","v":0},{"$f":"VLOOKUP(AD35,'Tierbestand Tabellen'!$AF$5:$AP$44,5,FALSE)*(AE35/1000)","v":0},{"$f":"VLOOKUP(AD35,'Tierbestand Tabellen'!$AF$5:$AP$44,6,FALSE)*(AE35/1000)","v":0},{"$f":"VLOOKUP(AD35,'Tierbestand Tabellen'!$AF$5:$AP$44,7,FALSE)*(AE35/1000)","v":0},{"$f":"VLOOKUP(AD35,'Tierbestand Tabellen'!$AF$5:$AP$44,8,FALSE)*(AE35/1000)","v":0},{"$f":"VLOOKUP(AD35,'Tierbestand Tabellen'!$AF$5:$AP$44,9,FALSE)*(AE35/1000)","v":0},{"$f":"VLOOKUP(AD35,'Tierbestand Tabellen'!$AF$5:$AP$44,10,FALSE)*(AE35/1000)","v":0},{"$f":"VLOOKUP(AD35,'Tierbestand Tabellen'!$AF$5:$AP$44,11,FALSE)*(AE35/1000)","v":0},{"$f":"VLOOKUP(H35,'Tierbestand Tabellen'!$AE$5:$AF$44,2,FALSE)","v":0},0,{"$f":"VLOOKUP(AP35,'Tierbestand Tabellen'!$AF$5:$AP$44,2,FALSE)*(AQ35/1000)","v":0},{"$f":"VLOOKUP(AP35,'Tierbestand Tabellen'!$AF$5:$AP$44,3,FALSE)*(AQ35/1000)","v":0},{"$f":"VLOOKUP(AP35,'Tierbestand Tabellen'!$AF$5:$AP$44,4,FALSE)*(AQ35/1000)","v":0},{"$f":"VLOOKUP(AP35,'Tierbestand Tabellen'!$AF$5:$AP$44,5,FALSE)*(AQ35/1000)","v":0},{"$f":"VLOOKUP(AP35,'Tierbestand Tabellen'!$AF$5:$AP$44,6,FALSE)*(AQ35/1000)","v":0},{"$f":"VLOOKUP(AP35,'Tierbestand Tabellen'!$AF$5:$AP$44,7,FALSE)*(AQ35/1000)","v":0},{"$f":"VLOOKUP(AP35,'Tierbestand Tabellen'!$AF$5:$AP$44,8,FALSE)*(AQ35/1000)","v":0},{"$f":"VLOOKUP(AP35,'Tierbestand Tabellen'!$AF$5:$AP$44,9,FALSE)*(AQ35/1000)","v":0},{"$f":"VLOOKUP(AP35,'Tierbestand Tabellen'!$AF$5:$AP$44,10,FALSE)*(AQ35/1000)","v":0},{"$f":"VLOOKUP(AP35,'Tierbestand Tabellen'!$AF$5:$AP$44,11,FALSE)*(AQ35/1000)","v":0},{"$f":"AVERAGE(S35,AE35,AQ35)","v":0},0,0,0,0,0,0,0,0,0,0]
[null,"Bitte wählen:",{"$f":"(VLOOKUP(B36,'Tierbestand Tabellen'!$AE$27:$AQ$41,13,FALSE))","v":0},null,"Bitte wählen:",{"$f":"(VLOOKUP(E36,'Tierbestand Tabellen'!$AE$27:$AQ$41,13,FALSE))","v":0},null,"Bitte wählen:",{"$f":"(VLOOKUP(H36,'Tierbestand Tabellen'!$AE$27:$AQ$41,13,FALSE))","v":0},{"$nulls":8},{"$f":"VLOOKUP(B36,'Tierbestand Tabellen'!$AE$5:$AF$44,2,FALSE)","v":0},0,{"$f":"VLOOKUP(R36,'Tierbestand Tabellen'!$AF$5:$AP$44,2,FALSE)*(S36/1000)","v":0},{"$f":"VLOOKUP(R36,'Tierbestand Tabellen'!$AF$5:$AP$44,3,FALSE)*(S36/1000)","v":0},{"$f":"VLOOKUP(R36,'Tierbestand Tabellen'!$AF$5:$AP$44,4,FALSE)*(S36/1000)","v":0},{"$f":"VLOOKUP(R36,'Tierbestand Tabellen'!$AF$5:$AP$44,5,FALSE)*(S36/1000)","v":0},{"$f":"VLOOKUP(R36,'Tierbestand Tabellen'!$AF$5:$AP$44,6,FALSE)*(S36/1000)","v":0},{"$f":"VLOOKUP(R36,'Tierbestand Tabellen'!$AF$5:$AP$44,7,FALSE)*(S36/1000)","v":0},{"$f":"VLOOKUP(R36,'Tierbestand Tabellen'!$AF$5:$AP$44,8,FALSE)*(S36/1000)","v":0},{"$f":"VLOOKUP(R36,'Tierbestand Tabellen'!$AF$5:$AP$44,9,FALSE)*(S36/1000)","v":0},{"$f":"VLOOKUP(R36,'Tierbestand Tabellen'!$AF$5:$AP$44,10,FALSE)*(S36/1000)","v":0},{"$f":"VLOOKUP(R36,'Tierbestand Tabellen'!$AF$5:$AP$44,11,FALSE)*(S36/1000)","v":0},{"$f":"VLOOKUP(E36,'Tierbestand Tabellen'!$AE$5:$AF$44,2,FALSE)","v":0},0,{"$f":"VLOOKUP(AD36,'Tierbestand Tabellen'!$AF$5:$AP$44,2,FALSE)*(AE36/1000)","v":0},{"$f":"VLOOKUP(AD36,'Tierbestand Tabellen'!$AF$5:$AP$44,3,FALSE)*(AE36/1000)","v":0},{"$f":"VLOOKUP(AD36,'Tierbestand Tabellen'!$AF$5:$AP$44,4,FALSE)*(AE36/1000)","v":0},{"$f":"VLOOKUP(AD36,'Tierbestand Tabellen'!$AF$5:$AP$44,5,FALSE)*(AE36/1000)","v":0},{"$f":"VLOOKUP(AD36,'Tierbestand Tabellen'!$AF$5:$AP$44,6,FALSE)*(AE36/1000)","v":0},{"$f":"VLOOKUP(AD36,'Tierbestand Tabellen'!$AF$5:$AP$44,7,FALSE)*(AE36/1000)","v":0},{"$f":"VLOOKUP(AD36,'Tierbestand Tabellen'!$AF$5:$AP$44,8,FALSE)*(AE36/1000)","v":0},{"$f":"VLOOKUP(AD36,'Tierbestand Tabellen'!$AF$5:$AP$44,9,FALSE)*(AE36/1000)","v":0},{"$f":"VLOOKUP(AD36,'Tierbestand Tabellen'!$AF$5:$AP$44,10,FALSE)*(AE36/1000)","v":0},{"$f":"VLOOKUP(AD36,'Tierbestand Tabellen'!$AF$5:$AP$44,11,FALSE)*(AE36/1000)","v":0},{"$f":"VLOOKUP(H36,'Tierbestand Tabellen'!$AE$5:$AF$44,2,FALSE)","v":0},0,{"$f":"VLOOKUP(AP36,'Tierbestand Tabellen'!$AF$5:$AP$44,2,FALSE)*(AQ36/1000)","v":0},{"$f":"VLOOKUP(AP36,'Tierbestand Tabellen'!$AF$5:$AP$44,3,FALSE)*(AQ36/1000)","v":0},{"$f":"VLOOKUP(AP36,'Tierbestand Tabellen'!$AF$5:$AP$44,4,FALSE)*(AQ36/1000)","v":0},{"$f":"VLOOKUP(AP36,'Tierbestand Tabellen'!$AF$5:$AP$44,5,FALSE)*(AQ36/1000)","v":0},{"$f":"VLOOKUP(AP36,'Tierbestand Tabellen'!$AF$5:$AP$44,6,FALSE)*(AQ36/1000)","v":0},{"$f":"VLOOKUP(AP36,'Tierbestand Tabellen'!$AF$5:$AP$44,7,FALSE)*(AQ36/1000)","v":0},{"$f":"VLOOKUP(AP36,'Tierbestand Tabellen'!$AF$5:$AP$44,8,FALSE)*(AQ36/1000)","v":0},{"$f":"VLOOKUP(AP36,'Tierbestand Tabellen'!$AF$5:$AP$44,9,FALSE)*(AQ36/1000)","v":0},{"$f":"VLOOKUP(AP36,'Tierbestand Tabellen'!$AF$5:$AP$44,10,FALSE)*(AQ36/1000)","v":0},{"$f":"VLOOKUP(AP36,'Tierbestand Tabellen'!$AF$5:$AP$44,11,FALSE)*(AQ36/1000)","v":0},{"$f":"AVERAGE(S36,AE36,AQ36)","v":0},0,0,0,0,0,0,0,0,0,0]
[{"$nulls":17},{"$f":"Betriebsdaten!$B$29","v":2022},{"$nulls":11},{"$f":"Betriebsdaten!$B$30","v":2021},{"$nulls":11},{"$f":"Betriebsdaten!$B$31","v":2020},{"$nulls":11},"Durchschnitt"]
[{"$nulls":17},"Summe",null,"C","N","NH4-N","P2O5","K2O","Ca","MgO","S","Na","Cl","Summe",null,"C","N","NH4-N","P2O5","K2O","Ca","MgO","S","Na","Cl","Summe",null,"C","N","NH4-N","P2O5","K2O","Ca","MgO","S","Na","Cl","Summe","C","N","NH4-N","P2O5","K2O","Ca","MgO","S","Na","Cl"]
[{"$nulls":19},"kg*a-1","kg*a-1","kg*a-1","kg*a-1","kg*a-1","kg*a-1","kg*a-1","kg*a-1","kg*a-1","kg*a-1",null,null,"kg*a-1","kg*a-1","kg*a-1","kg*a-1","kg*a-1","kg*a-1","kg*a-1","kg*a-1","kg*a-1","kg*a-1",null,null,"kg*a-1","kg*a-1","kg*a-1","kg*a-1","kg*a-1","kg*a-1","kg*a-1","kg*a-1","kg*a-1","kg*a-1",null,"kg*a-1","kg*a-1","kg*a-1","kg*a-1","kg*a-1","kg*a-1","kg*a-1","kg*a-1","kg*a-1","kg*a-1"]
[{"$nulls":19},{"$f":"SUM(T33:T36)","v":0},{"$f":"SUM(U33:U36)","v":0},0,0,0,0,0,{"$f":"SUM(AA33:AA36)","v":0},0,0,null,null,{"$f":"SUM(AF33:AF36)","v":0},0,0,0,0,0,0,0,0,0,null,null,{"$f":"SUM(AR33:AR36)","v":0},0,0,0,0,0,0,0,0,0,null,{"$f":"SUM(BC33:BC36)","v":0},0,0,0,0,0,0,0,0,0]
[]
[]
[]
[]
["Gesamt Nährstoffoutput ",{"$nulls":16},{"$f":"Betriebsdaten!$B$29","v":2022},{"$nulls":11},{"$f":"Betriebsdaten!$B$30","v":2021},{"$nulls":11},{"$f":"Betriebsdaten!$B$31","v":2020},{"$nulls":11},"Durchschnitt"]
[{"$nulls":17},"Summe",null,"C","N","NH4-N","P2O5","K2O","Ca","MgO","S","Na","Cl","Summe",null,"C","N","NH4-N","P2O5","K2O","Ca","MgO","S","Na","Cl","Summe",null,"C","N","NH4-N","P2O5","K2O","Ca","MgO","S","Na","Cl","Summe","C","N","NH4-N","P2O5","K2O","Ca","MgO","S","Na","Cl"]
[{"$nulls":19},"kg*a-1","kg*a-1","kg*a-1","kg*a-1","kg*a-1","kg*a-1","kg*a-1","kg*a-1","kg*a-1","kg*a-1",null,null,"kg*a-1","kg*a-1","kg*a-1","kg*a-1","kg*a-1","kg*a-1","kg*a-1","kg*a-1","kg*a-1","kg*a-1",null,null,"kg*a-1","kg*a-1","kg*a-1","kg*a-1","kg*a-1","kg*a-1","kg*a-1","kg*a-1","kg*a-1","kg*a-1",null,"kg*a-1","kg*a-1","kg*a-1","kg*a-1","kg*a-1","kg*a-1","kg*a-1","kg*a-1","kg*a-1","kg*a-1"]
[{"$nulls":19},{"$f":"T14+T28+T40","v":0},{"$f":"U14+U28+U40","v":0},0,0,0,0,0,{"$f":"AA14+AA28+AA40","v":0},0,0,null,null,{"$f":"AF14+AF28+AF40","v":0},0,0,0,0,0,0,0,0,0,null,null,{"$f":"AR14+AR28+AR40","v":0},0,0,0,0,0,0,0,0,0,null,{"$f":"BC14+BC28+BC40","v":0},0,0,0,0,0,0,0,0,0]

{"sheet":"Wi-Dü-Abgabe","index":11,"n_rows":33,"n_cols":54,"rows_kept":33,"merged":[[0,0,0,5],[1,7,1,9],[1,19,1,21],[1,31,1,33],[1,43,1,45],[2,0,2,5],[2,7,2,18],[2,19,2,30],[2,31,2,42],[2,43,2,53],[3,7,4,7],[3,8,4,8],[3,19,4,19],[3,20,4,20],[3,31,4,31],[3,32,4,32],[3,43,4,43],[5,0,12,0],[13,0,20,0],[21,0,28,0],[29,0,32,6],[29,7,29,18],[29,19,29,30],[29,31,29,42],[29,43,29,53],[30,7,32,8],[30,19,32,20],[30,31,32,32],[30,43,32,43]]}
["A9.Tierische Nährstoffoutputs"]
[{"$nulls":7},"Wirtschaftsdüngerabgabe",{"$nulls":11},"Wirtschaftsdüngerabgabe",{"$nulls":11},"Wirtschaftsdüngerabgabe",{"$nulls":11},"Wirtschaftsdüngerabgabe"]
["A9.1 Wirtschaftsdüngerabgabe: Bitte geben Sie für die Jahr 2016, 2017 und 2018  die jeweiligen abgegebenen Mengen organischen Dünger in t oder m³ an. Desweiteren benötigen wir Informationen über den Zielort des Wirtschaftsdüngers sowie die Entfernung (Transportstrecke). Abschließend werden noch die Daten zur Zusammensetzung des aufgenommenen Wirtschaftsdüngers erfragt.  Nutzen Sie bitte die grünen Felder, sollten Sie Wirtschaftsdünger abgegeben haben, die nicht im Drop Down Menü aufgeführt sind. Oder legen Sie über den Hyperlink in B5 einen eigenen Dünger in der Datenbank an.",{"$nulls":6},{"$f":"Betriebsdaten!$B$29","v":2022},{"$nulls":11},{"$f":"Betriebsdaten!$B$30","v":2021},{"$nulls":11},{"$f":"Betriebsdaten!$B$31","v":2020},{"$nulls":11},"Durchschnitt"]
["Jahr","Düngerart",null,"Einheit","Menge",null,null,"Code","Menge (kg)","C","N","NH4-N","P2O5","K2O","Ca","MgO","S","Na","Cl","Code","Menge (kg)","C","N","NH4-N","P2O5","K2O","Ca","MgO","S","Na","Cl","Code","Menge (kg)","C","N","NH4-N","P2O5","K2O","Ca","MgO","S","Na","Cl","Menge (kg)","C","N","NH4-N","P2O5","K2O","Ca","MgO","S","Na","Cl"]
[null,{"$f":"HYPERLINK(\"#'Wirtschaftsdünger Tabellen'!B66\",\"eigenen Wirtschaftsdünger bzw. Biogasanlagengärrest hinzufügen\")","v":"eigenen Wirtschaftsdünger bzw. Biogasanlagengärrest hinzufügen"},null,"m³/t","m³/t","Bemerkung",{"$nulls":3},"kg*a-1","kg*a-1","kg*a-1","kg*a-1","kg*a-1","kg*a-1","kg*a-1","kg*a-1","kg*a-1","kg*a-1",null,null,"kg*a-1","kg*a-1","kg*a-1","kg*a-1","kg*a-1","kg*a-1","kg*a-1","kg*a-1","kg*a-1","kg*a-1",null,null,"kg*a-1","kg*a-1","kg*a-1","kg*a-1","kg*a-1","kg*a-1","kg*a-1","kg*a-1","kg*a-1","kg*a-1",null,"kg*a-1","kg*a-1","kg*a-1","kg*a-1","kg*a-1","kg*a-1","kg*a-1","kg*a-1","kg*a-1","kg*a-1"]
[{"$f":"Betriebsdaten!$B$29","v":2022},"Bitte wählen:",{"$nulls":5},{"$f":"VLOOKUP(B6,'Wirtschaftsdünger Tabellen'!$B$3:$C$100,2,FALSE)","v":0},{"$f":"E6*1000","v":0},{"$f":"VLOOKUP(H6,'Wirtschaftsdünger Tabellen'!$C$3:$Q$100,5,FALSE)*(I6/1000)","v":0},{"$f":"VLOOKUP(H6,'Wirtschaftsdünger Tabellen'!$C$3:$Q$100,6,FALSE)*(I6/1000)","v":0},{"$f":"VLOOKUP(H6,'Wirtschaftsdünger Tabellen'!$C$3:$Q$100,7,FALSE)*(I6/1000)","v":0},{"$f":"VLOOKUP(H6,'Wirtschaftsdünger Tabellen'!$C$3:$Q$100,8,FALSE)*(I6/1000)","v":0},{"$f":"VLOOKUP(H6,'Wirtschaftsdünger Tabellen'!$C$3:$Q$100,9,FALSE)*(I6/1000)","v":0},{"$f":"VLOOKUP(H6,'Wirtschaftsdünger Tabellen'!$C$3:$Q$100,10,FALSE)*(I6/1000)","v":0},{"$f":"VLOOKUP(H6,'Wirtschaftsdünger Tabellen'!$C$3:$Q$100,11,FALSE)*(I6/1000)","v":0},{"$f":"VLOOKUP(H6,'Wirtschaftsdünger Tabellen'!$C$3:$Q$100,12,FALSE)*(I6/1000)","v":0},{"$f":"VLOOKUP(H6,'Wirtschaftsdünger Tabellen'!$C$3:$Q$100,13,FALSE)*(I6/1000)","v":0},{"$f":"VLOOKUP(H6,'Wirtschaftsdünger Tabellen'!$C$3:$Q$100,14,FALSE)*(I6/1000)","v":0}]
[null,"Bitte wählen:",{"$nulls":5},{"$f":"VLOOKUP(B7,'Wirtschaftsdünger Tabellen'!$B$3:$C$100,2,FALSE)","v":0},0,{"$f":"VLOOKUP(H7,'Wirtschaftsdünger Tabellen'!$C$3:$Q$100,5,FALSE)*(I7/1000)","v":0},{"$f":"VLOOKUP(H7,'Wirtschaftsdünger Tabellen'!$C$3:$Q$100,6,FALSE)*(I7/1000)","v":0},{"$f":"VLOOKUP(H7,'Wirtschaftsdünger Tabellen'!$C$3:$Q$100,7,FALSE)*(I7/1000)","v":0},{"$f":"VLOOKUP(H7,'Wirtschaftsdünger Tabellen'!$C$3:$Q$100,8,FALSE)*(I7/1000)","v":0},{"$f":"VLOOKUP(H7,'Wirtschaftsdünger Tabellen'!$C$3:$Q$100,9,FALSE)*(I7/1000)","v":0},{"$f":"VLOOKUP(H7,'Wirtschaftsdünger Tabellen'!$C$3:$Q$100,10,FALSE)*(I7/1000)","v":0},{"$f":"VLOOKUP(H7,'Wirtschaftsdünger Tabellen'!$C$3:$Q$100,11,FALSE)*(I7/1000)","v":0},{"$f":"VLOOKUP(H7,'Wirtschaftsdünger Tabellen'!$C$3:$Q$100,12,FALSE)*(I7/1000)","v":0},{"$f":"VLOOKUP(H7,'Wirtschaftsdünger Tabellen'!$C$3:$Q$100,13,FALSE)*(I7/1000)","v":0},{"$f":"VLOOKUP(H7,'Wirtschaftsdünger Tabellen'!$C$3:$Q$100,12,FALSE)*(I7/1000)","v":0}]
[null,"Bitte wählen:",{"$nulls":5},{"$f":"VLOOKUP(B8,'Wirtschaftsdünger Tabellen'!$B$3:$C$100,2,FALSE)","v":0},0,{"$f":"VLOOKUP(H8,'Wirtschaftsdünger Tabellen'!$C$3:$Q$100,5,FALSE)*(I8/1000)","v":0},{"$f":"VLOOKUP(H8,'Wirtschaftsdünger Tabellen'!$C$3:$Q$100,6,FALSE)*(I8/1000)","v":0},{"$f":"VLOOKUP(H8,'Wirtschaftsdünger Tabellen'!$C$3:$Q$100,7,FALSE)*(I8/1000)","v":0},{"$f":"VLOOKUP(H8,'Wirtschaftsdünger Tabellen'!$C$3:$Q$100,8,FALSE)*(I8/1000)","v":0},{"$f":"VLOOKUP(H8,'Wirtschaftsdünger Tabellen'!$C$3:$Q$100,9,FALSE)*(I8/1000)","v":0},{"$f":"VLOOKUP(H8,'Wirtschaftsdünger Tabellen'!$C$3:$Q$100,10,FALSE)*(I8/1000)","v":0},{"$f":"VLOOKUP(H8,'Wirtschaftsdünger Tabellen'!$C$3:$Q$100,11,FALSE)*(I8/1000)","v":0},{"$f":"VLOOKUP(H8,'Wirtschaftsdünger Tabellen'!$C$3:$Q$100,12,FALSE)*(I8/1000)","v":0},{"$f":"VLOOKUP(H8,'Wirtschaftsdünger Tabellen'!$C$3:$Q$100,13,FALSE)*(I8/1000)","v":0},{"$f":"VLOOKUP(H8,'Wirtschaftsdünger Tabellen'!$C$3:$Q$100,12,FALSE)*(I8/1000)","v":0}]
[null,"Bitte wählen:",{"$nulls":5},{"$f":"VLOOKUP(B9,'Wirtschaftsdünger Tabellen'!$B$3:$C$100,2,FALSE)","v":0},0,{"$f":"VLOOKUP(H9,'Wirtschaftsdünger Tabellen'!$C$3:$Q$100,5,FALSE)*(I9/1000)","v":0},{"$f":"VLOOKUP(H9,'Wirtschaftsdünger Tabellen'!$C$3:$Q$100,6,FALSE)*(I9/1000)","v":0},{"$f":"VLOOKUP(H9,'Wirtschaftsdünger Tabellen'!$C$3:$Q$100,7,FALSE)*(I9/1000)","v":0},{"$f":"VLOOKUP(H9,'Wirtschaftsdünger Tabellen'!$C$3:$Q$100,8,FALSE)*(I9/1000)","v":0},{"$f":"VLOOKUP(H9,'Wirtschaftsdünger Tabellen'!$C$3:$Q$100,9,FALSE)*(I9/1000)","v":0},{"$f":"VLOOKUP(H9,'Wirtschaftsdünger Tabellen'!$C$3:$Q$100,10,FALSE)*(I9/1000)","v":0},{"$f":"VLOOKUP(H9,'Wirtschaftsdünger Tabellen'!$C$3:$Q$100,11,FALSE)*(I9/1000)","v":0},{"$f":"VLOOKUP(H9,'Wirtschaftsdünger Tabellen'!$C$3:$Q$100,12,FALSE)*(I9/1000)","v":0},{"$f":"VLOOKUP(H9,'Wirtschaftsdünger Tabellen'!$C$3:$Q$100,13,FALSE)*(I9/1000)","v":0},{"$f":"VLOOKUP(H9,'Wirtschaftsdünger Tabellen'!$C$3:$Q$100,12,FALSE)*(I9/1000)","v":0}]
[null,"Bitte wählen:",{"$nulls":5},{"$f":"VLOOKUP(B10,'Wirtschaftsdünger Tabellen'!$B$3:$C$100,2,FALSE)","v":0},0,{"$f":"VLOOKUP(H10,'Wirtschaftsdünger Tabellen'!$C$3:$Q$100,5,FALSE)*(I10/1000)","v":0},{"$f":"VLOOKUP(H10,'Wirtschaftsdünger Tabellen'!$C$3:$Q$100,6,FALSE)*(I10/1000)","v":0},{"$f":"VLOOKUP(H10,'Wirtschaftsdünger Tabellen'!$C$3:$Q$100,7,FALSE)*(I10/1000)","v":0},{"$f":"VLOOKUP(H10,'Wirtschaftsdünger Tabellen'!$C$3:$Q$100,8,FALSE)*(I10/1000)","v":0},{"$f":"VLOOKUP(H10,'Wirtschaftsdünger Tabellen'!$C$3:$Q$100,9,FALSE)*(I10/1000)","v":0},{"$f":"VLOOKUP(H10,'Wirtschaftsdünger Tabellen'!$C$3:$Q$100,10,FALSE)*(I10/1000)","v":0},{"$f":"VLOOKUP(H10,'Wirtschaftsdünger Tabellen'!$C$3:$Q$100,11,FALSE)*(I10/1000)","v":0},{"$f":"VLOOKUP(H10,'Wirtschaftsdünger Tabellen'!$C$3:$Q$100,12,FALSE)*(I10/1000)","v":0},{"$f":"VLOOKUP(H10,'Wirtschaftsdünger Tabellen'!$C$3:$Q$100,13,FALSE)*(I10/1000)","v":0},{"$f":"VLOOKUP(H10,'Wirtschaftsdünger Tabellen'!$C$3:$Q$100,12,FALSE)*(I10/1000)","v":0}]
[null,"Bitte wählen:",{"$nulls":5},{"$f":"VLOOKUP(B11,'Wirtschaftsdünger Tabellen'!$B$3:$C$100,2,FALSE)","v":0},0,{"$f":"VLOOKUP(H11,'Wirtschaftsdünger Tabellen'!$C$3:$Q$100,5,FALSE)*(I11/1000)","v":0},{"$f":"VLOOKUP(H11,'Wirtschaftsdünger Tabellen'!$C$3:$Q$100,6,FALSE)*(I11/1000)","v":0},{"$f":"VLOOKUP(H11,'Wirtschaftsdünger Tabellen'!$C$3:$Q$100,7,FALSE)*(I11/1000)","v":0},{"$f":"VLOOKUP(H11,'Wirtschaftsdünger Tabellen'!$C$3:$Q$100,8,FALSE)*(I11/1000)","v":0},{"$f":"VLOOKUP(H11,'Wirtschaftsdünger Tabellen'!$C$3:$Q$100,9,FALSE)*(I11/1000)","v":0},{"$f":"VLOOKUP(H11,'Wirtschaftsdünger Tabellen'!$C$3:$Q$100,10,FALSE)*(I11/1000)","v":0},{"$f":"VLOOKUP(H11,'Wirtschaftsdünger Tabellen'!$C$3:$Q$100,11,FALSE)*(I11/1000)","v":0},{"$f":"VLOOKUP(H11,'Wirtschaftsdünger Tabellen'!$C$3:$Q$100,12,FALSE)*(I11/1000)","v":0},{"$f":"VLOOKUP(H11,'Wirtschaftsdünger Tabellen'!$C$3:$Q$100,13,FALSE)*(I11/1000)","v":0},{"$f":"VLOOKUP(H11,'Wirtschaftsdünger Tabellen'!$C$3:$Q$100,12,FALSE)*(I11/1000)","v":0}]
[null,"Bitte wählen:",{"$nulls":5},{"$f":"VLOOKUP(B12,'Wirtschaftsdünger Tabellen'!$B$3:$C$100,2,FALSE)","v":0},0,{"$f":"VLOOKUP(H12,'Wirtschaftsdünger Tabellen'!$C$3:$Q$100,5,FALSE)*(I12/1000)","v":0},{"$f":"VLOOKUP(H12,'Wirtschaftsdünger Tabellen'!$C$3:$Q$100,6,FALSE)*(I12/1000)","v":0},{"$f":"VLOOKUP(H12,'Wirtschaftsdünger Tabellen'!$C$3:$Q$100,7,FALSE)*(I12/1000)","v":0},{"$f":"VLOOKUP(H12,'Wirtschaftsdünger Tabellen'!$C$3:$Q$100,8,FALSE)*(I12/1000)","v":0},{"$f":"VLOOKUP(H12,'Wirtschaftsdünger Tabellen'!$C$3:$Q$100,9,FALSE)*(I12/1000)","v":0},{"$f":"VLOOKUP(H12,'Wirtschaftsdünger Tabellen'!$C$3:$Q$100,10,FALSE)*(I12/1000)","v":0},{"$f":"VLOOKUP(H12,'Wirtschaftsdünger Tabellen'!$C$3:$Q$100,11,FALSE)*(I12/1000)","v":0},{"$f":"VLOOKUP(H12,'Wirtschaftsdünger Tabellen'!$C$3:$Q$100,12,FALSE)*(I12/1000)","v":0},{"$f":"VLOOKUP(H12,'Wirtschaftsdünger Tabellen'!$C$3:$Q$100,13,FALSE)*(I12/1000)","v":0},{"$f":"VLOOKUP(H12,'Wirtschaftsdünger Tabellen'!$C$3:$Q$100,12,FALSE)*(I12/1000)","v":0}]
[null,"Bitte wählen:",{"$nulls":5},{"$f":"VLOOKUP(B13,'Wirtschaftsdünger Tabellen'!$B$3:$C$100,2,FALSE)","v":0},0,{"$f":"VLOOKUP(H13,'Wirtschaftsdünger Tabellen'!$C$3:$Q$100,5,FALSE)*(I13/1000)","v":0},{"$f":"VLOOKUP(H13,'Wirtschaftsdünger Tabellen'!$C$3:$Q$100,6,FALSE)*(I13/1000)","v":0},{"$f":"VLOOKUP(H13,'Wirtschaftsdünger Tabellen'!$C$3:$Q$100,7,FALSE)*(I13/1000)","v":0},{"$f":"VLOOKUP(H13,'Wirtschaftsdünger Tabellen'!$C$3:$Q$100,8,FALSE)*(I13/1000)","v":0},{"$f":"VLOOKUP(H13,'Wirtschaftsdünger Tabellen'!$C$3:$Q$100,9,FALSE)*(I13/1000)","v":0},{"$f":"VLOOKUP(H13,'Wirtschaftsdünger Tabellen'!$C$3:$Q$100,10,FALSE)*(I13/1000)","v":0},{"$f":"VLOOKUP(H13,'Wirtschaftsdünger Tabellen'!$C$3:$Q$100,11,FALSE)*(I13/1000)","v":0},{"$f":"VLOOKUP(H13,'Wirtschaftsdünger Tabellen'!$C$3:$Q$100,12,FALSE)*(I13/1000)","v":0},{"$f":"VLOOKUP(H13,'Wirtschaftsdünger Tabellen'!$C$3:$Q$100,13,FALSE)*(I13/1000)","v":0},{"$f":"VLOOKUP(H13,'Wirtschaftsdünger Tabellen'!$C$3:$Q$100,12,FALSE)*(I13/1000)","v":0}]
[{"$f":"Betriebsdaten!$B$30","v":2021},"Bitte wählen:",{"$nulls":17},{"$f":"VLOOKUP(B14,'Wirtschaftsdünger Tabellen'!$B$3:$C$100,2,FALSE)","v":0},{"$f":"E14*1000","v":0},{"$f":"VLOOKUP(T14,'Wirtschaftsdünger Tabellen'!$C$3:$Q$100,5,FALSE)*(U14/1000)","v":0},{"$f":"VLOOKUP(T14,'Wirtschaftsdünger Tabellen'!$C$3:$Q$100,6,FALSE)*(U14/1000)","v":0},{"$f":"VLOOKUP(T14,'Wirtschaftsdünger Tabellen'!$C$3:$Q$100,7,FALSE)*(U14/1000)","v":0},{"$f":"VLOOKUP(T14,'Wirtschaftsdünger Tabellen'!$C$3:$Q$100,8,FALSE)*(U14/1000)","v":0},{"$f":"VLOOKUP(T14,'Wirtschaftsdünger Tabellen'!$C$3:$Q$100,9,FALSE)*(U14/1000)","v":0},{"$f":"VLOOKUP(T14,'Wirtschaftsdünger Tabellen'!$C$3:$Q$100,10,FALSE)*(U14/1000)","v":0},{"$f":"VLOOKUP(T14,'Wirtschaftsdünger Tabellen'!$C$3:$Q$100,11,FALSE)*(U14/1000)","v":0},{"$f":"VLOOKUP(T14,'Wirtschaftsdünger Tabellen'!$C$3:$Q$100,12,FALSE)*(U14/1000)","v":0},{"$f":"VLOOKUP(T14,'Wirtschaftsdünger Tabellen'!$C$3:$Q$100,13,FALSE)*(U14/1000)","v":0},{"$f":"VLOOKUP(T14,'Wirtschaftsdünger Tabellen'!$C$3:$Q$100,14,FALSE)*(U14/1000)","v":0}]
[null,"Bitte wählen:",{"$nulls":17},{"$f":"VLOOKUP(B15,'Wirtschaftsdünger Tabellen'!$B$3:$C$100,2,FALSE)","v":0},0,{"$f":"VLOOKUP(T15,'Wirtschaftsdünger Tabellen'!$C$3:$Q$100,5,FALSE)*(U15/1000)","v":0},{"$f":"VLOOKUP(T15,'Wirtschaftsdünger Tabellen'!$C$3:$Q$100,6,FALSE)*(U15/1000)","v":0},{"$f":"VLOOKUP(T15,'Wirtschaftsdünger Tabellen'!$C$3:$Q$100,7,FALSE)*(U15/1000)","v":0},{"$f":"VLOOKUP(T15,'Wirtschaftsdünger Tabellen'!$C$3:$Q$100,8,FALSE)*(U15/1000)","v":0},{"$f":"VLOOKUP(T15,'Wirtschaftsdünger Tabellen'!$C$3:$Q$100,9,FALSE)*(U15/1000)","v":0},{"$f":"VLOOKUP(T15,'Wirtschaftsdünger Tabellen'!$C$3:$Q$100,10,FALSE)*(U15/1000)","v":0},{"$f":"VLOOKUP(T15,'Wirtschaftsdünger Tabellen'!$C$3:$Q$100,11,FALSE)*(U15/1000)","v":0},{"$f":"VLOOKUP(T15,'Wirtschaftsdünger Tabellen'!$C$3:$Q$100,12,FALSE)*(U15/1000)","v":0},{"$f":"VLOOKUP(T15,'Wirtschaftsdünger Tabellen'!$C$3:$Q$100,13,FALSE)*(U15/1000)","v":0},{"$f":"VLOOKUP(T15,'Wirtschaftsdünger Tabellen'!$C$3:$Q$100,14,FALSE)*(U15/1000)","v":0}]
[null,"Bitte wählen:",{"$nulls":17},{"$f":"VLOOKUP(B16,'Wirtschaftsdünger Tabellen'!$B$3:$C$100,2,FALSE)","v":0},0,{"$f":"VLOOKUP(T16,'Wirtschaftsdünger Tabellen'!$C$3:$Q$100,5,FALSE)*(U16/1000)","v":0},{"$f":"VLOOKUP(T16,'Wirtschaftsdünger Tabellen'!$C$3:$Q$100,6,FALSE)*(U16/1000)","v":0},{"$f":"VLOOKUP(T16,'Wirtschaftsdünger Tabellen'!$C$3:$Q$100,7,FALSE)*(U16/1000)","v":0},{"$f":"VLOOKUP(T16,'Wirtschaftsdünger Tabellen'!$C$3:$Q$100,8,FALSE)*(U16/1000)","v":0},{"$f":"VLOOKUP(T16,'Wirtschaftsdünger Tabellen'!$C$3:$Q$100,9,FALSE)*(U16/1000)","v":0},{"$f":"VLOOKUP(T16,'Wirtschaftsdünger Tabellen'!$C$3:$Q$100,10,FALSE)*(U16/1000)","v":0},{"$f":"VLOOKUP(T16,'Wirtschaftsdünger Tabellen'!$C$3:$Q$100,11,FALSE)*(U16/1000)","v":0},{"$f":"VLOOKUP(T16,'Wirtschaftsdünger Tabellen'!$C$3:$Q$100,12,FALSE)*(U16/1000)","v":0},{"$f":"VLOOKUP(T16,'Wirtschaftsdünger Tabellen'!$C$3:$Q$100,13,FALSE)*(U16/1000)","v":0},{"$f":"VLOOKUP(T16,'Wirtschaftsdünger Tabellen'!$C$3:$Q$100,14,FALSE)*(U16/1000)","v":0}]
[null,"Bitte wählen:",{"$nulls":17},{"$f":"VLOOKUP(B17,'Wirtschaftsdünger Tabellen'!$B$3:$C$100,2,FALSE)","v":0},0,{"$f":"VLOOKUP(T17,'Wirtschaftsdünger Tabellen'!$C$3:$Q$100,5,FALSE)*(U17/1000)","v":0},{"$f":"VLOOKUP(T17,'Wirtschaftsdünger Tabellen'!$C$3:$Q$100,6,FALSE)*(U17/1000)","v":0},{"$f":"VLOOKUP(T17,'Wirtschaftsdünger Tabellen'!$C$3:$Q$100,7,FALSE)*(U17/1000)","v":0},{"$f":"VLOOKUP(T17,'Wirtschaftsdünger Tabellen'!$C$3:$Q$100,8,FALSE)*(U17/1000)","v":0},{"$f":"VLOOKUP(T17,'Wirtschaftsdünger Tabellen'!$C$3:$Q$100,9,FALSE)*(U17/1000)","v":0},{"$f":"VLOOKUP(T17,'Wirtschaftsdünger Tabellen'!$C$3:$Q$100,10,FALSE)*(U17/1000)","v":0},{"$f":"VLOOKUP(T17,'Wirtschaftsdünger Tabellen'!$C$3:$Q$100,11,FALSE)*(U17/1000)","v":0},{"$f":"VLOOKUP(T17,'Wirtschaftsdünger Tabellen'!$C$3:$Q$100,12,FALSE)*(U17/1000)","v":0},{"$f":"VLOOKUP(T17,'Wirtschaftsdünger Tabellen'!$C$3:$Q$100,13,FALSE)*(U17/1000)","v":0},{"$f":"VLOOKUP(T17,'Wirtschaftsdünger Tabellen'!$C$3:$Q$100,14,FALSE)*(U17/1000)","v":0}]
[null,"Bitte wählen:",{"$nulls":17},{"$f":"VLOOKUP(B18,'Wirtschaftsdünger Tabellen'!$B$3:$C$100,2,FALSE)","v":0},0,{"$f":"VLOOKUP(T18,'Wirtschaftsdünger Tabellen'!$C$3:$Q$100,5,FALSE)*(U18/1000)","v":0},{"$f":"VLOOKUP(T18,'Wirtschaftsdünger Tabellen'!$C$3:$Q$100,6,FALSE)*(U18/1000)","v":0},{"$f":"VLOOKUP(T18,'Wirtschaftsdünger Tabellen'!$C$3:$Q$100,7,FALSE)*(U18/1000)","v":0},{"$f":"VLOOKUP(T18,'Wirtschaftsdünger Tabellen'!$C$3:$Q$100,8,FALSE)*(U18/1000)","v":0},{"$f":"VLOOKUP(T18,'Wirtschaftsdünger Tabellen'!$C$3:$Q$100,9,FALSE)*(U18/1000)","v":0},{"$f":"VLOOKUP(T18,'Wirtschaftsdünger Tabellen'!$C$3:$Q$100,10,FALSE)*(U18/1000)","v":0},{"$f":"VLOOKUP(T18,'Wirtschaftsdünger Tabellen'!$C$3:$Q$100,11,FALSE)*(U18/1000)","v":0},{"$f":"VLOOKUP(T18,'Wirtschaftsdünger Tabellen'!$C$3:$Q$100,12,FALSE)*(U18/1000)","v":0},{"$f":"VLOOKUP(T18,'Wirtschaftsdünger Tabellen'!$C$3:$Q$100,13,FALSE)*(U18/1000)","v":0},{"$f":"VLOOKUP(T18,'Wirtschaftsdünger Tabellen'!$C$3:$Q$100,14,FALSE)*(U18/1000)","v":0}]
[null,"Bitte wählen:",{"$nulls":17},{"$f":"VLOOKUP(B19,'Wirtschaftsdünger Tabellen'!$B$3:$C$100,2,FALSE)","v":0},0,{"$f":"VLOOKUP(T19,'Wirtschaftsdünger Tabellen'!$C$3:$Q$100,5,FALSE)*(U19/1000)","v":0},{"$f":"VLOOKUP(T19,'Wirtschaftsdünger Tabellen'!$C$3:$Q$100,6,FALSE)*(U19/1000)","v":0},{"$f":"VLOOKUP(T19,'Wirtschaftsdünger Tabellen'!$C$3:$Q$100,7,FALSE)*(U19/1000)","v":0},{"$f":"VLOOKUP(T19,'Wirtschaftsdünger Tabellen'!$C$3:$Q$100,8,FALSE)*(U19/1000)","v":0},{"$f":"VLOOKUP(T19,'Wirtschaftsdünger Tabellen'!$C$3:$Q$100,9,FALSE)*(U19/1000)","v":0},{"$f":"VLOOKUP(T19,'Wirtschaftsdünger Tabellen'!$C$3:$Q$100,10,FALSE)*(U19/1000)","v":0},{"$f":"VLOOKUP(T19,'Wirtschaftsdünger Tabellen'!$C$3:$Q$100,11,FALSE)*(U19/1000)","v":0},{"$f":"VLOOKUP(T19,'Wirtschaftsdünger Tabellen'!$C$3:$Q$100,12,FALSE)*(U19/1000)","v":0},{"$f":"VLOOKUP(T19,'Wirtschaftsdünger Tabellen'!$C$3:$Q$100,13,FALSE)*(U19/1000)","v":0},{"$f":"VLOOKUP(T19,'Wirtschaftsdünger Tabellen'!$C$3:$Q$100,14,FALSE)*(U19/1000)","v":0}]
[null,"Bitte wählen:",{"$nulls":17},{"$f":"VLOOKUP(B20,'Wirtschaftsdünger Tabellen'!$B$3:$C$100,2,FALSE)","v":0},0,{"$f":"VLOOKUP(T20,'Wirtschaftsdünger Tabellen'!$C$3:$Q$100,5,FALSE)*(U20/1000)","v":0},{"$f":"VLOOKUP(T20,'Wirtschaftsdünger Tabellen'!$C$3:$Q$100,6,FALSE)*(U20/1000)","v":0},{"$f":"VLOOKUP(T20,'Wirtschaftsdünger Tabellen'!$C$3:$Q$100,7,FALSE)*(U20/1000)","v":0},{"$f":"VLOOKUP(T20,'Wirtschaftsdünger Tabellen'!$C$3:$Q$100,8,FALSE)*(U20/1000)","v":0},{"$f":"VLOOKUP(T20,'Wirtschaftsdünger Tabellen'!$C$3:$Q$100,9,FALSE)*(U20/1000)","v":0},{"$f":"VLOOKUP(T20,'Wirtschaftsdünger Tabellen'!$C$3:$Q$100,10,FALSE)*(U20/1000)","v":0},{"$f":"VLOOKUP(T20,'Wirtschaftsdünger Tabellen'!$C$3:$Q$100,11,FALSE)*(U20/1000)","v":0},{"$f":"VLOOKUP(T20,'Wirtschaftsdünger Tabellen'!$C$3:$Q$100,12,FALSE)*(U20/1000)","v":0},{"$f":"VLOOKUP(T20,'Wirtschaftsdünger Tabellen'!$C$3:$Q$100,13,FALSE)*(U20/1000)","v":0},{"$f":"VLOOKUP(T20,'Wirtschaftsdünger Tabellen'!$C$3:$Q$100,14,FALSE)*(U20/1000)","v":0}]
[null,"Bitte wählen:",{"$nulls":17},{"$f":"VLOOKUP(B21,'Wirtschaftsdünger Tabellen'!$B$3:$C$100,2,FALSE)","v":0},0,{"$f":"VLOOKUP(T21,'Wirtschaftsdünger Tabellen'!$C$3:$Q$100,5,FALSE)*(U21/1000)","v":0},{"$f":"VLOOKUP(T21,'Wirtschaftsdünger Tabellen'!$C$3:$Q$100,6,FALSE)*(U21/1000)","v":0},{"$f":"VLOOKUP(T21,'Wirtschaftsdünger Tabellen'!$C$3:$Q$100,7,FALSE)*(U21/1000)","v":0},{"$f":"VLOOKUP(T21,'Wirtschaftsdünger Tabellen'!$C$3:$Q$100,8,FALSE)*(U21/1000)","v":0},{"$f":"VLOOKUP(T21,'Wirtschaftsdünger Tabellen'!$C$3:$Q$100,9,FALSE)*(U21/1000)","v":0},{"$f":"VLOOKUP(T21,'Wirtschaftsdünger Tabellen'!$C$3:$Q$100,10,FALSE)*(U21/1000)","v":0},{"$f":"VLOOKUP(T21,'Wirtschaftsdünger Tabellen'!$C$3:$Q$100,11,FALSE)*(U21/1000)","v":0},{"$f":"VLOOKUP(T21,'Wirtschaftsdünger Tabellen'!$C$3:$Q$100,12,FALSE)*(U21/1000)","v":0},{"$f":"VLOOKUP(T21,'Wirtschaftsdünger Tabellen'!$C$3:$Q$100,13,FALSE)*(U21/1000)","v":0},{"$f":"VLOOKUP(T21,'Wirtschaftsdünger Tabellen'!$C$3:$Q$100,14,FALSE)*(U21/1000)","v":0}]
[{"$f":"Betriebsdaten!$B$31","v":2020},"Bitte wählen:",{"$nulls":29},{"$f":"VLOOKUP(B22,'Wirtschaftsdünger Tabellen'!$B$3:$C$100,2,FALSE)","v":0},{"$f":"E22*1000","v":0},{"$f":"VLOOKUP(AF22,'Wirtschaftsdünger Tabellen'!$C$3:$Q$100,5,FALSE)*(AG22/1000)","v":0},{"$f":"VLOOKUP(AF22,'Wirtschaftsdünger Tabellen'!$C$3:$Q$100,6,FALSE)*(AG22/1000)","v":0},{"$f":"VLOOKUP(AF22,'Wirtschaftsdünger Tabellen'!$C$3:$Q$100,7,FALSE)*(AG22/1000)","v":0},{"$f":"VLOOKUP(AF22,'Wirtschaftsdünger Tabellen'!$C$3:$Q$100,8,FALSE)*(AG22/1000)","v":0},{"$f":"VLOOKUP(AF22,'Wirtschaftsdünger Tabellen'!$C$3:$Q$100,9,FALSE)*(AG22/1000)","v":0},{"$f":"VLOOKUP(AF22,'Wirtschaftsdünger Tabellen'!$C$3:$Q$100,10,FALSE)*(AG22/1000)","v":0},{"$f":"VLOOKUP(AF22,'Wirtschaftsdünger Tabellen'!$C$3:$Q$100,11,FALSE)*(AG22/1000)","v":0},{"$f":"VLOOKUP(AF22,'Wirtschaftsdünger Tabellen'!$C$3:$Q$100,12,FALSE)*(AG22/1000)","v":0},{"$f":"VLOOKUP(AF22,'Wirtschaftsdünger Tabellen'!$C$3:$Q$100,13,FALSE)*(AG22/1000)","v":0},{"$f":"VLOOKUP(AF22,'Wirtschaftsdünger Tabellen'!$C$3:$Q$100,14,FALSE)*(AG22/1000)","v":0},{"$f":"AVERAGE(I6,U14,AG22)","v":0},0,0,0,0,0,0,0,0,0,0]
[null,"Bitte wählen:",{"$nulls":29},{"$f":"VLOOKUP(B23,'Wirtschaftsdünger Tabellen'!$B$3:$C$100,2,FALSE)","v":0},0,{"$f":"VLOOKUP(AF23,'Wirtschaftsdünger Tabellen'!$C$3:$Q$100,5,FALSE)*(AG23/1000)","v":0},{"$f":"VLOOKUP(AF23,'Wirtschaftsdünger Tabellen'!$C$3:$Q$100,6,FALSE)*(AG23/1000)","v":0},{"$f":"VLOOKUP(AF23,'Wirtschaftsdünger Tabellen'!$C$3:$Q$100,7,FALSE)*(AG23/1000)","v":0},{"$f":"VLOOKUP(AF23,'Wirtschaftsdünger Tabellen'!$C$3:$Q$100,8,FALSE)*(AG23/1000)","v":0},{"$f":"VLOOKUP(AF23,'Wirtschaftsdünger Tabellen'!$C$3:$Q$100,9,FALSE)*(AG23/1000)","v":0},{"$f":"VLOOKUP(AF23,'Wirtschaftsdünger Tabellen'!$C$3:$Q$100,10,FALSE)*(AG23/1000)","v":0},{"$f":"VLOOKUP(AF23,'Wirtschaftsdünger Tabellen'!$C$3:$Q$100,11,FALSE)*(AG23/1000)","v":0},{"$f":"VLOOKUP(AF23,'Wirtschaftsdünger Tabellen'!$C$3:$Q$100,12,FALSE)*(AG23/1000)","v":0},{"$f":"VLOOKUP(AF23,'Wirtschaftsdünger Tabellen'!$C$3:$Q$100,13,FALSE)*(AG23/1000)","v":0},{"$f":"VLOOKUP(AF23,'Wirtschaftsdünger Tabellen'!$C$3:$Q$100,14,FALSE)*(AG23/1000)","v":0},0,0,0,0,0,0,0,0,0,0,0]
[null,"Bitte wählen:",{"$nulls":29},{"$f":"VLOOKUP(B24,'Wirtschaftsdünger Tabellen'!$B$3:$C$100,2,FALSE)","v":0},0,{"$f":"VLOOKUP(AF24,'Wirtschaftsdünger Tabellen'!$C$3:$Q$100,5,FALSE)*(AG24/1000)","v":0},{"$f":"VLOOKUP(AF24,'Wirtschaftsdünger Tabellen'!$C$3:$Q$100,6,FALSE)*(AG24/1000)","v":0},{"$f":"VLOOKUP(AF24,'Wirtschaftsdünger Tabellen'!$C$3:$Q$100,7,FALSE)*(AG24/1000)","v":0},{"$f":"VLOOKUP(AF24,'Wirtschaftsdünger Tabellen'!$C$3:$Q$100,8,FALSE)*(AG24/1000)","v":0},{"$f":"VLOOKUP(AF24,'Wirtschaftsdünger Tabellen'!$C$3:$Q$100,9,FALSE)*(AG24/1000)","v":0},{"$f":"VLOOKUP(AF24,'Wirtschaftsdünger Tabellen'!$C$3:$Q$100,10,FALSE)*(AG24/1000)","v":0},{"$f":"VLOOKUP(AF24,'Wirtschaftsdünger Tabellen'!$C$3:$Q$100,11,FALSE)*(AG24/1000)","v":0},{"$f":"VLOOKUP(AF24,'Wirtschaftsdünger Tabellen'!$C$3:$Q$100,12,FALSE)*(AG24/1000)","v":0},{"$f":"VLOOKUP(AF24,'Wirtschaftsdünger Tabellen'!$C$3:$Q$100,13,FALSE)*(AG24/1000)","v":0},{"$f":"VLOOKUP(AF24,'Wirtschaftsdünger Tabellen'!$C$3:$Q$100,14,FALSE)*(AG24/1000)","v":0},0,0,0,0,0,0,0,0,0,0,0]
[null,"Bitte wählen:",{"$nulls":29},{"$f":"VLOOKUP(B25,'Wirtschaftsdünger Tabellen'!$B$3:$C$100,2,FALSE)","v":0},0,{"$f":"VLOOKUP(AF25,'Wirtschaftsdünger Tabellen'!$C$3:$Q$100,5,FALSE)*(AG25/1000)","v":0},{"$f":"VLOOKUP(AF25,'Wirtschaftsdünger Tabellen'!$C$3:$Q$100,6,FALSE)*(AG25/1000)","v":0},{"$f":"VLOOKUP(AF25,'Wirtschaftsdünger Tabellen'!$C$3:$Q$100,7,FALSE)*(AG25/1000)","v":0},{"$f":"VLOOKUP(AF25,'Wirtschaftsdünger Tabellen'!$C$3:$Q$100,8,FALSE)*(AG25/1000)","v":0},{"$f":"VLOOKUP(AF25,'Wirtschaftsdünger Tabellen'!$C$3:$Q$100,9,FALSE)*(AG25/1000)","v":0},{"$f":"VLOOKUP(AF25,'Wirtschaftsdünger Tabellen'!$C$3:$Q$100,10,FALSE)*(AG25/1000)","v":0},{"$f":"VLOOKUP(AF25,'Wirtschaftsdünger Tabellen'!$C$3:$Q$100,11,FALSE)*(AG25/1000)","v":0},{"$f":"VLOOKUP(AF25,'Wirtschaftsdünger Tabellen'!$C$3:$Q$100,12,FALSE)*(AG25/1000)","v":0},{"$f":"VLOOKUP(AF25,'Wirtschaftsdünger Tabellen'!$C$3:$Q$100,13,FALSE)*(AG25/1000)","v":0},{"$f":"VLOOKUP(AF25,'Wirtschaftsdünger Tabellen'!$C$3:$Q$100,14,FALSE)*(AG25/1000)","v":0},0,0,0,0,0,0,0,0,0,0,0]
[null,"Bitte wählen:",{"$nulls":29},{"$f":"VLOOKUP(B26,'Wirtschaftsdünger Tabellen'!$B$3:$C$100,2,FALSE)","v":0},0,{"$f":"VLOOKUP(AF26,'Wirtschaftsdünger Tabellen'!$C$3:$Q$100,5,FALSE)*(AG26/1000)","v":0},{"$f":"VLOOKUP(AF26,'Wirtschaftsdünger Tabellen'!$C$3:$Q$100,6,FALSE)*(AG26/1000)","v":0},{"$f":"VLOOKUP(AF26,'Wirtschaftsdünger Tabellen'!$C$3:$Q$100,7,FALSE)*(AG26/1000)","v":0},{"$f":"VLOOKUP(AF26,'Wirtschaftsdünger Tabellen'!$C$3:$Q$100,8,FALSE)*(AG26/1000)","v":0},{"$f":"VLOOKUP(AF26,'Wirtschaftsdünger Tabellen'!$C$3:$Q$100,9,FALSE)*(AG26/1000)","v":0},{"$f":"VLOOKUP(AF26,'Wirtschaftsdünger Tabellen'!$C$3:$Q$100,10,FALSE)*(AG26/1000)","v":0},{"$f":"VLOOKUP(AF26,'Wirtschaftsdünger Tabellen'!$C$3:$Q$100,11,FALSE)*(AG26/1000)","v":0},{"$f":"VLOOKUP(AF26,'Wirtschaftsdünger Tabellen'!$C$3:$Q$100,12,FALSE)*(AG26/1000)","v":0},{"$f":"VLOOKUP(AF26,'Wirtschaftsdünger Tabellen'!$C$3:$Q$100,13,FALSE)*(AG26/1000)","v":0},{"$f":"VLOOKUP(AF26,'Wirtschaftsdünger Tabellen'!$C$3:$Q$100,14,FALSE)*(AG26/1000)","v":0},0,0,0,0,0,0,0,0,0,0,0]
[null,"Bitte wählen:",{"$nulls":29},{"$f":"VLOOKUP(B27,'Wirtschaftsdünger Tabellen'!$B$3:$C$100,2,FALSE)","v":0},0,{"$f":"VLOOKUP(AF27,'Wirtschaftsdünger Tabellen'!$C$3:$Q$100,5,FALSE)*(AG27/1000)","v":0},{"$f":"VLOOKUP(AF27,'Wirtschaftsdünger Tabellen'!$C$3:$Q$100,6,FALSE)*(AG27/1000)","v":0},{"$f":"VLOOKUP(AF27,'Wirtschaftsdünger Tabellen'!$C$3:$Q$100,7,FALSE)*(AG27/1000)","v":0},{"$f":"VLOOKUP(AF27,'Wirtschaftsdünger Tabellen'!$C$3:$Q$100,8,FALSE)*(AG27/1000)","v":0},{"$f":"VLOOKUP(AF27,'Wirtschaftsdünger Tabellen'!$C$3:$Q$100,9,FALSE)*(AG27/1000)","v":0},{"$f":"VLOOKUP(AF27,'Wirtschaftsdünger Tabellen'!$C$3:$Q$100,10,FALSE)*(AG27/1000)","v":0},{"$f":"VLOOKUP(AF27,'Wirtschaftsdünger Tabellen'!$C$3:$Q$100,11,FALSE)*(AG27/1000)","v":0},{"$f":"VLOOKUP(AF27,'Wirtschaftsdünger Tabellen'!$C$3:$Q$100,12,FALSE)*(AG27/1000)","v":0},{"$f":"VLOOKUP(AF27,'Wirtschaftsdünger Tabellen'!$C$3:$Q$100,13,FALSE)*(AG27/1000)","v":0},{"$f":"VLOOKUP(AF27,'Wirtschaftsdünger Tabellen'!$C$3:$Q$100,14,FALSE)*(AG27/1000)","v":0},0,0,0,0,0,0,0,0,0,0,0]
[null,"Bitte wählen:",{"$nulls":29},{"$f":"VLOOKUP(B28,'Wirtschaftsdünger Tabellen'!$B$3:$C$100,2,FALSE)","v":0},0,{"$f":"VLOOKUP(AF28,'Wirtschaftsdünger Tabellen'!$C$3:$Q$100,5,FALSE)*(AG28/1000)","v":0},{"$f":"VLOOKUP(AF28,'Wirtschaftsdünger Tabellen'!$C$3:$Q$100,6,FALSE)*(AG28/1000)","v":0},{"$f":"VLOOKUP(AF28,'Wirtschaftsdünger Tabellen'!$C$3:$Q$100,7,FALSE)*(AG28/1000)","v":0},{"$f":"VLOOKUP(AF28,'Wirtschaftsdünger Tabellen'!$C$3:$Q$100,8,FALSE)*(AG28/1000)","v":0},{"$f":"VLOOKUP(AF28,'Wirtschaftsdünger Tabellen'!$C$3:$Q$100,9,FALSE)*(AG28/1000)","v":0},{"$f":"VLOOKUP(AF28,'Wirtschaftsdünger Tabellen'!$C$3:$Q$100,10,FALSE)*(AG28/1000)","v":0},{"$f":"VLOOKUP(AF28,'Wirtschaftsdünger Tabellen'!$C$3:$Q$100,11,FALSE)*(AG28/1000)","v":0},{"$f":"VLOOKUP(AF28,'Wirtschaftsdünger Tabellen'!$C$3:$Q$100,12,FALSE)*(AG28/1000)","v":0},{"$f":"VLOOKUP(AF28,'Wirtschaftsdünger Tabellen'!$C$3:$Q$100,13,FALSE)*(AG28/1000)","v":0},{"$f":"VLOOKUP(AF28,'Wirtschaftsdünger Tabellen'!$C$3:$Q$100,14,FALSE)*(AG28/1000)","v":0},0,0,0,0,0,0,0,0,0,0,0]
[null,"Bitte wählen:",{"$nulls":29},{"$f":"VLOOKUP(B29,'Wirtschaftsdünger Tabellen'!$B$3:$C$100,2,FALSE)","v":0},0,{"$f":"VLOOKUP(AF29,'Wirtschaftsdünger Tabellen'!$C$3:$Q$100,5,FALSE)*(AG29/1000)","v":0},{"$f":"VLOOKUP(AF29,'Wirtschaftsdünger Tabellen'!$C$3:$Q$100,6,FALSE)*(AG29/1000)","v":0},{"$f":"VLOOKUP(AF29,'Wirtschaftsdünger Tabellen'!$C$3:$Q$100,7,FALSE)*(AG29/1000)","v":0},{"$f":"VLOOKUP(AF29,'Wirtschaftsdünger Tabellen'!$C$3:$Q$100,8,FALSE)*(AG29/1000)","v":0},{"$f":"VLOOKUP(AF29,'Wirtschaftsdünger Tabellen'!$C$3:$Q$100,9,FALSE)*(AG29/1000)","v":0},{"$f":"VLOOKUP(AF29,'Wirtschaftsdünger Tabellen'!$C$3:$Q$100,10,FALSE)*(AG29/1000)","v":0},{"$f":"VLOOKUP(AF29,'Wirtschaftsdünger Tabellen'!$C$3:$Q$100,11,FALSE)*(AG29/1000)","v":0},{"$f":"VLOOKUP(AF29,'Wirtschaftsdünger Tabellen'!$C$3:$Q$100,12,FALSE)*(AG29/1000)","v":0},{"$f":"VLOOKUP(AF29,'Wirtschaftsdünger Tabellen'!$C$3:$Q$100,13,FALSE)*(AG29/1000)","v":0},{"$f":"VLOOKUP(AF29,'Wirtschaftsdünger Tabellen'!$C$3:$Q$100,14,FALSE)*(AG29/1000)","v":0},0,0,0,0,0,0,0,0,0,0,0]
["Gesamt Nährstoffoutput ",{"$nulls":6},{"$f":"Betriebsdaten!$B$29","v":2022},{"$nulls":11},{"$f":"Betriebsdaten!$B$30","v":2021},{"$nulls":11},{"$f":"Betriebsdaten!$B$31","v":2020},{"$nulls":11},"Durchschnitt"]
[{"$nulls":7},"Summe",null,"C","N","NH4-N","P2O5","K2O","Ca","MgO","S","Na","Cl","Summe",null,"C","N","NH4-N","P","K","Ca","Mg","S","Na","Cl","Summe",null,"C","N","NH4-N","P2O5","K2O","Ca","MgO","S","Na","Cl","Summe","C","N","NH4-N","P2O5","K2O","Ca","MgO","S","Na","Cl"]
[{"$nulls":9},"kg*a-1","kg*a-1","kg*a-1","kg*a-1","kg*a-1","kg*a-1","kg*a-1","kg*a-1","kg*a-1","kg*a-1",null,null,"kg","kg","kg","kg","kg","kg","kg","kg","kg","kg",null,null,"kg*a-1","kg*a-1","kg*a-1","kg*a-1","kg*a-1","kg*a-1","kg*a-1","kg*a-1","kg*a-1","kg*a-1",null,"kg*a-1","kg*a-1","kg*a-1","kg*a-1","kg*a-1","kg*a-1","kg*a-1","kg*a-1","kg*a-1","kg*a-1"]
[{"$nulls":9},{"$f":"SUM(J6:J13)","v":0},0,0,0,0,0,0,0,0,0,null,null,{"$f":"SUM(V14:V21)","v":0},0,0,0,0,0,0,0,0,0,null,null,{"$f":"SUM(AH22:AH29)","v":0},0,0,0,0,0,0,0,0,0,null,{"$f":"SUM(AS22:AS29)","v":0},0,0,0,0,0,0,0,0,0]

{"sheet":"Pfl. Prod. Verk.","index":12,"n_rows":89,"n_cols":61,"rows_kept":89,"merged":[[0,0,0,12],[1,0,1,12],[1,14,1,16],[1,26,1,28],[1,38,1,40],[1,50,1,52],[2,0,3,0],[2,1,2,3],[2,4,2,6],[2,7,2,9],[2,14,2,25],[2,26,2,37],[2,38,2,49],[2,50,2,60],[3,14,4,14],[3,15,4,15],[3,26,4,26],[3,27,4,27],[3,38,4,38],[3,39,4,39],[3,50,4,50],[84,14,84,25],[84,26,84,37],[84,38,84,49],[84,50,84,60],[85,0,88,13],[85,14,88,15],[85,26,88,27],[85,38,88,39],[85,50,88,50]]}
["A.10 Verkauf pflanzlicher Produkte"]
["A10.1. pflanzl. Nährstoffabfuhr Bitte geben Sie alle Nährstoffoutputs durch Verkauf von Saat- und Pflanzgut. Geben Sie dazu die verkaufte Menge und wenn möglich auch den Preis an. Nutzen Sie bitte die grünen Felder, wenn Sie Saat-/Pflanzgut bzw. pflanzliche Erzeugnisse verkaufen, die nicht in dem Drop Down Menü aufgeführt sind. Eingaben in t FM, Körner übliche Feuchte nach Trocknung, Grünlanderträge in TM",{"$nulls":13},"Verkauf pfl. Produkte",{"$nulls":11},"Verkauf pfl. Produkte",{"$nulls":11},"Verkauf pfl. Produkte",{"$nulls":11},"Verkauf pfl. Produkte"]
["pflanzliche Produkte",{"$f":"Betriebsdaten!$B$29","v":2022},null,null,{"$f":"Betriebsdaten!$B$30","v":2021},null,null,{"$f":"Betriebsdaten!$B$31","v":2020},{"$nulls":6},{"$f":"Betriebsdaten!$B$29","v":2022},{"$nulls":11},{"$f":"Betriebsdaten!$B$30","v":2021},{"$nulls":11},{"$f":"Betriebsdaten!$B$31","v":2020},{"$nulls":11},"Durchschnitt"]
[null,"Menge ","Sorte","Bemerkung","Menge ","Sorte","Bemerkung","Menge","Sorte","Bemerkung",{"$nulls":4},"Code","Menge (kg)","C","N","NH4-N","P2O5","K2O","Ca","MgO","S","Na","Cl","Code","Menge (kg)","C","N","NH4-N","P2O5","K2O","Ca","MgO","S","Na","Cl","Code","Menge (kg)","C","N","NH4-N","P2O5","K2O","Ca","MgO","S","Na","Cl","Menge (kg)","C","N","NH4-N","P2O5","K2O","Ca","MgO","S","Na","Cl"]
["Neue Kultur anlegen","t",null,null,"t",null,null,"t",{"$nulls":8},"kg*a-1","kg*a-1","kg*a-1","kg*a-1","kg*a-1","kg*a-1","kg*a-1","kg*a-1","kg*a-1","kg*a-1",null,null,"kg*a-1","kg*a-1","kg*a-1","kg*a-1","kg*a-1","kg*a-1","kg*a-1","kg*a-1","kg*a-1","kg*a-1",null,null,"kg*a-1","kg*a-1","kg*a-1","kg*a-1","kg*a-1","kg*a-1","kg*a-1","kg*a-1","kg*a-1","kg*a-1",null,"kg*a-1","kg*a-1","kg*a-1","kg*a-1","kg*a-1","kg*a-1","kg*a-1","kg*a-1","kg*a-1","kg*a-1"]
["Bitte wählen:",{"$nulls":13},{"$f":"VLOOKUP(A6,'Fruchtfolge Tabellen'!$B$3:$E$231,4,FALSE)","v":0},{"$f":"B6*1000","v":0},{"$f":"VLOOKUP(O6,'Fruchtfolge Tabellen'!$E$3:$Q$231,4,FALSE)*(P6/1000)","v":0},{"$f":"VLOOKUP(O6,'Fruchtfolge Tabellen'!$E$3:$Q$231,5,FALSE)*(P6/1000)","v":0},{"$f":"VLOOKUP(O6,'Fruchtfolge Tabellen'!$E$3:$Q$231,6,FALSE)*(P6/1000)","v":0},{"$f":"VLOOKUP(O6,'Fruchtfolge Tabellen'!$E$3:$Q$231,7,FALSE)*(P6/1000)","v":0},{"$f":"VLOOKUP(O6,'Fruchtfolge Tabellen'!$E$3:$Q$231,8,FALSE)*(P6/1000)","v":0},{"$f":"VLOOKUP(O6,'Fruchtfolge Tabellen'!$E$3:$Q$231,9,FALSE)*(P6/1000)","v":0},{"$f":"VLOOKUP(O6,'Fruchtfolge Tabellen'!$E$3:$Q$231,10,FALSE)*(P6/1000)","v":0},{"$f":"VLOOKUP(O6,'Fruchtfolge Tabellen'!$E$3:$Q$231,11,FALSE)*(P6/1000)","v":0},{"$f":"VLOOKUP(O6,'Fruchtfolge Tabellen'!$E$3:$Q$231,12,FALSE)*(P6/1000)","v":0},{"$f":"VLOOKUP(O6,'Fruchtfolge Tabellen'!$E$3:$Q$231,13,FALSE)*(P6/1000)","v":0},{"$f":"VLOOKUP(A6,'Fruchtfolge Tabellen'!$B$3:$E$231,4,FALSE)","v":0},{"$f":"E6*1000","v":0},{"$f":"VLOOKUP(AA6,'Fruchtfolge Tabellen'!$E$3:$Q$231,4,FALSE)*(AB6/1000)","v":0},{"$f":"VLOOKUP(AA6,'Fruchtfolge Tabellen'!$E$3:$Q$231,5,FALSE)*(AB6/1000)","v":0},{"$f":"VLOOKUP(AA6,'Fruchtfolge Tabellen'!$E$3:$Q$231,6,FALSE)*(AB6/1000)","v":0},{"$f":"VLOOKUP(AA6,'Fruchtfolge Tabellen'!$E$3:$Q$231,7,FALSE)*(AB6/1000)","v":0},{"$f":"VLOOKUP(AA6,'Fruchtfolge Tabellen'!$E$3:$Q$231,8,FALSE)*(AB6/1000)","v":0},{"$f":"VLOOKUP(AA6,'Fruchtfolge Tabellen'!$E$3:$Q$231,9,FALSE)*(AB6/1000)","v":0},{"$f":"VLOOKUP(AA6,'Fruchtfolge Tabellen'!$E$3:$Q$231,10,FALSE)*(AB6/1000)","v":0},{"$f":"VLOOKUP(AA6,'Fruchtfolge Tabellen'!$E$3:$Q$231,11,FALSE)*(AB6/1000)","v":0},{"$f":"VLOOKUP(AA6,'Fruchtfolge Tabellen'!$E$3:$Q$231,12,FALSE)*(AB6/1000)","v":0},{"$f":"VLOOKUP(AA6,'Fruchtfolge Tabellen'!$E$3:$Q$231,13,FALSE)*(AB6/1000)","v":0},{"$f":"VLOOKUP(A6,'Fruchtfolge Tabellen'!$B$3:$E$231,4,FALSE)","v":0},{"$f":"H6*1000","v":0},{"$f":"VLOOKUP(AM6,'Fruchtfolge Tabellen'!$E$3:$Q$231,4,FALSE)*(AN6/1000)","v":0},{"$f":"VLOOKUP(AM6,'Fruchtfolge Tabellen'!$E$3:$Q$231,5,FALSE)*(AN6/1000)","v":0},{"$f":"VLOOKUP(AM6,'Fruchtfolge Tabellen'!$E$3:$Q$231,6,FALSE)*(AN6/1000)","v":0},{"$f":"VLOOKUP(AM6,'Fruchtfolge Tabellen'!$E$3:$Q$231,7,FALSE)*(AN6/1000)","v":0},{"$f":"VLOOKUP(AM6,'Fruchtfolge Tabellen'!$E$3:$Q$231,8,FALSE)*(AN6/1000)","v":0},{"$f":"VLOOKUP(AM6,'Fruchtfolge Tabellen'!$E$3:$Q$231,9,FALSE)*(AN6/1000)","v":0},{"$f":"VLOOKUP(AM6,'Fruchtfolge Tabellen'!$E$3:$Q$231,10,FALSE)*(AN6/1000)","v":0},{"$f":"VLOOKUP(AM6,'Fruchtfolge Tabellen'!$E$3:$Q$231,11,FALSE)*(AN6/1000)","v":0},{"$f":"VLOOKUP(AM6,'Fruchtfolge Tabellen'!$E$3:$Q$231,12,FALSE)*(AN6/1000)","v":0},{"$f":"VLOOKUP(AM6,'Fruchtfolge Tabellen'!$E$3:$Q$231,13,FALSE)*(AN6/1000)","v":0},{"$f":"AVERAGE(P6,AB6,AN6)","v":0},{"$f":"AVERAGE(Q6,AC6,AO6)","v":0},0,0,0,0,0,0,0,0,0]
["Bitte wählen:",{"$nulls":13},{"$f":"VLOOKUP(A7,'Fruchtfolge Tabellen'!$B$3:$E$231,4,FALSE)","v":0},0,{"$f":"VLOOKUP(O7,'Fruchtfolge Tabellen'!$E$3:$Q$231,4,FALSE)*(P7/1000)","v":0},{"$f":"VLOOKUP(O7,'Fruchtfolge Tabellen'!$E$3:$Q$231,5,FALSE)*(P7/1000)","v":0},{"$f":"VLOOKUP(O7,'Fruchtfolge Tabellen'!$E$3:$Q$231,6,FALSE)*(P7/1000)","v":0},{"$f":"VLOOKUP(O7,'Fruchtfolge Tabellen'!$E$3:$Q$231,7,FALSE)*(P7/1000)","v":0},{"$f":"VLOOKUP(O7,'Fruchtfolge Tabellen'!$E$3:$Q$231,8,FALSE)*(P7/1000)","v":0},{"$f":"VLOOKUP(O7,'Fruchtfolge Tabellen'!$E$3:$Q$231,9,FALSE)*(P7/1000)","v":0},{"$f":"VLOOKUP(O7,'Fruchtfolge Tabellen'!$E$3:$Q$231,10,FALSE)*(P7/1000)","v":0},{"$f":"VLOOKUP(O7,'Fruchtfolge Tabellen'!$E$3:$Q$231,11,FALSE)*(P7/1000)","v":0},{"$f":"VLOOKUP(O7,'Fruchtfolge Tabellen'!$E$3:$Q$231,12,FALSE)*(P7/1000)","v":0},{"$f":"VLOOKUP(O7,'Fruchtfolge Tabellen'!$E$3:$Q$231,13,FALSE)*(P7/1000)","v":0},{"$f":"VLOOKUP(A7,'Fruchtfolge Tabellen'!$B$3:$E$231,4,FALSE)","v":0},0,{"$f":"VLOOKUP(AA7,'Fruchtfolge Tabellen'!$E$3:$Q$231,4,FALSE)*(AB7/1000)","v":0},{"$f":"VLOOKUP(AA7,'Fruchtfolge Tabellen'!$E$3:$Q$231,5,FALSE)*(AB7/1000)","v":0},{"$f":"VLOOKUP(AA7,'Fruchtfolge Tabellen'!$E$3:$Q$231,6,FALSE)*(AB7/1000)","v":0},{"$f":"VLOOKUP(AA7,'Fruchtfolge Tabellen'!$E$3:$Q$231,7,FALSE)*(AB7/1000)","v":0},{"$f":"VLOOKUP(AA7,'Fruchtfolge Tabellen'!$E$3:$Q$231,8,FALSE)*(AB7/1000)","v":0},{"$f":"VLOOKUP(AA7,'Fruchtfolge Tabellen'!$E$3:$Q$231,9,FALSE)*(AB7/1000)","v":0},{"$f":"VLOOKUP(AA7,'Fruchtfolge Tabellen'!$E$3:$Q$231,10,FALSE)*(AB7/1000)","v":0},{"$f":"VLOOKUP(AA7,'Fruchtfolge Tabellen'!$E$3:$Q$231,11,FALSE)*(AB7/1000)","v":0},{"$f":"VLOOKUP(AA7,'Fruchtfolge Tabellen'!$E$3:$Q$231,12,FALSE)*(AB7/1000)","v":0},{"$f":"VLOOKUP(AA7,'Fruchtfolge Tabellen'!$E$3:$Q$231,13,FALSE)*(AB7/1000)","v":0},{"$f":"VLOOKUP(A7,'Fruchtfolge Tabellen'!$B$3:$E$231,4,FALSE)","v":0},{"$f":"H7*1000","v":0},{"$f":"VLOOKUP(AM7,'Fruchtfolge Tabellen'!$E$3:$Q$231,4,FALSE)*(AN7/1000)","v":0},{"$f":"VLOOKUP(AM7,'Fruchtfolge Tabellen'!$E$3:$Q$231,5,FALSE)*(AN7/1000)","v":0},{"$f":"VLOOKUP(AM7,'Fruchtfolge Tabellen'!$E$3:$Q$231,6,FALSE)*(AN7/1000)","v":0},{"$f":"VLOOKUP(AM7,'Fruchtfolge Tabellen'!$E$3:$Q$231,7,FALSE)*(AN7/1000)","v":0},{"$f":"VLOOKUP(AM7,'Fruchtfolge Tabellen'!$E$3:$Q$231,8,FALSE)*(AN7/1000)","v":0},{"$f":"VLOOKUP(AM7,'Fruchtfolge Tabellen'!$E$3:$Q$231,9,FALSE)*(AN7/1000)","v":0},{"$f":"VLOOKUP(AM7,'Fruchtfolge Tabellen'!$E$3:$Q$231,10,FALSE)*(AN7/1000)","v":0},{"$f":"VLOOKUP(AM7,'Fruchtfolge Tabellen'!$E$3:$Q$231,11,FALSE)*(AN7/1000)","v":0},{"$f":"VLOOKUP(AM7,'Fruchtfolge Tabellen'!$E$3:$Q$231,12,FALSE)*(AN7/1000)","v":0},{"$f":"VLOOKUP(AM7,'Fruchtfolge Tabellen'!$E$3:$Q$231,13,FALSE)*(AN7/1000)","v":0},0,0,0,0,0,0,0,0,0,0,0]
["Bitte wählen:",{"$nulls":13},{"$f":"VLOOKUP(A8,'Fruchtfolge Tabellen'!$B$3:$E$231,4,FALSE)","v":0},0,{"$f":"VLOOKUP(O8,'Fruchtfolge Tabellen'!$E$3:$Q$231,4,FALSE)*(P8/1000)","v":0},{"$f":"VLOOKUP(O8,'Fruchtfolge Tabellen'!$E$3:$Q$231,5,FALSE)*(P8/1000)","v":0},{"$f":"VLOOKUP(O8,'Fruchtfolge Tabellen'!$E$3:$Q$231,6,FALSE)*(P8/1000)","v":0},{"$f":"VLOOKUP(O8,'Fruchtfolge Tabellen'!$E$3:$Q$231,7,FALSE)*(P8/1000)","v":0},{"$f":"VLOOKUP(O8,'Fruchtfolge Tabellen'!$E$3:$Q$231,8,FALSE)*(P8/1000)","v":0},{"$f":"VLOOKUP(O8,'Fruchtfolge Tabellen'!$E$3:$Q$231,9,FALSE)*(P8/1000)","v":0},{"$f":"VLOOKUP(O8,'Fruchtfolge Tabellen'!$E$3:$Q$231,10,FALSE)*(P8/1000)","v":0},{"$f":"VLOOKUP(O8,'Fruchtfolge Tabellen'!$E$3:$Q$231,11,FALSE)*(P8/1000)","v":0},{"$f":"VLOOKUP(O8,'Fruchtfolge Tabellen'!$E$3:$Q$231,12,FALSE)*(P8/1000)","v":0},{"$f":"VLOOKUP(O8,'Fruchtfolge Tabellen'!$E$3:$Q$231,13,FALSE)*(P8/1000)","v":0},{"$f":"VLOOKUP(A8,'Fruchtfolge Tabellen'!$B$3:$E$231,4,FALSE)","v":0},0,{"$f":"VLOOKUP(AA8,'Fruchtfolge Tabellen'!$E$3:$Q$231,4,FALSE)*(AB8/1000)","v":0},{"$f":"VLOOKUP(AA8,'Fruchtfolge Tabellen'!$E$3:$Q$231,5,FALSE)*(AB8/1000)","v":0},{"$f":"VLOOKUP(AA8,'Fruchtfolge Tabellen'!$E$3:$Q$231,6,FALSE)*(AB8/1000)","v":0},{"$f":"VLOOKUP(AA8,'Fruchtfolge Tabellen'!$E$3:$Q$231,7,FALSE)*(AB8/1000)","v":0},{"$f":"VLOOKUP(AA8,'Fruchtfolge Tabellen'!$E$3:$Q$231,8,FALSE)*(AB8/1000)","v":0},{"$f":"VLOOKUP(AA8,'Fruchtfolge Tabellen'!$E$3:$Q$231,9,FALSE)*(AB8/1000)","v":0},{"$f":"VLOOKUP(AA8,'Fruchtfolge Tabellen'!$E$3:$Q$231,10,FALSE)*(AB8/1000)","v":0},{"$f":"VLOOKUP(AA8,'Fruchtfolge Tabellen'!$E$3:$Q$231,11,FALSE)*(AB8/1000)","v":0},{"$f":"VLOOKUP(AA8,'Fruchtfolge Tabellen'!$E$3:$Q$231,12,FALSE)*(AB8/1000)","v":0},{"$f":"VLOOKUP(AA8,'Fruchtfolge Tabellen'!$E$3:$Q$231,13,FALSE)*(AB8/1000)","v":0},{"$f":"VLOOKUP(A8,'Fruchtfolge Tabellen'!$B$3:$E$231,4,FALSE)","v":0},0,{"$f":"VLOOKUP(AM8,'Fruchtfolge Tabellen'!$E$3:$Q$231,4,FALSE)*(AN8/1000)","v":0},{"$f":"VLOOKUP(AM8,'Fruchtfolge Tabellen'!$E$3:$Q$231,5,FALSE)*(AN8/1000)","v":0},{"$f":"VLOOKUP(AM8,'Fruchtfolge Tabellen'!$E$3:$Q$231,6,FALSE)*(AN8/1000)","v":0},{"$f":"VLOOKUP(AM8,'Fruchtfolge Tabellen'!$E$3:$Q$231,7,FALSE)*(AN8/1000)","v":0},{"$f":"VLOOKUP(AM8,'Fruchtfolge Tabellen'!$E$3:$Q$231,8,FALSE)*(AN8/1000)","v":0},{"$f":"VLOOKUP(AM8,'Fruchtfolge Tabellen'!$E$3:$Q$231,9,FALSE)*(AN8/1000)","v":0},{"$f":"VLOOKUP(AM8,'Fruchtfolge Tabellen'!$E$3:$Q$231,10,FALSE)*(AN8/1000)","v":0},{"$f":"VLOOKUP(AM8,'Fruchtfolge Tabellen'!$E$3:$Q$231,11,FALSE)*(AN8/1000)","v":0},{"$f":"VLOOKUP(AM8,'Fruchtfolge Tabellen'!$E$3:$Q$231,12,FALSE)*(AN8/1000)","v":0},{"$f":"VLOOKUP(AM8,'Fruchtfolge Tabellen'!$E$3:$Q$231,13,FALSE)*(AN8/1000)","v":0},0,0,0,0,0,0,0,0,0,0,0]
["Bitte wählen:",{"$nulls":13},{"$f":"VLOOKUP(A9,'Fruchtfolge Tabellen'!$B$3:$E$231,4,FALSE)","v":0},0,{"$f":"VLOOKUP(O9,'Fruchtfolge Tabellen'!$E$3:$Q$231,4,FALSE)*(P9/1000)","v":0},{"$f":"VLOOKUP(O9,'Fruchtfolge Tabellen'!$E$3:$Q$231,5,FALSE)*(P9/1000)","v":0},{"$f":"VLOOKUP(O9,'Fruchtfolge Tabellen'!$E$3:$Q$231,6,FALSE)*(P9/1000)","v":0},{"$f":"VLOOKUP(O9,'Fruchtfolge Tabellen'!$E$3:$Q$231,7,FALSE)*(P9/1000)","v":0},{"$f":"VLOOKUP(O9,'Fruchtfolge Tabellen'!$E$3:$Q$231,8,FALSE)*(P9/1000)","v":0},{"$f":"VLOOKUP(O9,'Fruchtfolge Tabellen'!$E$3:$Q$231,9,FALSE)*(P9/1000)","v":0},{"$f":"VLOOKUP(O9,'Fruchtfolge Tabellen'!$E$3:$Q$231,10,FALSE)*(P9/1000)","v":0},{"$f":"VLOOKUP(O9,'Fruchtfolge Tabellen'!$E$3:$Q$231,11,FALSE)*(P9/1000)","v":0},{"$f":"VLOOKUP(O9,'Fruchtfolge Tabellen'!$E$3:$Q$231,12,FALSE)*(P9/1000)","v":0},{"$f":"VLOOKUP(O9,'Fruchtfolge Tabellen'!$E$3:$Q$231,13,FALSE)*(P9/1000)","v":0},{"$f":"VLOOKUP(A9,'Fruchtfolge Tabellen'!$B$3:$E$231,4,FALSE)","v":0},0,{"$f":"VLOOKUP(AA9,'Fruchtfolge Tabellen'!$E$3:$Q$231,4,FALSE)*(AB9/1000)","v":0},{"$f":"VLOOKUP(AA9,'Fruchtfolge Tabellen'!$E$3:$Q$231,5,FALSE)*(AB9/1000)","v":0},{"$f":"VLOOKUP(AA9,'Fruchtfolge Tabellen'!$E$3:$Q$231,6,FALSE)*(AB9/1000)","v":0},{"$f":"VLOOKUP(AA9,'Fruchtfolge Tabellen'!$E$3:$Q$231,7,FALSE)*(AB9/1000)","v":0},{"$f":"VLOOKUP(AA9,'Fruchtfolge Tabellen'!$E$3:$Q$231,8,FALSE)*(AB9/1000)","v":0},{"$f":"VLOOKUP(AA9,'Fruchtfolge Tabellen'!$E$3:$Q$231,9,FALSE)*(AB9/1000)","v":0},{"$f":"VLOOKUP(AA9,'Fruchtfolge Tabellen'!$E$3:$Q$231,10,FALSE)*(AB9/1000)","v":0},{"$f":"VLOOKUP(AA9,'Fruchtfolge Tabellen'!$E$3:$Q$231,11,FALSE)*(AB9/1000)","v":0},{"$f":"VLOOKUP(AA9,'Fruchtfolge Tabellen'!$E$3:$Q$231,12,FALSE)*(AB9/1000)","v":0},{"$f":"VLOOKUP(AA9,'Fruchtfolge Tabellen'!$E$3:$Q$231,13,FALSE)*(AB9/1000)","v":0},{"$f":"VLOOKUP(A9,'Fruchtfolge Tabellen'!$B$3:$E$231,4,FALSE)","v":0},0,{"$f":"VLOOKUP(AM9,'Fruchtfolge Tabellen'!$E$3:$Q$231,4,FALSE)*(AN9/1000)","v":0},{"$f":"VLOOKUP(AM9,'Fruchtfolge Tabellen'!$E$3:$Q$231,5,FALSE)*(AN9/1000)","v":0},{"$f":"VLOOKUP(AM9,'Fruchtfolge Tabellen'!$E$3:$Q$231,6,FALSE)*(AN9/1000)","v":0},{"$f":"VLOOKUP(AM9,'Fruchtfolge Tabellen'!$E$3:$Q$231,7,FALSE)*(AN9/1000)","v":0},{"$f":"VLOOKUP(AM9,'Fruchtfolge Tabellen'!$E$3:$Q$231,8,FALSE)*(AN9/1000)","v":0},{"$f":"VLOOKUP(AM9,'Fruchtfolge Tabellen'!$E$3:$Q$231,9,FALSE)*(AN9/1000)","v":0},{"$f":"VLOOKUP(AM9,'Fruchtfolge Tabellen'!$E$3:$Q$231,10,FALSE)*(AN9/1000)","v":0},{"$f":"VLOOKUP(AM9,'Fruchtfolge Tabellen'!$E$3:$Q$231,11,FALSE)*(AN9/1000)","v":0},{"$f":"VLOOKUP(AM9,'Fruchtfolge Tabellen'!$E$3:$Q$231,12,FALSE)*(AN9/1000)","v":0},{"$f":"VLOOKUP(AM9,'Fruchtfolge Tabellen'!$E$3:$Q$231,13,FALSE)*(AN9/1000)","v":0},0,0,0,0,0,0,0,0,0,0,0]
["Bitte wählen:",{"$nulls":13},{"$f":"VLOOKUP(A10,'Fruchtfolge Tabellen'!$B$3:$E$231,4,FALSE)","v":0},0,{"$f":"VLOOKUP(O10,'Fruchtfolge Tabellen'!$E$3:$Q$231,4,FALSE)*(P10/1000)","v":0},{"$f":"VLOOKUP(O10,'Fruchtfolge Tabellen'!$E$3:$Q$231,5,FALSE)*(P10/1000)","v":0},{"$f":"VLOOKUP(O10,'Fruchtfolge Tabellen'!$E$3:$Q$231,6,FALSE)*(P10/1000)","v":0},{"$f":"VLOOKUP(O10,'Fruchtfolge Tabellen'!$E$3:$Q$231,7,FALSE)*(P10/1000)","v":0},{"$f":"VLOOKUP(O10,'Fruchtfolge Tabellen'!$E$3:$Q$231,8,FALSE)*(P10/1000)","v":0},{"$f":"VLOOKUP(O10,'Fruchtfolge Tabellen'!$E$3:$Q$231,9,FALSE)*(P10/1000)","v":0},{"$f":"VLOOKUP(O10,'Fruchtfolge Tabellen'!$E$3:$Q$231,10,FALSE)*(P10/1000)","v":0},{"$f":"VLOOKUP(O10,'Fruchtfolge Tabellen'!$E$3:$Q$231,11,FALSE)*(P10/1000)","v":0},{"$f":"VLOOKUP(O10,'Fruchtfolge Tabellen'!$E$3:$Q$231,12,FALSE)*(P10/1000)","v":0},{"$f":"VLOOKUP(O10,'Fruchtfolge Tabellen'!$E$3:$Q$231,13,FALSE)*(P10/1000)","v":0},{"$f":"VLOOKUP(A10,'Fruchtfolge Tabellen'!$B$3:$E$231,4,FALSE)","v":0},0,{"$f":"VLOOKUP(AA10,'Fruchtfolge Tabellen'!$E$3:$Q$231,4,FALSE)*(AB10/1000)","v":0},{"$f":"VLOOKUP(AA10,'Fruchtfolge Tabellen'!$E$3:$Q$231,5,FALSE)*(AB10/1000)","v":0},{"$f":"VLOOKUP(AA10,'Fruchtfolge Tabellen'!$E$3:$Q$231,6,FALSE)*(AB10/1000)","v":0},{"$f":"VLOOKUP(AA10,'Fruchtfolge Tabellen'!$E$3:$Q$231,7,FALSE)*(AB10/1000)","v":0},{"$f":"VLOOKUP(AA10,'Fruchtfolge Tabellen'!$E$3:$Q$231,8,FALSE)*(AB10/1000)","v":0},{"$f":"VLOOKUP(AA10,'Fruchtfolge Tabellen'!$E$3:$Q$231,9,FALSE)*(AB10/1000)","v":0},{"$f":"VLOOKUP(AA10,'Fruchtfolge Tabellen'!$E$3:$Q$231,10,FALSE)*(AB10/1000)","v":0},{"$f":"VLOOKUP(AA10,'Fruchtfolge Tabellen'!$E$3:$Q$231,11,FALSE)*(AB10/1000)","v":0},{"$f":"VLOOKUP(AA10,'Fruchtfolge Tabellen'!$E$3:$Q$231,12,FALSE)*(AB10/1000)","v":0},{"$f":"VLOOKUP(AA10,'Fruchtfolge Tabellen'!$E$3:$Q$231,13,FALSE)*(AB10/1000)","v":0},{"$f":"VLOOKUP(A10,'Fruchtfolge Tabellen'!$B$3:$E$231,4,FALSE)","v":0},0,{"$f":"VLOOKUP(AM10,'Fruchtfolge Tabellen'!$E$3:$Q$231,4,FALSE)*(AN10/1000)","v":0},{"$f":"VLOOKUP(AM10,'Fruchtfolge Tabellen'!$E$3:$Q$231,5,FALSE)*(AN10/1000)","v":0},{"$f":"VLOOKUP(AM10,'Fruchtfolge Tabellen'!$E$3:$Q$231,6,FALSE)*(AN10/1000)","v":0},{"$f":"VLOOKUP(AM10,'Fruchtfolge Tabellen'!$E$3:$Q$231,7,FALSE)*(AN10/1000)","v":0},{"$f":"VLOOKUP(AM10,'Fruchtfolge Tabellen'!$E$3:$Q$231,8,FALSE)*(AN10/1000)","v":0},{"$f":"VLOOKUP(AM10,'Fruchtfolge Tabellen'!$E$3:$Q$231,9,FALSE)*(AN10/1000)","v":0},{"$f":"VLOOKUP(AM10,'Fruchtfolge Tabellen'!$E$3:$Q$231,10,FALSE)*(AN10/1000)","v":0},{"$f":"VLOOKUP(AM10,'Fruchtfolge Tabellen'!$E$3:$Q$231,11,FALSE)*(AN10/1000)","v":0},{"$f":"VLOOKUP(AM10,'Fruchtfolge Tabellen'!$E$3:$Q$231,12,FALSE)*(AN10/1000)","v":0},{"$f":"VLOOKUP(AM10,'Fruchtfolge Tabellen'!$E$3:$Q$231,13,FALSE)*(AN10/1000)","v":0},0,0,0,0,0,0,0,0,0,0,0]
["Bitte wählen:",{"$nulls":13},{"$f":"VLOOKUP(A11,'Fruchtfolge Tabellen'!$B$3:$E$231,4,FALSE)","v":0},0,{"$f":"VLOOKUP(O11,'Fruchtfolge Tabellen'!$E$3:$Q$231,4,FALSE)*(P11/1000)","v":0},{"$f":"VLOOKUP(O11,'Fruchtfolge Tabellen'!$E$3:$Q$231,5,FALSE)*(P11/1000)","v":0},{"$f":"VLOOKUP(O11,'Fruchtfolge Tabellen'!$E$3:$Q$231,6,FALSE)*(P11/1000)","v":0},{"$f":"VLOOKUP(O11,'Fruchtfolge Tabellen'!$E$3:$Q$231,7,FALSE)*(P11/1000)","v":0},{"$f":"VLOOKUP(O11,'Fruchtfolge Tabellen'!$E$3:$Q$231,8,FALSE)*(P11/1000)","v":0},{"$f":"VLOOKUP(O11,'Fruchtfolge Tabellen'!$E$3:$Q$231,9,FALSE)*(P11/1000)","v":0},{"$f":"VLOOKUP(O11,'Fruchtfolge Tabellen'!$E$3:$Q$231,10,FALSE)*(P11/1000)","v":0},{"$f":"VLOOKUP(O11,'Fruchtfolge Tabellen'!$E$3:$Q$231,11,FALSE)*(P11/1000)","v":0},{"$f":"VLOOKUP(O11,'Fruchtfolge Tabellen'!$E$3:$Q$231,12,FALSE)*(P11/1000)","v":0},{"$f":"VLOOKUP(O11,'Fruchtfolge Tabellen'!$E$3:$Q$231,13,FALSE)*(P11/1000)","v":0},{"$f":"VLOOKUP(A11,'Fruchtfolge Tabellen'!$B$3:$E$231,4,FALSE)","v":0},0,{"$f":"VLOOKUP(AA11,'Fruchtfolge Tabellen'!$E$3:$Q$231,4,FALSE)*(AB11/1000)","v":0},{"$f":"VLOOKUP(AA11,'Fruchtfolge Tabellen'!$E$3:$Q$231,5,FALSE)*(AB11/1000)","v":0},{"$f":"VLOOKUP(AA11,'Fruchtfolge Tabellen'!$E$3:$Q$231,6,FALSE)*(AB11/1000)","v":0},{"$f":"VLOOKUP(AA11,'Fruchtfolge Tabellen'!$E$3:$Q$231,7,FALSE)*(AB11/1000)","v":0},{"$f":"VLOOKUP(AA11,'Fruchtfolge Tabellen'!$E$3:$Q$231,8,FALSE)*(AB11/1000)","v":0},{"$f":"VLOOKUP(AA11,'Fruchtfolge Tabellen'!$E$3:$Q$231,9,FALSE)*(AB11/1000)","v":0},{"$f":"VLOOKUP(AA11,'Fruchtfolge Tabellen'!$E$3:$Q$231,10,FALSE)*(AB11/1000)","v":0},{"$f":"VLOOKUP(AA11,'Fruchtfolge Tabellen'!$E$3:$Q$231,11,FALSE)*(AB11/1000)","v":0},{"$f":"VLOOKUP(AA11,'Fruchtfolge Tabellen'!$E$3:$Q$231,12,FALSE)*(AB11/1000)","v":0},{"$f":"VLOOKUP(AA11,'Fruchtfolge Tabellen'!$E$3:$Q$231,13,FALSE)*(AB11/1000)","v":0},{"$f":"VLOOKUP(A11,'Fruchtfolge Tabellen'!$B$3:$E$231,4,FALSE)","v":0},0,{"$f":"VLOOKUP(AM11,'Fruchtfolge Tabellen'!$E$3:$Q$231,4,FALSE)*(AN11/1000)","v":0},{"$f":"VLOOKUP(AM11,'Fruchtfolge Tabellen'!$E$3:$Q$231,5,FALSE)*(AN11/1000)","v":0},{"$f":"VLOOKUP(AM11,'Fruchtfolge Tabellen'!$E$3:$Q$231,6,FALSE)*(AN11/1000)","v":0},{"$f":"VLOOKUP(AM11,'Fruchtfolge Tabellen'!$E$3:$Q$231,7,FALSE)*(AN11/1000)","v":0},{"$f":"VLOOKUP(AM11,'Fruchtfolge Tabellen'!$E$3:$Q$231,8,FALSE)*(AN11/1000)","v":0},{"$f":"VLOOKUP(AM11,'Fruchtfolge Tabellen'!$E$3:$Q$231,9,FALSE)*(AN11/1000)","v":0},{"$f":"VLOOKUP(AM11,'Fruchtfolge Tabellen'!$E$3:$Q$231,10,FALSE)*(AN11/1000)","v":0},{"$f":"VLOOKUP(AM11,'Fruchtfolge Tabellen'!$E$3:$Q$231,11,FALSE)*(AN11/1000)","v":0},{"$f":"VLOOKUP(AM11,'Fruchtfolge Tabellen'!$E$3:$Q$231,12,FALSE)*(AN11/1000)","v":0},{"$f":"VLOOKUP(AM11,'Fruchtfolge Tabellen'!$E$3:$Q$231,13,FALSE)*(AN11/1000)","v":0},0,0,0,0,0,0,0,0,0,0,0]
["Bitte wählen:",{"$nulls":13},{"$f":"VLOOKUP(A12,'Fruchtfolge Tabellen'!$B$3:$E$231,4,FALSE)","v":0},0,{"$f":"VLOOKUP(O12,'Fruchtfolge Tabellen'!$E$3:$Q$231,4,FALSE)*(P12/1000)","v":0},{"$f":"VLOOKUP(O12,'Fruchtfolge Tabellen'!$E$3:$Q$231,5,FALSE)*(P12/1000)","v":0},{"$f":"VLOOKUP(O12,'Fruchtfolge Tabellen'!$E$3:$Q$231,6,FALSE)*(P12/1000)","v":0},{"$f":"VLOOKUP(O12,'Fruchtfolge Tabellen'!$E$3:$Q$231,7,FALSE)*(P12/1000)","v":0},{"$f":"VLOOKUP(O12,'Fruchtfolge Tabellen'!$E$3:$Q$231,8,FALSE)*(P12/1000)","v":0},{"$f":"VLOOKUP(O12,'Fruchtfolge Tabellen'!$E$3:$Q$231,9,FALSE)*(P12/1000)","v":0},{"$f":"VLOOKUP(O12,'Fruchtfolge Tabellen'!$E$3:$Q$231,10,FALSE)*(P12/1000)","v":0},{"$f":"VLOOKUP(O12,'Fruchtfolge Tabellen'!$E$3:$Q$231,11,FALSE)*(P12/1000)","v":0},{"$f":"VLOOKUP(O12,'Fruchtfolge Tabellen'!$E$3:$Q$231,12,FALSE)*(P12/1000)","v":0},{"$f":"VLOOKUP(O12,'Fruchtfolge Tabellen'!$E$3:$Q$231,13,FALSE)*(P12/1000)","v":0},{"$f":"VLOOKUP(A12,'Fruchtfolge Tabellen'!$B$3:$E$231,4,FALSE)","v":0},0,{"$f":"VLOOKUP(AA12,'Fruchtfolge Tabellen'!$E$3:$Q$231,4,FALSE)*(AB12/1000)","v":0},{"$f":"VLOOKUP(AA12,'Fruchtfolge Tabellen'!$E$3:$Q$231,5,FALSE)*(AB12/1000)","v":0},{"$f":"VLOOKUP(AA12,'Fruchtfolge Tabellen'!$E$3:$Q$231,6,FALSE)*(AB12/1000)","v":0},{"$f":"VLOOKUP(AA12,'Fruchtfolge Tabellen'!$E$3:$Q$231,7,FALSE)*(AB12/1000)","v":0},{"$f":"VLOOKUP(AA12,'Fruchtfolge Tabellen'!$E$3:$Q$231,8,FALSE)*(AB12/1000)","v":0},{"$f":"VLOOKUP(AA12,'Fruchtfolge Tabellen'!$E$3:$Q$231,9,FALSE)*(AB12/1000)","v":0},{"$f":"VLOOKUP(AA12,'Fruchtfolge Tabellen'!$E$3:$Q$231,10,FALSE)*(AB12/1000)","v":0},{"$f":"VLOOKUP(AA12,'Fruchtfolge Tabellen'!$E$3:$Q$231,11,FALSE)*(AB12/1000)","v":0},{"$f":"VLOOKUP(AA12,'Fruchtfolge Tabellen'!$E$3:$Q$231,12,FALSE)*(AB12/1000)","v":0},{"$f":"VLOOKUP(AA12,'Fruchtfolge Tabellen'!$E$3:$Q$231,13,FALSE)*(AB12/1000)","v":0},{"$f":"VLOOKUP(A12,'Fruchtfolge Tabellen'!$B$3:$E$231,4,FALSE)","v":0},0,{"$f":"VLOOKUP(AM12,'Fruchtfolge Tabellen'!$E$3:$Q$231,4,FALSE)*(AN12/1000)","v":0},{"$f":"VLOOKUP(AM12,'Fruchtfolge Tabellen'!$E$3:$Q$231,5,FALSE)*(AN12/1000)","v":0},{"$f":"VLOOKUP(AM12,'Fruchtfolge Tabellen'!$E$3:$Q$231,6,FALSE)*(AN12/1000)","v":0},{"$f":"VLOOKUP(AM12,'Fruchtfolge Tabellen'!$E$3:$Q$231,7,FALSE)*(AN12/1000)","v":0},{"$f":"VLOOKUP(AM12,'Fruchtfolge Tabellen'!$E$3:$Q$231,8,FALSE)*(AN12/1000)","v":0},{"$f":"VLOOKUP(AM12,'Fruchtfolge Tabellen'!$E$3:$Q$231,9,FALSE)*(AN12/1000)","v":0},{"$f":"VLOOKUP(AM12,'Fruchtfolge Tabellen'!$E$3:$Q$231,10,FALSE)*(AN12/1000)","v":0},{"$f":"VLOOKUP(AM12,'Fruchtfolge Tabellen'!$E$3:$Q$231,11,FALSE)*(AN12/1000)","v":0},{"$f":"VLOOKUP(AM12,'Fruchtfolge Tabellen'!$E$3:$Q$231,12,FALSE)*(AN12/1000)","v":0},{"$f":"VLOOKUP(AM12,'Fruchtfolge Tabellen'!$E$3:$Q$231,13,FALSE)*(AN12/1000)","v":0},0,0,0,0,0,0,0,0,0,0,0]
["Bitte wählen:",{"$nulls":13},{"$f":"VLOOKUP(A13,'Fruchtfolge Tabellen'!$B$3:$E$231,4,FALSE)","v":0},0,{"$f":"VLOOKUP(O13,'Fruchtfolge Tabellen'!$E$3:$Q$231,4,FALSE)*(P13/1000)","v":0},{"$f":"VLOOKUP(O13,'Fruchtfolge Tabellen'!$E$3:$Q$231,5,FALSE)*(P13/1000)","v":0},{"$f":"VLOOKUP(O13,'Fruchtfolge Tabellen'!$E$3:$Q$231,6,FALSE)*(P13/1000)","v":0},{"$f":"VLOOKUP(O13,'Fruchtfolge Tabellen'!$E$3:$Q$231,7,FALSE)*(P13/1000)","v":0},{"$f":"VLOOKUP(O13,'Fruchtfolge Tabellen'!$E$3:$Q$231,8,FALSE)*(P13/1000)","v":0},{"$f":"VLOOKUP(O13,'Fruchtfolge Tabellen'!$E$3:$Q$231,9,FALSE)*(P13/1000)","v":0},{"$f":"VLOOKUP(O13,'Fruchtfolge Tabellen'!$E$3:$Q$231,10,FALSE)*(P13/1000)","v":0},{"$f":"VLOOKUP(O13,'Fruchtfolge Tabellen'!$E$3:$Q$231,11,FALSE)*(P13/1000)","v":0},{"$f":"VLOOKUP(O13,'Fruchtfolge Tabellen'!$E$3:$Q$231,12,FALSE)*(P13/1000)","v":0},{"$f":"VLOOKUP(O13,'Fruchtfolge Tabellen'!$E$3:$Q$231,13,FALSE)*(P13/1000)","v":0},{"$f":"VLOOKUP(A13,'Fruchtfolge Tabellen'!$B$3:$E$231,4,FALSE)","v":0},0,{"$f":"VLOOKUP(AA13,'Fruchtfolge Tabellen'!$E$3:$Q$231,4,FALSE)*(AB13/1000)","v":0},{"$f":"VLOOKUP(AA13,'Fruchtfolge Tabellen'!$E$3:$Q$231,5,FALSE)*(AB13/1000)","v":0},{"$f":"VLOOKUP(AA13,'Fruchtfolge Tabellen'!$E$3:$Q$231,6,FALSE)*(AB13/1000)","v":0},{"$f":"VLOOKUP(AA13,'Fruchtfolge Tabellen'!$E$3:$Q$231,7,FALSE)*(AB13/1000)","v":0},{"$f":"VLOOKUP(AA13,'Fruchtfolge Tabellen'!$E$3:$Q$231,8,FALSE)*(AB13/1000)","v":0},{"$f":"VLOOKUP(AA13,'Fruchtfolge Tabellen'!$E$3:$Q$231,9,FALSE)*(AB13/1000)","v":0},{"$f":"VLOOKUP(AA13,'Fruchtfolge Tabellen'!$E$3:$Q$231,10,FALSE)*(AB13/1000)","v":0},{"$f":"VLOOKUP(AA13,'Fruchtfolge Tabellen'!$E$3:$Q$231,11,FALSE)*(AB13/1000)","v":0},{"$f":"VLOOKUP(AA13,'Fruchtfolge Tabellen'!$E$3:$Q$231,12,FALSE)*(AB13/1000)","v":0},{"$f":"VLOOKUP(AA13,'Fruchtfolge Tabellen'!$E$3:$Q$231,13,FALSE)*(AB13/1000)","v":0},{"$f":"VLOOKUP(A13,'Fruchtfolge Tabellen'!$B$3:$E$231,4,FALSE)","v":0},0,{"$f":"VLOOKUP(AM13,'Fruchtfolge Tabellen'!$E$3:$Q$231,4,FALSE)*(AN13/1000)","v":0},{"$f":"VLOOKUP(AM13,'Fruchtfolge Tabellen'!$E$3:$Q$231,5,FALSE)*(AN13/1000)","v":0},{"$f":"VLOOKUP(AM13,'Fruchtfolge Tabellen'!$E$3:$Q$231,6,FALSE)*(AN13/1000)","v":0},{"$f":"VLOOKUP(AM13,'Fruchtfolge Tabellen'!$E$3:$Q$231,7,FALSE)*(AN13/1000)","v":0},{"$f":"VLOOKUP(AM13,'Fruchtfolge Tabellen'!$E$3:$Q$231,8,FALSE)*(AN13/1000)","v":0},{"$f":"VLOOKUP(AM13,'Fruchtfolge Tabellen'!$E$3:$Q$231,9,FALSE)*(AN13/1000)","v":0},{"$f":"VLOOKUP(AM13,'Fruchtfolge Tabellen'!$E$3:$Q$231,10,FALSE)*(AN13/1000)","v":0},{"$f":"VLOOKUP(AM13,'Fruchtfolge Tabellen'!$E$3:$Q$231,11,FALSE)*(AN13/1000)","v":0},{"$f":"VLOOKUP(AM13,'Fruchtfolge Tabellen'!$E$3:$Q$231,12,FALSE)*(AN13/1000)","v":0},{"$f":"VLOOKUP(AM13,'Fruchtfolge Tabellen'!$E$3:$Q$231,13,FALSE)*(AN13/1000)","v":0},0,0,0,0,0,0,0,0,0,0,0]
["Bitte wählen:",{"$nulls":13},{"$f":"VLOOKUP(A14,'Fruchtfolge Tabellen'!$B$3:$E$231,4,FALSE)","v":0},0,{"$f":"VLOOKUP(O14,'Fruchtfolge Tabellen'!$E$3:$Q$231,4,FALSE)*(P14/1000)","v":0},{"$f":"VLOOKUP(O14,'Fruchtfolge Tabellen'!$E$3:$Q$231,5,FALSE)*(P14/1000)","v":0},{"$f":"VLOOKUP(O14,'Fruchtfolge Tabellen'!$E$3:$Q$231,6,FALSE)*(P14/1000)","v":0},{"$f":"VLOOKUP(O14,'Fruchtfolge Tabellen'!$E$3:$Q$231,7,FALSE)*(P14/1000)","v":0},{"$f":"VLOOKUP(O14,'Fruchtfolge Tabellen'!$E$3:$Q$231,8,FALSE)*(P14/1000)","v":0},{"$f":"VLOOKUP(O14,'Fruchtfolge Tabellen'!$E$3:$Q$231,9,FALSE)*(P14/1000)","v":0},{"$f":"VLOOKUP(O14,'Fruchtfolge Tabellen'!$E$3:$Q$231,10,FALSE)*(P14/1000)","v":0},{"$f":"VLOOKUP(O14,'Fruchtfolge Tabellen'!$E$3:$Q$231,11,FALSE)*(P14/1000)","v":0},{"$f":"VLOOKUP(O14,'Fruchtfolge Tabellen'!$E$3:$Q$231,12,FALSE)*(P14/1000)","v":0},{"$f":"VLOOKUP(O14,'Fruchtfolge Tabellen'!$E$3:$Q$231,13,FALSE)*(P14/1000)","v":0},{"$f":"VLOOKUP(A14,'Fruchtfolge Tabellen'!$B$3:$E$231,4,FALSE)","v":0},0,{"$f":"VLOOKUP(AA14,'Fruchtfolge Tabellen'!$E$3:$Q$231,4,FALSE)*(AB14/1000)","v":0},{"$f":"VLOOKUP(AA14,'Fruchtfolge Tabellen'!$E$3:$Q$231,5,FALSE)*(AB14/1000)","v":0},{"$f":"VLOOKUP(AA14,'Fruchtfolge Tabellen'!$E$3:$Q$231,6,FALSE)*(AB14/1000)","v":0},{"$f":"VLOOKUP(AA14,'Fruchtfolge Tabellen'!$E$3:$Q$231,7,FALSE)*(AB14/1000)","v":0},{"$f":"VLOOKUP(AA14,'Fruchtfolge Tabellen'!$E$3:$Q$231,8,FALSE)*(AB14/1000)","v":0},{"$f":"VLOOKUP(AA14,'Fruchtfolge Tabellen'!$E$3:$Q$231,9,FALSE)*(AB14/1000)","v":0},{"$f":"VLOOKUP(AA14,'Fruchtfolge Tabellen'!$E$3:$Q$231,10,FALSE)*(AB14/1000)","v":0},{"$f":"VLOOKUP(AA14,'Fruchtfolge Tabellen'!$E$3:$Q$231,11,FALSE)*(AB14/1000)","v":0},{"$f":"VLOOKUP(AA14,'Fruchtfolge Tabellen'!$E$3:$Q$231,12,FALSE)*(AB14/1000)","v":0},{"$f":"VLOOKUP(AA14,'Fruchtfolge Tabellen'!$E$3:$Q$231,13,FALSE)*(AB14/1000)","v":0},{"$f":"VLOOKUP(A14,'Fruchtfolge Tabellen'!$B$3:$E$231,4,FALSE)","v":0},0,{"$f":"VLOOKUP(AM14,'Fruchtfolge Tabellen'!$E$3:$Q$231,4,FALSE)*(AN14/1000)","v":0},{"$f":"VLOOKUP(AM14,'Fruchtfolge Tabellen'!$E$3:$Q$231,5,FALSE)*(AN14/1000)","v":0},{"$f":"VLOOKUP(AM14,'Fruchtfolge Tabellen'!$E$3:$Q$231,6,FALSE)*(AN14/1000)","v":0},{"$f":"VLOOKUP(AM14,'Fruchtfolge Tabellen'!$E$3:$Q$231,7,FALSE)*(AN14/1000)","v":0},{"$f":"VLOOKUP(AM14,'Fruchtfolge Tabellen'!$E$3:$Q$231,8,FALSE)*(AN14/1000)","v":0},{"$f":"VLOOKUP(AM14,'Fruchtfolge Tabellen'!$E$3:$Q$231,9,FALSE)*(AN14/1000)","v":0},{"$f":"VLOOKUP(AM14,'Fruchtfolge Tabellen'!$E$3:$Q$231,10,FALSE)*(AN14/1000)","v":0},{"$f":"VLOOKUP(AM14,'Fruchtfolge Tabellen'!$E$3:$Q$231,11,FALSE)*(AN14/1000)","v":0},{"$f":"VLOOKUP(AM14,'Fruchtfolge Tabellen'!$E$3:$Q$231,12,FALSE)*(AN14/1000)","v":0},{"$f":"VLOOKUP(AM14,'Fruchtfolge Tabellen'!$E$3:$Q$231,13,FALSE)*(AN14/1000)","v":0},0,0,0,0,0,0,0,0,0,0,0]
["Bitte wählen:",{"$nulls":13},{"$f":"VLOOKUP(A15,'Fruchtfolge Tabellen'!$B$3:$E$231,4,FALSE)","v":0},0,{"$f":"VLOOKUP(O15,'Fruchtfolge Tabellen'!$E$3:$Q$231,4,FALSE)*(P15/1000)","v":0},{"$f":"VLOOKUP(O15,'Fruchtfolge Tabellen'!$E$3:$Q$231,5,FALSE)*(P15/1000)","v":0},{"$f":"VLOOKUP(O15,'Fruchtfolge Tabellen'!$E$3:$Q$231,6,FALSE)*(P15/1000)","v":0},{"$f":"VLOOKUP(O15,'Fruchtfolge Tabellen'!$E$3:$Q$231,7,FALSE)*(P15/1000)","v":0},{"$f":"VLOOKUP(O15,'Fruchtfolge Tabellen'!$E$3:$Q$231,8,FALSE)*(P15/1000)","v":0},{"$f":"VLOOKUP(O15,'Fruchtfolge Tabellen'!$E$3:$Q$231,9,FALSE)*(P15/1000)","v":0},{"$f":"VLOOKUP(O15,'Fruchtfolge Tabellen'!$E$3:$Q$231,10,FALSE)*(P15/1000)","v":0},{"$f":"VLOOKUP(O15,'Fruchtfolge Tabellen'!$E$3:$Q$231,11,FALSE)*(P15/1000)","v":0},{"$f":"VLOOKUP(O15,'Fruchtfolge Tabellen'!$E$3:$Q$231,12,FALSE)*(P15/1000)","v":0},{"$f":"VLOOKUP(O15,'Fruchtfolge Tabellen'!$E$3:$Q$231,13,FALSE)*(P15/1000)","v":0},{"$f":"VLOOKUP(A15,'Fruchtfolge Tabellen'!$B$3:$E$231,4,FALSE)","v":0},0,{"$f":"VLOOKUP(AA15,'Fruchtfolge Tabellen'!$E$3:$Q$231,4,FALSE)*(AB15/1000)","v":0},{"$f":"VLOOKUP(AA15,'Fruchtfolge Tabellen'!$E$3:$Q$231,5,FALSE)*(AB15/1000)","v":0},{"$f":"VLOOKUP(AA15,'Fruchtfolge Tabellen'!$E$3:$Q$231,6,FALSE)*(AB15/1000)","v":0},{"$f":"VLOOKUP(AA15,'Fruchtfolge Tabellen'!$E$3:$Q$231,7,FALSE)*(AB15/1000)","v":0},{"$f":"VLOOKUP(AA15,'Fruchtfolge Tabellen'!$E$3:$Q$231,8,FALSE)*(AB15/1000)","v":0},{"$f":"VLOOKUP(AA15,'Fruchtfolge Tabellen'!$E$3:$Q$231,9,FALSE)*(AB15/1000)","v":0},{"$f":"VLOOKUP(AA15,'Fruchtfolge Tabellen'!$E$3:$Q$231,10,FALSE)*(AB15/1000)","v":0},{"$f":"VLOOKUP(AA15,'Fruchtfolge Tabellen'!$E$3:$Q$231,11,FALSE)*(AB15/1000)","v":0},{"$f":"VLOOKUP(AA15,'Fruchtfolge Tabellen'!$E$3:$Q$231,12,FALSE)*(AB15/1000)","v":0},{"$f":"VLOOKUP(AA15,'Fruchtfolge Tabellen'!$E$3:$Q$231,13,FALSE)*(AB15/1000)","v":0},{"$f":"VLOOKUP(A15,'Fruchtfolge Tabellen'!$B$3:$E$231,4,FALSE)","v":0},0,{"$f":"VLOOKUP(AM15,'Fruchtfolge Tabellen'!$E$3:$Q$231,4,FALSE)*(AN15/1000)","v":0},{"$f":"VLOOKUP(AM15,'Fruchtfolge Tabellen'!$E$3:$Q$231,5,FALSE)*(AN15/1000)","v":0},{"$f":"VLOOKUP(AM15,'Fruchtfolge Tabellen'!$E$3:$Q$231,6,FALSE)*(AN15/1000)","v":0},{"$f":"VLOOKUP(AM15,'Fruchtfolge Tabellen'!$E$3:$Q$231,7,FALSE)*(AN15/1000)","v":0},{"$f":"VLOOKUP(AM15,'Fruchtfolge Tabellen'!$E$3:$Q$231,8,FALSE)*(AN15/1000)","v":0},{"$f":"VLOOKUP(AM15,'Fruchtfolge Tabellen'!$E$3:$Q$231,9,FALSE)*(AN15/1000)","v":0},{"$f":"VLOOKUP(AM15,'Fruchtfolge Tabellen'!$E$3:$Q$231,10,FALSE)*(AN15/1000)","v":0},{"$f":"VLOOKUP(AM15,'Fruchtfolge Tabellen'!$E$3:$Q$231,11,FALSE)*(AN15/1000)","v":0},{"$f":"VLOOKUP(AM15,'Fruchtfolge Tabellen'!$E$3:$Q$231,12,FALSE)*(AN15/1000)","v":0},{"$f":"VLOOKUP(AM15,'Fruchtfolge Tabellen'!$E$3:$Q$231,13,FALSE)*(AN15/1000)","v":0},0,0,0,0,0,0,0,0,0,0,0]
["Bitte wählen:",{"$nulls":13},{"$f":"VLOOKUP(A16,'Fruchtfolge Tabellen'!$B$3:$E$231,4,FALSE)","v":0},0,{"$f":"VLOOKUP(O16,'Fruchtfolge Tabellen'!$E$3:$Q$231,4,FALSE)*(P16/1000)","v":0},{"$f":"VLOOKUP(O16,'Fruchtfolge Tabellen'!$E$3:$Q$231,5,FALSE)*(P16/1000)","v":0},{"$f":"VLOOKUP(O16,'Fruchtfolge Tabellen'!$E$3:$Q$231,6,FALSE)*(P16/1000)","v":0},{"$f":"VLOOKUP(O16,'Fruchtfolge Tabellen'!$E$3:$Q$231,7,FALSE)*(P16/1000)","v":0},{"$f":"VLOOKUP(O16,'Fruchtfolge Tabellen'!$E$3:$Q$231,8,FALSE)*(P16/1000)","v":0},{"$f":"VLOOKUP(O16,'Fruchtfolge Tabellen'!$E$3:$Q$231,9,FALSE)*(P16/1000)","v":0},{"$f":"VLOOKUP(O16,'Fruchtfolge Tabellen'!$E$3:$Q$231,10,FALSE)*(P16/1000)","v":0},{"$f":"VLOOKUP(O16,'Fruchtfolge Tabellen'!$E$3:$Q$231,11,FALSE)*(P16/1000)","v":0},{"$f":"VLOOKUP(O16,'Fruchtfolge Tabellen'!$E$3:$Q$231,12,FALSE)*(P16/1000)","v":0},{"$f":"VLOOKUP(O16,'Fruchtfolge Tabellen'!$E$3:$Q$231,13,FALSE)*(P16/1000)","v":0},{"$f":"VLOOKUP(A16,'Fruchtfolge Tabellen'!$B$3:$E$231,4,FALSE)","v":0},0,{"$f":"VLOOKUP(AA16,'Fruchtfolge Tabellen'!$E$3:$Q$231,4,FALSE)*(AB16/1000)","v":0},{"$f":"VLOOKUP(AA16,'Fruchtfolge Tabellen'!$E$3:$Q$231,5,FALSE)*(AB16/1000)","v":0},{"$f":"VLOOKUP(AA16,'Fruchtfolge Tabellen'!$E$3:$Q$231,6,FALSE)*(AB16/1000)","v":0},{"$f":"VLOOKUP(AA16,'Fruchtfolge Tabellen'!$E$3:$Q$231,7,FALSE)*(AB16/1000)","v":0},{"$f":"VLOOKUP(AA16,'Fruchtfolge Tabellen'!$E$3:$Q$231,8,FALSE)*(AB16/1000)","v":0},{"$f":"VLOOKUP(AA16,'Fruchtfolge Tabellen'!$E$3:$Q$231,9,FALSE)*(AB16/1000)","v":0},{"$f":"VLOOKUP(AA16,'Fruchtfolge Tabellen'!$E$3:$Q$231,10,FALSE)*(AB16/1000)","v":0},{"$f":"VLOOKUP(AA16,'Fruchtfolge Tabellen'!$E$3:$Q$231,11,FALSE)*(AB16/1000)","v":0},{"$f":"VLOOKUP(AA16,'Fruchtfolge Tabellen'!$E$3:$Q$231,12,FALSE)*(AB16/1000)","v":0},{"$f":"VLOOKUP(AA16,'Fruchtfolge Tabellen'!$E$3:$Q$231,13,FALSE)*(AB16/1000)","v":0},{"$f":"VLOOKUP(A16,'Fruchtfolge Tabellen'!$B$3:$E$231,4,FALSE)","v":0},0,{"$f":"VLOOKUP(AM16,'Fruchtfolge Tabellen'!$E$3:$Q$231,4,FALSE)*(AN16/1000)","v":0},{"$f":"VLOOKUP(AM16,'Fruchtfolge Tabellen'!$E$3:$Q$231,5,FALSE)*(AN16/1000)","v":0},{"$f":"VLOOKUP(AM16,'Fruchtfolge Tabellen'!$E$3:$Q$231,6,FALSE)*(AN16/1000)","v":0},{"$f":"VLOOKUP(AM16,'Fruchtfolge Tabellen'!$E$3:$Q$231,7,FALSE)*(AN16/1000)","v":0},{"$f":"VLOOKUP(AM16,'Fruchtfolge Tabellen'!$E$3:$Q$231,8,FALSE)*(AN16/1000)","v":0},{"$f":"VLOOKUP(AM16,'Fruchtfolge Tabellen'!$E$3:$Q$231,9,FALSE)*(AN16/1000)","v":0},{"$f":"VLOOKUP(AM16,'Fruchtfolge Tabellen'!$E$3:$Q$231,10,FALSE)*(AN16/1000)","v":0},{"$f":"VLOOKUP(AM16,'Fruchtfolge Tabellen'!$E$3:$Q$231,11,FALSE)*(AN16/1000)","v":0},{"$f":"VLOOKUP(AM16,'Fruchtfolge Tabellen'!$E$3:$Q$231,12,FALSE)*(AN16/1000)","v":0},{"$f":"VLOOKUP(AM16,'Fruchtfolge Tabellen'!$E$3:$Q$231,13,FALSE)*(AN16/1000)","v":0},0,0,0,0,0,0,0,0,0,0,0]
["Bitte wählen:",{"$nulls":13},{"$f":"VLOOKUP(A17,'Fruchtfolge Tabellen'!$B$3:$E$231,4,FALSE)","v":0},0,{"$f":"VLOOKUP(O17,'Fruchtfolge Tabellen'!$E$3:$Q$231,4,FALSE)*(P17/1000)","v":0},{"$f":"VLOOKUP(O17,'Fruchtfolge Tabellen'!$E$3:$Q$231,5,FALSE)*(P17/1000)","v":0},{"$f":"VLOOKUP(O17,'Fruchtfolge Tabellen'!$E$3:$Q$231,6,FALSE)*(P17/1000)","v":0},{"$f":"VLOOKUP(O17,'Fruchtfolge Tabellen'!$E$3:$Q$231,7,FALSE)*(P17/1000)","v":0},{"$f":"VLOOKUP(O17,'Fruchtfolge Tabellen'!$E$3:$Q$231,8,FALSE)*(P17/1000)","v":0},{"$f":"VLOOKUP(O17,'Fruchtfolge Tabellen'!$E$3:$Q$231,9,FALSE)*(P17/1000)","v":0},{"$f":"VLOOKUP(O17,'Fruchtfolge Tabellen'!$E$3:$Q$231,10,FALSE)*(P17/1000)","v":0},{"$f":"VLOOKUP(O17,'Fruchtfolge Tabellen'!$E$3:$Q$231,11,FALSE)*(P17/1000)","v":0},{"$f":"VLOOKUP(O17,'Fruchtfolge Tabellen'!$E$3:$Q$231,12,FALSE)*(P17/1000)","v":0},{"$f":"VLOOKUP(O17,'Fruchtfolge Tabellen'!$E$3:$Q$231,13,FALSE)*(P17/1000)","v":0},{"$f":"VLOOKUP(A17,'Fruchtfolge Tabellen'!$B$3:$E$231,4,FALSE)","v":0},0,{"$f":"VLOOKUP(AA17,'Fruchtfolge Tabellen'!$E$3:$Q$231,4,FALSE)*(AB17/1000)","v":0},{"$f":"VLOOKUP(AA17,'Fruchtfolge Tabellen'!$E$3:$Q$231,5,FALSE)*(AB17/1000)","v":0},{"$f":"VLOOKUP(AA17,'Fruchtfolge Tabellen'!$E$3:$Q$231,6,FALSE)*(AB17/1000)","v":0},{"$f":"VLOOKUP(AA17,'Fruchtfolge Tabellen'!$E$3:$Q$231,7,FALSE)*(AB17/1000)","v":0},{"$f":"VLOOKUP(AA17,'Fruchtfolge Tabellen'!$E$3:$Q$231,8,FALSE)*(AB17/1000)","v":0},{"$f":"VLOOKUP(AA17,'Fruchtfolge Tabellen'!$E$3:$Q$231,9,FALSE)*(AB17/1000)","v":0},{"$f":"VLOOKUP(AA17,'Fruchtfolge Tabellen'!$E$3:$Q$231,10,FALSE)*(AB17/1000)","v":0},{"$f":"VLOOKUP(AA17,'Fruchtfolge Tabellen'!$E$3:$Q$231,11,FALSE)*(AB17/1000)","v":0},{"$f":"VLOOKUP(AA17,'Fruchtfolge Tabellen'!$E$3:$Q$231,12,FALSE)*(AB17/1000)","v":0},{"$f":"VLOOKUP(AA17,'Fruchtfolge Tabellen'!$E$3:$Q$231,13,FALSE)*(AB17/1000)","v":0},{"$f":"VLOOKUP(A17,'Fruchtfolge Tabellen'!$B$3:$E$231,4,FALSE)","v":0},0,{"$f":"VLOOKUP(AM17,'Fruchtfolge Tabellen'!$E$3:$Q$231,4,FALSE)*(AN17/1000)","v":0},{"$f":"VLOOKUP(AM17,'Fruchtfolge Tabellen'!$E$3:$Q$231,5,FALSE)*(AN17/1000)","v":0},{"$f":"VLOOKUP(AM17,'Fruchtfolge Tabellen'!$E$3:$Q$231,6,FALSE)*(AN17/1000)","v":0},{"$f":"VLOOKUP(AM17,'Fruchtfolge Tabellen'!$E$3:$Q$231,7,FALSE)*(AN17/1000)","v":0},{"$f":"VLOOKUP(AM17,'Fruchtfolge Tabellen'!$E$3:$Q$231,8,FALSE)*(AN17/1000)","v":0},{"$f":"VLOOKUP(AM17,'Fruchtfolge Tabellen'!$E$3:$Q$231,9,FALSE)*(AN17/1000)","v":0},{"$f":"VLOOKUP(AM17,'Fruchtfolge Tabellen'!$E$3:$Q$231,10,FALSE)*(AN17/1000)","v":0},{"$f":"VLOOKUP(AM17,'Fruchtfolge Tabellen'!$E$3:$Q$231,11,FALSE)*(AN17/1000)","v":0},{"$f":"VLOOKUP(AM17,'Fruchtfolge Tabellen'!$E$3:$Q$231,12,FALSE)*(AN17/1000)","v":0},{"$f":"VLOOKUP(AM17,'Fruchtfolge Tabellen'!$E$3:$Q$231,13,FALSE)*(AN17/1000)","v":0},0,0,0,0,0,0,0,0,0,0,0]
["Bitte wählen:",{"$nulls":13},{"$f":"VLOOKUP(A18,'Fruchtfolge Tabellen'!$B$3:$E$231,4,FALSE)","v":0},0,{"$f":"VLOOKUP(O18,'Fruchtfolge Tabellen'!$E$3:$Q$231,4,FALSE)*(P18/1000)","v":0},{"$f":"VLOOKUP(O18,'Fruchtfolge Tabellen'!$E$3:$Q$231,5,FALSE)*(P18/1000)","v":0},{"$f":"VLOOKUP(O18,'Fruchtfolge Tabellen'!$E$3:$Q$231,6,FALSE)*(P18/1000)","v":0},{"$f":"VLOOKUP(O18,'Fruchtfolge Tabellen'!$E$3:$Q$231,7,FALSE)*(P18/1000)","v":0},{"$f":"VLOOKUP(O18,'Fruchtfolge Tabellen'!$E$3:$Q$231,8,FALSE)*(P18/1000)","v":0},{"$f":"VLOOKUP(O18,'Fruchtfolge Tabellen'!$E$3:$Q$231,9,FALSE)*(P18/1000)","v":0},{"$f":"VLOOKUP(O18,'Fruchtfolge Tabellen'!$E$3:$Q$231,10,FALSE)*(P18/1000)","v":0},{"$f":"VLOOKUP(O18,'Fruchtfolge Tabellen'!$E$3:$Q$231,11,FALSE)*(P18/1000)","v":0},{"$f":"VLOOKUP(O18,'Fruchtfolge Tabellen'!$E$3:$Q$231,12,FALSE)*(P18/1000)","v":0},{"$f":"VLOOKUP(O18,'Fruchtfolge Tabellen'!$E$3:$Q$231,13,FALSE)*(P18/1000)","v":0},{"$f":"VLOOKUP(A18,'Fruchtfolge Tabellen'!$B$3:$E$231,4,FALSE)","v":0},0,{"$f":"VLOOKUP(AA18,'Fruchtfolge Tabellen'!$E$3:$Q$231,4,FALSE)*(AB18/1000)","v":0},{"$f":"VLOOKUP(AA18,'Fruchtfolge Tabellen'!$E$3:$Q$231,5,FALSE)*(AB18/1000)","v":0},{"$f":"VLOOKUP(AA18,'Fruchtfolge Tabellen'!$E$3:$Q$231,6,FALSE)*(AB18/1000)","v":0},{"$f":"VLOOKUP(AA18,'Fruchtfolge Tabellen'!$E$3:$Q$231,7,FALSE)*(AB18/1000)","v":0},{"$f":"VLOOKUP(AA18,'Fruchtfolge Tabellen'!$E$3:$Q$231,8,FALSE)*(AB18/1000)","v":0},{"$f":"VLOOKUP(AA18,'Fruchtfolge Tabellen'!$E$3:$Q$231,9,FALSE)*(AB18/1000)","v":0},{"$f":"VLOOKUP(AA18,'Fruchtfolge Tabellen'!$E$3:$Q$231,10,FALSE)*(AB18/1000)","v":0},{"$f":"VLOOKUP(AA18,'Fruchtfolge Tabellen'!$E$3:$Q$231,11,FALSE)*(AB18/1000)","v":0},{"$f":"VLOOKUP(AA18,'Fruchtfolge Tabellen'!$E$3:$Q$231,12,FALSE)*(AB18/1000)","v":0},{"$f":"VLOOKUP(AA18,'Fruchtfolge Tabellen'!$E$3:$Q$231,13,FALSE)*(AB18/1000)","v":0},{"$f":"VLOOKUP(A18,'Fruchtfolge Tabellen'!$B$3:$E$231,4,FALSE)","v":0},0,{"$f":"VLOOKUP(AM18,'Fruchtfolge Tabellen'!$E$3:$Q$231,4,FALSE)*(AN18/1000)","v":0},{"$f":"VLOOKUP(AM18,'Fruchtfolge Tabellen'!$E$3:$Q$231,5,FALSE)*(AN18/1000)","v":0},{"$f":"VLOOKUP(AM18,'Fruchtfolge Tabellen'!$E$3:$Q$231,6,FALSE)*(AN18/1000)","v":0},{"$f":"VLOOKUP(AM18,'Fruchtfolge Tabellen'!$E$3:$Q$231,7,FALSE)*(AN18/1000)","v":0},{"$f":"VLOOKUP(AM18,'Fruchtfolge Tabellen'!$E$3:$Q$231,8,FALSE)*(AN18/1000)","v":0},{"$f":"VLOOKUP(AM18,'Fruchtfolge Tabellen'!$E$3:$Q$231,9,FALSE)*(AN18/1000)","v":0},{"$f":"VLOOKUP(AM18,'Fruchtfolge Tabellen'!$E$3:$Q$231,10,FALSE)*(AN18/1000)","v":0},{"$f":"VLOOKUP(AM18,'Fruchtfolge Tabellen'!$E$3:$Q$231,11,FALSE)*(AN18/1000)","v":0},{"$f":"VLOOKUP(AM18,'Fruchtfolge Tabellen'!$E$3:$Q$231,12,FALSE)*(AN18/1000)","v":0},{"$f":"VLOOKUP(AM18,'Fruchtfolge Tabellen'!$E$3:$Q$231,13,FALSE)*(AN18/1000)","v":0},0,0,0,0,0,0,0,0,0,0,0]
["Bitte wählen:",{"$nulls":13},{"$f":"VLOOKUP(A19,'Fruchtfolge Tabellen'!$B$3:$E$231,4,FALSE)","v":0},0,{"$f":"VLOOKUP(O19,'Fruchtfolge Tabellen'!$E$3:$Q$231,4,FALSE)*(P19/1000)","v":0},{"$f":"VLOOKUP(O19,'Fruchtfolge Tabellen'!$E$3:$Q$231,5,FALSE)*(P19/1000)","v":0},{"$f":"VLOOKUP(O19,'Fruchtfolge Tabellen'!$E$3:$Q$231,6,FALSE)*(P19/1000)","v":0},{"$f":"VLOOKUP(O19,'Fruchtfolge Tabellen'!$E$3:$Q$231,7,FALSE)*(P19/1000)","v":0},{"$f":"VLOOKUP(O19,'Fruchtfolge Tabellen'!$E$3:$Q$231,8,FALSE)*(P19/1000)","v":0},{"$f":"VLOOKUP(O19,'Fruchtfolge Tabellen'!$E$3:$Q$231,9,FALSE)*(P19/1000)","v":0},{"$f":"VLOOKUP(O19,'Fruchtfolge Tabellen'!$E$3:$Q$231,10,FALSE)*(P19/1000)","v":0},{"$f":"VLOOKUP(O19,'Fruchtfolge Tabellen'!$E$3:$Q$231,11,FALSE)*(P19/1000)","v":0},{"$f":"VLOOKUP(O19,'Fruchtfolge Tabellen'!$E$3:$Q$231,12,FALSE)*(P19/1000)","v":0},{"$f":"VLOOKUP(O19,'Fruchtfolge Tabellen'!$E$3:$Q$231,13,FALSE)*(P19/1000)","v":0},{"$f":"VLOOKUP(A19,'Fruchtfolge Tabellen'!$B$3:$E$231,4,FALSE)","v":0},0,{"$f":"VLOOKUP(AA19,'Fruchtfolge Tabellen'!$E$3:$Q$231,4,FALSE)*(AB19/1000)","v":0},{"$f":"VLOOKUP(AA19,'Fruchtfolge Tabellen'!$E$3:$Q$231,5,FALSE)*(AB19/1000)","v":0},{"$f":"VLOOKUP(AA19,'Fruchtfolge Tabellen'!$E$3:$Q$231,6,FALSE)*(AB19/1000)","v":0},{"$f":"VLOOKUP(AA19,'Fruchtfolge Tabellen'!$E$3:$Q$231,7,FALSE)*(AB19/1000)","v":0},{"$f":"VLOOKUP(AA19,'Fruchtfolge Tabellen'!$E$3:$Q$231,8,FALSE)*(AB19/1000)","v":0},{"$f":"VLOOKUP(AA19,'Fruchtfolge Tabellen'!$E$3:$Q$231,9,FALSE)*(AB19/1000)","v":0},{"$f":"VLOOKUP(AA19,'Fruchtfolge Tabellen'!$E$3:$Q$231,10,FALSE)*(AB19/1000)","v":0},{"$f":"VLOOKUP(AA19,'Fruchtfolge Tabellen'!$E$3:$Q$231,11,FALSE)*(AB19/1000)","v":0},{"$f":"VLOOKUP(AA19,'Fruchtfolge Tabellen'!$E$3:$Q$231,12,FALSE)*(AB19/1000)","v":0},{"$f":"VLOOKUP(AA19,'Fruchtfolge Tabellen'!$E$3:$Q$231,13,FALSE)*(AB19/1000)","v":0},{"$f":"VLOOKUP(A19,'Fruchtfolge Tabellen'!$B$3:$E$231,4,FALSE)","v":0},0,{"$f":"VLOOKUP(AM19,'Fruchtfolge Tabellen'!$E$3:$Q$231,4,FALSE)*(AN19/1000)","v":0},{"$f":"VLOOKUP(AM19,'Fruchtfolge Tabellen'!$E$3:$Q$231,5,FALSE)*(AN19/1000)","v":0},{"$f":"VLOOKUP(AM19,'Fruchtfolge Tabellen'!$E$3:$Q$231,6,FALSE)*(AN19/1000)","v":0},{"$f":"VLOOKUP(AM19,'Fruchtfolge Tabellen'!$E$3:$Q$231,7,FALSE)*(AN19/1000)","v":0},{"$f":"VLOOKUP(AM19,'Fruchtfolge Tabellen'!$E$3:$Q$231,8,FALSE)*(AN19/1000)","v":0},{"$f":"VLOOKUP(AM19,'Fruchtfolge Tabellen'!$E$3:$Q$231,9,FALSE)*(AN19/1000)","v":0},{"$f":"VLOOKUP(AM19,'Fruchtfolge Tabellen'!$E$3:$Q$231,10,FALSE)*(AN19/1000)","v":0},{"$f":"VLOOKUP(AM19,'Fruchtfolge Tabellen'!$E$3:$Q$231,11,FALSE)*(AN19/1000)","v":0},{"$f":"VLOOKUP(AM19,'Fruchtfolge Tabellen'!$E$3:$Q$231,12,FALSE)*(AN19/1000)","v":0},{"$f":"VLOOKUP(AM19,'Fruchtfolge Tabellen'!$E$3:$Q$231,13,FALSE)*(AN19/1000)","v":0},0,0,0,0,0,0,0,0,0,0,0]
["Bitte wählen:",{"$nulls":13},{"$f":"VLOOKUP(A20,'Fruchtfolge Tabellen'!$B$3:$E$231,4,FALSE)","v":0},0,{"$f":"VLOOKUP(O20,'Fruchtfolge Tabellen'!$E$3:$Q$231,4,FALSE)*(P20/1000)","v":0},{"$f":"VLOOKUP(O20,'Fruchtfolge Tabellen'!$E$3:$Q$231,5,FALSE)*(P20/1000)","v":0},{"$f":"VLOOKUP(O20,'Fruchtfolge Tabellen'!$E$3:$Q$231,6,FALSE)*(P20/1000)","v":0},{"$f":"VLOOKUP(O20,'Fruchtfolge Tabellen'!$E$3:$Q$231,7,FALSE)*(P20/1000)","v":0},{"$f":"VLOOKUP(O20,'Fruchtfolge Tabellen'!$E$3:$Q$231,8,FALSE)*(P20/1000)","v":0},{"$f":"VLOOKUP(O20,'Fruchtfolge Tabellen'!$E$3:$Q$231,9,FALSE)*(P20/1000)","v":0},{"$f":"VLOOKUP(O20,'Fruchtfolge Tabellen'!$E$3:$Q$231,10,FALSE)*(P20/1000)","v":0},{"$f":"VLOOKUP(O20,'Fruchtfolge Tabellen'!$E$3:$Q$231,11,FALSE)*(P20/1000)","v":0},{"$f":"VLOOKUP(O20,'Fruchtfolge Tabellen'!$E$3:$Q$231,12,FALSE)*(P20/1000)","v":0},{"$f":"VLOOKUP(O20,'Fruchtfolge Tabellen'!$E$3:$Q$231,13,FALSE)*(P20/1000)","v":0},{"$f":"VLOOKUP(A20,'Fruchtfolge Tabellen'!$B$3:$E$231,4,FALSE)","v":0},0,{"$f":"VLOOKUP(AA20,'Fruchtfolge Tabellen'!$E$3:$Q$231,4,FALSE)*(AB20/1000)","v":0},{"$f":"VLOOKUP(AA20,'Fruchtfolge Tabellen'!$E$3:$Q$231,5,FALSE)*(AB20/1000)","v":0},{"$f":"VLOOKUP(AA20,'Fruchtfolge Tabellen'!$E$3:$Q$231,6,FALSE)*(AB20/1000)","v":0},{"$f":"VLOOKUP(AA20,'Fruchtfolge Tabellen'!$E$3:$Q$231,7,FALSE)*(AB20/1000)","v":0},{"$f":"VLOOKUP(AA20,'Fruchtfolge Tabellen'!$E$3:$Q$231,8,FALSE)*(AB20/1000)","v":0},{"$f":"VLOOKUP(AA20,'Fruchtfolge Tabellen'!$E$3:$Q$231,9,FALSE)*(AB20/1000)","v":0},{"$f":"VLOOKUP(AA20,'Fruchtfolge Tabellen'!$E$3:$Q$231,10,FALSE)*(AB20/1000)","v":0},{"$f":"VLOOKUP(AA20,'Fruchtfolge Tabellen'!$E$3:$Q$231,11,FALSE)*(AB20/1000)","v":0},{"$f":"VLOOKUP(AA20,'Fruchtfolge Tabellen'!$E$3:$Q$231,12,FALSE)*(AB20/1000)","v":0},{"$f":"VLOOKUP(AA20,'Fruchtfolge Tabellen'!$E$3:$Q$231,13,FALSE)*(AB20/1000)","v":0},{"$f":"VLOOKUP(A20,'Fruchtfolge Tabellen'!$B$3:$E$231,4,FALSE)","v":0},0,{"$f":"VLOOKUP(AM20,'Fruchtfolge Tabellen'!$E$3:$Q$231,4,FALSE)*(AN20/1000)","v":0},{"$f":"VLOOKUP(AM20,'Fruchtfolge Tabellen'!$E$3:$Q$231,5,FALSE)*(AN20/1000)","v":0},{"$f":"VLOOKUP(AM20,'Fruchtfolge Tabellen'!$E$3:$Q$231,6,FALSE)*(AN20/1000)","v":0},{"$f":"VLOOKUP(AM20,'Fruchtfolge Tabellen'!$E$3:$Q$231,7,FALSE)*(AN20/1000)","v":0},{"$f":"VLOOKUP(AM20,'Fruchtfolge Tabellen'!$E$3:$Q$231,8,FALSE)*(AN20/1000)","v":0},{"$f":"VLOOKUP(AM20,'Fruchtfolge Tabellen'!$E$3:$Q$231,9,FALSE)*(AN20/1000)","v":0},{"$f":"VLOOKUP(AM20,'Fruchtfolge Tabellen'!$E$3:$Q$231,10,FALSE)*(AN20/1000)","v":0},{"$f":"VLOOKUP(AM20,'Fruchtfolge Tabellen'!$E$3:$Q$231,11,FALSE)*(AN20/1000)","v":0},{"$f":"VLOOKUP(AM20,'Fruchtfolge Tabellen'!$E$3:$Q$231,12,FALSE)*(AN20/1000)","v":0},{"$f":"VLOOKUP(AM20,'Fruchtfolge Tabellen'!$E$3:$Q$231,13,FALSE)*(AN20/1000)","v":0},0,0,0,0,0,0,0,0,0,0,0]
["Bitte wählen:",{"$nulls":13},{"$f":"VLOOKUP(A21,'Fruchtfolge Tabellen'!$B$3:$E$231,4,FALSE)","v":0},0,{"$f":"VLOOKUP(O21,'Fruchtfolge Tabellen'!$E$3:$Q$231,4,FALSE)*(P21/1000)","v":0},{"$f":"VLOOKUP(O21,'Fruchtfolge Tabellen'!$E$3:$Q$231,5,FALSE)*(P21/1000)","v":0},{"$f":"VLOOKUP(O21,'Fruchtfolge Tabellen'!$E$3:$Q$231,6,FALSE)*(P21/1000)","v":0},{"$f":"VLOOKUP(O21,'Fruchtfolge Tabellen'!$E$3:$Q$231,7,FALSE)*(P21/1000)","v":0},{"$f":"VLOOKUP(O21,'Fruchtfolge Tabellen'!$E$3:$Q$231,8,FALSE)*(P21/1000)","v":0},{"$f":"VLOOKUP(O21,'Fruchtfolge Tabellen'!$E$3:$Q$231,9,FALSE)*(P21/1000)","v":0},{"$f":"VLOOKUP(O21,'Fruchtfolge Tabellen'!$E$3:$Q$231,10,FALSE)*(P21/1000)","v":0},{"$f":"VLOOKUP(O21,'Fruchtfolge Tabellen'!$E$3:$Q$231,11,FALSE)*(P21/1000)","v":0},{"$f":"VLOOKUP(O21,'Fruchtfolge Tabellen'!$E$3:$Q$231,12,FALSE)*(P21/1000)","v":0},{"$f":"VLOOKUP(O21,'Fruchtfolge Tabellen'!$E$3:$Q$231,13,FALSE)*(P21/1000)","v":0},{"$f":"VLOOKUP(A21,'Fruchtfolge Tabellen'!$B$3:$E$231,4,FALSE)","v":0},0,{"$f":"VLOOKUP(AA21,'Fruchtfolge Tabellen'!$E$3:$Q$231,4,FALSE)*(AB21/1000)","v":0},{"$f":"VLOOKUP(AA21,'Fruchtfolge Tabellen'!$E$3:$Q$231,5,FALSE)*(AB21/1000)","v":0},{"$f":"VLOOKUP(AA21,'Fruchtfolge Tabellen'!$E$3:$Q$231,6,FALSE)*(AB21/1000)","v":0},{"$f":"VLOOKUP(AA21,'Fruchtfolge Tabellen'!$E$3:$Q$231,7,FALSE)*(AB21/1000)","v":0},{"$f":"VLOOKUP(AA21,'Fruchtfolge Tabellen'!$E$3:$Q$231,8,FALSE)*(AB21/1000)","v":0},{"$f":"VLOOKUP(AA21,'Fruchtfolge Tabellen'!$E$3:$Q$231,9,FALSE)*(AB21/1000)","v":0},{"$f":"VLOOKUP(AA21,'Fruchtfolge Tabellen'!$E$3:$Q$231,10,FALSE)*(AB21/1000)","v":0},{"$f":"VLOOKUP(AA21,'Fruchtfolge Tabellen'!$E$3:$Q$231,11,FALSE)*(AB21/1000)","v":0},{"$f":"VLOOKUP(AA21,'Fruchtfolge Tabellen'!$E$3:$Q$231,12,FALSE)*(AB21/1000)","v":0},{"$f":"VLOOKUP(AA21,'Fruchtfolge Tabellen'!$E$3:$Q$231,13,FALSE)*(AB21/1000)","v":0},{"$f":"VLOOKUP(A21,'Fruchtfolge Tabellen'!$B$3:$E$231,4,FALSE)","v":0},0,{"$f":"VLOOKUP(AM21,'Fruchtfolge Tabellen'!$E$3:$Q$231,4,FALSE)*(AN21/1000)","v":0},{"$f":"VLOOKUP(AM21,'Fruchtfolge Tabellen'!$E$3:$Q$231,5,FALSE)*(AN21/1000)","v":0},{"$f":"VLOOKUP(AM21,'Fruchtfolge Tabellen'!$E$3:$Q$231,6,FALSE)*(AN21/1000)","v":0},{"$f":"VLOOKUP(AM21,'Fruchtfolge Tabellen'!$E$3:$Q$231,7,FALSE)*(AN21/1000)","v":0},{"$f":"VLOOKUP(AM21,'Fruchtfolge Tabellen'!$E$3:$Q$231,8,FALSE)*(AN21/1000)","v":0},{"$f":"VLOOKUP(AM21,'Fruchtfolge Tabellen'!$E$3:$Q$231,9,FALSE)*(AN21/1000)","v":0},{"$f":"VLOOKUP(AM21,'Fruchtfolge Tabellen'!$E$3:$Q$231,10,FALSE)*(AN21/1000)","v":0},{"$f":"VLOOKUP(AM21,'Fruchtfolge Tabellen'!$E$3:$Q$231,11,FALSE)*(AN21/1000)","v":0},{"$f":"VLOOKUP(AM21,'Fruchtfolge Tabellen'!$E$3:$Q$231,12,FALSE)*(AN21/1000)","v":0},{"$f":"VLOOKUP(AM21,'Fruchtfolge Tabellen'!$E$3:$Q$231,13,FALSE)*(AN21/1000)","v":0},0,0,0,0,0,0,0,0,0,0,0]
["Bitte wählen:",{"$nulls":13},{"$f":"VLOOKUP(A22,'Fruchtfolge Tabellen'!$B$3:$E$231,4,FALSE)","v":0},0,{"$f":"VLOOKUP(O22,'Fruchtfolge Tabellen'!$E$3:$Q$231,4,FALSE)*(P22/1000)","v":0},{"$f":"VLOOKUP(O22,'Fruchtfolge Tabellen'!$E$3:$Q$231,5,FALSE)*(P22/1000)","v":0},{"$f":"VLOOKUP(O22,'Fruchtfolge Tabellen'!$E$3:$Q$231,6,FALSE)*(P22/1000)","v":0},{"$f":"VLOOKUP(O22,'Fruchtfolge Tabellen'!$E$3:$Q$231,7,FALSE)*(P22/1000)","v":0},{"$f":"VLOOKUP(O22,'Fruchtfolge Tabellen'!$E$3:$Q$231,8,FALSE)*(P22/1000)","v":0},{"$f":"VLOOKUP(O22,'Fruchtfolge Tabellen'!$E$3:$Q$231,9,FALSE)*(P22/1000)","v":0},{"$f":"VLOOKUP(O22,'Fruchtfolge Tabellen'!$E$3:$Q$231,10,FALSE)*(P22/1000)","v":0},{"$f":"VLOOKUP(O22,'Fruchtfolge Tabellen'!$E$3:$Q$231,11,FALSE)*(P22/1000)","v":0},{"$f":"VLOOKUP(O22,'Fruchtfolge Tabellen'!$E$3:$Q$231,12,FALSE)*(P22/1000)","v":0},{"$f":"VLOOKUP(O22,'Fruchtfolge Tabellen'!$E$3:$Q$231,13,FALSE)*(P22/1000)","v":0},{"$f":"VLOOKUP(A22,'Fruchtfolge Tabellen'!$B$3:$E$231,4,FALSE)","v":0},0,{"$f":"VLOOKUP(AA22,'Fruchtfolge Tabellen'!$E$3:$Q$231,4,FALSE)*(AB22/1000)","v":0},{"$f":"VLOOKUP(AA22,'Fruchtfolge Tabellen'!$E$3:$Q$231,5,FALSE)*(AB22/1000)","v":0},{"$f":"VLOOKUP(AA22,'Fruchtfolge Tabellen'!$E$3:$Q$231,6,FALSE)*(AB22/1000)","v":0},{"$f":"VLOOKUP(AA22,'Fruchtfolge Tabellen'!$E$3:$Q$231,7,FALSE)*(AB22/1000)","v":0},{"$f":"VLOOKUP(AA22,'Fruchtfolge Tabellen'!$E$3:$Q$231,8,FALSE)*(AB22/1000)","v":0},{"$f":"VLOOKUP(AA22,'Fruchtfolge Tabellen'!$E$3:$Q$231,9,FALSE)*(AB22/1000)","v":0},{"$f":"VLOOKUP(AA22,'Fruchtfolge Tabellen'!$E$3:$Q$231,10,FALSE)*(AB22/1000)","v":0},{"$f":"VLOOKUP(AA22,'Fruchtfolge Tabellen'!$E$3:$Q$231,11,FALSE)*(AB22/1000)","v":0},{"$f":"VLOOKUP(AA22,'Fruchtfolge Tabellen'!$E$3:$Q$231,12,FALSE)*(AB22/1000)","v":0},{"$f":"VLOOKUP(AA22,'Fruchtfolge Tabellen'!$E$3:$Q$231,13,FALSE)*(AB22/1000)","v":0},{"$f":"VLOOKUP(A22,'Fruchtfolge Tabellen'!$B$3:$E$231,4,FALSE)","v":0},0,{"$f":"VLOOKUP(AM22,'Fruchtfolge Tabellen'!$E$3:$Q$231,4,FALSE)*(AN22/1000)","v":0},{"$f":"VLOOKUP(AM22,'Fruchtfolge Tabellen'!$E$3:$Q$231,5,FALSE)*(AN22/1000)","v":0},{"$f":"VLOOKUP(AM22,'Fruchtfolge Tabellen'!$E$3:$Q$231,6,FALSE)*(AN22/1000)","v":0},{"$f":"VLOOKUP(AM22,'Fruchtfolge Tabellen'!$E$3:$Q$231,7,FALSE)*(AN22/1000)","v":0},{"$f":"VLOOKUP(AM22,'Fruchtfolge Tabellen'!$E$3:$Q$231,8,FALSE)*(AN22/1000)","v":0},{"$f":"VLOOKUP(AM22,'Fruchtfolge Tabellen'!$E$3:$Q$231,9,FALSE)*(AN22/1000)","v":0},{"$f":"VLOOKUP(AM22,'Fruchtfolge Tabellen'!$E$3:$Q$231,10,FALSE)*(AN22/1000)","v":0},{"$f":"VLOOKUP(AM22,'Fruchtfolge Tabellen'!$E$3:$Q$231,11,FALSE)*(AN22/1000)","v":0},{"$f":"VLOOKUP(AM22,'Fruchtfolge Tabellen'!$E$3:$Q$231,12,FALSE)*(AN22/1000)","v":0},{"$f":"VLOOKUP(AM22,'Fruchtfolge Tabellen'!$E$3:$Q$231,13,FALSE)*(AN22/1000)","v":0},0,0,0,0,0,0,0,0,0,0,0]
["Bitte wählen:",{"$nulls":13},{"$f":"VLOOKUP(A23,'Fruchtfolge Tabellen'!$B$3:$E$231,4,FALSE)","v":0},0,{"$f":"VLOOKUP(O23,'Fruchtfolge Tabellen'!$E$3:$Q$231,4,FALSE)*(P23/1000)","v":0},{"$f":"VLOOKUP(O23,'Fruchtfolge Tabellen'!$E$3:$Q$231,5,FALSE)*(P23/1000)","v":0},{"$f":"VLOOKUP(O23,'Fruchtfolge Tabellen'!$E$3:$Q$231,6,FALSE)*(P23/1000)","v":0},{"$f":"VLOOKUP(O23,'Fruchtfolge Tabellen'!$E$3:$Q$231,7,FALSE)*(P23/1000)","v":0},{"$f":"VLOOKUP(O23,'Fruchtfolge Tabellen'!$E$3:$Q$231,8,FALSE)*(P23/1000)","v":0},{"$f":"VLOOKUP(O23,'Fruchtfolge Tabellen'!$E$3:$Q$231,9,FALSE)*(P23/1000)","v":0},{"$f":"VLOOKUP(O23,'Fruchtfolge Tabellen'!$E$3:$Q$231,10,FALSE)*(P23/1000)","v":0},{"$f":"VLOOKUP(O23,'Fruchtfolge Tabellen'!$E$3:$Q$231,11,FALSE)*(P23/1000)","v":0},{"$f":"VLOOKUP(O23,'Fruchtfolge Tabellen'!$E$3:$Q$231,12,FALSE)*(P23/1000)","v":0},{"$f":"VLOOKUP(O23,'Fruchtfolge Tabellen'!$E$3:$Q$231,13,FALSE)*(P23/1000)","v":0},{"$f":"VLOOKUP(A23,'Fruchtfolge Tabellen'!$B$3:$E$231,4,FALSE)","v":0},0,{"$f":"VLOOKUP(AA23,'Fruchtfolge Tabellen'!$E$3:$Q$231,4,FALSE)*(AB23/1000)","v":0},{"$f":"VLOOKUP(AA23,'Fruchtfolge Tabellen'!$E$3:$Q$231,5,FALSE)*(AB23/1000)","v":0},{"$f":"VLOOKUP(AA23,'Fruchtfolge Tabellen'!$E$3:$Q$231,6,FALSE)*(AB23/1000)","v":0},{"$f":"VLOOKUP(AA23,'Fruchtfolge Tabellen'!$E$3:$Q$231,7,FALSE)*(AB23/1000)","v":0},{"$f":"VLOOKUP(AA23,'Fruchtfolge Tabellen'!$E$3:$Q$231,8,FALSE)*(AB23/1000)","v":0},{"$f":"VLOOKUP(AA23,'Fruchtfolge Tabellen'!$E$3:$Q$231,9,FALSE)*(AB23/1000)","v":0},{"$f":"VLOOKUP(AA23,'Fruchtfolge Tabellen'!$E$3:$Q$231,10,FALSE)*(AB23/1000)","v":0},{"$f":"VLOOKUP(AA23,'Fruchtfolge Tabellen'!$E$3:$Q$231,11,FALSE)*(AB23/1000)","v":0},{"$f":"VLOOKUP(AA23,'Fruchtfolge Tabellen'!$E$3:$Q$231,12,FALSE)*(AB23/1000)","v":0},{"$f":"VLOOKUP(AA23,'Fruchtfolge Tabellen'!$E$3:$Q$231,13,FALSE)*(AB23/1000)","v":0},{"$f":"VLOOKUP(A23,'Fruchtfolge Tabellen'!$B$3:$E$231,4,FALSE)","v":0},0,{"$f":"VLOOKUP(AM23,'Fruchtfolge Tabellen'!$E$3:$Q$231,4,FALSE)*(AN23/1000)","v":0},{"$f":"VLOOKUP(AM23,'Fruchtfolge Tabellen'!$E$3:$Q$231,5,FALSE)*(AN23/1000)","v":0},{"$f":"VLOOKUP(AM23,'Fruchtfolge Tabellen'!$E$3:$Q$231,6,FALSE)*(AN23/1000)","v":0},{"$f":"VLOOKUP(AM23,'Fruchtfolge Tabellen'!$E$3:$Q$231,7,FALSE)*(AN23/1000)","v":0},{"$f":"VLOOKUP(AM23,'Fruchtfolge Tabellen'!$E$3:$Q$231,8,FALSE)*(AN23/1000)","v":0},{"$f":"VLOOKUP(AM23,'Fruchtfolge Tabellen'!$E$3:$Q$231,9,FALSE)*(AN23/1000)","v":0},{"$f":"VLOOKUP(AM23,'Fruchtfolge Tabellen'!$E$3:$Q$231,10,FALSE)*(AN23/1000)","v":0},{"$f":"VLOOKUP(AM23,'Fruchtfolge Tabellen'!$E$3:$Q$231,11,FALSE)*(AN23/1000)","v":0},{"$f":"VLOOKUP(AM23,'Fruchtfolge Tabellen'!$E$3:$Q$231,12,FALSE)*(AN23/1000)","v":0},{"$f":"VLOOKUP(AM23,'Fruchtfolge Tabellen'!$E$3:$Q$231,13,FALSE)*(AN23/1000)","v":0},0,0,0,0,0,0,0,0,0,0,0]
["Bitte wählen:",{"$nulls":13},{"$f":"VLOOKUP(A24,'Fruchtfolge Tabellen'!$B$3:$E$231,4,FALSE)","v":0},0,{"$f":"VLOOKUP(O24,'Fruchtfolge Tabellen'!$E$3:$Q$231,4,FALSE)*(P24/1000)","v":0},{"$f":"VLOOKUP(O24,'Fruchtfolge Tabellen'!$E$3:$Q$231,5,FALSE)*(P24/1000)","v":0},{"$f":"VLOOKUP(O24,'Fruchtfolge Tabellen'!$E$3:$Q$231,6,FALSE)*(P24/1000)","v":0},{"$f":"VLOOKUP(O24,'Fruchtfolge Tabellen'!$E$3:$Q$231,7,FALSE)*(P24/1000)","v":0},{"$f":"VLOOKUP(O24,'Fruchtfolge Tabellen'!$E$3:$Q$231,8,FALSE)*(P24/1000)","v":0},{"$f":"VLOOKUP(O24,'Fruchtfolge Tabellen'!$E$3:$Q$231,9,FALSE)*(P24/1000)","v":0},{"$f":"VLOOKUP(O24,'Fruchtfolge Tabellen'!$E$3:$Q$231,10,FALSE)*(P24/1000)","v":0},{"$f":"VLOOKUP(O24,'Fruchtfolge Tabellen'!$E$3:$Q$231,11,FALSE)*(P24/1000)","v":0},{"$f":"VLOOKUP(O24,'Fruchtfolge Tabellen'!$E$3:$Q$231,12,FALSE)*(P24/1000)","v":0},{"$f":"VLOOKUP(O24,'Fruchtfolge Tabellen'!$E$3:$Q$231,13,FALSE)*(P24/1000)","v":0},{"$f":"VLOOKUP(A24,'Fruchtfolge Tabellen'!$B$3:$E$231,4,FALSE)","v":0},0,{"$f":"VLOOKUP(AA24,'Fruchtfolge Tabellen'!$E$3:$Q$231,4,FALSE)*(AB24/1000)","v":0},{"$f":"VLOOKUP(AA24,'Fruchtfolge Tabellen'!$E$3:$Q$231,5,FALSE)*(AB24/1000)","v":0},{"$f":"VLOOKUP(AA24,'Fruchtfolge Tabellen'!$E$3:$Q$231,6,FALSE)*(AB24/1000)","v":0},{"$f":"VLOOKUP(AA24,'Fruchtfolge Tabellen'!$E$3:$Q$231,7,FALSE)*(AB24/1000)","v":0},{"$f":"VLOOKUP(AA24,'Fruchtfolge Tabellen'!$E$3:$Q$231,8,FALSE)*(AB24/1000)","v":0},{"$f":"VLOOKUP(AA24,'Fruchtfolge Tabellen'!$E$3:$Q$231,9,FALSE)*(AB24/1000)","v":0},{"$f":"VLOOKUP(AA24,'Fruchtfolge Tabellen'!$E$3:$Q$231,10,FALSE)*(AB24/1000)","v":0},{"$f":"VLOOKUP(AA24,'Fruchtfolge Tabellen'!$E$3:$Q$231,11,FALSE)*(AB24/1000)","v":0},{"$f":"VLOOKUP(AA24,'Fruchtfolge Tabellen'!$E$3:$Q$231,12,FALSE)*(AB24/1000)","v":0},{"$f":"VLOOKUP(AA24,'Fruchtfolge Tabellen'!$E$3:$Q$231,13,FALSE)*(AB24/1000)","v":0},{"$f":"VLOOKUP(A24,'Fruchtfolge Tabellen'!$B$3:$E$231,4,FALSE)","v":0},0,{"$f":"VLOOKUP(AM24,'Fruchtfolge Tabellen'!$E$3:$Q$231,4,FALSE)*(AN24/1000)","v":0},{"$f":"VLOOKUP(AM24,'Fruchtfolge Tabellen'!$E$3:$Q$231,5,FALSE)*(AN24/1000)","v":0},{"$f":"VLOOKUP(AM24,'Fruchtfolge Tabellen'!$E$3:$Q$231,6,FALSE)*(AN24/1000)","v":0},{"$f":"VLOOKUP(AM24,'Fruchtfolge Tabellen'!$E$3:$Q$231,7,FALSE)*(AN24/1000)","v":0},{"$f":"VLOOKUP(AM24,'Fruchtfolge Tabellen'!$E$3:$Q$231,8,FALSE)*(AN24/1000)","v":0},{"$f":"VLOOKUP(AM24,'Fruchtfolge Tabellen'!$E$3:$Q$231,9,FALSE)*(AN24/1000)","v":0},{"$f":"VLOOKUP(AM24,'Fruchtfolge Tabellen'!$E$3:$Q$231,10,FALSE)*(AN24/1000)","v":0},{"$f":"VLOOKUP(AM24,'Fruchtfolge Tabellen'!$E$3:$Q$231,11,FALSE)*(AN24/1000)","v":0},{"$f":"VLOOKUP(AM24,'Fruchtfolge Tabellen'!$E$3:$Q$231,12,FALSE)*(AN24/1000)","v":0},{"$f":"VLOOKUP(AM24,'Fruchtfolge Tabellen'!$E$3:$Q$231,13,FALSE)*(AN24/1000)","v":0},0,0,0,0,0,0,0,0,0,0,0]
["Bitte wählen:",{"$nulls":13},{"$f":"VLOOKUP(A25,'Fruchtfolge Tabellen'!$B$3:$E$231,4,FALSE)","v":0},0,{"$f":"VLOOKUP(O25,'Fruchtfolge Tabellen'!$E$3:$Q$231,4,FALSE)*(P25/1000)","v":0},{"$f":"VLOOKUP(O25,'Fruchtfolge Tabellen'!$E$3:$Q$231,5,FALSE)*(P25/1000)","v":0},{"$f":"VLOOKUP(O25,'Fruchtfolge Tabellen'!$E$3:$Q$231,6,FALSE)*(P25/1000)","v":0},{"$f":"VLOOKUP(O25,'Fruchtfolge Tabellen'!$E$3:$Q$231,7,FALSE)*(P25/1000)","v":0},{"$f":"VLOOKUP(O25,'Fruchtfolge Tabellen'!$E$3:$Q$231,8,FALSE)*(P25/1000)","v":0},{"$f":"VLOOKUP(O25,'Fruchtfolge Tabellen'!$E$3:$Q$231,9,FALSE)*(P25/1000)","v":0},{"$f":"VLOOKUP(O25,'Fruchtfolge Tabellen'!$E$3:$Q$231,10,FALSE)*(P25/1000)","v":0},{"$f":"VLOOKUP(O25,'Fruchtfolge Tabellen'!$E$3:$Q$231,11,FALSE)*(P25/1000)","v":0},{"$f":"VLOOKUP(O25,'Fruchtfolge Tabellen'!$E$3:$Q$231,12,FALSE)*(P25/1000)","v":0},{"$f":"VLOOKUP(O25,'Fruchtfolge Tabellen'!$E$3:$Q$231,13,FALSE)*(P25/1000)","v":0},{"$f":"VLOOKUP(A25,'Fruchtfolge Tabellen'!$B$3:$E$231,4,FALSE)","v":0},0,{"$f":"VLOOKUP(AA25,'Fruchtfolge Tabellen'!$E$3:$Q$231,4,FALSE)*(AB25/1000)","v":0},{"$f":"VLOOKUP(AA25,'Fruchtfolge Tabellen'!$E$3:$Q$231,5,FALSE)*(AB25/1000)","v":0},{"$f":"VLOOKUP(AA25,'Fruchtfolge Tabellen'!$E$3:$Q$231,6,FALSE)*(AB25/1000)","v":0},{"$f":"VLOOKUP(AA25,'Fruchtfolge Tabellen'!$E$3:$Q$231,7,FALSE)*(AB25/1000)","v":0},{"$f":"VLOOKUP(AA25,'Fruchtfolge Tabellen'!$E$3:$Q$231,8,FALSE)*(AB25/1000)","v":0},{"$f":"VLOOKUP(AA25,'Fruchtfolge Tabellen'!$E$3:$Q$231,9,FALSE)*(AB25/1000)","v":0},{"$f":"VLOOKUP(AA25,'Fruchtfolge Tabellen'!$E$3:$Q$231,10,FALSE)*(AB25/1000)","v":0},{"$f":"VLOOKUP(AA25,'Fruchtfolge Tabellen'!$E$3:$Q$231,11,FALSE)*(AB25/1000)","v":0},{"$f":"VLOOKUP(AA25,'Fruchtfolge Tabellen'!$E$3:$Q$231,12,FALSE)*(AB25/1000)","v":0},{"$f":"VLOOKUP(AA25,'Fruchtfolge Tabellen'!$E$3:$Q$231,13,FALSE)*(AB25/1000)","v":0},{"$f":"VLOOKUP(A25,'Fruchtfolge Tabellen'!$B$3:$E$231,4,FALSE)","v":0},0,{"$f":"VLOOKUP(AM25,'Fruchtfolge Tabellen'!$E$3:$Q$231,4,FALSE)*(AN25/1000)","v":0},{"$f":"VLOOKUP(AM25,'Fruchtfolge Tabellen'!$E$3:$Q$231,5,FALSE)*(AN25/1000)","v":0},{"$f":"VLOOKUP(AM25,'Fruchtfolge Tabellen'!$E$3:$Q$231,6,FALSE)*(AN25/1000)","v":0},{"$f":"VLOOKUP(AM25,'Fruchtfolge Tabellen'!$E$3:$Q$231,7,FALSE)*(AN25/1000)","v":0},{"$f":"VLOOKUP(AM25,'Fruchtfolge Tabellen'!$E$3:$Q$231,8,FALSE)*(AN25/1000)","v":0},{"$f":"VLOOKUP(AM25,'Fruchtfolge Tabellen'!$E$3:$Q$231,9,FALSE)*(AN25/1000)","v":0},{"$f":"VLOOKUP(AM25,'Fruchtfolge Tabellen'!$E$3:$Q$231,10,FALSE)*(AN25/1000)","v":0},{"$f":"VLOOKUP(AM25,'Fruchtfolge Tabellen'!$E$3:$Q$231,11,FALSE)*(AN25/1000)","v":0},{"$f":"VLOOKUP(AM25,'Fruchtfolge Tabellen'!$E$3:$Q$231,12,FALSE)*(AN25/1000)","v":0},{"$f":"VLOOKUP(AM25,'Fruchtfolge Tabellen'!$E$3:$Q$231,13,FALSE)*(AN25/1000)","v":0},0,0,0,0,0,0,0,0,0,0,0]
["Bitte wählen:",{"$nulls":13},{"$f":"VLOOKUP(A26,'Fruchtfolge Tabellen'!$B$3:$E$231,4,FALSE)","v":0},0,{"$f":"VLOOKUP(O26,'Fruchtfolge Tabellen'!$E$3:$Q$231,4,FALSE)*(P26/1000)","v":0},{"$f":"VLOOKUP(O26,'Fruchtfolge Tabellen'!$E$3:$Q$231,5,FALSE)*(P26/1000)","v":0},{"$f":"VLOOKUP(O26,'Fruchtfolge Tabellen'!$E$3:$Q$231,6,FALSE)*(P26/1000)","v":0},{"$f":"VLOOKUP(O26,'Fruchtfolge Tabellen'!$E$3:$Q$231,7,FALSE)*(P26/1000)","v":0},{"$f":"VLOOKUP(O26,'Fruchtfolge Tabellen'!$E$3:$Q$231,8,FALSE)*(P26/1000)","v":0},{"$f":"VLOOKUP(O26,'Fruchtfolge Tabellen'!$E$3:$Q$231,9,FALSE)*(P26/1000)","v":0},{"$f":"VLOOKUP(O26,'Fruchtfolge Tabellen'!$E$3:$Q$231,10,FALSE)*(P26/1000)","v":0},{"$f":"VLOOKUP(O26,'Fruchtfolge Tabellen'!$E$3:$Q$231,11,FALSE)*(P26/1000)","v":0},{"$f":"VLOOKUP(O26,'Fruchtfolge Tabellen'!$E$3:$Q$231,12,FALSE)*(P26/1000)","v":0},{"$f":"VLOOKUP(O26,'Fruchtfolge Tabellen'!$E$3:$Q$231,13,FALSE)*(P26/1000)","v":0},{"$f":"VLOOKUP(A26,'Fruchtfolge Tabellen'!$B$3:$E$231,4,FALSE)","v":0},0,{"$f":"VLOOKUP(AA26,'Fruchtfolge Tabellen'!$E$3:$Q$231,4,FALSE)*(AB26/1000)","v":0},{"$f":"VLOOKUP(AA26,'Fruchtfolge Tabellen'!$E$3:$Q$231,5,FALSE)*(AB26/1000)","v":0},{"$f":"VLOOKUP(AA26,'Fruchtfolge Tabellen'!$E$3:$Q$231,6,FALSE)*(AB26/1000)","v":0},{"$f":"VLOOKUP(AA26,'Fruchtfolge Tabellen'!$E$3:$Q$231,7,FALSE)*(AB26/1000)","v":0},{"$f":"VLOOKUP(AA26,'Fruchtfolge Tabellen'!$E$3:$Q$231,8,FALSE)*(AB26/1000)","v":0},{"$f":"VLOOKUP(AA26,'Fruchtfolge Tabellen'!$E$3:$Q$231,9,FALSE)*(AB26/1000)","v":0},{"$f":"VLOOKUP(AA26,'Fruchtfolge Tabellen'!$E$3:$Q$231,10,FALSE)*(AB26/1000)","v":0},{"$f":"VLOOKUP(AA26,'Fruchtfolge Tabellen'!$E$3:$Q$231,11,FALSE)*(AB26/1000)","v":0},{"$f":"VLOOKUP(AA26,'Fruchtfolge Tabellen'!$E$3:$Q$231,12,FALSE)*(AB26/1000)","v":0},{"$f":"VLOOKUP(AA26,'Fruchtfolge Tabellen'!$E$3:$Q$231,13,FALSE)*(AB26/1000)","v":0},{"$f":"VLOOKUP(A26,'Fruchtfolge Tabellen'!$B$3:$E$231,4,FALSE)","v":0},0,{"$f":"VLOOKUP(AM26,'Fruchtfolge Tabellen'!$E$3:$Q$231,4,FALSE)*(AN26/1000)","v":0},{"$f":"VLOOKUP(AM26,'Fruchtfolge Tabellen'!$E$3:$Q$231,5,FALSE)*(AN26/1000)","v":0},{"$f":"VLOOKUP(AM26,'Fruchtfolge Tabellen'!$E$3:$Q$231,6,FALSE)*(AN26/1000)","v":0},{"$f":"VLOOKUP(AM26,'Fruchtfolge Tabellen'!$E$3:$Q$231,7,FALSE)*(AN26/1000)","v":0},{"$f":"VLOOKUP(AM26,'Fruchtfolge Tabellen'!$E$3:$Q$231,8,FALSE)*(AN26/1000)","v":0},{"$f":"VLOOKUP(AM26,'Fruchtfolge Tabellen'!$E$3:$Q$231,9,FALSE)*(AN26/1000)","v":0},{"$f":"VLOOKUP(AM26,'Fruchtfolge Tabellen'!$E$3:$Q$231,10,FALSE)*(AN26/1000)","v":0},{"$f":"VLOOKUP(AM26,'Fruchtfolge Tabellen'!$E$3:$Q$231,11,FALSE)*(AN26/1000)","v":0},{"$f":"VLOOKUP(AM26,'Fruchtfolge Tabellen'!$E$3:$Q$231,12,FALSE)*(AN26/1000)","v":0},{"$f":"VLOOKUP(AM26,'Fruchtfolge Tabellen'!$E$3:$Q$231,13,FALSE)*(AN26/1000)","v":0},0,0,0,0,0,0,0,0,0,0,0]
["Bitte wählen:",{"$nulls":13},{"$f":"VLOOKUP(A27,'Fruchtfolge Tabellen'!$B$3:$E$231,4,FALSE)","v":0},0,{"$f":"VLOOKUP(O27,'Fruchtfolge Tabellen'!$E$3:$Q$231,4,FALSE)*(P27/1000)","v":0},{"$f":"VLOOKUP(O27,'Fruchtfolge Tabellen'!$E$3:$Q$231,5,FALSE)*(P27/1000)","v":0},{"$f":"VLOOKUP(O27,'Fruchtfolge Tabellen'!$E$3:$Q$231,6,FALSE)*(P27/1000)","v":0},{"$f":"VLOOKUP(O27,'Fruchtfolge Tabellen'!$E$3:$Q$231,7,FALSE)*(P27/1000)","v":0},{"$f":"VLOOKUP(O27,'Fruchtfolge Tabellen'!$E$3:$Q$231,8,FALSE)*(P27/1000)","v":0},{"$f":"VLOOKUP(O27,'Fruchtfolge Tabellen'!$E$3:$Q$231,9,FALSE)*(P27/1000)","v":0},{"$f":"VLOOKUP(O27,'Fruchtfolge Tabellen'!$E$3:$Q$231,10,FALSE)*(P27/1000)","v":0},{"$f":"VLOOKUP(O27,'Fruchtfolge Tabellen'!$E$3:$Q$231,11,FALSE)*(P27/1000)","v":0},{"$f":"VLOOKUP(O27,'Fruchtfolge Tabellen'!$E$3:$Q$231,12,FALSE)*(P27/1000)","v":0},{"$f":"VLOOKUP(O27,'Fruchtfolge Tabellen'!$E$3:$Q$231,13,FALSE)*(P27/1000)","v":0},{"$f":"VLOOKUP(A27,'Fruchtfolge Tabellen'!$B$3:$E$231,4,FALSE)","v":0},0,{"$f":"VLOOKUP(AA27,'Fruchtfolge Tabellen'!$E$3:$Q$231,4,FALSE)*(AB27/1000)","v":0},{"$f":"VLOOKUP(AA27,'Fruchtfolge Tabellen'!$E$3:$Q$231,5,FALSE)*(AB27/1000)","v":0},{"$f":"VLOOKUP(AA27,'Fruchtfolge Tabellen'!$E$3:$Q$231,6,FALSE)*(AB27/1000)","v":0},{"$f":"VLOOKUP(AA27,'Fruchtfolge Tabellen'!$E$3:$Q$231,7,FALSE)*(AB27/1000)","v":0},{"$f":"VLOOKUP(AA27,'Fruchtfolge Tabellen'!$E$3:$Q$231,8,FALSE)*(AB27/1000)","v":0},{"$f":"VLOOKUP(AA27,'Fruchtfolge Tabellen'!$E$3:$Q$231,9,FALSE)*(AB27/1000)","v":0},{"$f":"VLOOKUP(AA27,'Fruchtfolge Tabellen'!$E$3:$Q$231,10,FALSE)*(AB27/1000)","v":0},{"$f":"VLOOKUP(AA27,'Fruchtfolge Tabellen'!$E$3:$Q$231,11,FALSE)*(AB27/1000)","v":0},{"$f":"VLOOKUP(AA27,'Fruchtfolge Tabellen'!$E$3:$Q$231,12,FALSE)*(AB27/1000)","v":0},{"$f":"VLOOKUP(AA27,'Fruchtfolge Tabellen'!$E$3:$Q$231,13,FALSE)*(AB27/1000)","v":0},{"$f":"VLOOKUP(A27,'Fruchtfolge Tabellen'!$B$3:$E$231,4,FALSE)","v":0},0,{"$f":"VLOOKUP(AM27,'Fruchtfolge Tabellen'!$E$3:$Q$231,4,FALSE)*(AN27/1000)","v":0},{"$f":"VLOOKUP(AM27,'Fruchtfolge Tabellen'!$E$3:$Q$231,5,FALSE)*(AN27/1000)","v":0},{"$f":"VLOOKUP(AM27,'Fruchtfolge Tabellen'!$E$3:$Q$231,6,FALSE)*(AN27/1000)","v":0},{"$f":"VLOOKUP(AM27,'Fruchtfolge Tabellen'!$E$3:$Q$231,7,FALSE)*(AN27/1000)","v":0},{"$f":"VLOOKUP(AM27,'Fruchtfolge Tabellen'!$E$3:$Q$231,8,FALSE)*(AN27/1000)","v":0},{"$f":"VLOOKUP(AM27,'Fruchtfolge Tabellen'!$E$3:$Q$231,9,FALSE)*(AN27/1000)","v":0},{"$f":"VLOOKUP(AM27,'Fruchtfolge Tabellen'!$E$3:$Q$231,10,FALSE)*(AN27/1000)","v":0},{"$f":"VLOOKUP(AM27,'Fruchtfolge Tabellen'!$E$3:$Q$231,11,FALSE)*(AN27/1000)","v":0},{"$f":"VLOOKUP(AM27,'Fruchtfolge Tabellen'!$E$3:$Q$231,12,FALSE)*(AN27/1000)","v":0},{"$f":"VLOOKUP(AM27,'Fruchtfolge Tabellen'!$E$3:$Q$231,13,FALSE)*(AN27/1000)","v":0},0,0,0,0,0,0,0,0,0,0,0]
["Bitte wählen:",{"$nulls":13},{"$f":"VLOOKUP(A28,'Fruchtfolge Tabellen'!$B$3:$E$231,4,FALSE)","v":0},0,{"$f":"VLOOKUP(O28,'Fruchtfolge Tabellen'!$E$3:$Q$231,4,FALSE)*(P28/1000)","v":0},{"$f":"VLOOKUP(O28,'Fruchtfolge Tabellen'!$E$3:$Q$231,5,FALSE)*(P28/1000)","v":0},{"$f":"VLOOKUP(O28,'Fruchtfolge Tabellen'!$E$3:$Q$231,6,FALSE)*(P28/1000)","v":0},{"$f":"VLOOKUP(O28,'Fruchtfolge Tabellen'!$E$3:$Q$231,7,FALSE)*(P28/1000)","v":0},{"$f":"VLOOKUP(O28,'Fruchtfolge Tabellen'!$E$3:$Q$231,8,FALSE)*(P28/1000)","v":0},{"$f":"VLOOKUP(O28,'Fruchtfolge Tabellen'!$E$3:$Q$231,9,FALSE)*(P28/1000)","v":0},{"$f":"VLOOKUP(O28,'Fruchtfolge Tabellen'!$E$3:$Q$231,10,FALSE)*(P28/1000)","v":0},{"$f":"VLOOKUP(O28,'Fruchtfolge Tabellen'!$E$3:$Q$231,11,FALSE)*(P28/1000)","v":0},{"$f":"VLOOKUP(O28,'Fruchtfolge Tabellen'!$E$3:$Q$231,12,FALSE)*(P28/1000)","v":0},{"$f":"VLOOKUP(O28,'Fruchtfolge Tabellen'!$E$3:$Q$231,13,FALSE)*(P28/1000)","v":0},{"$f":"VLOOKUP(A28,'Fruchtfolge Tabellen'!$B$3:$E$231,4,FALSE)","v":0},0,{"$f":"VLOOKUP(AA28,'Fruchtfolge Tabellen'!$E$3:$Q$231,4,FALSE)*(AB28/1000)","v":0},{"$f":"VLOOKUP(AA28,'Fruchtfolge Tabellen'!$E$3:$Q$231,5,FALSE)*(AB28/1000)","v":0},{"$f":"VLOOKUP(AA28,'Fruchtfolge Tabellen'!$E$3:$Q$231,6,FALSE)*(AB28/1000)","v":0},{"$f":"VLOOKUP(AA28,'Fruchtfolge Tabellen'!$E$3:$Q$231,7,FALSE)*(AB28/1000)","v":0},{"$f":"VLOOKUP(AA28,'Fruchtfolge Tabellen'!$E$3:$Q$231,8,FALSE)*(AB28/1000)","v":0},{"$f":"VLOOKUP(AA28,'Fruchtfolge Tabellen'!$E$3:$Q$231,9,FALSE)*(AB28/1000)","v":0},{"$f":"VLOOKUP(AA28,'Fruchtfolge Tabellen'!$E$3:$Q$231,10,FALSE)*(AB28/1000)","v":0},{"$f":"VLOOKUP(AA28,'Fruchtfolge Tabellen'!$E$3:$Q$231,11,FALSE)*(AB28/1000)","v":0},{"$f":"VLOOKUP(AA28,'Fruchtfolge Tabellen'!$E$3:$Q$231,12,FALSE)*(AB28/1000)","v":0},{"$f":"VLOOKUP(AA28,'Fruchtfolge Tabellen'!$E$3:$Q$231,13,FALSE)*(AB28/1000)","v":0},{"$f":"VLOOKUP(A28,'Fruchtfolge Tabellen'!$B$3:$E$231,4,FALSE)","v":0},0,{"$f":"VLOOKUP(AM28,'Fruchtfolge Tabellen'!$E$3:$Q$231,4,FALSE)*(AN28/1000)","v":0},{"$f":"VLOOKUP(AM28,'Fruchtfolge Tabellen'!$E$3:$Q$231,5,FALSE)*(AN28/1000)","v":0},{"$f":"VLOOKUP(AM28,'Fruchtfolge Tabellen'!$E$3:$Q$231,6,FALSE)*(AN28/1000)","v":0},{"$f":"VLOOKUP(AM28,'Fruchtfolge Tabellen'!$E$3:$Q$231,7,FALSE)*(AN28/1000)","v":0},{"$f":"VLOOKUP(AM28,'Fruchtfolge Tabellen'!$E$3:$Q$231,8,FALSE)*(AN28/1000)","v":0},{"$f":"VLOOKUP(AM28,'Fruchtfolge Tabellen'!$E$3:$Q$231,9,FALSE)*(AN28/1000)","v":0},{"$f":"VLOOKUP(AM28,'Fruchtfolge Tabellen'!$E$3:$Q$231,10,FALSE)*(AN28/1000)","v":0},{"$f":"VLOOKUP(AM28,'Fruchtfolge Tabellen'!$E$3:$Q$231,11,FALSE)*(AN28/1000)","v":0},{"$f":"VLOOKUP(AM28,'Fruchtfolge Tabellen'!$E$3:$Q$231,12,FALSE)*(AN28/1000)","v":0},{"$f":"VLOOKUP(AM28,'Fruchtfolge Tabellen'!$E$3:$Q$231,13,FALSE)*(AN28/1000)","v":0},0,0,0,0,0,0,0,0,0,0,0]
["Bitte wählen:",{"$nulls":13},{"$f":"VLOOKUP(A29,'Fruchtfolge Tabellen'!$B$3:$E$231,4,FALSE)","v":0},0,{"$f":"VLOOKUP(O29,'Fruchtfolge Tabellen'!$E$3:$Q$231,4,FALSE)*(P29/1000)","v":0},{"$f":"VLOOKUP(O29,'Fruchtfolge Tabellen'!$E$3:$Q$231,5,FALSE)*(P29/1000)","v":0},{"$f":"VLOOKUP(O29,'Fruchtfolge Tabellen'!$E$3:$Q$231,6,FALSE)*(P29/1000)","v":0},{"$f":"VLOOKUP(O29,'Fruchtfolge Tabellen'!$E$3:$Q$231,7,FALSE)*(P29/1000)","v":0},{"$f":"VLOOKUP(O29,'Fruchtfolge Tabellen'!$E$3:$Q$231,8,FALSE)*(P29/1000)","v":0},{"$f":"VLOOKUP(O29,'Fruchtfolge Tabellen'!$E$3:$Q$231,9,FALSE)*(P29/1000)","v":0},{"$f":"VLOOKUP(O29,'Fruchtfolge Tabellen'!$E$3:$Q$231,10,FALSE)*(P29/1000)","v":0},{"$f":"VLOOKUP(O29,'Fruchtfolge Tabellen'!$E$3:$Q$231,11,FALSE)*(P29/1000)","v":0},{"$f":"VLOOKUP(O29,'Fruchtfolge Tabellen'!$E$3:$Q$231,12,FALSE)*(P29/1000)","v":0},{"$f":"VLOOKUP(O29,'Fruchtfolge Tabellen'!$E$3:$Q$231,13,FALSE)*(P29/1000)","v":0},{"$f":"VLOOKUP(A29,'Fruchtfolge Tabellen'!$B$3:$E$231,4,FALSE)","v":0},0,{"$f":"VLOOKUP(AA29,'Fruchtfolge Tabellen'!$E$3:$Q$231,4,FALSE)*(AB29/1000)","v":0},{"$f":"VLOOKUP(AA29,'Fruchtfolge Tabellen'!$E$3:$Q$231,5,FALSE)*(AB29/1000)","v":0},{"$f":"VLOOKUP(AA29,'Fruchtfolge Tabellen'!$E$3:$Q$231,6,FALSE)*(AB29/1000)","v":0},{"$f":"VLOOKUP(AA29,'Fruchtfolge Tabellen'!$E$3:$Q$231,7,FALSE)*(AB29/1000)","v":0},{"$f":"VLOOKUP(AA29,'Fruchtfolge Tabellen'!$E$3:$Q$231,8,FALSE)*(AB29/1000)","v":0},{"$f":"VLOOKUP(AA29,'Fruchtfolge Tabellen'!$E$3:$Q$231,9,FALSE)*(AB29/1000)","v":0},{"$f":"VLOOKUP(AA29,'Fruchtfolge Tabellen'!$E$3:$Q$231,10,FALSE)*(AB29/1000)","v":0},{"$f":"VLOOKUP(AA29,'Fruchtfolge Tabellen'!$E$3:$Q$231,11,FALSE)*(AB29/1000)","v":0},{"$f":"VLOOKUP(AA29,'Fruchtfolge Tabellen'!$E$3:$Q$231,12,FALSE)*(AB29/1000)","v":0},{"$f":"VLOOKUP(AA29,'Fruchtfolge Tabellen'!$E$3:$Q$231,13,FALSE)*(AB29/1000)","v":0},{"$f":"VLOOKUP(A29,'Fruchtfolge Tabellen'!$B$3:$E$231,4,FALSE)","v":0},0,{"$f":"VLOOKUP(AM29,'Fruchtfolge Tabellen'!$E$3:$Q$231,4,FALSE)*(AN29/1000)","v":0},{"$f":"VLOOKUP(AM29,'Fruchtfolge Tabellen'!$E$3:$Q$231,5,FALSE)*(AN29/1000)","v":0},{"$f":"VLOOKUP(AM29,'Fruchtfolge Tabellen'!$E$3:$Q$231,6,FALSE)*(AN29/1000)","v":0},{"$f":"VLOOKUP(AM29,'Fruchtfolge Tabellen'!$E$3:$Q$231,7,FALSE)*(AN29/1000)","v":0},{"$f":"VLOOKUP(AM29,'Fruchtfolge Tabellen'!$E$3:$Q$231,8,FALSE)*(AN29/1000)","v":0},{"$f":"VLOOKUP(AM29,'Fruchtfolge Tabellen'!$E$3:$Q$231,9,FALSE)*(AN29/1000)","v":0},{"$f":"VLOOKUP(AM29,'Fruchtfolge Tabellen'!$E$3:$Q$231,10,FALSE)*(AN29/1000)","v":0},{"$f":"VLOOKUP(AM29,'Fruchtfolge Tabellen'!$E$3:$Q$231,11,FALSE)*(AN29/1000)","v":0},{"$f":"VLOOKUP(AM29,'Fruchtfolge Tabellen'!$E$3:$Q$231,12,FALSE)*(AN29/1000)","v":0},{"$f":"VLOOKUP(AM29,'Fruchtfolge Tabellen'!$E$3:$Q$231,13,FALSE)*(AN29/1000)","v":0},0,0,0,0,0,0,0,0,0,0,0]
["Bitte wählen:",{"$nulls":13},{"$f":"VLOOKUP(A30,'Fruchtfolge Tabellen'!$B$3:$E$231,4,FALSE)","v":0},0,{"$f":"VLOOKUP(O30,'Fruchtfolge Tabellen'!$E$3:$Q$231,4,FALSE)*(P30/1000)","v":0},{"$f":"VLOOKUP(O30,'Fruchtfolge Tabellen'!$E$3:$Q$231,5,FALSE)*(P30/1000)","v":0},{"$f":"VLOOKUP(O30,'Fruchtfolge Tabellen'!$E$3:$Q$231,6,FALSE)*(P30/1000)","v":0},{"$f":"VLOOKUP(O30,'Fruchtfolge Tabellen'!$E$3:$Q$231,7,FALSE)*(P30/1000)","v":0},{"$f":"VLOOKUP(O30,'Fruchtfolge Tabellen'!$E$3:$Q$231,8,FALSE)*(P30/1000)","v":0},{"$f":"VLOOKUP(O30,'Fruchtfolge Tabellen'!$E$3:$Q$231,9,FALSE)*(P30/1000)","v":0},{"$f":"VLOOKUP(O30,'Fruchtfolge Tabellen'!$E$3:$Q$231,10,FALSE)*(P30/1000)","v":0},{"$f":"VLOOKUP(O30,'Fruchtfolge Tabellen'!$E$3:$Q$231,11,FALSE)*(P30/1000)","v":0},{"$f":"VLOOKUP(O30,'Fruchtfolge Tabellen'!$E$3:$Q$231,12,FALSE)*(P30/1000)","v":0},{"$f":"VLOOKUP(O30,'Fruchtfolge Tabellen'!$E$3:$Q$231,13,FALSE)*(P30/1000)","v":0},{"$f":"VLOOKUP(A30,'Fruchtfolge Tabellen'!$B$3:$E$231,4,FALSE)","v":0},0,{"$f":"VLOOKUP(AA30,'Fruchtfolge Tabellen'!$E$3:$Q$231,4,FALSE)*(AB30/1000)","v":0},{"$f":"VLOOKUP(AA30,'Fruchtfolge Tabellen'!$E$3:$Q$231,5,FALSE)*(AB30/1000)","v":0},{"$f":"VLOOKUP(AA30,'Fruchtfolge Tabellen'!$E$3:$Q$231,6,FALSE)*(AB30/1000)","v":0},{"$f":"VLOOKUP(AA30,'Fruchtfolge Tabellen'!$E$3:$Q$231,7,FALSE)*(AB30/1000)","v":0},{"$f":"VLOOKUP(AA30,'Fruchtfolge Tabellen'!$E$3:$Q$231,8,FALSE)*(AB30/1000)","v":0},{"$f":"VLOOKUP(AA30,'Fruchtfolge Tabellen'!$E$3:$Q$231,9,FALSE)*(AB30/1000)","v":0},{"$f":"VLOOKUP(AA30,'Fruchtfolge Tabellen'!$E$3:$Q$231,10,FALSE)*(AB30/1000)","v":0},{"$f":"VLOOKUP(AA30,'Fruchtfolge Tabellen'!$E$3:$Q$231,11,FALSE)*(AB30/1000)","v":0},{"$f":"VLOOKUP(AA30,'Fruchtfolge Tabellen'!$E$3:$Q$231,12,FALSE)*(AB30/1000)","v":0},{"$f":"VLOOKUP(AA30,'Fruchtfolge Tabellen'!$E$3:$Q$231,13,FALSE)*(AB30/1000)","v":0},{"$f":"VLOOKUP(A30,'Fruchtfolge Tabellen'!$B$3:$E$231,4,FALSE)","v":0},0,{"$f":"VLOOKUP(AM30,'Fruchtfolge Tabellen'!$E$3:$Q$231,4,FALSE)*(AN30/1000)","v":0},{"$f":"VLOOKUP(AM30,'Fruchtfolge Tabellen'!$E$3:$Q$231,5,FALSE)*(AN30/1000)","v":0},{"$f":"VLOOKUP(AM30,'Fruchtfolge Tabellen'!$E$3:$Q$231,6,FALSE)*(AN30/1000)","v":0},{"$f":"VLOOKUP(AM30,'Fruchtfolge Tabellen'!$E$3:$Q$231,7,FALSE)*(AN30/1000)","v":0},{"$f":"VLOOKUP(AM30,'Fruchtfolge Tabellen'!$E$3:$Q$231,8,FALSE)*(AN30/1000)","v":0},{"$f":"VLOOKUP(AM30,'Fruchtfolge Tabellen'!$E$3:$Q$231,9,FALSE)*(AN30/1000)","v":0},{"$f":"VLOOKUP(AM30,'Fruchtfolge Tabellen'!$E$3:$Q$231,10,FALSE)*(AN30/1000)","v":0},{"$f":"VLOOKUP(AM30,'Fruchtfolge Tabellen'!$E$3:$Q$231,11,FALSE)*(AN30/1000)","v":0},{"$f":"VLOOKUP(AM30,'Fruchtfolge Tabellen'!$E$3:$Q$231,12,FALSE)*(AN30/1000)","v":0},{"$f":"VLOOKUP(AM30,'Fruchtfolge Tabellen'!$E$3:$Q$231,13,FALSE)*(AN30/1000)","v":0},0,0,0,0,0,0,0,0,0,0,0]
["Bitte wählen:",{"$nulls":13},{"$f":"VLOOKUP(A31,'Fruchtfolge Tabellen'!$B$3:$E$231,4,FALSE)","v":0},0,{"$f":"VLOOKUP(O31,'Fruchtfolge Tabellen'!$E$3:$Q$231,4,FALSE)*(P31/1000)","v":0},{"$f":"VLOOKUP(O31,'Fruchtfolge Tabellen'!$E$3:$Q$231,5,FALSE)*(P31/1000)","v":0},{"$f":"VLOOKUP(O31,'Fruchtfolge Tabellen'!$E$3:$Q$231,6,FALSE)*(P31/1000)","v":0},{"$f":"VLOOKUP(O31,'Fruchtfolge Tabellen'!$E$3:$Q$231,7,FALSE)*(P31/1000)","v":0},{"$f":"VLOOKUP(O31,'Fruchtfolge Tabellen'!$E$3:$Q$231,8,FALSE)*(P31/1000)","v":0},{"$f":"VLOOKUP(O31,'Fruchtfolge Tabellen'!$E$3:$Q$231,9,FALSE)*(P31/1000)","v":0},{"$f":"VLOOKUP(O31,'Fruchtfolge Tabellen'!$E$3:$Q$231,10,FALSE)*(P31/1000)","v":0},{"$f":"VLOOKUP(O31,'Fruchtfolge Tabellen'!$E$3:$Q$231,11,FALSE)*(P31/1000)","v":0},{"$f":"VLOOKUP(O31,'Fruchtfolge Tabellen'!$E$3:$Q$231,12,FALSE)*(P31/1000)","v":0},{"$f":"VLOOKUP(O31,'Fruchtfolge Tabellen'!$E$3:$Q$231,13,FALSE)*(P31/1000)","v":0},{"$f":"VLOOKUP(A31,'Fruchtfolge Tabellen'!$B$3:$E$231,4,FALSE)","v":0},0,{"$f":"VLOOKUP(AA31,'Fruchtfolge Tabellen'!$E$3:$Q$231,4,FALSE)*(AB31/1000)","v":0},{"$f":"VLOOKUP(AA31,'Fruchtfolge Tabellen'!$E$3:$Q$231,5,FALSE)*(AB31/1000)","v":0},{"$f":"VLOOKUP(AA31,'Fruchtfolge Tabellen'!$E$3:$Q$231,6,FALSE)*(AB31/1000)","v":0},{"$f":"VLOOKUP(AA31,'Fruchtfolge Tabellen'!$E$3:$Q$231,7,FALSE)*(AB31/1000)","v":0},{"$f":"VLOOKUP(AA31,'Fruchtfolge Tabellen'!$E$3:$Q$231,8,FALSE)*(AB31/1000)","v":0},{"$f":"VLOOKUP(AA31,'Fruchtfolge Tabellen'!$E$3:$Q$231,9,FALSE)*(AB31/1000)","v":0},{"$f":"VLOOKUP(AA31,'Fruchtfolge Tabellen'!$E$3:$Q$231,10,FALSE)*(AB31/1000)","v":0},{"$f":"VLOOKUP(AA31,'Fruchtfolge Tabellen'!$E$3:$Q$231,11,FALSE)*(AB31/1000)","v":0},{"$f":"VLOOKUP(AA31,'Fruchtfolge Tabellen'!$E$3:$Q$231,12,FALSE)*(AB31/1000)","v":0},{"$f":"VLOOKUP(AA31,'Fruchtfolge Tabellen'!$E$3:$Q$231,13,FALSE)*(AB31/1000)","v":0},{"$f":"VLOOKUP(A31,'Fruchtfolge Tabellen'!$B$3:$E$231,4,FALSE)","v":0},0,{"$f":"VLOOKUP(AM31,'Fruchtfolge Tabellen'!$E$3:$Q$231,4,FALSE)*(AN31/1000)","v":0},{"$f":"VLOOKUP(AM31,'Fruchtfolge Tabellen'!$E$3:$Q$231,5,FALSE)*(AN31/1000)","v":0},{"$f":"VLOOKUP(AM31,'Fruchtfolge Tabellen'!$E$3:$Q$231,6,FALSE)*(AN31/1000)","v":0},{"$f":"VLOOKUP(AM31,'Fruchtfolge Tabellen'!$E$3:$Q$231,7,FALSE)*(AN31/1000)","v":0},{"$f":"VLOOKUP(AM31,'Fruchtfolge Tabellen'!$E$3:$Q$231,8,FALSE)*(AN31/1000)","v":0},{"$f":"VLOOKUP(AM31,'Fruchtfolge Tabellen'!$E$3:$Q$231,9,FALSE)*(AN31/1000)","v":0},{"$f":"VLOOKUP(AM31,'Fruchtfolge Tabellen'!$E$3:$Q$231,10,FALSE)*(AN31/1000)","v":0},{"$f":"VLOOKUP(AM31,'Fruchtfolge Tabellen'!$E$3:$Q$231,11,FALSE)*(AN31/1000)","v":0},{"$f":"VLOOKUP(AM31,'Fruchtfolge Tabellen'!$E$3:$Q$231,12,FALSE)*(AN31/1000)","v":0},{"$f":"VLOOKUP(AM31,'Fruchtfolge Tabellen'!$E$3:$Q$231,13,FALSE)*(AN31/1000)","v":0},0,0,0,0,0,0,{"$f":"AVERAGE(V31,AH31,AT31)","v":0},0,0,0,0]
["Bitte wählen:",{"$nulls":13},{"$f":"VLOOKUP(A32,'Fruchtfolge Tabellen'!$B$3:$E$231,4,FALSE)","v":0},0,{"$f":"VLOOKUP(O32,'Fruchtfolge Tabellen'!$E$3:$Q$231,4,FALSE)*(P32/1000)","v":0},{"$f":"VLOOKUP(O32,'Fruchtfolge Tabellen'!$E$3:$Q$231,5,FALSE)*(P32/1000)","v":0},{"$f":"VLOOKUP(O32,'Fruchtfolge Tabellen'!$E$3:$Q$231,6,FALSE)*(P32/1000)","v":0},{"$f":"VLOOKUP(O32,'Fruchtfolge Tabellen'!$E$3:$Q$231,7,FALSE)*(P32/1000)","v":0},{"$f":"VLOOKUP(O32,'Fruchtfolge Tabellen'!$E$3:$Q$231,8,FALSE)*(P32/1000)","v":0},{"$f":"VLOOKUP(O32,'Fruchtfolge Tabellen'!$E$3:$Q$231,9,FALSE)*(P32/1000)","v":0},{"$f":"VLOOKUP(O32,'Fruchtfolge Tabellen'!$E$3:$Q$231,10,FALSE)*(P32/1000)","v":0},{"$f":"VLOOKUP(O32,'Fruchtfolge Tabellen'!$E$3:$Q$231,11,FALSE)*(P32/1000)","v":0},{"$f":"VLOOKUP(O32,'Fruchtfolge Tabellen'!$E$3:$Q$231,12,FALSE)*(P32/1000)","v":0},{"$f":"VLOOKUP(O32,'Fruchtfolge Tabellen'!$E$3:$Q$231,13,FALSE)*(P32/1000)","v":0},{"$f":"VLOOKUP(A32,'Fruchtfolge Tabellen'!$B$3:$E$231,4,FALSE)","v":0},0,{"$f":"VLOOKUP(AA32,'Fruchtfolge Tabellen'!$E$3:$Q$231,4,FALSE)*(AB32/1000)","v":0},{"$f":"VLOOKUP(AA32,'Fruchtfolge Tabellen'!$E$3:$Q$231,5,FALSE)*(AB32/1000)","v":0},{"$f":"VLOOKUP(AA32,'Fruchtfolge Tabellen'!$E$3:$Q$231,6,FALSE)*(AB32/1000)","v":0},{"$f":"VLOOKUP(AA32,'Fruchtfolge Tabellen'!$E$3:$Q$231,7,FALSE)*(AB32/1000)","v":0},{"$f":"VLOOKUP(AA32,'Fruchtfolge Tabellen'!$E$3:$Q$231,8,FALSE)*(AB32/1000)","v":0},{"$f":"VLOOKUP(AA32,'Fruchtfolge Tabellen'!$E$3:$Q$231,9,FALSE)*(AB32/1000)","v":0},{"$f":"VLOOKUP(AA32,'Fruchtfolge Tabellen'!$E$3:$Q$231,10,FALSE)*(AB32/1000)","v":0},{"$f":"VLOOKUP(AA32,'Fruchtfolge Tabellen'!$E$3:$Q$231,11,FALSE)*(AB32/1000)","v":0},{"$f":"VLOOKUP(AA32,'Fruchtfolge Tabellen'!$E$3:$Q$231,12,FALSE)*(AB32/1000)","v":0},{"$f":"VLOOKUP(AA32,'Fruchtfolge Tabellen'!$E$3:$Q$231,13,FALSE)*(AB32/1000)","v":0},{"$f":"VLOOKUP(A32,'Fruchtfolge Tabellen'!$B$3:$E$231,4,FALSE)","v":0},0,{"$f":"VLOOKUP(AM32,'Fruchtfolge Tabellen'!$E$3:$Q$231,4,FALSE)*(AN32/1000)","v":0},{"$f":"VLOOKUP(AM32,'Fruchtfolge Tabellen'!$E$3:$Q$231,5,FALSE)*(AN32/1000)","v":0},{"$f":"VLOOKUP(AM32,'Fruchtfolge Tabellen'!$E$3:$Q$231,6,FALSE)*(AN32/1000)","v":0},{"$f":"VLOOKUP(AM32,'Fruchtfolge Tabellen'!$E$3:$Q$231,7,FALSE)*(AN32/1000)","v":0},{"$f":"VLOOKUP(AM32,'Fruchtfolge Tabellen'!$E$3:$Q$231,8,FALSE)*(AN32/1000)","v":0},{"$f":"VLOOKUP(AM32,'Fruchtfolge Tabellen'!$E$3:$Q$231,9,FALSE)*(AN32/1000)","v":0},{"$f":"VLOOKUP(AM32,'Fruchtfolge Tabellen'!$E$3:$Q$231,10,FALSE)*(AN32/1000)","v":0},{"$f":"VLOOKUP(AM32,'Fruchtfolge Tabellen'!$E$3:$Q$231,11,FALSE)*(AN32/1000)","v":0},{"$f":"VLOOKUP(AM32,'Fruchtfolge Tabellen'!$E$3:$Q$231,12,FALSE)*(AN32/1000)","v":0},{"$f":"VLOOKUP(AM32,'Fruchtfolge Tabellen'!$E$3:$Q$231,13,FALSE)*(AN32/1000)","v":0},0,{"$f":"AVERAGE(Q32,AC32,AO32)","v":0},0,0,0,0,0,0,0,0,0]
["Bitte wählen:",{"$nulls":13},{"$f":"VLOOKUP(A33,'Fruchtfolge Tabellen'!$B$3:$E$231,4,FALSE)","v":0},0,{"$f":"VLOOKUP(O33,'Fruchtfolge Tabellen'!$E$3:$Q$231,4,FALSE)*(P33/1000)","v":0},{"$f":"VLOOKUP(O33,'Fruchtfolge Tabellen'!$E$3:$Q$231,5,FALSE)*(P33/1000)","v":0},{"$f":"VLOOKUP(O33,'Fruchtfolge Tabellen'!$E$3:$Q$231,6,FALSE)*(P33/1000)","v":0},{"$f":"VLOOKUP(O33,'Fruchtfolge Tabellen'!$E$3:$Q$231,7,FALSE)*(P33/1000)","v":0},{"$f":"VLOOKUP(O33,'Fruchtfolge Tabellen'!$E$3:$Q$231,8,FALSE)*(P33/1000)","v":0},{"$f":"VLOOKUP(O33,'Fruchtfolge Tabellen'!$E$3:$Q$231,9,FALSE)*(P33/1000)","v":0},{"$f":"VLOOKUP(O33,'Fruchtfolge Tabellen'!$E$3:$Q$231,10,FALSE)*(P33/1000)","v":0},{"$f":"VLOOKUP(O33,'Fruchtfolge Tabellen'!$E$3:$Q$231,11,FALSE)*(P33/1000)","v":0},{"$f":"VLOOKUP(O33,'Fruchtfolge Tabellen'!$E$3:$Q$231,12,FALSE)*(P33/1000)","v":0},{"$f":"VLOOKUP(O33,'Fruchtfolge Tabellen'!$E$3:$Q$231,13,FALSE)*(P33/1000)","v":0},{"$f":"VLOOKUP(A33,'Fruchtfolge Tabellen'!$B$3:$E$231,4,FALSE)","v":0},0,{"$f":"VLOOKUP(AA33,'Fruchtfolge Tabellen'!$E$3:$Q$231,4,FALSE)*(AB33/1000)","v":0},{"$f":"VLOOKUP(AA33,'Fruchtfolge Tabellen'!$E$3:$Q$231,5,FALSE)*(AB33/1000)","v":0},{"$f":"VLOOKUP(AA33,'Fruchtfolge Tabellen'!$E$3:$Q$231,6,FALSE)*(AB33/1000)","v":0},{"$f":"VLOOKUP(AA33,'Fruchtfolge Tabellen'!$E$3:$Q$231,7,FALSE)*(AB33/1000)","v":0},{"$f":"VLOOKUP(AA33,'Fruchtfolge Tabellen'!$E$3:$Q$231,8,FALSE)*(AB33/1000)","v":0},{"$f":"VLOOKUP(AA33,'Fruchtfolge Tabellen'!$E$3:$Q$231,9,FALSE)*(AB33/1000)","v":0},{"$f":"VLOOKUP(AA33,'Fruchtfolge Tabellen'!$E$3:$Q$231,10,FALSE)*(AB33/1000)","v":0},{"$f":"VLOOKUP(AA33,'Fruchtfolge Tabellen'!$E$3:$Q$231,11,FALSE)*(AB33/1000)","v":0},{"$f":"VLOOKUP(AA33,'Fruchtfolge Tabellen'!$E$3:$Q$231,12,FALSE)*(AB33/1000)","v":0},{"$f":"VLOOKUP(AA33,'Fruchtfolge Tabellen'!$E$3:$Q$231,13,FALSE)*(AB33/1000)","v":0},{"$f":"VLOOKUP(A33,'Fruchtfolge Tabellen'!$B$3:$E$231,4,FALSE)","v":0},0,{"$f":"VLOOKUP(AM33,'Fruchtfolge Tabellen'!$E$3:$Q$231,4,FALSE)*(AN33/1000)","v":0},{"$f":"VLOOKUP(AM33,'Fruchtfolge Tabellen'!$E$3:$Q$231,5,FALSE)*(AN33/1000)","v":0},{"$f":"VLOOKUP(AM33,'Fruchtfolge Tabellen'!$E$3:$Q$231,6,FALSE)*(AN33/1000)","v":0},{"$f":"VLOOKUP(AM33,'Fruchtfolge Tabellen'!$E$3:$Q$231,7,FALSE)*(AN33/1000)","v":0},{"$f":"VLOOKUP(AM33,'Fruchtfolge Tabellen'!$E$3:$Q$231,8,FALSE)*(AN33/1000)","v":0},{"$f":"VLOOKUP(AM33,'Fruchtfolge Tabellen'!$E$3:$Q$231,9,FALSE)*(AN33/1000)","v":0},{"$f":"VLOOKUP(AM33,'Fruchtfolge Tabellen'!$E$3:$Q$231,10,FALSE)*(AN33/1000)","v":0},{"$f":"VLOOKUP(AM33,'Fruchtfolge Tabellen'!$E$3:$Q$231,11,FALSE)*(AN33/1000)","v":0},{"$f":"VLOOKUP(AM33,'Fruchtfolge Tabellen'!$E$3:$Q$231,12,FALSE)*(AN33/1000)","v":0},{"$f":"VLOOKUP(AM33,'Fruchtfolge Tabellen'!$E$3:$Q$231,13,FALSE)*(AN33/1000)","v":0},0,0,0,0,0,0,0,0,0,0,0]
["Bitte wählen:",{"$nulls":13},{"$f":"VLOOKUP(A34,'Fruchtfolge Tabellen'!$B$3:$E$231,4,FALSE)","v":0},0,{"$f":"VLOOKUP(O34,'Fruchtfolge Tabellen'!$E$3:$Q$231,4,FALSE)*(P34/1000)","v":0},{"$f":"VLOOKUP(O34,'Fruchtfolge Tabellen'!$E$3:$Q$231,5,FALSE)*(P34/1000)","v":0},{"$f":"VLOOKUP(O34,'Fruchtfolge Tabellen'!$E$3:$Q$231,6,FALSE)*(P34/1000)","v":0},{"$f":"VLOOKUP(O34,'Fruchtfolge Tabellen'!$E$3:$Q$231,7,FALSE)*(P34/1000)","v":0},{"$f":"VLOOKUP(O34,'Fruchtfolge Tabellen'!$E$3:$Q$231,8,FALSE)*(P34/1000)","v":0},{"$f":"VLOOKUP(O34,'Fruchtfolge Tabellen'!$E$3:$Q$231,9,FALSE)*(P34/1000)","v":0},{"$f":"VLOOKUP(O34,'Fruchtfolge Tabellen'!$E$3:$Q$231,10,FALSE)*(P34/1000)","v":0},{"$f":"VLOOKUP(O34,'Fruchtfolge Tabellen'!$E$3:$Q$231,11,FALSE)*(P34/1000)","v":0},{"$f":"VLOOKUP(O34,'Fruchtfolge Tabellen'!$E$3:$Q$231,12,FALSE)*(P34/1000)","v":0},{"$f":"VLOOKUP(O34,'Fruchtfolge Tabellen'!$E$3:$Q$231,13,FALSE)*(P34/1000)","v":0},{"$f":"VLOOKUP(A34,'Fruchtfolge Tabellen'!$B$3:$E$231,4,FALSE)","v":0},0,{"$f":"VLOOKUP(AA34,'Fruchtfolge Tabellen'!$E$3:$Q$231,4,FALSE)*(AB34/1000)","v":0},{"$f":"VLOOKUP(AA34,'Fruchtfolge Tabellen'!$E$3:$Q$231,5,FALSE)*(AB34/1000)","v":0},{"$f":"VLOOKUP(AA34,'Fruchtfolge Tabellen'!$E$3:$Q$231,6,FALSE)*(AB34/1000)","v":0},{"$f":"VLOOKUP(AA34,'Fruchtfolge Tabellen'!$E$3:$Q$231,7,FALSE)*(AB34/1000)","v":0},{"$f":"VLOOKUP(AA34,'Fruchtfolge Tabellen'!$E$3:$Q$231,8,FALSE)*(AB34/1000)","v":0},{"$f":"VLOOKUP(AA34,'Fruchtfolge Tabellen'!$E$3:$Q$231,9,FALSE)*(AB34/1000)","v":0},{"$f":"VLOOKUP(AA34,'Fruchtfolge Tabellen'!$E$3:$Q$231,10,FALSE)*(AB34/1000)","v":0},{"$f":"VLOOKUP(AA34,'Fruchtfolge Tabellen'!$E$3:$Q$231,11,FALSE)*(AB34/1000)","v":0},{"$f":"VLOOKUP(AA34,'Fruchtfolge Tabellen'!$E$3:$Q$231,12,FALSE)*(AB34/1000)","v":0},{"$f":"VLOOKUP(AA34,'Fruchtfolge Tabellen'!$E$3:$Q$231,13,FALSE)*(AB34/1000)","v":0},{"$f":"VLOOKUP(A34,'Fruchtfolge Tabellen'!$B$3:$E$231,4,FALSE)","v":0},0,{"$f":"VLOOKUP(AM34,'Fruchtfolge Tabellen'!$E$3:$Q$231,4,FALSE)*(AN34/1000)","v":0},{"$f":"VLOOKUP(AM34,'Fruchtfolge Tabellen'!$E$3:$Q$231,5,FALSE)*(AN34/1000)","v":0},{"$f":"VLOOKUP(AM34,'Fruchtfolge Tabellen'!$E$3:$Q$231,6,FALSE)*(AN34/1000)","v":0},{"$f":"VLOOKUP(AM34,'Fruchtfolge Tabellen'!$E$3:$Q$231,7,FALSE)*(AN34/1000)","v":0},{"$f":"VLOOKUP(AM34,'Fruchtfolge Tabellen'!$E$3:$Q$231,8,FALSE)*(AN34/1000)","v":0},{"$f":"VLOOKUP(AM34,'Fruchtfolge Tabellen'!$E$3:$Q$231,9,FALSE)*(AN34/1000)","v":0},{"$f":"VLOOKUP(AM34,'Fruchtfolge Tabellen'!$E$3:$Q$231,10,FALSE)*(AN34/1000)","v":0},{"$f":"VLOOKUP(AM34,'Fruchtfolge Tabellen'!$E$3:$Q$231,11,FALSE)*(AN34/1000)","v":0},{"$f":"VLOOKUP(AM34,'Fruchtfolge Tabellen'!$E$3:$Q$231,12,FALSE)*(AN34/1000)","v":0},{"$f":"VLOOKUP(AM34,'Fruchtfolge Tabellen'!$E$3:$Q$231,13,FALSE)*(AN34/1000)","v":0},0,0,0,0,0,0,0,0,0,0,0]
["Bitte wählen:",{"$nulls":13},{"$f":"VLOOKUP(A35,'Fruchtfolge Tabellen'!$B$3:$E$231,4,FALSE)","v":0},0,{"$f":"VLOOKUP(O35,'Fruchtfolge Tabellen'!$E$3:$Q$231,4,FALSE)*(P35/1000)","v":0},{"$f":"VLOOKUP(O35,'Fruchtfolge Tabellen'!$E$3:$Q$231,5,FALSE)*(P35/1000)","v":0},{"$f":"VLOOKUP(O35,'Fruchtfolge Tabellen'!$E$3:$Q$231,6,FALSE)*(P35/1000)","v":0},{"$f":"VLOOKUP(O35,'Fruchtfolge Tabellen'!$E$3:$Q$231,7,FALSE)*(P35/1000)","v":0},{"$f":"VLOOKUP(O35,'Fruchtfolge Tabellen'!$E$3:$Q$231,8,FALSE)*(P35/1000)","v":0},{"$f":"VLOOKUP(O35,'Fruchtfolge Tabellen'!$E$3:$Q$231,9,FALSE)*(P35/1000)","v":0},{"$f":"VLOOKUP(O35,'Fruchtfolge Tabellen'!$E$3:$Q$231,10,FALSE)*(P35/1000)","v":0},{"$f":"VLOOKUP(O35,'Fruchtfolge Tabellen'!$E$3:$Q$231,11,FALSE)*(P35/1000)","v":0},{"$f":"VLOOKUP(O35,'Fruchtfolge Tabellen'!$E$3:$Q$231,12,FALSE)*(P35/1000)","v":0},{"$f":"VLOOKUP(O35,'Fruchtfolge Tabellen'!$E$3:$Q$231,13,FALSE)*(P35/1000)","v":0},{"$f":"VLOOKUP(A35,'Fruchtfolge Tabellen'!$B$3:$E$231,4,FALSE)","v":0},0,{"$f":"VLOOKUP(AA35,'Fruchtfolge Tabellen'!$E$3:$Q$231,4,FALSE)*(AB35/1000)","v":0},{"$f":"VLOOKUP(AA35,'Fruchtfolge Tabellen'!$E$3:$Q$231,5,FALSE)*(AB35/1000)","v":0},{"$f":"VLOOKUP(AA35,'Fruchtfolge Tabellen'!$E$3:$Q$231,6,FALSE)*(AB35/1000)","v":0},{"$f":"VLOOKUP(AA35,'Fruchtfolge Tabellen'!$E$3:$Q$231,7,FALSE)*(AB35/1000)","v":0},{"$f":"VLOOKUP(AA35,'Fruchtfolge Tabellen'!$E$3:$Q$231,8,FALSE)*(AB35/1000)","v":0},{"$f":"VLOOKUP(AA35,'Fruchtfolge Tabellen'!$E$3:$Q$231,9,FALSE)*(AB35/1000)","v":0},{"$f":"VLOOKUP(AA35,'Fruchtfolge Tabellen'!$E$3:$Q$231,10,FALSE)*(AB35/1000)","v":0},{"$f":"VLOOKUP(AA35,'Fruchtfolge Tabellen'!$E$3:$Q$231,11,FALSE)*(AB35/1000)","v":0},{"$f":"VLOOKUP(AA35,'Fruchtfolge Tabellen'!$E$3:$Q$231,12,FALSE)*(AB35/1000)","v":0},{"$f":"VLOOKUP(AA35,'Fruchtfolge Tabellen'!$E$3:$Q$231,13,FALSE)*(AB35/1000)","v":0},{"$f":"VLOOKUP(A35,'Fruchtfolge Tabellen'!$B$3:$E$231,4,FALSE)","v":0},0,{"$f":"VLOOKUP(AM35,'Fruchtfolge Tabellen'!$E$3:$Q$231,4,FALSE)*(AN35/1000)","v":0},{"$f":"VLOOKUP(AM35,'Fruchtfolge Tabellen'!$E$3:$Q$231,5,FALSE)*(AN35/1000)","v":0},{"$f":"VLOOKUP(AM35,'Fruchtfolge Tabellen'!$E$3:$Q$231,6,FALSE)*(AN35/1000)","v":0},{"$f":"VLOOKUP(AM35,'Fruchtfolge Tabellen'!$E$3:$Q$231,7,FALSE)*(AN35/1000)","v":0},{"$f":"VLOOKUP(AM35,'Fruchtfolge Tabellen'!$E$3:$Q$231,8,FALSE)*(AN35/1000)","v":0},{"$f":"VLOOKUP(AM35,'Fruchtfolge Tabellen'!$E$3:$Q$231,9,FALSE)*(AN35/1000)","v":0},{"$f":"VLOOKUP(AM35,'Fruchtfolge Tabellen'!$E$3:$Q$231,10,FALSE)*(AN35/1000)","v":0},{"$f":"VLOOKUP(AM35,'Fruchtfolge Tabellen'!$E$3:$Q$231,11,FALSE)*(AN35/1000)","v":0},{"$f":"VLOOKUP(AM35,'Fruchtfolge Tabellen'!$E$3:$Q$231,12,FALSE)*(AN35/1000)","v":0},{"$f":"VLOOKUP(AM35,'Fruchtfolge Tabellen'!$E$3:$Q$231,13,FALSE)*(AN35/1000)","v":0},0,0,0,0,0,0,0,0,0,0,0]
["Bitte wählen:",{"$nulls":13},{"$f":"VLOOKUP(A36,'Fruchtfolge Tabellen'!$B$3:$E$231,4,FALSE)","v":0},0,{"$f":"VLOOKUP(O36,'Fruchtfolge Tabellen'!$E$3:$Q$231,4,FALSE)*(P36/1000)","v":0},{"$f":"VLOOKUP(O36,'Fruchtfolge Tabellen'!$E$3:$Q$231,5,FALSE)*(P36/1000)","v":0},{"$f":"VLOOKUP(O36,'Fruchtfolge Tabellen'!$E$3:$Q$231,6,FALSE)*(P36/1000)","v":0},{"$f":"VLOOKUP(O36,'Fruchtfolge Tabellen'!$E$3:$Q$231,7,FALSE)*(P36/1000)","v":0},{"$f":"VLOOKUP(O36,'Fruchtfolge Tabellen'!$E$3:$Q$231,8,FALSE)*(P36/1000)","v":0},{"$f":"VLOOKUP(O36,'Fruchtfolge Tabellen'!$E$3:$Q$231,9,FALSE)*(P36/1000)","v":0},{"$f":"VLOOKUP(O36,'Fruchtfolge Tabellen'!$E$3:$Q$231,10,FALSE)*(P36/1000)","v":0},{"$f":"VLOOKUP(O36,'Fruchtfolge Tabellen'!$E$3:$Q$231,11,FALSE)*(P36/1000)","v":0},{"$f":"VLOOKUP(O36,'Fruchtfolge Tabellen'!$E$3:$Q$231,12,FALSE)*(P36/1000)","v":0},{"$f":"VLOOKUP(O36,'Fruchtfolge Tabellen'!$E$3:$Q$231,13,FALSE)*(P36/1000)","v":0},{"$f":"VLOOKUP(A36,'Fruchtfolge Tabellen'!$B$3:$E$231,4,FALSE)","v":0},0,{"$f":"VLOOKUP(AA36,'Fruchtfolge Tabellen'!$E$3:$Q$231,4,FALSE)*(AB36/1000)","v":0},{"$f":"VLOOKUP(AA36,'Fruchtfolge Tabellen'!$E$3:$Q$231,5,FALSE)*(AB36/1000)","v":0},{"$f":"VLOOKUP(AA36,'Fruchtfolge Tabellen'!$E$3:$Q$231,6,FALSE)*(AB36/1000)","v":0},{"$f":"VLOOKUP(AA36,'Fruchtfolge Tabellen'!$E$3:$Q$231,7,FALSE)*(AB36/1000)","v":0},{"$f":"VLOOKUP(AA36,'Fruchtfolge Tabellen'!$E$3:$Q$231,8,FALSE)*(AB36/1000)","v":0},{"$f":"VLOOKUP(AA36,'Fruchtfolge Tabellen'!$E$3:$Q$231,9,FALSE)*(AB36/1000)","v":0},{"$f":"VLOOKUP(AA36,'Fruchtfolge Tabellen'!$E$3:$Q$231,10,FALSE)*(AB36/1000)","v":0},{"$f":"VLOOKUP(AA36,'Fruchtfolge Tabellen'!$E$3:$Q$231,11,FALSE)*(AB36/1000)","v":0},{"$f":"VLOOKUP(AA36,'Fruchtfolge Tabellen'!$E$3:$Q$231,12,FALSE)*(AB36/1000)","v":0},{"$f":"VLOOKUP(AA36,'Fruchtfolge Tabellen'!$E$3:$Q$231,13,FALSE)*(AB36/1000)","v":0},{"$f":"VLOOKUP(A36,'Fruchtfolge Tabellen'!$B$3:$E$231,4,FALSE)","v":0},0,{"$f":"VLOOKUP(AM36,'Fruchtfolge Tabellen'!$E$3:$Q$231,4,FALSE)*(AN36/1000)","v":0},{"$f":"VLOOKUP(AM36,'Fruchtfolge Tabellen'!$E$3:$Q$231,5,FALSE)*(AN36/1000)","v":0},{"$f":"VLOOKUP(AM36,'Fruchtfolge Tabellen'!$E$3:$Q$231,6,FALSE)*(AN36/1000)","v":0},{"$f":"VLOOKUP(AM36,'Fruchtfolge Tabellen'!$E$3:$Q$231,7,FALSE)*(AN36/1000)","v":0},{"$f":"VLOOKUP(AM36,'Fruchtfolge Tabellen'!$E$3:$Q$231,8,FALSE)*(AN36/1000)","v":0},{"$f":"VLOOKUP(AM36,'Fruchtfolge Tabellen'!$E$3:$Q$231,9,FALSE)*(AN36/1000)","v":0},{"$f":"VLOOKUP(AM36,'Fruchtfolge Tabellen'!$E$3:$Q$231,10,FALSE)*(AN36/1000)","v":0},{"$f":"VLOOKUP(AM36,'Fruchtfolge Tabellen'!$E$3:$Q$231,11,FALSE)*(AN36/1000)","v":0},{"$f":"VLOOKUP(AM36,'Fruchtfolge Tabellen'!$E$3:$Q$231,12,FALSE)*(AN36/1000)","v":0},{"$f":"VLOOKUP(AM36,'Fruchtfolge Tabellen'!$E$3:$Q$231,13,FALSE)*(AN36/1000)","v":0},0,0,0,0,0,0,0,0,0,0,0]
["Bitte wählen:",{"$nulls":13},{"$f":"VLOOKUP(A37,'Fruchtfolge Tabellen'!$B$3:$E$231,4,FALSE)","v":0},0,{"$f":"VLOOKUP(O37,'Fruchtfolge Tabellen'!$E$3:$Q$231,4,FALSE)*(P37/1000)","v":0},{"$f":"VLOOKUP(O37,'Fruchtfolge Tabellen'!$E$3:$Q$231,5,FALSE)*(P37/1000)","v":0},{"$f":"VLOOKUP(O37,'Fruchtfolge Tabellen'!$E$3:$Q$231,6,FALSE)*(P37/1000)","v":0},{"$f":"VLOOKUP(O37,'Fruchtfolge Tabellen'!$E$3:$Q$231,7,FALSE)*(P37/1000)","v":0},{"$f":"VLOOKUP(O37,'Fruchtfolge Tabellen'!$E$3:$Q$231,8,FALSE)*(P37/1000)","v":0},{"$f":"VLOOKUP(O37,'Fruchtfolge Tabellen'!$E$3:$Q$231,9,FALSE)*(P37/1000)","v":0},{"$f":"VLOOKUP(O37,'Fruchtfolge Tabellen'!$E$3:$Q$231,10,FALSE)*(P37/1000)","v":0},{"$f":"VLOOKUP(O37,'Fruchtfolge Tabellen'!$E$3:$Q$231,11,FALSE)*(P37/1000)","v":0},{"$f":"VLOOKUP(O37,'Fruchtfolge Tabellen'!$E$3:$Q$231,12,FALSE)*(P37/1000)","v":0},{"$f":"VLOOKUP(O37,'Fruchtfolge Tabellen'!$E$3:$Q$231,13,FALSE)*(P37/1000)","v":0},{"$f":"VLOOKUP(A37,'Fruchtfolge Tabellen'!$B$3:$E$231,4,FALSE)","v":0},0,{"$f":"VLOOKUP(AA37,'Fruchtfolge Tabellen'!$E$3:$Q$231,4,FALSE)*(AB37/1000)","v":0},{"$f":"VLOOKUP(AA37,'Fruchtfolge Tabellen'!$E$3:$Q$231,5,FALSE)*(AB37/1000)","v":0},{"$f":"VLOOKUP(AA37,'Fruchtfolge Tabellen'!$E$3:$Q$231,6,FALSE)*(AB37/1000)","v":0},{"$f":"VLOOKUP(AA37,'Fruchtfolge Tabellen'!$E$3:$Q$231,7,FALSE)*(AB37/1000)","v":0},{"$f":"VLOOKUP(AA37,'Fruchtfolge Tabellen'!$E$3:$Q$231,8,FALSE)*(AB37/1000)","v":0},{"$f":"VLOOKUP(AA37,'Fruchtfolge Tabellen'!$E$3:$Q$231,9,FALSE)*(AB37/1000)","v":0},{"$f":"VLOOKUP(AA37,'Fruchtfolge Tabellen'!$E$3:$Q$231,10,FALSE)*(AB37/1000)","v":0},{"$f":"VLOOKUP(AA37,'Fruchtfolge Tabellen'!$E$3:$Q$231,11,FALSE)*(AB37/1000)","v":0},{"$f":"VLOOKUP(AA37,'Fruchtfolge Tabellen'!$E$3:$Q$231,12,FALSE)*(AB37/1000)","v":0},{"$f":"VLOOKUP(AA37,'Fruchtfolge Tabellen'!$E$3:$Q$231,13,FALSE)*(AB37/1000)","v":0},{"$f":"VLOOKUP(A37,'Fruchtfolge Tabellen'!$B$3:$E$231,4,FALSE)","v":0},0,{"$f":"VLOOKUP(AM37,'Fruchtfolge Tabellen'!$E$3:$Q$231,4,FALSE)*(AN37/1000)","v":0},{"$f":"VLOOKUP(AM37,'Fruchtfolge Tabellen'!$E$3:$Q$231,5,FALSE)*(AN37/1000)","v":0},{"$f":"VLOOKUP(AM37,'Fruchtfolge Tabellen'!$E$3:$Q$231,6,FALSE)*(AN37/1000)","v":0},{"$f":"VLOOKUP(AM37,'Fruchtfolge Tabellen'!$E$3:$Q$231,7,FALSE)*(AN37/1000)","v":0},{"$f":"VLOOKUP(AM37,'Fruchtfolge Tabellen'!$E$3:$Q$231,8,FALSE)*(AN37/1000)","v":0},{"$f":"VLOOKUP(AM37,'Fruchtfolge Tabellen'!$E$3:$Q$231,9,FALSE)*(AN37/1000)","v":0},{"$f":"VLOOKUP(AM37,'Fruchtfolge Tabellen'!$E$3:$Q$231,10,FALSE)*(AN37/1000)","v":0},{"$f":"VLOOKUP(AM37,'Fruchtfolge Tabellen'!$E$3:$Q$231,11,FALSE)*(AN37/1000)","v":0},{"$f":"VLOOKUP(AM37,'Fruchtfolge Tabellen'!$E$3:$Q$231,12,FALSE)*(AN37/1000)","v":0},{"$f":"VLOOKUP(AM37,'Fruchtfolge Tabellen'!$E$3:$Q$231,13,FALSE)*(AN37/1000)","v":0},0,0,0,0,0,0,0,0,0,0,0]
["Bitte wählen:",{"$nulls":13},{"$f":"VLOOKUP(A38,'Fruchtfolge Tabellen'!$B$3:$E$231,4,FALSE)","v":0},0,{"$f":"VLOOKUP(O38,'Fruchtfolge Tabellen'!$E$3:$Q$231,4,FALSE)*(P38/1000)","v":0},{"$f":"VLOOKUP(O38,'Fruchtfolge Tabellen'!$E$3:$Q$231,5,FALSE)*(P38/1000)","v":0},{"$f":"VLOOKUP(O38,'Fruchtfolge Tabellen'!$E$3:$Q$231,6,FALSE)*(P38/1000)","v":0},{"$f":"VLOOKUP(O38,'Fruchtfolge Tabellen'!$E$3:$Q$231,7,FALSE)*(P38/1000)","v":0},{"$f":"VLOOKUP(O38,'Fruchtfolge Tabellen'!$E$3:$Q$231,8,FALSE)*(P38/1000)","v":0},{"$f":"VLOOKUP(O38,'Fruchtfolge Tabellen'!$E$3:$Q$231,9,FALSE)*(P38/1000)","v":0},{"$f":"VLOOKUP(O38,'Fruchtfolge Tabellen'!$E$3:$Q$231,10,FALSE)*(P38/1000)","v":0},{"$f":"VLOOKUP(O38,'Fruchtfolge Tabellen'!$E$3:$Q$231,11,FALSE)*(P38/1000)","v":0},{"$f":"VLOOKUP(O38,'Fruchtfolge Tabellen'!$E$3:$Q$231,12,FALSE)*(P38/1000)","v":0},{"$f":"VLOOKUP(O38,'Fruchtfolge Tabellen'!$E$3:$Q$231,13,FALSE)*(P38/1000)","v":0},{"$f":"VLOOKUP(A38,'Fruchtfolge Tabellen'!$B$3:$E$231,4,FALSE)","v":0},0,{"$f":"VLOOKUP(AA38,'Fruchtfolge Tabellen'!$E$3:$Q$231,4,FALSE)*(AB38/1000)","v":0},{"$f":"VLOOKUP(AA38,'Fruchtfolge Tabellen'!$E$3:$Q$231,5,FALSE)*(AB38/1000)","v":0},{"$f":"VLOOKUP(AA38,'Fruchtfolge Tabellen'!$E$3:$Q$231,6,FALSE)*(AB38/1000)","v":0},{"$f":"VLOOKUP(AA38,'Fruchtfolge Tabellen'!$E$3:$Q$231,7,FALSE)*(AB38/1000)","v":0},{"$f":"VLOOKUP(AA38,'Fruchtfolge Tabellen'!$E$3:$Q$231,8,FALSE)*(AB38/1000)","v":0},{"$f":"VLOOKUP(AA38,'Fruchtfolge Tabellen'!$E$3:$Q$231,9,FALSE)*(AB38/1000)","v":0},{"$f":"VLOOKUP(AA38,'Fruchtfolge Tabellen'!$E$3:$Q$231,10,FALSE)*(AB38/1000)","v":0},{"$f":"VLOOKUP(AA38,'Fruchtfolge Tabellen'!$E$3:$Q$231,11,FALSE)*(AB38/1000)","v":0},{"$f":"VLOOKUP(AA38,'Fruchtfolge Tabellen'!$E$3:$Q$231,12,FALSE)*(AB38/1000)","v":0},{"$f":"VLOOKUP(AA38,'Fruchtfolge Tabellen'!$E$3:$Q$231,13,FALSE)*(AB38/1000)","v":0},{"$f":"VLOOKUP(A38,'Fruchtfolge Tabellen'!$B$3:$E$231,4,FALSE)","v":0},0,{"$f":"VLOOKUP(AM38,'Fruchtfolge Tabellen'!$E$3:$Q$231,4,FALSE)*(AN38/1000)","v":0},{"$f":"VLOOKUP(AM38,'Fruchtfolge Tabellen'!$E$3:$Q$231,5,FALSE)*(AN38/1000)","v":0},{"$f":"VLOOKUP(AM38,'Fruchtfolge Tabellen'!$E$3:$Q$231,6,FALSE)*(AN38/1000)","v":0},{"$f":"VLOOKUP(AM38,'Fruchtfolge Tabellen'!$E$3:$Q$231,7,FALSE)*(AN38/1000)","v":0},{"$f":"VLOOKUP(AM38,'Fruchtfolge Tabellen'!$E$3:$Q$231,8,FALSE)*(AN38/1000)","v":0},{"$f":"VLOOKUP(AM38,'Fruchtfolge Tabellen'!$E$3:$Q$231,9,FALSE)*(AN38/1000)","v":0},{"$f":"VLOOKUP(AM38,'Fruchtfolge Tabellen'!$E$3:$Q$231,10,FALSE)*(AN38/1000)","v":0},{"$f":"VLOOKUP(AM38,'Fruchtfolge Tabellen'!$E$3:$Q$231,11,FALSE)*(AN38/1000)","v":0},{"$f":"VLOOKUP(AM38,'Fruchtfolge Tabellen'!$E$3:$Q$231,12,FALSE)*(AN38/1000)","v":0},{"$f":"VLOOKUP(AM38,'Fruchtfolge Tabellen'!$E$3:$Q$231,13,FALSE)*(AN38/1000)","v":0},0,0,0,0,0,0,0,0,0,0,0]
["Bitte wählen:",{"$nulls":13},{"$f":"VLOOKUP(A39,'Fruchtfolge Tabellen'!$B$3:$E$231,4,FALSE)","v":0},0,{"$f":"VLOOKUP(O39,'Fruchtfolge Tabellen'!$E$3:$Q$231,4,FALSE)*(P39/1000)","v":0},{"$f":"VLOOKUP(O39,'Fruchtfolge Tabellen'!$E$3:$Q$231,5,FALSE)*(P39/1000)","v":0},{"$f":"VLOOKUP(O39,'Fruchtfolge Tabellen'!$E$3:$Q$231,6,FALSE)*(P39/1000)","v":0},{"$f":"VLOOKUP(O39,'Fruchtfolge Tabellen'!$E$3:$Q$231,7,FALSE)*(P39/1000)","v":0},{"$f":"VLOOKUP(O39,'Fruchtfolge Tabellen'!$E$3:$Q$231,8,FALSE)*(P39/1000)","v":0},{"$f":"VLOOKUP(O39,'Fruchtfolge Tabellen'!$E$3:$Q$231,9,FALSE)*(P39/1000)","v":0},{"$f":"VLOOKUP(O39,'Fruchtfolge Tabellen'!$E$3:$Q$231,10,FALSE)*(P39/1000)","v":0},{"$f":"VLOOKUP(O39,'Fruchtfolge Tabellen'!$E$3:$Q$231,11,FALSE)*(P39/1000)","v":0},{"$f":"VLOOKUP(O39,'Fruchtfolge Tabellen'!$E$3:$Q$231,12,FALSE)*(P39/1000)","v":0},{"$f":"VLOOKUP(O39,'Fruchtfolge Tabellen'!$E$3:$Q$231,13,FALSE)*(P39/1000)","v":0},{"$f":"VLOOKUP(A39,'Fruchtfolge Tabellen'!$B$3:$E$231,4,FALSE)","v":0},0,{"$f":"VLOOKUP(AA39,'Fruchtfolge Tabellen'!$E$3:$Q$231,4,FALSE)*(AB39/1000)","v":0},{"$f":"VLOOKUP(AA39,'Fruchtfolge Tabellen'!$E$3:$Q$231,5,FALSE)*(AB39/1000)","v":0},{"$f":"VLOOKUP(AA39,'Fruchtfolge Tabellen'!$E$3:$Q$231,6,FALSE)*(AB39/1000)","v":0},{"$f":"VLOOKUP(AA39,'Fruchtfolge Tabellen'!$E$3:$Q$231,7,FALSE)*(AB39/1000)","v":0},{"$f":"VLOOKUP(AA39,'Fruchtfolge Tabellen'!$E$3:$Q$231,8,FALSE)*(AB39/1000)","v":0},{"$f":"VLOOKUP(AA39,'Fruchtfolge Tabellen'!$E$3:$Q$231,9,FALSE)*(AB39/1000)","v":0},{"$f":"VLOOKUP(AA39,'Fruchtfolge Tabellen'!$E$3:$Q$231,10,FALSE)*(AB39/1000)","v":0},{"$f":"VLOOKUP(AA39,'Fruchtfolge Tabellen'!$E$3:$Q$231,11,FALSE)*(AB39/1000)","v":0},{"$f":"VLOOKUP(AA39,'Fruchtfolge Tabellen'!$E$3:$Q$231,12,FALSE)*(AB39/1000)","v":0},{"$f":"VLOOKUP(AA39,'Fruchtfolge Tabellen'!$E$3:$Q$231,13,FALSE)*(AB39/1000)","v":0},{"$f":"VLOOKUP(A39,'Fruchtfolge Tabellen'!$B$3:$E$231,4,FALSE)","v":0},0,{"$f":"VLOOKUP(AM39,'Fruchtfolge Tabellen'!$E$3:$Q$231,4,FALSE)*(AN39/1000)","v":0},{"$f":"VLOOKUP(AM39,'Fruchtfolge Tabellen'!$E$3:$Q$231,5,FALSE)*(AN39/1000)","v":0},{"$f":"VLOOKUP(AM39,'Fruchtfolge Tabellen'!$E$3:$Q$231,6,FALSE)*(AN39/1000)","v":0},{"$f":"VLOOKUP(AM39,'Fruchtfolge Tabellen'!$E$3:$Q$231,7,FALSE)*(AN39/1000)","v":0},{"$f":"VLOOKUP(AM39,'Fruchtfolge Tabellen'!$E$3:$Q$231,8,FALSE)*(AN39/1000)","v":0},{"$f":"VLOOKUP(AM39,'Fruchtfolge Tabellen'!$E$3:$Q$231,9,FALSE)*(AN39/1000)","v":0},{"$f":"VLOOKUP(AM39,'Fruchtfolge Tabellen'!$E$3:$Q$231,10,FALSE)*(AN39/1000)","v":0},{"$f":"VLOOKUP(AM39,'Fruchtfolge Tabellen'!$E$3:$Q$231,11,FALSE)*(AN39/1000)","v":0},{"$f":"VLOOKUP(AM39,'Fruchtfolge Tabellen'!$E$3:$Q$231,12,FALSE)*(AN39/1000)","v":0},{"$f":"VLOOKUP(AM39,'Fruchtfolge Tabellen'!$E$3:$Q$231,13,FALSE)*(AN39/1000)","v":0},0,0,0,0,0,0,0,0,0,0,0]
["Bitte wählen:",{"$nulls":13},{"$f":"VLOOKUP(A40,'Fruchtfolge Tabellen'!$B$3:$E$231,4,FALSE)","v":0},0,{"$f":"VLOOKUP(O40,'Fruchtfolge Tabellen'!$E$3:$Q$231,4,FALSE)*(P40/1000)","v":0},{"$f":"VLOOKUP(O40,'Fruchtfolge Tabellen'!$E$3:$Q$231,5,FALSE)*(P40/1000)","v":0},{"$f":"VLOOKUP(O40,'Fruchtfolge Tabellen'!$E$3:$Q$231,6,FALSE)*(P40/1000)","v":0},{"$f":"VLOOKUP(O40,'Fruchtfolge Tabellen'!$E$3:$Q$231,7,FALSE)*(P40/1000)","v":0},{"$f":"VLOOKUP(O40,'Fruchtfolge Tabellen'!$E$3:$Q$231,8,FALSE)*(P40/1000)","v":0},{"$f":"VLOOKUP(O40,'Fruchtfolge Tabellen'!$E$3:$Q$231,9,FALSE)*(P40/1000)","v":0},{"$f":"VLOOKUP(O40,'Fruchtfolge Tabellen'!$E$3:$Q$231,10,FALSE)*(P40/1000)","v":0},{"$f":"VLOOKUP(O40,'Fruchtfolge Tabellen'!$E$3:$Q$231,11,FALSE)*(P40/1000)","v":0},{"$f":"VLOOKUP(O40,'Fruchtfolge Tabellen'!$E$3:$Q$231,12,FALSE)*(P40/1000)","v":0},{"$f":"VLOOKUP(O40,'Fruchtfolge Tabellen'!$E$3:$Q$231,13,FALSE)*(P40/1000)","v":0},{"$f":"VLOOKUP(A40,'Fruchtfolge Tabellen'!$B$3:$E$231,4,FALSE)","v":0},0,{"$f":"VLOOKUP(AA40,'Fruchtfolge Tabellen'!$E$3:$Q$231,4,FALSE)*(AB40/1000)","v":0},{"$f":"VLOOKUP(AA40,'Fruchtfolge Tabellen'!$E$3:$Q$231,5,FALSE)*(AB40/1000)","v":0},{"$f":"VLOOKUP(AA40,'Fruchtfolge Tabellen'!$E$3:$Q$231,6,FALSE)*(AB40/1000)","v":0},{"$f":"VLOOKUP(AA40,'Fruchtfolge Tabellen'!$E$3:$Q$231,7,FALSE)*(AB40/1000)","v":0},{"$f":"VLOOKUP(AA40,'Fruchtfolge Tabellen'!$E$3:$Q$231,8,FALSE)*(AB40/1000)","v":0},{"$f":"VLOOKUP(AA40,'Fruchtfolge Tabellen'!$E$3:$Q$231,9,FALSE)*(AB40/1000)","v":0},{"$f":"VLOOKUP(AA40,'Fruchtfolge Tabellen'!$E$3:$Q$231,10,FALSE)*(AB40/1000)","v":0},{"$f":"VLOOKUP(AA40,'Fruchtfolge Tabellen'!$E$3:$Q$231,11,FALSE)*(AB40/1000)","v":0},{"$f":"VLOOKUP(AA40,'Fruchtfolge Tabellen'!$E$3:$Q$231,12,FALSE)*(AB40/1000)","v":0},{"$f":"VLOOKUP(AA40,'Fruchtfolge Tabellen'!$E$3:$Q$231,13,FALSE)*(AB40/1000)","v":0},{"$f":"VLOOKUP(A40,'Fruchtfolge Tabellen'!$B$3:$E$231,4,FALSE)","v":0},0,{"$f":"VLOOKUP(AM40,'Fruchtfolge Tabellen'!$E$3:$Q$231,4,FALSE)*(AN40/1000)","v":0},{"$f":"VLOOKUP(AM40,'Fruchtfolge Tabellen'!$E$3:$Q$231,5,FALSE)*(AN40/1000)","v":0},{"$f":"VLOOKUP(AM40,'Fruchtfolge Tabellen'!$E$3:$Q$231,6,FALSE)*(AN40/1000)","v":0},{"$f":"VLOOKUP(AM40,'Fruchtfolge Tabellen'!$E$3:$Q$231,7,FALSE)*(AN40/1000)","v":0},{"$f":"VLOOKUP(AM40,'Fruchtfolge Tabellen'!$E$3:$Q$231,8,FALSE)*(AN40/1000)","v":0},{"$f":"VLOOKUP(AM40,'Fruchtfolge Tabellen'!$E$3:$Q$231,9,FALSE)*(AN40/1000)","v":0},{"$f":"VLOOKUP(AM40,'Fruchtfolge Tabellen'!$E$3:$Q$231,10,FALSE)*(AN40/1000)","v":0},{"$f":"VLOOKUP(AM40,'Fruchtfolge Tabellen'!$E$3:$Q$231,11,FALSE)*(AN40/1000)","v":0},{"$f":"VLOOKUP(AM40,'Fruchtfolge Tabellen'!$E$3:$Q$231,12,FALSE)*(AN40/1000)","v":0},{"$f":"VLOOKUP(AM40,'Fruchtfolge Tabellen'!$E$3:$Q$231,13,FALSE)*(AN40/1000)","v":0},0,0,0,0,0,0,0,0,0,0,0]
["Bitte wählen:",{"$nulls":13},{"$f":"VLOOKUP(A41,'Fruchtfolge Tabellen'!$B$3:$E$231,4,FALSE)","v":0},0,{"$f":"VLOOKUP(O41,'Fruchtfolge Tabellen'!$E$3:$Q$231,4,FALSE)*(P41/1000)","v":0},{"$f":"VLOOKUP(O41,'Fruchtfolge Tabellen'!$E$3:$Q$231,5,FALSE)*(P41/1000)","v":0},{"$f":"VLOOKUP(O41,'Fruchtfolge Tabellen'!$E$3:$Q$231,6,FALSE)*(P41/1000)","v":0},{"$f":"VLOOKUP(O41,'Fruchtfolge Tabellen'!$E$3:$Q$231,7,FALSE)*(P41/1000)","v":0},{"$f":"VLOOKUP(O41,'Fruchtfolge Tabellen'!$E$3:$Q$231,8,FALSE)*(P41/1000)","v":0},{"$f":"VLOOKUP(O41,'Fruchtfolge Tabellen'!$E$3:$Q$231,9,FALSE)*(P41/1000)","v":0},{"$f":"VLOOKUP(O41,'Fruchtfolge Tabellen'!$E$3:$Q$231,10,FALSE)*(P41/1000)","v":0},{"$f":"VLOOKUP(O41,'Fruchtfolge Tabellen'!$E$3:$Q$231,11,FALSE)*(P41/1000)","v":0},{"$f":"VLOOKUP(O41,'Fruchtfolge Tabellen'!$E$3:$Q$231,12,FALSE)*(P41/1000)","v":0},{"$f":"VLOOKUP(O41,'Fruchtfolge Tabellen'!$E$3:$Q$231,13,FALSE)*(P41/1000)","v":0},{"$f":"VLOOKUP(A41,'Fruchtfolge Tabellen'!$B$3:$E$231,4,FALSE)","v":0},0,{"$f":"VLOOKUP(AA41,'Fruchtfolge Tabellen'!$E$3:$Q$231,4,FALSE)*(AB41/1000)","v":0},{"$f":"VLOOKUP(AA41,'Fruchtfolge Tabellen'!$E$3:$Q$231,5,FALSE)*(AB41/1000)","v":0},{"$f":"VLOOKUP(AA41,'Fruchtfolge Tabellen'!$E$3:$Q$231,6,FALSE)*(AB41/1000)","v":0},{"$f":"VLOOKUP(AA41,'Fruchtfolge Tabellen'!$E$3:$Q$231,7,FALSE)*(AB41/1000)","v":0},{"$f":"VLOOKUP(AA41,'Fruchtfolge Tabellen'!$E$3:$Q$231,8,FALSE)*(AB41/1000)","v":0},{"$f":"VLOOKUP(AA41,'Fruchtfolge Tabellen'!$E$3:$Q$231,9,FALSE)*(AB41/1000)","v":0},{"$f":"VLOOKUP(AA41,'Fruchtfolge Tabellen'!$E$3:$Q$231,10,FALSE)*(AB41/1000)","v":0},{"$f":"VLOOKUP(AA41,'Fruchtfolge Tabellen'!$E$3:$Q$231,11,FALSE)*(AB41/1000)","v":0},{"$f":"VLOOKUP(AA41,'Fruchtfolge Tabellen'!$E$3:$Q$231,12,FALSE)*(AB41/1000)","v":0},{"$f":"VLOOKUP(AA41,'Fruchtfolge Tabellen'!$E$3:$Q$231,13,FALSE)*(AB41/1000)","v":0},{"$f":"VLOOKUP(A41,'Fruchtfolge Tabellen'!$B$3:$E$231,4,FALSE)","v":0},0,{"$f":"VLOOKUP(AM41,'Fruchtfolge Tabellen'!$E$3:$Q$231,4,FALSE)*(AN41/1000)","v":0},{"$f":"VLOOKUP(AM41,'Fruchtfolge Tabellen'!$E$3:$Q$231,5,FALSE)*(AN41/1000)","v":0},{"$f":"VLOOKUP(AM41,'Fruchtfolge Tabellen'!$E$3:$Q$231,6,FALSE)*(AN41/1000)","v":0},{"$f":"VLOOKUP(AM41,'Fruchtfolge Tabellen'!$E$3:$Q$231,7,FALSE)*(AN41/1000)","v":0},{"$f":"VLOOKUP(AM41,'Fruchtfolge Tabellen'!$E$3:$Q$231,8,FALSE)*(AN41/1000)","v":0},{"$f":"VLOOKUP(AM41,'Fruchtfolge Tabellen'!$E$3:$Q$231,9,FALSE)*(AN41/1000)","v":0},{"$f":"VLOOKUP(AM41,'Fruchtfolge Tabellen'!$E$3:$Q$231,10,FALSE)*(AN41/1000)","v":0},{"$f":"VLOOKUP(AM41,'Fruchtfolge Tabellen'!$E$3:$Q$231,11,FALSE)*(AN41/1000)","v":0},{"$f":"VLOOKUP(AM41,'Fruchtfolge Tabellen'!$E$3:$Q$231,12,FALSE)*(AN41/1000)","v":0},{"$f":"VLOOKUP(AM41,'Fruchtfolge Tabellen'!$E$3:$Q$231,13,FALSE)*(AN41/1000)","v":0},0,0,0,0,0,0,0,0,0,0,0]
["Bitte wählen:",{"$nulls":13},{"$f":"VLOOKUP(A42,'Fruchtfolge Tabellen'!$B$3:$E$231,4,FALSE)","v":0},0,{"$f":"VLOOKUP(O42,'Fruchtfolge Tabellen'!$E$3:$Q$231,4,FALSE)*(P42/1000)","v":0},{"$f":"VLOOKUP(O42,'Fruchtfolge Tabellen'!$E$3:$Q$231,5,FALSE)*(P42/1000)","v":0},{"$f":"VLOOKUP(O42,'Fruchtfolge Tabellen'!$E$3:$Q$231,6,FALSE)*(P42/1000)","v":0},{"$f":"VLOOKUP(O42,'Fruchtfolge Tabellen'!$E$3:$Q$231,7,FALSE)*(P42/1000)","v":0},{"$f":"VLOOKUP(O42,'Fruchtfolge Tabellen'!$E$3:$Q$231,8,FALSE)*(P42/1000)","v":0},{"$f":"VLOOKUP(O42,'Fruchtfolge Tabellen'!$E$3:$Q$231,9,FALSE)*(P42/1000)","v":0},{"$f":"VLOOKUP(O42,'Fruchtfolge Tabellen'!$E$3:$Q$231,10,FALSE)*(P42/1000)","v":0},{"$f":"VLOOKUP(O42,'Fruchtfolge Tabellen'!$E$3:$Q$231,11,FALSE)*(P42/1000)","v":0},{"$f":"VLOOKUP(O42,'Fruchtfolge Tabellen'!$E$3:$Q$231,12,FALSE)*(P42/1000)","v":0},{"$f":"VLOOKUP(O42,'Fruchtfolge Tabellen'!$E$3:$Q$231,13,FALSE)*(P42/1000)","v":0},{"$f":"VLOOKUP(A42,'Fruchtfolge Tabellen'!$B$3:$E$231,4,FALSE)","v":0},0,{"$f":"VLOOKUP(AA42,'Fruchtfolge Tabellen'!$E$3:$Q$231,4,FALSE)*(AB42/1000)","v":0},{"$f":"VLOOKUP(AA42,'Fruchtfolge Tabellen'!$E$3:$Q$231,5,FALSE)*(AB42/1000)","v":0},{"$f":"VLOOKUP(AA42,'Fruchtfolge Tabellen'!$E$3:$Q$231,6,FALSE)*(AB42/1000)","v":0},{"$f":"VLOOKUP(AA42,'Fruchtfolge Tabellen'!$E$3:$Q$231,7,FALSE)*(AB42/1000)","v":0},{"$f":"VLOOKUP(AA42,'Fruchtfolge Tabellen'!$E$3:$Q$231,8,FALSE)*(AB42/1000)","v":0},{"$f":"VLOOKUP(AA42,'Fruchtfolge Tabellen'!$E$3:$Q$231,9,FALSE)*(AB42/1000)","v":0},{"$f":"VLOOKUP(AA42,'Fruchtfolge Tabellen'!$E$3:$Q$231,10,FALSE)*(AB42/1000)","v":0},{"$f":"VLOOKUP(AA42,'Fruchtfolge Tabellen'!$E$3:$Q$231,11,FALSE)*(AB42/1000)","v":0},{"$f":"VLOOKUP(AA42,'Fruchtfolge Tabellen'!$E$3:$Q$231,12,FALSE)*(AB42/1000)","v":0},{"$f":"VLOOKUP(AA42,'Fruchtfolge Tabellen'!$E$3:$Q$231,13,FALSE)*(AB42/1000)","v":0},{"$f":"VLOOKUP(A42,'Fruchtfolge Tabellen'!$B$3:$E$231,4,FALSE)","v":0},0,{"$f":"VLOOKUP(AM42,'Fruchtfolge Tabellen'!$E$3:$Q$231,4,FALSE)*(AN42/1000)","v":0},{"$f":"VLOOKUP(AM42,'Fruchtfolge Tabellen'!$E$3:$Q$231,5,FALSE)*(AN42/1000)","v":0},{"$f":"VLOOKUP(AM42,'Fruchtfolge Tabellen'!$E$3:$Q$231,6,FALSE)*(AN42/1000)","v":0},{"$f":"VLOOKUP(AM42,'Fruchtfolge Tabellen'!$E$3:$Q$231,7,FALSE)*(AN42/1000)","v":0},{"$f":"VLOOKUP(AM42,'Fruchtfolge Tabellen'!$E$3:$Q$231,8,FALSE)*(AN42/1000)","v":0},{"$f":"VLOOKUP(AM42,'Fruchtfolge Tabellen'!$E$3:$Q$231,9,FALSE)*(AN42/1000)","v":0},{"$f":"VLOOKUP(AM42,'Fruchtfolge Tabellen'!$E$3:$Q$231,10,FALSE)*(AN42/1000)","v":0},{"$f":"VLOOKUP(AM42,'Fruchtfolge Tabellen'!$E$3:$Q$231,11,FALSE)*(AN42/1000)","v":0},{"$f":"VLOOKUP(AM42,'Fruchtfolge Tabellen'!$E$3:$Q$231,12,FALSE)*(AN42/1000)","v":0},{"$f":"VLOOKUP(AM42,'Fruchtfolge Tabellen'!$E$3:$Q$231,13,FALSE)*(AN42/1000)","v":0},0,0,0,0,0,0,0,0,0,0,0]
["Bitte wählen:",{"$nulls":13},{"$f":"VLOOKUP(A43,'Fruchtfolge Tabellen'!$B$3:$E$231,4,FALSE)","v":0},0,{"$f":"VLOOKUP(O43,'Fruchtfolge Tabellen'!$E$3:$Q$231,4,FALSE)*(P43/1000)","v":0},{"$f":"VLOOKUP(O43,'Fruchtfolge Tabellen'!$E$3:$Q$231,5,FALSE)*(P43/1000)","v":0},{"$f":"VLOOKUP(O43,'Fruchtfolge Tabellen'!$E$3:$Q$231,6,FALSE)*(P43/1000)","v":0},{"$f":"VLOOKUP(O43,'Fruchtfolge Tabellen'!$E$3:$Q$231,7,FALSE)*(P43/1000)","v":0},{"$f":"VLOOKUP(O43,'Fruchtfolge Tabellen'!$E$3:$Q$231,8,FALSE)*(P43/1000)","v":0},{"$f":"VLOOKUP(O43,'Fruchtfolge Tabellen'!$E$3:$Q$231,9,FALSE)*(P43/1000)","v":0},{"$f":"VLOOKUP(O43,'Fruchtfolge Tabellen'!$E$3:$Q$231,10,FALSE)*(P43/1000)","v":0},{"$f":"VLOOKUP(O43,'Fruchtfolge Tabellen'!$E$3:$Q$231,11,FALSE)*(P43/1000)","v":0},{"$f":"VLOOKUP(O43,'Fruchtfolge Tabellen'!$E$3:$Q$231,12,FALSE)*(P43/1000)","v":0},{"$f":"VLOOKUP(O43,'Fruchtfolge Tabellen'!$E$3:$Q$231,13,FALSE)*(P43/1000)","v":0},{"$f":"VLOOKUP(A43,'Fruchtfolge Tabellen'!$B$3:$E$231,4,FALSE)","v":0},0,{"$f":"VLOOKUP(AA43,'Fruchtfolge Tabellen'!$E$3:$Q$231,4,FALSE)*(AB43/1000)","v":0},{"$f":"VLOOKUP(AA43,'Fruchtfolge Tabellen'!$E$3:$Q$231,5,FALSE)*(AB43/1000)","v":0},{"$f":"VLOOKUP(AA43,'Fruchtfolge Tabellen'!$E$3:$Q$231,6,FALSE)*(AB43/1000)","v":0},{"$f":"VLOOKUP(AA43,'Fruchtfolge Tabellen'!$E$3:$Q$231,7,FALSE)*(AB43/1000)","v":0},{"$f":"VLOOKUP(AA43,'Fruchtfolge Tabellen'!$E$3:$Q$231,8,FALSE)*(AB43/1000)","v":0},{"$f":"VLOOKUP(AA43,'Fruchtfolge Tabellen'!$E$3:$Q$231,9,FALSE)*(AB43/1000)","v":0},{"$f":"VLOOKUP(AA43,'Fruchtfolge Tabellen'!$E$3:$Q$231,10,FALSE)*(AB43/1000)","v":0},{"$f":"VLOOKUP(AA43,'Fruchtfolge Tabellen'!$E$3:$Q$231,11,FALSE)*(AB43/1000)","v":0},{"$f":"VLOOKUP(AA43,'Fruchtfolge Tabellen'!$E$3:$Q$231,12,FALSE)*(AB43/1000)","v":0},{"$f":"VLOOKUP(AA43,'Fruchtfolge Tabellen'!$E$3:$Q$231,13,FALSE)*(AB43/1000)","v":0},{"$f":"VLOOKUP(A43,'Fruchtfolge Tabellen'!$B$3:$E$231,4,FALSE)","v":0},0,{"$f":"VLOOKUP(AM43,'Fruchtfolge Tabellen'!$E$3:$Q$231,4,FALSE)*(AN43/1000)","v":0},{"$f":"VLOOKUP(AM43,'Fruchtfolge Tabellen'!$E$3:$Q$231,5,FALSE)*(AN43/1000)","v":0},{"$f":"VLOOKUP(AM43,'Fruchtfolge Tabellen'!$E$3:$Q$231,6,FALSE)*(AN43/1000)","v":0},{"$f":"VLOOKUP(AM43,'Fruchtfolge Tabellen'!$E$3:$Q$231,7,FALSE)*(AN43/1000)","v":0},{"$f":"VLOOKUP(AM43,'Fruchtfolge Tabellen'!$E$3:$Q$231,8,FALSE)*(AN43/1000)","v":0},{"$f":"VLOOKUP(AM43,'Fruchtfolge Tabellen'!$E$3:$Q$231,9,FALSE)*(AN43/1000)","v":0},{"$f":"VLOOKUP(AM43,'Fruchtfolge Tabellen'!$E$3:$Q$231,10,FALSE)*(AN43/1000)","v":0},{"$f":"VLOOKUP(AM43,'Fruchtfolge Tabellen'!$E$3:$Q$231,11,FALSE)*(AN43/1000)","v":0},{"$f":"VLOOKUP(AM43,'Fruchtfolge Tabellen'!$E$3:$Q$231,12,FALSE)*(AN43/1000)","v":0},{"$f":"VLOOKUP(AM43,'Fruchtfolge Tabellen'!$E$3:$Q$231,13,FALSE)*(AN43/1000)","v":0},0,0,0,0,0,0,0,0,0,0,0]
["Bitte wählen:",{"$nulls":13},{"$f":"VLOOKUP(A44,'Fruchtfolge Tabellen'!$B$3:$E$231,4,FALSE)","v":0},0,{"$f":"VLOOKUP(O44,'Fruchtfolge Tabellen'!$E$3:$Q$231,4,FALSE)*(P44/1000)","v":0},{"$f":"VLOOKUP(O44,'Fruchtfolge Tabellen'!$E$3:$Q$231,5,FALSE)*(P44/1000)","v":0},{"$f":"VLOOKUP(O44,'Fruchtfolge Tabellen'!$E$3:$Q$231,6,FALSE)*(P44/1000)","v":0},{"$f":"VLOOKUP(O44,'Fruchtfolge Tabellen'!$E$3:$Q$231,7,FALSE)*(P44/1000)","v":0},{"$f":"VLOOKUP(O44,'Fruchtfolge Tabellen'!$E$3:$Q$231,8,FALSE)*(P44/1000)","v":0},{"$f":"VLOOKUP(O44,'Fruchtfolge Tabellen'!$E$3:$Q$231,9,FALSE)*(P44/1000)","v":0},{"$f":"VLOOKUP(O44,'Fruchtfolge Tabellen'!$E$3:$Q$231,10,FALSE)*(P44/1000)","v":0},{"$f":"VLOOKUP(O44,'Fruchtfolge Tabellen'!$E$3:$Q$231,11,FALSE)*(P44/1000)","v":0},{"$f":"VLOOKUP(O44,'Fruchtfolge Tabellen'!$E$3:$Q$231,12,FALSE)*(P44/1000)","v":0},{"$f":"VLOOKUP(O44,'Fruchtfolge Tabellen'!$E$3:$Q$231,13,FALSE)*(P44/1000)","v":0},{"$f":"VLOOKUP(A44,'Fruchtfolge Tabellen'!$B$3:$E$231,4,FALSE)","v":0},0,{"$f":"VLOOKUP(AA44,'Fruchtfolge Tabellen'!$E$3:$Q$231,4,FALSE)*(AB44/1000)","v":0},{"$f":"VLOOKUP(AA44,'Fruchtfolge Tabellen'!$E$3:$Q$231,5,FALSE)*(AB44/1000)","v":0},{"$f":"VLOOKUP(AA44,'Fruchtfolge Tabellen'!$E$3:$Q$231,6,FALSE)*(AB44/1000)","v":0},{"$f":"VLOOKUP(AA44,'Fruchtfolge Tabellen'!$E$3:$Q$231,7,FALSE)*(AB44/1000)","v":0},{"$f":"VLOOKUP(AA44,'Fruchtfolge Tabellen'!$E$3:$Q$231,8,FALSE)*(AB44/1000)","v":0},{"$f":"VLOOKUP(AA44,'Fruchtfolge Tabellen'!$E$3:$Q$231,9,FALSE)*(AB44/1000)","v":0},{"$f":"VLOOKUP(AA44,'Fruchtfolge Tabellen'!$E$3:$Q$231,10,FALSE)*(AB44/1000)","v":0},{"$f":"VLOOKUP(AA44,'Fruchtfolge Tabellen'!$E$3:$Q$231,11,FALSE)*(AB44/1000)","v":0},{"$f":"VLOOKUP(AA44,'Fruchtfolge Tabellen'!$E$3:$Q$231,12,FALSE)*(AB44/1000)","v":0},{"$f":"VLOOKUP(AA44,'Fruchtfolge Tabellen'!$E$3:$Q$231,13,FALSE)*(AB44/1000)","v":0},{"$f":"VLOOKUP(A44,'Fruchtfolge Tabellen'!$B$3:$E$231,4,FALSE)","v":0},0,{"$f":"VLOOKUP(AM44,'Fruchtfolge Tabellen'!$E$3:$Q$231,4,FALSE)*(AN44/1000)","v":0},{"$f":"VLOOKUP(AM44,'Fruchtfolge Tabellen'!$E$3:$Q$231,5,FALSE)*(AN44/1000)","v":0},{"$f":"VLOOKUP(AM44,'Fruchtfolge Tabellen'!$E$3:$Q$231,6,FALSE)*(AN44/1000)","v":0},{"$f":"VLOOKUP(AM44,'Fruchtfolge Tabellen'!$E$3:$Q$231,7,FALSE)*(AN44/1000)","v":0},{"$f":"VLOOKUP(AM44,'Fruchtfolge Tabellen'!$E$3:$Q$231,8,FALSE)*(AN44/1000)","v":0},{"$f":"VLOOKUP(AM44,'Fruchtfolge Tabellen'!$E$3:$Q$231,9,FALSE)*(AN44/1000)","v":0},{"$f":"VLOOKUP(AM44,'Fruchtfolge Tabellen'!$E$3:$Q$231,10,FALSE)*(AN44/1000)","v":0},{"$f":"VLOOKUP(AM44,'Fruchtfolge Tabellen'!$E$3:$Q$231,11,FALSE)*(AN44/1000)","v":0},{"$f":"VLOOKUP(AM44,'Fruchtfolge Tabellen'!$E$3:$Q$231,12,FALSE)*(AN44/1000)","v":0},{"$f":"VLOOKUP(AM44,'Fruchtfolge Tabellen'!$E$3:$Q$231,13,FALSE)*(AN44/1000)","v":0},0,0,0,0,0,0,0,0,0,0,0]
["Bitte wählen:",{"$nulls":13},{"$f":"VLOOKUP(A45,'Fruchtfolge Tabellen'!$B$3:$E$231,4,FALSE)","v":0},0,{"$f":"VLOOKUP(O45,'Fruchtfolge Tabellen'!$E$3:$Q$231,4,FALSE)*(P45/1000)","v":0},{"$f":"VLOOKUP(O45,'Fruchtfolge Tabellen'!$E$3:$Q$231,5,FALSE)*(P45/1000)","v":0},{"$f":"VLOOKUP(O45,'Fruchtfolge Tabellen'!$E$3:$Q$231,6,FALSE)*(P45/1000)","v":0},{"$f":"VLOOKUP(O45,'Fruchtfolge Tabellen'!$E$3:$Q$231,7,FALSE)*(P45/1000)","v":0},{"$f":"VLOOKUP(O45,'Fruchtfolge Tabellen'!$E$3:$Q$231,8,FALSE)*(P45/1000)","v":0},{"$f":"VLOOKUP(O45,'Fruchtfolge Tabellen'!$E$3:$Q$231,9,FALSE)*(P45/1000)","v":0},{"$f":"VLOOKUP(O45,'Fruchtfolge Tabellen'!$E$3:$Q$231,10,FALSE)*(P45/1000)","v":0},{"$f":"VLOOKUP(O45,'Fruchtfolge Tabellen'!$E$3:$Q$231,11,FALSE)*(P45/1000)","v":0},{"$f":"VLOOKUP(O45,'Fruchtfolge Tabellen'!$E$3:$Q$231,12,FALSE)*(P45/1000)","v":0},{"$f":"VLOOKUP(O45,'Fruchtfolge Tabellen'!$E$3:$Q$231,13,FALSE)*(P45/1000)","v":0},{"$f":"VLOOKUP(A45,'Fruchtfolge Tabellen'!$B$3:$E$231,4,FALSE)","v":0},0,{"$f":"VLOOKUP(AA45,'Fruchtfolge Tabellen'!$E$3:$Q$231,4,FALSE)*(AB45/1000)","v":0},{"$f":"VLOOKUP(AA45,'Fruchtfolge Tabellen'!$E$3:$Q$231,5,FALSE)*(AB45/1000)","v":0},{"$f":"VLOOKUP(AA45,'Fruchtfolge Tabellen'!$E$3:$Q$231,6,FALSE)*(AB45/1000)","v":0},{"$f":"VLOOKUP(AA45,'Fruchtfolge Tabellen'!$E$3:$Q$231,7,FALSE)*(AB45/1000)","v":0},{"$f":"VLOOKUP(AA45,'Fruchtfolge Tabellen'!$E$3:$Q$231,8,FALSE)*(AB45/1000)","v":0},{"$f":"VLOOKUP(AA45,'Fruchtfolge Tabellen'!$E$3:$Q$231,9,FALSE)*(AB45/1000)","v":0},{"$f":"VLOOKUP(AA45,'Fruchtfolge Tabellen'!$E$3:$Q$231,10,FALSE)*(AB45/1000)","v":0},{"$f":"VLOOKUP(AA45,'Fruchtfolge Tabellen'!$E$3:$Q$231,11,FALSE)*(AB45/1000)","v":0},{"$f":"VLOOKUP(AA45,'Fruchtfolge Tabellen'!$E$3:$Q$231,12,FALSE)*(AB45/1000)","v":0},{"$f":"VLOOKUP(AA45,'Fruchtfolge Tabellen'!$E$3:$Q$231,13,FALSE)*(AB45/1000)","v":0},{"$f":"VLOOKUP(A45,'Fruchtfolge Tabellen'!$B$3:$E$231,4,FALSE)","v":0},0,{"$f":"VLOOKUP(AM45,'Fruchtfolge Tabellen'!$E$3:$Q$231,4,FALSE)*(AN45/1000)","v":0},{"$f":"VLOOKUP(AM45,'Fruchtfolge Tabellen'!$E$3:$Q$231,5,FALSE)*(AN45/1000)","v":0},{"$f":"VLOOKUP(AM45,'Fruchtfolge Tabellen'!$E$3:$Q$231,6,FALSE)*(AN45/1000)","v":0},{"$f":"VLOOKUP(AM45,'Fruchtfolge Tabellen'!$E$3:$Q$231,7,FALSE)*(AN45/1000)","v":0},{"$f":"VLOOKUP(AM45,'Fruchtfolge Tabellen'!$E$3:$Q$231,8,FALSE)*(AN45/1000)","v":0},{"$f":"VLOOKUP(AM45,'Fruchtfolge Tabellen'!$E$3:$Q$231,9,FALSE)*(AN45/1000)","v":0},{"$f":"VLOOKUP(AM45,'Fruchtfolge Tabellen'!$E$3:$Q$231,10,FALSE)*(AN45/1000)","v":0},{"$f":"VLOOKUP(AM45,'Fruchtfolge Tabellen'!$E$3:$Q$231,11,FALSE)*(AN45/1000)","v":0},{"$f":"VLOOKUP(AM45,'Fruchtfolge Tabellen'!$E$3:$Q$231,12,FALSE)*(AN45/1000)","v":0},{"$f":"VLOOKUP(AM45,'Fruchtfolge Tabellen'!$E$3:$Q$231,13,FALSE)*(AN45/1000)","v":0},0,0,0,0,0,0,0,0,0,0,0]
["Bitte wählen:",{"$nulls":13},{"$f":"VLOOKUP(A46,'Fruchtfolge Tabellen'!$B$3:$E$231,4,FALSE)","v":0},0,{"$f":"VLOOKUP(O46,'Fruchtfolge Tabellen'!$E$3:$Q$231,4,FALSE)*(P46/1000)","v":0},{"$f":"VLOOKUP(O46,'Fruchtfolge Tabellen'!$E$3:$Q$231,5,FALSE)*(P46/1000)","v":0},{"$f":"VLOOKUP(O46,'Fruchtfolge Tabellen'!$E$3:$Q$231,6,FALSE)*(P46/1000)","v":0},{"$f":"VLOOKUP(O46,'Fruchtfolge Tabellen'!$E$3:$Q$231,7,FALSE)*(P46/1000)","v":0},{"$f":"VLOOKUP(O46,'Fruchtfolge Tabellen'!$E$3:$Q$231,8,FALSE)*(P46/1000)","v":0},{"$f":"VLOOKUP(O46,'Fruchtfolge Tabellen'!$E$3:$Q$231,9,FALSE)*(P46/1000)","v":0},{"$f":"VLOOKUP(O46,'Fruchtfolge Tabellen'!$E$3:$Q$231,10,FALSE)*(P46/1000)","v":0},{"$f":"VLOOKUP(O46,'Fruchtfolge Tabellen'!$E$3:$Q$231,11,FALSE)*(P46/1000)","v":0},{"$f":"VLOOKUP(O46,'Fruchtfolge Tabellen'!$E$3:$Q$231,12,FALSE)*(P46/1000)","v":0},{"$f":"VLOOKUP(O46,'Fruchtfolge Tabellen'!$E$3:$Q$231,13,FALSE)*(P46/1000)","v":0},{"$f":"VLOOKUP(A46,'Fruchtfolge Tabellen'!$B$3:$E$231,4,FALSE)","v":0},0,{"$f":"VLOOKUP(AA46,'Fruchtfolge Tabellen'!$E$3:$Q$231,4,FALSE)*(AB46/1000)","v":0},{"$f":"VLOOKUP(AA46,'Fruchtfolge Tabellen'!$E$3:$Q$231,5,FALSE)*(AB46/1000)","v":0},{"$f":"VLOOKUP(AA46,'Fruchtfolge Tabellen'!$E$3:$Q$231,6,FALSE)*(AB46/1000)","v":0},{"$f":"VLOOKUP(AA46,'Fruchtfolge Tabellen'!$E$3:$Q$231,7,FALSE)*(AB46/1000)","v":0},{"$f":"VLOOKUP(AA46,'Fruchtfolge Tabellen'!$E$3:$Q$231,8,FALSE)*(AB46/1000)","v":0},{"$f":"VLOOKUP(AA46,'Fruchtfolge Tabellen'!$E$3:$Q$231,9,FALSE)*(AB46/1000)","v":0},{"$f":"VLOOKUP(AA46,'Fruchtfolge Tabellen'!$E$3:$Q$231,10,FALSE)*(AB46/1000)","v":0},{"$f":"VLOOKUP(AA46,'Fruchtfolge Tabellen'!$E$3:$Q$231,11,FALSE)*(AB46/1000)","v":0},{"$f":"VLOOKUP(AA46,'Fruchtfolge Tabellen'!$E$3:$Q$231,12,FALSE)*(AB46/1000)","v":0},{"$f":"VLOOKUP(AA46,'Fruchtfolge Tabellen'!$E$3:$Q$231,13,FALSE)*(AB46/1000)","v":0},{"$f":"VLOOKUP(A46,'Fruchtfolge Tabellen'!$B$3:$E$231,4,FALSE)","v":0},0,{"$f":"VLOOKUP(AM46,'Fruchtfolge Tabellen'!$E$3:$Q$231,4,FALSE)*(AN46/1000)","v":0},{"$f":"VLOOKUP(AM46,'Fruchtfolge Tabellen'!$E$3:$Q$231,5,FALSE)*(AN46/1000)","v":0},{"$f":"VLOOKUP(AM46,'Fruchtfolge Tabellen'!$E$3:$Q$231,6,FALSE)*(AN46/1000)","v":0},{"$f":"VLOOKUP(AM46,'Fruchtfolge Tabellen'!$E$3:$Q$231,7,FALSE)*(AN46/1000)","v":0},{"$f":"VLOOKUP(AM46,'Fruchtfolge Tabellen'!$E$3:$Q$231,8,FALSE)*(AN46/1000)","v":0},{"$f":"VLOOKUP(AM46,'Fruchtfolge Tabellen'!$E$3:$Q$231,9,FALSE)*(AN46/1000)","v":0},{"$f":"VLOOKUP(AM46,'Fruchtfolge Tabellen'!$E$3:$Q$231,10,FALSE)*(AN46/1000)","v":0},{"$f":"VLOOKUP(AM46,'Fruchtfolge Tabellen'!$E$3:$Q$231,11,FALSE)*(AN46/1000)","v":0},{"$f":"VLOOKUP(AM46,'Fruchtfolge Tabellen'!$E$3:$Q$231,12,FALSE)*(AN46/1000)","v":0},{"$f":"VLOOKUP(AM46,'Fruchtfolge Tabellen'!$E$3:$Q$231,13,FALSE)*(AN46/1000)","v":0},0,0,0,0,0,0,0,0,0,0,0]
["Bitte wählen:",{"$nulls":13},{"$f":"VLOOKUP(A47,'Fruchtfolge Tabellen'!$B$3:$E$231,4,FALSE)","v":0},0,{"$f":"VLOOKUP(O47,'Fruchtfolge Tabellen'!$E$3:$Q$231,4,FALSE)*(P47/1000)","v":0},{"$f":"VLOOKUP(O47,'Fruchtfolge Tabellen'!$E$3:$Q$231,5,FALSE)*(P47/1000)","v":0},{"$f":"VLOOKUP(O47,'Fruchtfolge Tabellen'!$E$3:$Q$231,6,FALSE)*(P47/1000)","v":0},{"$f":"VLOOKUP(O47,'Fruchtfolge Tabellen'!$E$3:$Q$231,7,FALSE)*(P47/1000)","v":0},{"$f":"VLOOKUP(O47,'Fruchtfolge Tabellen'!$E$3:$Q$231,8,FALSE)*(P47/1000)","v":0},{"$f":"VLOOKUP(O47,'Fruchtfolge Tabellen'!$E$3:$Q$231,9,FALSE)*(P47/1000)","v":0},{"$f":"VLOOKUP(O47,'Fruchtfolge Tabellen'!$E$3:$Q$231,10,FALSE)*(P47/1000)","v":0},{"$f":"VLOOKUP(O47,'Fruchtfolge Tabellen'!$E$3:$Q$231,11,FALSE)*(P47/1000)","v":0},{"$f":"VLOOKUP(O47,'Fruchtfolge Tabellen'!$E$3:$Q$231,12,FALSE)*(P47/1000)","v":0},{"$f":"VLOOKUP(O47,'Fruchtfolge Tabellen'!$E$3:$Q$231,13,FALSE)*(P47/1000)","v":0},{"$f":"VLOOKUP(A47,'Fruchtfolge Tabellen'!$B$3:$E$231,4,FALSE)","v":0},0,{"$f":"VLOOKUP(AA47,'Fruchtfolge Tabellen'!$E$3:$Q$231,4,FALSE)*(AB47/1000)","v":0},{"$f":"VLOOKUP(AA47,'Fruchtfolge Tabellen'!$E$3:$Q$231,5,FALSE)*(AB47/1000)","v":0},{"$f":"VLOOKUP(AA47,'Fruchtfolge Tabellen'!$E$3:$Q$231,6,FALSE)*(AB47/1000)","v":0},{"$f":"VLOOKUP(AA47,'Fruchtfolge Tabellen'!$E$3:$Q$231,7,FALSE)*(AB47/1000)","v":0},{"$f":"VLOOKUP(AA47,'Fruchtfolge Tabellen'!$E$3:$Q$231,8,FALSE)*(AB47/1000)","v":0},{"$f":"VLOOKUP(AA47,'Fruchtfolge Tabellen'!$E$3:$Q$231,9,FALSE)*(AB47/1000)","v":0},{"$f":"VLOOKUP(AA47,'Fruchtfolge Tabellen'!$E$3:$Q$231,10,FALSE)*(AB47/1000)","v":0},{"$f":"VLOOKUP(AA47,'Fruchtfolge Tabellen'!$E$3:$Q$231,11,FALSE)*(AB47/1000)","v":0},{"$f":"VLOOKUP(AA47,'Fruchtfolge Tabellen'!$E$3:$Q$231,12,FALSE)*(AB47/1000)","v":0},{"$f":"VLOOKUP(AA47,'Fruchtfolge Tabellen'!$E$3:$Q$231,13,FALSE)*(AB47/1000)","v":0},{"$f":"VLOOKUP(A47,'Fruchtfolge Tabellen'!$B$3:$E$231,4,FALSE)","v":0},0,{"$f":"VLOOKUP(AM47,'Fruchtfolge Tabellen'!$E$3:$Q$231,4,FALSE)*(AN47/1000)","v":0},{"$f":"VLOOKUP(AM47,'Fruchtfolge Tabellen'!$E$3:$Q$231,5,FALSE)*(AN47/1000)","v":0},{"$f":"VLOOKUP(AM47,'Fruchtfolge Tabellen'!$E$3:$Q$231,6,FALSE)*(AN47/1000)","v":0},{"$f":"VLOOKUP(AM47,'Fruchtfolge Tabellen'!$E$3:$Q$231,7,FALSE)*(AN47/1000)","v":0},{"$f":"VLOOKUP(AM47,'Fruchtfolge Tabellen'!$E$3:$Q$231,8,FALSE)*(AN47/1000)","v":0},{"$f":"VLOOKUP(AM47,'Fruchtfolge Tabellen'!$E$3:$Q$231,9,FALSE)*(AN47/1000)","v":0},{"$f":"VLOOKUP(AM47,'Fruchtfolge Tabellen'!$E$3:$Q$231,10,FALSE)*(AN47/1000)","v":0},{"$f":"VLOOKUP(AM47,'Fruchtfolge Tabellen'!$E$3:$Q$231,11,FALSE)*(AN47/1000)","v":0},{"$f":"VLOOKUP(AM47,'Fruchtfolge Tabellen'!$E$3:$Q$231,12,FALSE)*(AN47/1000)","v":0},{"$f":"VLOOKUP(AM47,'Fruchtfolge Tabellen'!$E$3:$Q$231,13,FALSE)*(AN47/1000)","v":0},0,0,0,0,0,0,0,0,0,0,0]
["Bitte wählen:",{"$nulls":13},{"$f":"VLOOKUP(A48,'Fruchtfolge Tabellen'!$B$3:$E$231,4,FALSE)","v":0},0,{"$f":"VLOOKUP(O48,'Fruchtfolge Tabellen'!$E$3:$Q$231,4,FALSE)*(P48/1000)","v":0},{"$f":"VLOOKUP(O48,'Fruchtfolge Tabellen'!$E$3:$Q$231,5,FALSE)*(P48/1000)","v":0},{"$f":"VLOOKUP(O48,'Fruchtfolge Tabellen'!$E$3:$Q$231,6,FALSE)*(P48/1000)","v":0},{"$f":"VLOOKUP(O48,'Fruchtfolge Tabellen'!$E$3:$Q$231,7,FALSE)*(P48/1000)","v":0},{"$f":"VLOOKUP(O48,'Fruchtfolge Tabellen'!$E$3:$Q$231,8,FALSE)*(P48/1000)","v":0},{"$f":"VLOOKUP(O48,'Fruchtfolge Tabellen'!$E$3:$Q$231,9,FALSE)*(P48/1000)","v":0},{"$f":"VLOOKUP(O48,'Fruchtfolge Tabellen'!$E$3:$Q$231,10,FALSE)*(P48/1000)","v":0},{"$f":"VLOOKUP(O48,'Fruchtfolge Tabellen'!$E$3:$Q$231,11,FALSE)*(P48/1000)","v":0},{"$f":"VLOOKUP(O48,'Fruchtfolge Tabellen'!$E$3:$Q$231,12,FALSE)*(P48/1000)","v":0},{"$f":"VLOOKUP(O48,'Fruchtfolge Tabellen'!$E$3:$Q$231,13,FALSE)*(P48/1000)","v":0},{"$f":"VLOOKUP(A48,'Fruchtfolge Tabellen'!$B$3:$E$231,4,FALSE)","v":0},0,{"$f":"VLOOKUP(AA48,'Fruchtfolge Tabellen'!$E$3:$Q$231,4,FALSE)*(AB48/1000)","v":0},{"$f":"VLOOKUP(AA48,'Fruchtfolge Tabellen'!$E$3:$Q$231,5,FALSE)*(AB48/1000)","v":0},{"$f":"VLOOKUP(AA48,'Fruchtfolge Tabellen'!$E$3:$Q$231,6,FALSE)*(AB48/1000)","v":0},{"$f":"VLOOKUP(AA48,'Fruchtfolge Tabellen'!$E$3:$Q$231,7,FALSE)*(AB48/1000)","v":0},{"$f":"VLOOKUP(AA48,'Fruchtfolge Tabellen'!$E$3:$Q$231,8,FALSE)*(AB48/1000)","v":0},{"$f":"VLOOKUP(AA48,'Fruchtfolge Tabellen'!$E$3:$Q$231,9,FALSE)*(AB48/1000)","v":0},{"$f":"VLOOKUP(AA48,'Fruchtfolge Tabellen'!$E$3:$Q$231,10,FALSE)*(AB48/1000)","v":0},{"$f":"VLOOKUP(AA48,'Fruchtfolge Tabellen'!$E$3:$Q$231,11,FALSE)*(AB48/1000)","v":0},{"$f":"VLOOKUP(AA48,'Fruchtfolge Tabellen'!$E$3:$Q$231,12,FALSE)*(AB48/1000)","v":0},{"$f":"VLOOKUP(AA48,'Fruchtfolge Tabellen'!$E$3:$Q$231,13,FALSE)*(AB48/1000)","v":0},{"$f":"VLOOKUP(A48,'Fruchtfolge Tabellen'!$B$3:$E$231,4,FALSE)","v":0},0,{"$f":"VLOOKUP(AM48,'Fruchtfolge Tabellen'!$E$3:$Q$231,4,FALSE)*(AN48/1000)","v":0},{"$f":"VLOOKUP(AM48,'Fruchtfolge Tabellen'!$E$3:$Q$231,5,FALSE)*(AN48/1000)","v":0},{"$f":"VLOOKUP(AM48,'Fruchtfolge Tabellen'!$E$3:$Q$231,6,FALSE)*(AN48/1000)","v":0},{"$f":"VLOOKUP(AM48,'Fruchtfolge Tabellen'!$E$3:$Q$231,7,FALSE)*(AN48/1000)","v":0},{"$f":"VLOOKUP(AM48,'Fruchtfolge Tabellen'!$E$3:$Q$231,8,FALSE)*(AN48/1000)","v":0},{"$f":"VLOOKUP(AM48,'Fruchtfolge Tabellen'!$E$3:$Q$231,9,FALSE)*(AN48/1000)","v":0},{"$f":"VLOOKUP(AM48,'Fruchtfolge Tabellen'!$E$3:$Q$231,10,FALSE)*(AN48/1000)","v":0},{"$f":"VLOOKUP(AM48,'Fruchtfolge Tabellen'!$E$3:$Q$231,11,FALSE)*(AN48/1000)","v":0},{"$f":"VLOOKUP(AM48,'Fruchtfolge Tabellen'!$E$3:$Q$231,12,FALSE)*(AN48/1000)","v":0},{"$f":"VLOOKUP(AM48,'Fruchtfolge Tabellen'!$E$3:$Q$231,13,FALSE)*(AN48/1000)","v":0},0,0,0,0,0,0,0,0,0,0,0]
["Bitte wählen:",{"$nulls":13},{"$f":"VLOOKUP(A49,'Fruchtfolge Tabellen'!$B$3:$E$231,4,FALSE)","v":0},0,{"$f":"VLOOKUP(O49,'Fruchtfolge Tabellen'!$E$3:$Q$231,4,FALSE)*(P49/1000)","v":0},{"$f":"VLOOKUP(O49,'Fruchtfolge Tabellen'!$E$3:$Q$231,5,FALSE)*(P49/1000)","v":0},{"$f":"VLOOKUP(O49,'Fruchtfolge Tabellen'!$E$3:$Q$231,6,FALSE)*(P49/1000)","v":0},{"$f":"VLOOKUP(O49,'Fruchtfolge Tabellen'!$E$3:$Q$231,7,FALSE)*(P49/1000)","v":0},{"$f":"VLOOKUP(O49,'Fruchtfolge Tabellen'!$E$3:$Q$231,8,FALSE)*(P49/1000)","v":0},{"$f":"VLOOKUP(O49,'Fruchtfolge Tabellen'!$E$3:$Q$231,9,FALSE)*(P49/1000)","v":0},{"$f":"VLOOKUP(O49,'Fruchtfolge Tabellen'!$E$3:$Q$231,10,FALSE)*(P49/1000)","v":0},{"$f":"VLOOKUP(O49,'Fruchtfolge Tabellen'!$E$3:$Q$231,11,FALSE)*(P49/1000)","v":0},{"$f":"VLOOKUP(O49,'Fruchtfolge Tabellen'!$E$3:$Q$231,12,FALSE)*(P49/1000)","v":0},{"$f":"VLOOKUP(O49,'Fruchtfolge Tabellen'!$E$3:$Q$231,13,FALSE)*(P49/1000)","v":0},{"$f":"VLOOKUP(A49,'Fruchtfolge Tabellen'!$B$3:$E$231,4,FALSE)","v":0},0,{"$f":"VLOOKUP(AA49,'Fruchtfolge Tabellen'!$E$3:$Q$231,4,FALSE)*(AB49/1000)","v":0},{"$f":"VLOOKUP(AA49,'Fruchtfolge Tabellen'!$E$3:$Q$231,5,FALSE)*(AB49/1000)","v":0},{"$f":"VLOOKUP(AA49,'Fruchtfolge Tabellen'!$E$3:$Q$231,6,FALSE)*(AB49/1000)","v":0},{"$f":"VLOOKUP(AA49,'Fruchtfolge Tabellen'!$E$3:$Q$231,7,FALSE)*(AB49/1000)","v":0},{"$f":"VLOOKUP(AA49,'Fruchtfolge Tabellen'!$E$3:$Q$231,8,FALSE)*(AB49/1000)","v":0},{"$f":"VLOOKUP(AA49,'Fruchtfolge Tabellen'!$E$3:$Q$231,9,FALSE)*(AB49/1000)","v":0},{"$f":"VLOOKUP(AA49,'Fruchtfolge Tabellen'!$E$3:$Q$231,10,FALSE)*(AB49/1000)","v":0},{"$f":"VLOOKUP(AA49,'Fruchtfolge Tabellen'!$E$3:$Q$231,11,FALSE)*(AB49/1000)","v":0},{"$f":"VLOOKUP(AA49,'Fruchtfolge Tabellen'!$E$3:$Q$231,12,FALSE)*(AB49/1000)","v":0},{"$f":"VLOOKUP(AA49,'Fruchtfolge Tabellen'!$E$3:$Q$231,13,FALSE)*(AB49/1000)","v":0},{"$f":"VLOOKUP(A49,'Fruchtfolge Tabellen'!$B$3:$E$231,4,FALSE)","v":0},0,{"$f":"VLOOKUP(AM49,'Fruchtfolge Tabellen'!$E$3:$Q$231,4,FALSE)*(AN49/1000)","v":0},{"$f":"VLOOKUP(AM49,'Fruchtfolge Tabellen'!$E$3:$Q$231,5,FALSE)*(AN49/1000)","v":0},{"$f":"VLOOKUP(AM49,'Fruchtfolge Tabellen'!$E$3:$Q$231,6,FALSE)*(AN49/1000)","v":0},{"$f":"VLOOKUP(AM49,'Fruchtfolge Tabellen'!$E$3:$Q$231,7,FALSE)*(AN49/1000)","v":0},{"$f":"VLOOKUP(AM49,'Fruchtfolge Tabellen'!$E$3:$Q$231,8,FALSE)*(AN49/1000)","v":0},{"$f":"VLOOKUP(AM49,'Fruchtfolge Tabellen'!$E$3:$Q$231,9,FALSE)*(AN49/1000)","v":0},{"$f":"VLOOKUP(AM49,'Fruchtfolge Tabellen'!$E$3:$Q$231,10,FALSE)*(AN49/1000)","v":0},{"$f":"VLOOKUP(AM49,'Fruchtfolge Tabellen'!$E$3:$Q$231,11,FALSE)*(AN49/1000)","v":0},{"$f":"VLOOKUP(AM49,'Fruchtfolge Tabellen'!$E$3:$Q$231,12,FALSE)*(AN49/1000)","v":0},{"$f":"VLOOKUP(AM49,'Fruchtfolge Tabellen'!$E$3:$Q$231,13,FALSE)*(AN49/1000)","v":0},0,0,0,0,0,0,0,0,0,0,0]
["Bitte wählen:",{"$nulls":13},{"$f":"VLOOKUP(A50,'Fruchtfolge Tabellen'!$B$3:$E$231,4,FALSE)","v":0},{"$f":"B50*1000","v":0},{"$f":"VLOOKUP(O50,'Fruchtfolge Tabellen'!$E$3:$Q$231,4,FALSE)*(P50/1000)","v":0},{"$f":"VLOOKUP(O50,'Fruchtfolge Tabellen'!$E$3:$Q$231,5,FALSE)*(P50/1000)","v":0},{"$f":"VLOOKUP(O50,'Fruchtfolge Tabellen'!$E$3:$Q$231,6,FALSE)*(P50/1000)","v":0},{"$f":"VLOOKUP(O50,'Fruchtfolge Tabellen'!$E$3:$Q$231,7,FALSE)*(P50/1000)","v":0},{"$f":"VLOOKUP(O50,'Fruchtfolge Tabellen'!$E$3:$Q$231,8,FALSE)*(P50/1000)","v":0},{"$f":"VLOOKUP(O50,'Fruchtfolge Tabellen'!$E$3:$Q$231,9,FALSE)*(P50/1000)","v":0},{"$f":"VLOOKUP(O50,'Fruchtfolge Tabellen'!$E$3:$Q$231,10,FALSE)*(P50/1000)","v":0},{"$f":"VLOOKUP(O50,'Fruchtfolge Tabellen'!$E$3:$Q$231,11,FALSE)*(P50/1000)","v":0},{"$f":"VLOOKUP(O50,'Fruchtfolge Tabellen'!$E$3:$Q$231,12,FALSE)*(P50/1000)","v":0},{"$f":"VLOOKUP(O50,'Fruchtfolge Tabellen'!$E$3:$Q$231,13,FALSE)*(P50/1000)","v":0},{"$f":"VLOOKUP(A50,'Fruchtfolge Tabellen'!$B$3:$E$231,4,FALSE)","v":0},{"$f":"E50*1000","v":0},{"$f":"VLOOKUP(AA50,'Fruchtfolge Tabellen'!$E$3:$Q$231,4,FALSE)*(AB50/1000)","v":0},{"$f":"VLOOKUP(AA50,'Fruchtfolge Tabellen'!$E$3:$Q$231,5,FALSE)*(AB50/1000)","v":0},{"$f":"VLOOKUP(AA50,'Fruchtfolge Tabellen'!$E$3:$Q$231,6,FALSE)*(AB50/1000)","v":0},{"$f":"VLOOKUP(AA50,'Fruchtfolge Tabellen'!$E$3:$Q$231,7,FALSE)*(AB50/1000)","v":0},{"$f":"VLOOKUP(AA50,'Fruchtfolge Tabellen'!$E$3:$Q$231,8,FALSE)*(AB50/1000)","v":0},{"$f":"VLOOKUP(AA50,'Fruchtfolge Tabellen'!$E$3:$Q$231,9,FALSE)*(AB50/1000)","v":0},{"$f":"VLOOKUP(AA50,'Fruchtfolge Tabellen'!$E$3:$Q$231,10,FALSE)*(AB50/1000)","v":0},{"$f":"VLOOKUP(AA50,'Fruchtfolge Tabellen'!$E$3:$Q$231,11,FALSE)*(AB50/1000)","v":0},{"$f":"VLOOKUP(AA50,'Fruchtfolge Tabellen'!$E$3:$Q$231,12,FALSE)*(AB50/1000)","v":0},{"$f":"VLOOKUP(AA50,'Fruchtfolge Tabellen'!$E$3:$Q$231,13,FALSE)*(AB50/1000)","v":0},{"$f":"VLOOKUP(A50,'Fruchtfolge Tabellen'!$B$3:$E$231,4,FALSE)","v":0},0,{"$f":"VLOOKUP(AM50,'Fruchtfolge Tabellen'!$E$3:$Q$231,4,FALSE)*(AN50/1000)","v":0},{"$f":"VLOOKUP(AM50,'Fruchtfolge Tabellen'!$E$3:$Q$231,5,FALSE)*(AN50/1000)","v":0},{"$f":"VLOOKUP(AM50,'Fruchtfolge Tabellen'!$E$3:$Q$231,6,FALSE)*(AN50/1000)","v":0},{"$f":"VLOOKUP(AM50,'Fruchtfolge Tabellen'!$E$3:$Q$231,7,FALSE)*(AN50/1000)","v":0},{"$f":"VLOOKUP(AM50,'Fruchtfolge Tabellen'!$E$3:$Q$231,8,FALSE)*(AN50/1000)","v":0},{"$f":"VLOOKUP(AM50,'Fruchtfolge Tabellen'!$E$3:$Q$231,9,FALSE)*(AN50/1000)","v":0},{"$f":"VLOOKUP(AM50,'Fruchtfolge Tabellen'!$E$3:$Q$231,10,FALSE)*(AN50/1000)","v":0},{"$f":"VLOOKUP(AM50,'Fruchtfolge Tabellen'!$E$3:$Q$231,11,FALSE)*(AN50/1000)","v":0},{"$f":"VLOOKUP(AM50,'Fruchtfolge Tabellen'!$E$3:$Q$231,12,FALSE)*(AN50/1000)","v":0},{"$f":"VLOOKUP(AM50,'Fruchtfolge Tabellen'!$E$3:$Q$231,13,FALSE)*(AN50/1000)","v":0},{"$f":"AVERAGE(P50,AB50,AN50)","v":0},{"$f":"AVERAGE(Q50,AC50,AO50)","v":0},{"$f":"AVERAGE(R50,AD50,AP50)","v":0},0,0,0,0,0,0,0,0]
["Bitte wählen:",{"$nulls":13},{"$f":"VLOOKUP(A51,'Fruchtfolge Tabellen'!$B$3:$E$231,4,FALSE)","v":0},{"$f":"B51*1000","v":0},{"$f":"VLOOKUP(O51,'Fruchtfolge Tabellen'!$E$3:$Q$231,4,FALSE)*(P51/1000)","v":0},{"$f":"VLOOKUP(O51,'Fruchtfolge Tabellen'!$E$3:$Q$231,5,FALSE)*(P51/1000)","v":0},{"$f":"VLOOKUP(O51,'Fruchtfolge Tabellen'!$E$3:$Q$231,6,FALSE)*(P51/1000)","v":0},{"$f":"VLOOKUP(O51,'Fruchtfolge Tabellen'!$E$3:$Q$231,7,FALSE)*(P51/1000)","v":0},{"$f":"VLOOKUP(O51,'Fruchtfolge Tabellen'!$E$3:$Q$231,8,FALSE)*(P51/1000)","v":0},{"$f":"VLOOKUP(O51,'Fruchtfolge Tabellen'!$E$3:$Q$231,9,FALSE)*(P51/1000)","v":0},{"$f":"VLOOKUP(O51,'Fruchtfolge Tabellen'!$E$3:$Q$231,10,FALSE)*(P51/1000)","v":0},{"$f":"VLOOKUP(O51,'Fruchtfolge Tabellen'!$E$3:$Q$231,11,FALSE)*(P51/1000)","v":0},{"$f":"VLOOKUP(O51,'Fruchtfolge Tabellen'!$E$3:$Q$231,12,FALSE)*(P51/1000)","v":0},{"$f":"VLOOKUP(O51,'Fruchtfolge Tabellen'!$E$3:$Q$231,13,FALSE)*(P51/1000)","v":0},{"$f":"VLOOKUP(A51,'Fruchtfolge Tabellen'!$B$3:$E$231,4,FALSE)","v":0},0,{"$f":"VLOOKUP(AA51,'Fruchtfolge Tabellen'!$E$3:$Q$231,4,FALSE)*(AB51/1000)","v":0},{"$f":"VLOOKUP(AA51,'Fruchtfolge Tabellen'!$E$3:$Q$231,5,FALSE)*(AB51/1000)","v":0},{"$f":"VLOOKUP(AA51,'Fruchtfolge Tabellen'!$E$3:$Q$231,6,FALSE)*(AB51/1000)","v":0},{"$f":"VLOOKUP(AA51,'Fruchtfolge Tabellen'!$E$3:$Q$231,7,FALSE)*(AB51/1000)","v":0},{"$f":"VLOOKUP(AA51,'Fruchtfolge Tabellen'!$E$3:$Q$231,8,FALSE)*(AB51/1000)","v":0},{"$f":"VLOOKUP(AA51,'Fruchtfolge Tabellen'!$E$3:$Q$231,9,FALSE)*(AB51/1000)","v":0},{"$f":"VLOOKUP(AA51,'Fruchtfolge Tabellen'!$E$3:$Q$231,10,FALSE)*(AB51/1000)","v":0},{"$f":"VLOOKUP(AA51,'Fruchtfolge Tabellen'!$E$3:$Q$231,11,FALSE)*(AB51/1000)","v":0},{"$f":"VLOOKUP(AA51,'Fruchtfolge Tabellen'!$E$3:$Q$231,12,FALSE)*(AB51/1000)","v":0},{"$f":"VLOOKUP(AA51,'Fruchtfolge Tabellen'!$E$3:$Q$231,13,FALSE)*(AB51/1000)","v":0},{"$f":"VLOOKUP(A51,'Fruchtfolge Tabellen'!$B$3:$E$231,4,FALSE)","v":0},0,{"$f":"VLOOKUP(AM51,'Fruchtfolge Tabellen'!$E$3:$Q$231,4,FALSE)*(AN51/1000)","v":0},{"$f":"VLOOKUP(AM51,'Fruchtfolge Tabellen'!$E$3:$Q$231,5,FALSE)*(AN51/1000)","v":0},{"$f":"VLOOKUP(AM51,'Fruchtfolge Tabellen'!$E$3:$Q$231,6,FALSE)*(AN51/1000)","v":0},{"$f":"VLOOKUP(AM51,'Fruchtfolge Tabellen'!$E$3:$Q$231,7,FALSE)*(AN51/1000)","v":0},{"$f":"VLOOKUP(AM51,'Fruchtfolge Tabellen'!$E$3:$Q$231,8,FALSE)*(AN51/1000)","v":0},{"$f":"VLOOKUP(AM51,'Fruchtfolge Tabellen'!$E$3:$Q$231,9,FALSE)*(AN51/1000)","v":0},{"$f":"VLOOKUP(AM51,'Fruchtfolge Tabellen'!$E$3:$Q$231,10,FALSE)*(AN51/1000)","v":0},{"$f":"VLOOKUP(AM51,'Fruchtfolge Tabellen'!$E$3:$Q$231,11,FALSE)*(AN51/1000)","v":0},{"$f":"VLOOKUP(AM51,'Fruchtfolge Tabellen'!$E$3:$Q$231,12,FALSE)*(AN51/1000)","v":0},{"$f":"VLOOKUP(AM51,'Fruchtfolge Tabellen'!$E$3:$Q$231,13,FALSE)*(AN51/1000)","v":0},0,0,{"$f":"AVERAGE(R51,AD51,AP51)","v":0},0,0,0,0,0,0,0,0]
["Bitte wählen:",{"$nulls":13},{"$f":"VLOOKUP(A52,'Fruchtfolge Tabellen'!$B$3:$E$231,4,FALSE)","v":0},0,{"$f":"VLOOKUP(O52,'Fruchtfolge Tabellen'!$E$3:$Q$231,4,FALSE)*(P52/1000)","v":0},{"$f":"VLOOKUP(O52,'Fruchtfolge Tabellen'!$E$3:$Q$231,5,FALSE)*(P52/1000)","v":0},{"$f":"VLOOKUP(O52,'Fruchtfolge Tabellen'!$E$3:$Q$231,6,FALSE)*(P52/1000)","v":0},{"$f":"VLOOKUP(O52,'Fruchtfolge Tabellen'!$E$3:$Q$231,7,FALSE)*(P52/1000)","v":0},{"$f":"VLOOKUP(O52,'Fruchtfolge Tabellen'!$E$3:$Q$231,8,FALSE)*(P52/1000)","v":0},{"$f":"VLOOKUP(O52,'Fruchtfolge Tabellen'!$E$3:$Q$231,9,FALSE)*(P52/1000)","v":0},{"$f":"VLOOKUP(O52,'Fruchtfolge Tabellen'!$E$3:$Q$231,10,FALSE)*(P52/1000)","v":0},{"$f":"VLOOKUP(O52,'Fruchtfolge Tabellen'!$E$3:$Q$231,11,FALSE)*(P52/1000)","v":0},{"$f":"VLOOKUP(O52,'Fruchtfolge Tabellen'!$E$3:$Q$231,12,FALSE)*(P52/1000)","v":0},{"$f":"VLOOKUP(O52,'Fruchtfolge Tabellen'!$E$3:$Q$231,13,FALSE)*(P52/1000)","v":0},{"$f":"VLOOKUP(A52,'Fruchtfolge Tabellen'!$B$3:$E$231,4,FALSE)","v":0},0,{"$f":"VLOOKUP(AA52,'Fruchtfolge Tabellen'!$E$3:$Q$231,4,FALSE)*(AB52/1000)","v":0},{"$f":"VLOOKUP(AA52,'Fruchtfolge Tabellen'!$E$3:$Q$231,5,FALSE)*(AB52/1000)","v":0},{"$f":"VLOOKUP(AA52,'Fruchtfolge Tabellen'!$E$3:$Q$231,6,FALSE)*(AB52/1000)","v":0},{"$f":"VLOOKUP(AA52,'Fruchtfolge Tabellen'!$E$3:$Q$231,7,FALSE)*(AB52/1000)","v":0},{"$f":"VLOOKUP(AA52,'Fruchtfolge Tabellen'!$E$3:$Q$231,8,FALSE)*(AB52/1000)","v":0},{"$f":"VLOOKUP(AA52,'Fruchtfolge Tabellen'!$E$3:$Q$231,9,FALSE)*(AB52/1000)","v":0},{"$f":"VLOOKUP(AA52,'Fruchtfolge Tabellen'!$E$3:$Q$231,10,FALSE)*(AB52/1000)","v":0},{"$f":"VLOOKUP(AA52,'Fruchtfolge Tabellen'!$E$3:$Q$231,11,FALSE)*(AB52/1000)","v":0},{"$f":"VLOOKUP(AA52,'Fruchtfolge Tabellen'!$E$3:$Q$231,12,FALSE)*(AB52/1000)","v":0},{"$f":"VLOOKUP(AA52,'Fruchtfolge Tabellen'!$E$3:$Q$231,13,FALSE)*(AB52/1000)","v":0},{"$f":"VLOOKUP(A52,'Fruchtfolge Tabellen'!$B$3:$E$231,4,FALSE)","v":0},0,{"$f":"VLOOKUP(AM52,'Fruchtfolge Tabellen'!$E$3:$Q$231,4,FALSE)*(AN52/1000)","v":0},{"$f":"VLOOKUP(AM52,'Fruchtfolge Tabellen'!$E$3:$Q$231,5,FALSE)*(AN52/1000)","v":0},{"$f":"VLOOKUP(AM52,'Fruchtfolge Tabellen'!$E$3:$Q$231,6,FALSE)*(AN52/1000)","v":0},{"$f":"VLOOKUP(AM52,'Fruchtfolge Tabellen'!$E$3:$Q$231,7,FALSE)*(AN52/1000)","v":0},{"$f":"VLOOKUP(AM52,'Fruchtfolge Tabellen'!$E$3:$Q$231,8,FALSE)*(AN52/1000)","v":0},{"$f":"VLOOKUP(AM52,'Fruchtfolge Tabellen'!$E$3:$Q$231,9,FALSE)*(AN52/1000)","v":0},{"$f":"VLOOKUP(AM52,'Fruchtfolge Tabellen'!$E$3:$Q$231,10,FALSE)*(AN52/1000)","v":0},{"$f":"VLOOKUP(AM52,'Fruchtfolge Tabellen'!$E$3:$Q$231,11,FALSE)*(AN52/1000)","v":0},{"$f":"VLOOKUP(AM52,'Fruchtfolge Tabellen'!$E$3:$Q$231,12,FALSE)*(AN52/1000)","v":0},{"$f":"VLOOKUP(AM52,'Fruchtfolge Tabellen'!$E$3:$Q$231,13,FALSE)*(AN52/1000)","v":0},0,0,0,0,0,0,0,0,0,0,0]
["Bitte wählen:",{"$nulls":13},{"$f":"VLOOKUP(A53,'Fruchtfolge Tabellen'!$B$3:$E$231,4,FALSE)","v":0},0,{"$f":"VLOOKUP(O53,'Fruchtfolge Tabellen'!$E$3:$Q$231,4,FALSE)*(P53/1000)","v":0},{"$f":"VLOOKUP(O53,'Fruchtfolge Tabellen'!$E$3:$Q$231,5,FALSE)*(P53/1000)","v":0},{"$f":"VLOOKUP(O53,'Fruchtfolge Tabellen'!$E$3:$Q$231,6,FALSE)*(P53/1000)","v":0},{"$f":"VLOOKUP(O53,'Fruchtfolge Tabellen'!$E$3:$Q$231,7,FALSE)*(P53/1000)","v":0},{"$f":"VLOOKUP(O53,'Fruchtfolge Tabellen'!$E$3:$Q$231,8,FALSE)*(P53/1000)","v":0},{"$f":"VLOOKUP(O53,'Fruchtfolge Tabellen'!$E$3:$Q$231,9,FALSE)*(P53/1000)","v":0},{"$f":"VLOOKUP(O53,'Fruchtfolge Tabellen'!$E$3:$Q$231,10,FALSE)*(P53/1000)","v":0},{"$f":"VLOOKUP(O53,'Fruchtfolge Tabellen'!$E$3:$Q$231,11,FALSE)*(P53/1000)","v":0},{"$f":"VLOOKUP(O53,'Fruchtfolge Tabellen'!$E$3:$Q$231,12,FALSE)*(P53/1000)","v":0},{"$f":"VLOOKUP(O53,'Fruchtfolge Tabellen'!$E$3:$Q$231,13,FALSE)*(P53/1000)","v":0},{"$f":"VLOOKUP(A53,'Fruchtfolge Tabellen'!$B$3:$E$231,4,FALSE)","v":0},0,{"$f":"VLOOKUP(AA53,'Fruchtfolge Tabellen'!$E$3:$Q$231,4,FALSE)*(AB53/1000)","v":0},{"$f":"VLOOKUP(AA53,'Fruchtfolge Tabellen'!$E$3:$Q$231,5,FALSE)*(AB53/1000)","v":0},{"$f":"VLOOKUP(AA53,'Fruchtfolge Tabellen'!$E$3:$Q$231,6,FALSE)*(AB53/1000)","v":0},{"$f":"VLOOKUP(AA53,'Fruchtfolge Tabellen'!$E$3:$Q$231,7,FALSE)*(AB53/1000)","v":0},{"$f":"VLOOKUP(AA53,'Fruchtfolge Tabellen'!$E$3:$Q$231,8,FALSE)*(AB53/1000)","v":0},{"$f":"VLOOKUP(AA53,'Fruchtfolge Tabellen'!$E$3:$Q$231,9,FALSE)*(AB53/1000)","v":0},{"$f":"VLOOKUP(AA53,'Fruchtfolge Tabellen'!$E$3:$Q$231,10,FALSE)*(AB53/1000)","v":0},{"$f":"VLOOKUP(AA53,'Fruchtfolge Tabellen'!$E$3:$Q$231,11,FALSE)*(AB53/1000)","v":0},{"$f":"VLOOKUP(AA53,'Fruchtfolge Tabellen'!$E$3:$Q$231,12,FALSE)*(AB53/1000)","v":0},{"$f":"VLOOKUP(AA53,'Fruchtfolge Tabellen'!$E$3:$Q$231,13,FALSE)*(AB53/1000)","v":0},{"$f":"VLOOKUP(A53,'Fruchtfolge Tabellen'!$B$3:$E$231,4,FALSE)","v":0},0,{"$f":"VLOOKUP(AM53,'Fruchtfolge Tabellen'!$E$3:$Q$231,4,FALSE)*(AN53/1000)","v":0},{"$f":"VLOOKUP(AM53,'Fruchtfolge Tabellen'!$E$3:$Q$231,5,FALSE)*(AN53/1000)","v":0},{"$f":"VLOOKUP(AM53,'Fruchtfolge Tabellen'!$E$3:$Q$231,6,FALSE)*(AN53/1000)","v":0},{"$f":"VLOOKUP(AM53,'Fruchtfolge Tabellen'!$E$3:$Q$231,7,FALSE)*(AN53/1000)","v":0},{"$f":"VLOOKUP(AM53,'Fruchtfolge Tabellen'!$E$3:$Q$231,8,FALSE)*(AN53/1000)","v":0},{"$f":"VLOOKUP(AM53,'Fruchtfolge Tabellen'!$E$3:$Q$231,9,FALSE)*(AN53/1000)","v":0},{"$f":"VLOOKUP(AM53,'Fruchtfolge Tabellen'!$E$3:$Q$231,10,FALSE)*(AN53/1000)","v":0},{"$f":"VLOOKUP(AM53,'Fruchtfolge Tabellen'!$E$3:$Q$231,11,FALSE)*(AN53/1000)","v":0},{"$f":"VLOOKUP(AM53,'Fruchtfolge Tabellen'!$E$3:$Q$231,12,FALSE)*(AN53/1000)","v":0},{"$f":"VLOOKUP(AM53,'Fruchtfolge Tabellen'!$E$3:$Q$231,13,FALSE)*(AN53/1000)","v":0},0,0,0,0,0,0,0,0,0,0,0]
["Bitte wählen:",{"$nulls":13},{"$f":"VLOOKUP(A54,'Fruchtfolge Tabellen'!$B$3:$E$231,4,FALSE)","v":0},0,{"$f":"VLOOKUP(O54,'Fruchtfolge Tabellen'!$E$3:$Q$231,4,FALSE)*(P54/1000)","v":0},{"$f":"VLOOKUP(O54,'Fruchtfolge Tabellen'!$E$3:$Q$231,5,FALSE)*(P54/1000)","v":0},{"$f":"VLOOKUP(O54,'Fruchtfolge Tabellen'!$E$3:$Q$231,6,FALSE)*(P54/1000)","v":0},{"$f":"VLOOKUP(O54,'Fruchtfolge Tabellen'!$E$3:$Q$231,7,FALSE)*(P54/1000)","v":0},{"$f":"VLOOKUP(O54,'Fruchtfolge Tabellen'!$E$3:$Q$231,8,FALSE)*(P54/1000)","v":0},{"$f":"VLOOKUP(O54,'Fruchtfolge Tabellen'!$E$3:$Q$231,9,FALSE)*(P54/1000)","v":0},{"$f":"VLOOKUP(O54,'Fruchtfolge Tabellen'!$E$3:$Q$231,10,FALSE)*(P54/1000)","v":0},{"$f":"VLOOKUP(O54,'Fruchtfolge Tabellen'!$E$3:$Q$231,11,FALSE)*(P54/1000)","v":0},{"$f":"VLOOKUP(O54,'Fruchtfolge Tabellen'!$E$3:$Q$231,12,FALSE)*(P54/1000)","v":0},{"$f":"VLOOKUP(O54,'Fruchtfolge Tabellen'!$E$3:$Q$231,13,FALSE)*(P54/1000)","v":0},{"$f":"VLOOKUP(A54,'Fruchtfolge Tabellen'!$B$3:$E$231,4,FALSE)","v":0},0,{"$f":"VLOOKUP(AA54,'Fruchtfolge Tabellen'!$E$3:$Q$231,4,FALSE)*(AB54/1000)","v":0},{"$f":"VLOOKUP(AA54,'Fruchtfolge Tabellen'!$E$3:$Q$231,5,FALSE)*(AB54/1000)","v":0},{"$f":"VLOOKUP(AA54,'Fruchtfolge Tabellen'!$E$3:$Q$231,6,FALSE)*(AB54/1000)","v":0},{"$f":"VLOOKUP(AA54,'Fruchtfolge Tabellen'!$E$3:$Q$231,7,FALSE)*(AB54/1000)","v":0},{"$f":"VLOOKUP(AA54,'Fruchtfolge Tabellen'!$E$3:$Q$231,8,FALSE)*(AB54/1000)","v":0},{"$f":"VLOOKUP(AA54,'Fruchtfolge Tabellen'!$E$3:$Q$231,9,FALSE)*(AB54/1000)","v":0},{"$f":"VLOOKUP(AA54,'Fruchtfolge Tabellen'!$E$3:$Q$231,10,FALSE)*(AB54/1000)","v":0},{"$f":"VLOOKUP(AA54,'Fruchtfolge Tabellen'!$E$3:$Q$231,11,FALSE)*(AB54/1000)","v":0},{"$f":"VLOOKUP(AA54,'Fruchtfolge Tabellen'!$E$3:$Q$231,12,FALSE)*(AB54/1000)","v":0},{"$f":"VLOOKUP(AA54,'Fruchtfolge Tabellen'!$E$3:$Q$231,13,FALSE)*(AB54/1000)","v":0},{"$f":"VLOOKUP(A54,'Fruchtfolge Tabellen'!$B$3:$E$231,4,FALSE)","v":0},0,{"$f":"VLOOKUP(AM54,'Fruchtfolge Tabellen'!$E$3:$Q$231,4,FALSE)*(AN54/1000)","v":0},{"$f":"VLOOKUP(AM54,'Fruchtfolge Tabellen'!$E$3:$Q$231,5,FALSE)*(AN54/1000)","v":0},{"$f":"VLOOKUP(AM54,'Fruchtfolge Tabellen'!$E$3:$Q$231,6,FALSE)*(AN54/1000)","v":0},{"$f":"VLOOKUP(AM54,'Fruchtfolge Tabellen'!$E$3:$Q$231,7,FALSE)*(AN54/1000)","v":0},{"$f":"VLOOKUP(AM54,'Fruchtfolge Tabellen'!$E$3:$Q$231,8,FALSE)*(AN54/1000)","v":0},{"$f":"VLOOKUP(AM54,'Fruchtfolge Tabellen'!$E$3:$Q$231,9,FALSE)*(AN54/1000)","v":0},{"$f":"VLOOKUP(AM54,'Fruchtfolge Tabellen'!$E$3:$Q$231,10,FALSE)*(AN54/1000)","v":0},{"$f":"VLOOKUP(AM54,'Fruchtfolge Tabellen'!$E$3:$Q$231,11,FALSE)*(AN54/1000)","v":0},{"$f":"VLOOKUP(AM54,'Fruchtfolge Tabellen'!$E$3:$Q$231,12,FALSE)*(AN54/1000)","v":0},{"$f":"VLOOKUP(AM54,'Fruchtfolge Tabellen'!$E$3:$Q$231,13,FALSE)*(AN54/1000)","v":0},0,0,0,0,0,0,0,0,0,0,0]
["Bitte wählen:",{"$nulls":13},{"$f":"VLOOKUP(A55,'Fruchtfolge Tabellen'!$B$3:$E$231,4,FALSE)","v":0},0,{"$f":"VLOOKUP(O55,'Fruchtfolge Tabellen'!$E$3:$Q$231,4,FALSE)*(P55/1000)","v":0},{"$f":"VLOOKUP(O55,'Fruchtfolge Tabellen'!$E$3:$Q$231,5,FALSE)*(P55/1000)","v":0},{"$f":"VLOOKUP(O55,'Fruchtfolge Tabellen'!$E$3:$Q$231,6,FALSE)*(P55/1000)","v":0},{"$f":"VLOOKUP(O55,'Fruchtfolge Tabellen'!$E$3:$Q$231,7,FALSE)*(P55/1000)","v":0},{"$f":"VLOOKUP(O55,'Fruchtfolge Tabellen'!$E$3:$Q$231,8,FALSE)*(P55/1000)","v":0},{"$f":"VLOOKUP(O55,'Fruchtfolge Tabellen'!$E$3:$Q$231,9,FALSE)*(P55/1000)","v":0},{"$f":"VLOOKUP(O55,'Fruchtfolge Tabellen'!$E$3:$Q$231,10,FALSE)*(P55/1000)","v":0},{"$f":"VLOOKUP(O55,'Fruchtfolge Tabellen'!$E$3:$Q$231,11,FALSE)*(P55/1000)","v":0},{"$f":"VLOOKUP(O55,'Fruchtfolge Tabellen'!$E$3:$Q$231,12,FALSE)*(P55/1000)","v":0},{"$f":"VLOOKUP(O55,'Fruchtfolge Tabellen'!$E$3:$Q$231,13,FALSE)*(P55/1000)","v":0},{"$f":"VLOOKUP(A55,'Fruchtfolge Tabellen'!$B$3:$E$231,4,FALSE)","v":0},0,{"$f":"VLOOKUP(AA55,'Fruchtfolge Tabellen'!$E$3:$Q$231,4,FALSE)*(AB55/1000)","v":0},{"$f":"VLOOKUP(AA55,'Fruchtfolge Tabellen'!$E$3:$Q$231,5,FALSE)*(AB55/1000)","v":0},{"$f":"VLOOKUP(AA55,'Fruchtfolge Tabellen'!$E$3:$Q$231,6,FALSE)*(AB55/1000)","v":0},{"$f":"VLOOKUP(AA55,'Fruchtfolge Tabellen'!$E$3:$Q$231,7,FALSE)*(AB55/1000)","v":0},{"$f":"VLOOKUP(AA55,'Fruchtfolge Tabellen'!$E$3:$Q$231,8,FALSE)*(AB55/1000)","v":0},{"$f":"VLOOKUP(AA55,'Fruchtfolge Tabellen'!$E$3:$Q$231,9,FALSE)*(AB55/1000)","v":0},{"$f":"VLOOKUP(AA55,'Fruchtfolge Tabellen'!$E$3:$Q$231,10,FALSE)*(AB55/1000)","v":0},{"$f":"VLOOKUP(AA55,'Fruchtfolge Tabellen'!$E$3:$Q$231,11,FALSE)*(AB55/1000)","v":0},{"$f":"VLOOKUP(AA55,'Fruchtfolge Tabellen'!$E$3:$Q$231,12,FALSE)*(AB55/1000)","v":0},{"$f":"VLOOKUP(AA55,'Fruchtfolge Tabellen'!$E$3:$Q$231,13,FALSE)*(AB55/1000)","v":0},{"$f":"VLOOKUP(A55,'Fruchtfolge Tabellen'!$B$3:$E$231,4,FALSE)","v":0},0,{"$f":"VLOOKUP(AM55,'Fruchtfolge Tabellen'!$E$3:$Q$231,4,FALSE)*(AN55/1000)","v":0},{"$f":"VLOOKUP(AM55,'Fruchtfolge Tabellen'!$E$3:$Q$231,5,FALSE)*(AN55/1000)","v":0},{"$f":"VLOOKUP(AM55,'Fruchtfolge Tabellen'!$E$3:$Q$231,6,FALSE)*(AN55/1000)","v":0},{"$f":"VLOOKUP(AM55,'Fruchtfolge Tabellen'!$E$3:$Q$231,7,FALSE)*(AN55/1000)","v":0},{"$f":"VLOOKUP(AM55,'Fruchtfolge Tabellen'!$E$3:$Q$231,8,FALSE)*(AN55/1000)","v":0},{"$f":"VLOOKUP(AM55,'Fruchtfolge Tabellen'!$E$3:$Q$231,9,FALSE)*(AN55/1000)","v":0},{"$f":"VLOOKUP(AM55,'Fruchtfolge Tabellen'!$E$3:$Q$231,10,FALSE)*(AN55/1000)","v":0},{"$f":"VLOOKUP(AM55,'Fruchtfolge Tabellen'!$E$3:$Q$231,11,FALSE)*(AN55/1000)","v":0},{"$f":"VLOOKUP(AM55,'Fruchtfolge Tabellen'!$E$3:$Q$231,12,FALSE)*(AN55/1000)","v":0},{"$f":"VLOOKUP(AM55,'Fruchtfolge Tabellen'!$E$3:$Q$231,13,FALSE)*(AN55/1000)","v":0},0,0,0,0,0,0,0,0,0,0,0]
["Bitte wählen:",{"$nulls":13},{"$f":"VLOOKUP(A56,'Fruchtfolge Tabellen'!$B$3:$E$231,4,FALSE)","v":0},0,{"$f":"VLOOKUP(O56,'Fruchtfolge Tabellen'!$E$3:$Q$231,4,FALSE)*(P56/1000)","v":0},{"$f":"VLOOKUP(O56,'Fruchtfolge Tabellen'!$E$3:$Q$231,5,FALSE)*(P56/1000)","v":0},{"$f":"VLOOKUP(O56,'Fruchtfolge Tabellen'!$E$3:$Q$231,6,FALSE)*(P56/1000)","v":0},{"$f":"VLOOKUP(O56,'Fruchtfolge Tabellen'!$E$3:$Q$231,7,FALSE)*(P56/1000)","v":0},{"$f":"VLOOKUP(O56,'Fruchtfolge Tabellen'!$E$3:$Q$231,8,FALSE)*(P56/1000)","v":0},{"$f":"VLOOKUP(O56,'Fruchtfolge Tabellen'!$E$3:$Q$231,9,FALSE)*(P56/1000)","v":0},{"$f":"VLOOKUP(O56,'Fruchtfolge Tabellen'!$E$3:$Q$231,10,FALSE)*(P56/1000)","v":0},{"$f":"VLOOKUP(O56,'Fruchtfolge Tabellen'!$E$3:$Q$231,11,FALSE)*(P56/1000)","v":0},{"$f":"VLOOKUP(O56,'Fruchtfolge Tabellen'!$E$3:$Q$231,12,FALSE)*(P56/1000)","v":0},{"$f":"VLOOKUP(O56,'Fruchtfolge Tabellen'!$E$3:$Q$231,13,FALSE)*(P56/1000)","v":0},{"$f":"VLOOKUP(A56,'Fruchtfolge Tabellen'!$B$3:$E$231,4,FALSE)","v":0},0,{"$f":"VLOOKUP(AA56,'Fruchtfolge Tabellen'!$E$3:$Q$231,4,FALSE)*(AB56/1000)","v":0},{"$f":"VLOOKUP(AA56,'Fruchtfolge Tabellen'!$E$3:$Q$231,5,FALSE)*(AB56/1000)","v":0},{"$f":"VLOOKUP(AA56,'Fruchtfolge Tabellen'!$E$3:$Q$231,6,FALSE)*(AB56/1000)","v":0},{"$f":"VLOOKUP(AA56,'Fruchtfolge Tabellen'!$E$3:$Q$231,7,FALSE)*(AB56/1000)","v":0},{"$f":"VLOOKUP(AA56,'Fruchtfolge Tabellen'!$E$3:$Q$231,8,FALSE)*(AB56/1000)","v":0},{"$f":"VLOOKUP(AA56,'Fruchtfolge Tabellen'!$E$3:$Q$231,9,FALSE)*(AB56/1000)","v":0},{"$f":"VLOOKUP(AA56,'Fruchtfolge Tabellen'!$E$3:$Q$231,10,FALSE)*(AB56/1000)","v":0},{"$f":"VLOOKUP(AA56,'Fruchtfolge Tabellen'!$E$3:$Q$231,11,FALSE)*(AB56/1000)","v":0},{"$f":"VLOOKUP(AA56,'Fruchtfolge Tabellen'!$E$3:$Q$231,12,FALSE)*(AB56/1000)","v":0},{"$f":"VLOOKUP(AA56,'Fruchtfolge Tabellen'!$E$3:$Q$231,13,FALSE)*(AB56/1000)","v":0},{"$f":"VLOOKUP(A56,'Fruchtfolge Tabellen'!$B$3:$E$231,4,FALSE)","v":0},0,{"$f":"VLOOKUP(AM56,'Fruchtfolge Tabellen'!$E$3:$Q$231,4,FALSE)*(AN56/1000)","v":0},{"$f":"VLOOKUP(AM56,'Fruchtfolge Tabellen'!$E$3:$Q$231,5,FALSE)*(AN56/1000)","v":0},{"$f":"VLOOKUP(AM56,'Fruchtfolge Tabellen'!$E$3:$Q$231,6,FALSE)*(AN56/1000)","v":0},{"$f":"VLOOKUP(AM56,'Fruchtfolge Tabellen'!$E$3:$Q$231,7,FALSE)*(AN56/1000)","v":0},{"$f":"VLOOKUP(AM56,'Fruchtfolge Tabellen'!$E$3:$Q$231,8,FALSE)*(AN56/1000)","v":0},{"$f":"VLOOKUP(AM56,'Fruchtfolge Tabellen'!$E$3:$Q$231,9,FALSE)*(AN56/1000)","v":0},{"$f":"VLOOKUP(AM56,'Fruchtfolge Tabellen'!$E$3:$Q$231,10,FALSE)*(AN56/1000)","v":0},{"$f":"VLOOKUP(AM56,'Fruchtfolge Tabellen'!$E$3:$Q$231,11,FALSE)*(AN56/1000)","v":0},{"$f":"VLOOKUP(AM56,'Fruchtfolge Tabellen'!$E$3:$Q$231,12,FALSE)*(AN56/1000)","v":0},{"$f":"VLOOKUP(AM56,'Fruchtfolge Tabellen'!$E$3:$Q$231,13,FALSE)*(AN56/1000)","v":0},0,0,0,0,0,0,0,0,0,0,0]
["Bitte wählen:",{"$nulls":13},{"$f":"VLOOKUP(A57,'Fruchtfolge Tabellen'!$B$3:$E$231,4,FALSE)","v":0},0,{"$f":"VLOOKUP(O57,'Fruchtfolge Tabellen'!$E$3:$Q$231,4,FALSE)*(P57/1000)","v":0},{"$f":"VLOOKUP(O57,'Fruchtfolge Tabellen'!$E$3:$Q$231,5,FALSE)*(P57/1000)","v":0},{"$f":"VLOOKUP(O57,'Fruchtfolge Tabellen'!$E$3:$Q$231,6,FALSE)*(P57/1000)","v":0},{"$f":"VLOOKUP(O57,'Fruchtfolge Tabellen'!$E$3:$Q$231,7,FALSE)*(P57/1000)","v":0},{"$f":"VLOOKUP(O57,'Fruchtfolge Tabellen'!$E$3:$Q$231,8,FALSE)*(P57/1000)","v":0},{"$f":"VLOOKUP(O57,'Fruchtfolge Tabellen'!$E$3:$Q$231,9,FALSE)*(P57/1000)","v":0},{"$f":"VLOOKUP(O57,'Fruchtfolge Tabellen'!$E$3:$Q$231,10,FALSE)*(P57/1000)","v":0},{"$f":"VLOOKUP(O57,'Fruchtfolge Tabellen'!$E$3:$Q$231,11,FALSE)*(P57/1000)","v":0},{"$f":"VLOOKUP(O57,'Fruchtfolge Tabellen'!$E$3:$Q$231,12,FALSE)*(P57/1000)","v":0},{"$f":"VLOOKUP(O57,'Fruchtfolge Tabellen'!$E$3:$Q$231,13,FALSE)*(P57/1000)","v":0},{"$f":"VLOOKUP(A57,'Fruchtfolge Tabellen'!$B$3:$E$231,4,FALSE)","v":0},0,{"$f":"VLOOKUP(AA57,'Fruchtfolge Tabellen'!$E$3:$Q$231,4,FALSE)*(AB57/1000)","v":0},{"$f":"VLOOKUP(AA57,'Fruchtfolge Tabellen'!$E$3:$Q$231,5,FALSE)*(AB57/1000)","v":0},{"$f":"VLOOKUP(AA57,'Fruchtfolge Tabellen'!$E$3:$Q$231,6,FALSE)*(AB57/1000)","v":0},{"$f":"VLOOKUP(AA57,'Fruchtfolge Tabellen'!$E$3:$Q$231,7,FALSE)*(AB57/1000)","v":0},{"$f":"VLOOKUP(AA57,'Fruchtfolge Tabellen'!$E$3:$Q$231,8,FALSE)*(AB57/1000)","v":0},{"$f":"VLOOKUP(AA57,'Fruchtfolge Tabellen'!$E$3:$Q$231,9,FALSE)*(AB57/1000)","v":0},{"$f":"VLOOKUP(AA57,'Fruchtfolge Tabellen'!$E$3:$Q$231,10,FALSE)*(AB57/1000)","v":0},{"$f":"VLOOKUP(AA57,'Fruchtfolge Tabellen'!$E$3:$Q$231,11,FALSE)*(AB57/1000)","v":0},{"$f":"VLOOKUP(AA57,'Fruchtfolge Tabellen'!$E$3:$Q$231,12,FALSE)*(AB57/1000)","v":0},{"$f":"VLOOKUP(AA57,'Fruchtfolge Tabellen'!$E$3:$Q$231,13,FALSE)*(AB57/1000)","v":0},{"$f":"VLOOKUP(A57,'Fruchtfolge Tabellen'!$B$3:$E$231,4,FALSE)","v":0},0,{"$f":"VLOOKUP(AM57,'Fruchtfolge Tabellen'!$E$3:$Q$231,4,FALSE)*(AN57/1000)","v":0},{"$f":"VLOOKUP(AM57,'Fruchtfolge Tabellen'!$E$3:$Q$231,5,FALSE)*(AN57/1000)","v":0},{"$f":"VLOOKUP(AM57,'Fruchtfolge Tabellen'!$E$3:$Q$231,6,FALSE)*(AN57/1000)","v":0},{"$f":"VLOOKUP(AM57,'Fruchtfolge Tabellen'!$E$3:$Q$231,7,FALSE)*(AN57/1000)","v":0},{"$f":"VLOOKUP(AM57,'Fruchtfolge Tabellen'!$E$3:$Q$231,8,FALSE)*(AN57/1000)","v":0},{"$f":"VLOOKUP(AM57,'Fruchtfolge Tabellen'!$E$3:$Q$231,9,FALSE)*(AN57/1000)","v":0},{"$f":"VLOOKUP(AM57,'Fruchtfolge Tabellen'!$E$3:$Q$231,10,FALSE)*(AN57/1000)","v":0},{"$f":"VLOOKUP(AM57,'Fruchtfolge Tabellen'!$E$3:$Q$231,11,FALSE)*(AN57/1000)","v":0},{"$f":"VLOOKUP(AM57,'Fruchtfolge Tabellen'!$E$3:$Q$231,12,FALSE)*(AN57/1000)","v":0},{"$f":"VLOOKUP(AM57,'Fruchtfolge Tabellen'!$E$3:$Q$231,13,FALSE)*(AN57/1000)","v":0},0,0,0,0,0,0,0,0,0,0,0]
["Bitte wählen:",{"$nulls":13},{"$f":"VLOOKUP(A58,'Fruchtfolge Tabellen'!$B$3:$E$231,4,FALSE)","v":0},0,{"$f":"VLOOKUP(O58,'Fruchtfolge Tabellen'!$E$3:$Q$231,4,FALSE)*(P58/1000)","v":0},{"$f":"VLOOKUP(O58,'Fruchtfolge Tabellen'!$E$3:$Q$231,5,FALSE)*(P58/1000)","v":0},{"$f":"VLOOKUP(O58,'Fruchtfolge Tabellen'!$E$3:$Q$231,6,FALSE)*(P58/1000)","v":0},{"$f":"VLOOKUP(O58,'Fruchtfolge Tabellen'!$E$3:$Q$231,7,FALSE)*(P58/1000)","v":0},{"$f":"VLOOKUP(O58,'Fruchtfolge Tabellen'!$E$3:$Q$231,8,FALSE)*(P58/1000)","v":0},{"$f":"VLOOKUP(O58,'Fruchtfolge Tabellen'!$E$3:$Q$231,9,FALSE)*(P58/1000)","v":0},{"$f":"VLOOKUP(O58,'Fruchtfolge Tabellen'!$E$3:$Q$231,10,FALSE)*(P58/1000)","v":0},{"$f":"VLOOKUP(O58,'Fruchtfolge Tabellen'!$E$3:$Q$231,11,FALSE)*(P58/1000)","v":0},{"$f":"VLOOKUP(O58,'Fruchtfolge Tabellen'!$E$3:$Q$231,12,FALSE)*(P58/1000)","v":0},{"$f":"VLOOKUP(O58,'Fruchtfolge Tabellen'!$E$3:$Q$231,13,FALSE)*(P58/1000)","v":0},{"$f":"VLOOKUP(A58,'Fruchtfolge Tabellen'!$B$3:$E$231,4,FALSE)","v":0},0,{"$f":"VLOOKUP(AA58,'Fruchtfolge Tabellen'!$E$3:$Q$231,4,FALSE)*(AB58/1000)","v":0},{"$f":"VLOOKUP(AA58,'Fruchtfolge Tabellen'!$E$3:$Q$231,5,FALSE)*(AB58/1000)","v":0},{"$f":"VLOOKUP(AA58,'Fruchtfolge Tabellen'!$E$3:$Q$231,6,FALSE)*(AB58/1000)","v":0},{"$f":"VLOOKUP(AA58,'Fruchtfolge Tabellen'!$E$3:$Q$231,7,FALSE)*(AB58/1000)","v":0},{"$f":"VLOOKUP(AA58,'Fruchtfolge Tabellen'!$E$3:$Q$231,8,FALSE)*(AB58/1000)","v":0},{"$f":"VLOOKUP(AA58,'Fruchtfolge Tabellen'!$E$3:$Q$231,9,FALSE)*(AB58/1000)","v":0},{"$f":"VLOOKUP(AA58,'Fruchtfolge Tabellen'!$E$3:$Q$231,10,FALSE)*(AB58/1000)","v":0},{"$f":"VLOOKUP(AA58,'Fruchtfolge Tabellen'!$E$3:$Q$231,11,FALSE)*(AB58/1000)","v":0},{"$f":"VLOOKUP(AA58,'Fruchtfolge Tabellen'!$E$3:$Q$231,12,FALSE)*(AB58/1000)","v":0},{"$f":"VLOOKUP(AA58,'Fruchtfolge Tabellen'!$E$3:$Q$231,13,FALSE)*(AB58/1000)","v":0},{"$f":"VLOOKUP(A58,'Fruchtfolge Tabellen'!$B$3:$E$231,4,FALSE)","v":0},0,{"$f":"VLOOKUP(AM58,'Fruchtfolge Tabellen'!$E$3:$Q$231,4,FALSE)*(AN58/1000)","v":0},{"$f":"VLOOKUP(AM58,'Fruchtfolge Tabellen'!$E$3:$Q$231,5,FALSE)*(AN58/1000)","v":0},{"$f":"VLOOKUP(AM58,'Fruchtfolge Tabellen'!$E$3:$Q$231,6,FALSE)*(AN58/1000)","v":0},{"$f":"VLOOKUP(AM58,'Fruchtfolge Tabellen'!$E$3:$Q$231,7,FALSE)*(AN58/1000)","v":0},{"$f":"VLOOKUP(AM58,'Fruchtfolge Tabellen'!$E$3:$Q$231,8,FALSE)*(AN58/1000)","v":0},{"$f":"VLOOKUP(AM58,'Fruchtfolge Tabellen'!$E$3:$Q$231,9,FALSE)*(AN58/1000)","v":0},{"$f":"VLOOKUP(AM58,'Fruchtfolge Tabellen'!$E$3:$Q$231,10,FALSE)*(AN58/1000)","v":0},{"$f":"VLOOKUP(AM58,'Fruchtfolge Tabellen'!$E$3:$Q$231,11,FALSE)*(AN58/1000)","v":0},{"$f":"VLOOKUP(AM58,'Fruchtfolge Tabellen'!$E$3:$Q$231,12,FALSE)*(AN58/1000)","v":0},{"$f":"VLOOKUP(AM58,'Fruchtfolge Tabellen'!$E$3:$Q$231,13,FALSE)*(AN58/1000)","v":0},0,0,0,0,0,0,0,0,0,0,0]
["Bitte wählen:",{"$nulls":13},{"$f":"VLOOKUP(A59,'Fruchtfolge Tabellen'!$B$3:$E$231,4,FALSE)","v":0},0,{"$f":"VLOOKUP(O59,'Fruchtfolge Tabellen'!$E$3:$Q$231,4,FALSE)*(P59/1000)","v":0},{"$f":"VLOOKUP(O59,'Fruchtfolge Tabellen'!$E$3:$Q$231,5,FALSE)*(P59/1000)","v":0},{"$f":"VLOOKUP(O59,'Fruchtfolge Tabellen'!$E$3:$Q$231,6,FALSE)*(P59/1000)","v":0},{"$f":"VLOOKUP(O59,'Fruchtfolge Tabellen'!$E$3:$Q$231,7,FALSE)*(P59/1000)","v":0},{"$f":"VLOOKUP(O59,'Fruchtfolge Tabellen'!$E$3:$Q$231,8,FALSE)*(P59/1000)","v":0},{"$f":"VLOOKUP(O59,'Fruchtfolge Tabellen'!$E$3:$Q$231,9,FALSE)*(P59/1000)","v":0},{"$f":"VLOOKUP(O59,'Fruchtfolge Tabellen'!$E$3:$Q$231,10,FALSE)*(P59/1000)","v":0},{"$f":"VLOOKUP(O59,'Fruchtfolge Tabellen'!$E$3:$Q$231,11,FALSE)*(P59/1000)","v":0},{"$f":"VLOOKUP(O59,'Fruchtfolge Tabellen'!$E$3:$Q$231,12,FALSE)*(P59/1000)","v":0},{"$f":"VLOOKUP(O59,'Fruchtfolge Tabellen'!$E$3:$Q$231,13,FALSE)*(P59/1000)","v":0},{"$f":"VLOOKUP(A59,'Fruchtfolge Tabellen'!$B$3:$E$231,4,FALSE)","v":0},0,{"$f":"VLOOKUP(AA59,'Fruchtfolge Tabellen'!$E$3:$Q$231,4,FALSE)*(AB59/1000)","v":0},{"$f":"VLOOKUP(AA59,'Fruchtfolge Tabellen'!$E$3:$Q$231,5,FALSE)*(AB59/1000)","v":0},{"$f":"VLOOKUP(AA59,'Fruchtfolge Tabellen'!$E$3:$Q$231,6,FALSE)*(AB59/1000)","v":0},{"$f":"VLOOKUP(AA59,'Fruchtfolge Tabellen'!$E$3:$Q$231,7,FALSE)*(AB59/1000)","v":0},{"$f":"VLOOKUP(AA59,'Fruchtfolge Tabellen'!$E$3:$Q$231,8,FALSE)*(AB59/1000)","v":0},{"$f":"VLOOKUP(AA59,'Fruchtfolge Tabellen'!$E$3:$Q$231,9,FALSE)*(AB59/1000)","v":0},{"$f":"VLOOKUP(AA59,'Fruchtfolge Tabellen'!$E$3:$Q$231,10,FALSE)*(AB59/1000)","v":0},{"$f":"VLOOKUP(AA59,'Fruchtfolge Tabellen'!$E$3:$Q$231,11,FALSE)*(AB59/1000)","v":0},{"$f":"VLOOKUP(AA59,'Fruchtfolge Tabellen'!$E$3:$Q$231,12,FALSE)*(AB59/1000)","v":0},{"$f":"VLOOKUP(AA59,'Fruchtfolge Tabellen'!$E$3:$Q$231,13,FALSE)*(AB59/1000)","v":0},{"$f":"VLOOKUP(A59,'Fruchtfolge Tabellen'!$B$3:$E$231,4,FALSE)","v":0},0,{"$f":"VLOOKUP(AM59,'Fruchtfolge Tabellen'!$E$3:$Q$231,4,FALSE)*(AN59/1000)","v":0},{"$f":"VLOOKUP(AM59,'Fruchtfolge Tabellen'!$E$3:$Q$231,5,FALSE)*(AN59/1000)","v":0},{"$f":"VLOOKUP(AM59,'Fruchtfolge Tabellen'!$E$3:$Q$231,6,FALSE)*(AN59/1000)","v":0},{"$f":"VLOOKUP(AM59,'Fruchtfolge Tabellen'!$E$3:$Q$231,7,FALSE)*(AN59/1000)","v":0},{"$f":"VLOOKUP(AM59,'Fruchtfolge Tabellen'!$E$3:$Q$231,8,FALSE)*(AN59/1000)","v":0},{"$f":"VLOOKUP(AM59,'Fruchtfolge Tabellen'!$E$3:$Q$231,9,FALSE)*(AN59/1000)","v":0},{"$f":"VLOOKUP(AM59,'Fruchtfolge Tabellen'!$E$3:$Q$231,10,FALSE)*(AN59/1000)","v":0},{"$f":"VLOOKUP(AM59,'Fruchtfolge Tabellen'!$E$3:$Q$231,11,FALSE)*(AN59/1000)","v":0},{"$f":"VLOOKUP(AM59,'Fruchtfolge Tabellen'!$E$3:$Q$231,12,FALSE)*(AN59/1000)","v":0},{"$f":"VLOOKUP(AM59,'Fruchtfolge Tabellen'!$E$3:$Q$231,13,FALSE)*(AN59/1000)","v":0},0,0,0,0,0,0,0,0,0,0,0]
["Bitte wählen:",{"$nulls":13},{"$f":"VLOOKUP(A60,'Fruchtfolge Tabellen'!$B$3:$E$231,4,FALSE)","v":0},0,{"$f":"VLOOKUP(O60,'Fruchtfolge Tabellen'!$E$3:$Q$231,4,FALSE)*(P60/1000)","v":0},{"$f":"VLOOKUP(O60,'Fruchtfolge Tabellen'!$E$3:$Q$231,5,FALSE)*(P60/1000)","v":0},{"$f":"VLOOKUP(O60,'Fruchtfolge Tabellen'!$E$3:$Q$231,6,FALSE)*(P60/1000)","v":0},{"$f":"VLOOKUP(O60,'Fruchtfolge Tabellen'!$E$3:$Q$231,7,FALSE)*(P60/1000)","v":0},{"$f":"VLOOKUP(O60,'Fruchtfolge Tabellen'!$E$3:$Q$231,8,FALSE)*(P60/1000)","v":0},{"$f":"VLOOKUP(O60,'Fruchtfolge Tabellen'!$E$3:$Q$231,9,FALSE)*(P60/1000)","v":0},{"$f":"VLOOKUP(O60,'Fruchtfolge Tabellen'!$E$3:$Q$231,10,FALSE)*(P60/1000)","v":0},{"$f":"VLOOKUP(O60,'Fruchtfolge Tabellen'!$E$3:$Q$231,11,FALSE)*(P60/1000)","v":0},{"$f":"VLOOKUP(O60,'Fruchtfolge Tabellen'!$E$3:$Q$231,12,FALSE)*(P60/1000)","v":0},{"$f":"VLOOKUP(O60,'Fruchtfolge Tabellen'!$E$3:$Q$231,13,FALSE)*(P60/1000)","v":0},{"$f":"VLOOKUP(A60,'Fruchtfolge Tabellen'!$B$3:$E$231,4,FALSE)","v":0},0,{"$f":"VLOOKUP(AA60,'Fruchtfolge Tabellen'!$E$3:$Q$231,4,FALSE)*(AB60/1000)","v":0},{"$f":"VLOOKUP(AA60,'Fruchtfolge Tabellen'!$E$3:$Q$231,5,FALSE)*(AB60/1000)","v":0},{"$f":"VLOOKUP(AA60,'Fruchtfolge Tabellen'!$E$3:$Q$231,6,FALSE)*(AB60/1000)","v":0},{"$f":"VLOOKUP(AA60,'Fruchtfolge Tabellen'!$E$3:$Q$231,7,FALSE)*(AB60/1000)","v":0},{"$f":"VLOOKUP(AA60,'Fruchtfolge Tabellen'!$E$3:$Q$231,8,FALSE)*(AB60/1000)","v":0},{"$f":"VLOOKUP(AA60,'Fruchtfolge Tabellen'!$E$3:$Q$231,9,FALSE)*(AB60/1000)","v":0},{"$f":"VLOOKUP(AA60,'Fruchtfolge Tabellen'!$E$3:$Q$231,10,FALSE)*(AB60/1000)","v":0},{"$f":"VLOOKUP(AA60,'Fruchtfolge Tabellen'!$E$3:$Q$231,11,FALSE)*(AB60/1000)","v":0},{"$f":"VLOOKUP(AA60,'Fruchtfolge Tabellen'!$E$3:$Q$231,12,FALSE)*(AB60/1000)","v":0},{"$f":"VLOOKUP(AA60,'Fruchtfolge Tabellen'!$E$3:$Q$231,13,FALSE)*(AB60/1000)","v":0},{"$f":"VLOOKUP(A60,'Fruchtfolge Tabellen'!$B$3:$E$231,4,FALSE)","v":0},0,{"$f":"VLOOKUP(AM60,'Fruchtfolge Tabellen'!$E$3:$Q$231,4,FALSE)*(AN60/1000)","v":0},{"$f":"VLOOKUP(AM60,'Fruchtfolge Tabellen'!$E$3:$Q$231,5,FALSE)*(AN60/1000)","v":0},{"$f":"VLOOKUP(AM60,'Fruchtfolge Tabellen'!$E$3:$Q$231,6,FALSE)*(AN60/1000)","v":0},{"$f":"VLOOKUP(AM60,'Fruchtfolge Tabellen'!$E$3:$Q$231,7,FALSE)*(AN60/1000)","v":0},{"$f":"VLOOKUP(AM60,'Fruchtfolge Tabellen'!$E$3:$Q$231,8,FALSE)*(AN60/1000)","v":0},{"$f":"VLOOKUP(AM60,'Fruchtfolge Tabellen'!$E$3:$Q$231,9,FALSE)*(AN60/1000)","v":0},{"$f":"VLOOKUP(AM60,'Fruchtfolge Tabellen'!$E$3:$Q$231,10,FALSE)*(AN60/1000)","v":0},{"$f":"VLOOKUP(AM60,'Fruchtfolge Tabellen'!$E$3:$Q$231,11,FALSE)*(AN60/1000)","v":0},{"$f":"VLOOKUP(AM60,'Fruchtfolge Tabellen'!$E$3:$Q$231,12,FALSE)*(AN60/1000)","v":0},{"$f":"VLOOKUP(AM60,'Fruchtfolge Tabellen'!$E$3:$Q$231,13,FALSE)*(AN60/1000)","v":0},0,0,0,0,0,0,0,0,0,0,0]
["Bitte wählen:",{"$nulls":13},{"$f":"VLOOKUP(A61,'Fruchtfolge Tabellen'!$B$3:$E$231,4,FALSE)","v":0},0,{"$f":"VLOOKUP(O61,'Fruchtfolge Tabellen'!$E$3:$Q$231,4,FALSE)*(P61/1000)","v":0},{"$f":"VLOOKUP(O61,'Fruchtfolge Tabellen'!$E$3:$Q$231,5,FALSE)*(P61/1000)","v":0},{"$f":"VLOOKUP(O61,'Fruchtfolge Tabellen'!$E$3:$Q$231,6,FALSE)*(P61/1000)","v":0},{"$f":"VLOOKUP(O61,'Fruchtfolge Tabellen'!$E$3:$Q$231,7,FALSE)*(P61/1000)","v":0},{"$f":"VLOOKUP(O61,'Fruchtfolge Tabellen'!$E$3:$Q$231,8,FALSE)*(P61/1000)","v":0},{"$f":"VLOOKUP(O61,'Fruchtfolge Tabellen'!$E$3:$Q$231,9,FALSE)*(P61/1000)","v":0},{"$f":"VLOOKUP(O61,'Fruchtfolge Tabellen'!$E$3:$Q$231,10,FALSE)*(P61/1000)","v":0},{"$f":"VLOOKUP(O61,'Fruchtfolge Tabellen'!$E$3:$Q$231,11,FALSE)*(P61/1000)","v":0},{"$f":"VLOOKUP(O61,'Fruchtfolge Tabellen'!$E$3:$Q$231,12,FALSE)*(P61/1000)","v":0},{"$f":"VLOOKUP(O61,'Fruchtfolge Tabellen'!$E$3:$Q$231,13,FALSE)*(P61/1000)","v":0},{"$f":"VLOOKUP(A61,'Fruchtfolge Tabellen'!$B$3:$E$231,4,FALSE)","v":0},0,{"$f":"VLOOKUP(AA61,'Fruchtfolge Tabellen'!$E$3:$Q$231,4,FALSE)*(AB61/1000)","v":0},{"$f":"VLOOKUP(AA61,'Fruchtfolge Tabellen'!$E$3:$Q$231,5,FALSE)*(AB61/1000)","v":0},{"$f":"VLOOKUP(AA61,'Fruchtfolge Tabellen'!$E$3:$Q$231,6,FALSE)*(AB61/1000)","v":0},{"$f":"VLOOKUP(AA61,'Fruchtfolge Tabellen'!$E$3:$Q$231,7,FALSE)*(AB61/1000)","v":0},{"$f":"VLOOKUP(AA61,'Fruchtfolge Tabellen'!$E$3:$Q$231,8,FALSE)*(AB61/1000)","v":0},{"$f":"VLOOKUP(AA61,'Fruchtfolge Tabellen'!$E$3:$Q$231,9,FALSE)*(AB61/1000)","v":0},{"$f":"VLOOKUP(AA61,'Fruchtfolge Tabellen'!$E$3:$Q$231,10,FALSE)*(AB61/1000)","v":0},{"$f":"VLOOKUP(AA61,'Fruchtfolge Tabellen'!$E$3:$Q$231,11,FALSE)*(AB61/1000)","v":0},{"$f":"VLOOKUP(AA61,'Fruchtfolge Tabellen'!$E$3:$Q$231,12,FALSE)*(AB61/1000)","v":0},{"$f":"VLOOKUP(AA61,'Fruchtfolge Tabellen'!$E$3:$Q$231,13,FALSE)*(AB61/1000)","v":0},{"$f":"VLOOKUP(A61,'Fruchtfolge Tabellen'!$B$3:$E$231,4,FALSE)","v":0},0,{"$f":"VLOOKUP(AM61,'Fruchtfolge Tabellen'!$E$3:$Q$231,4,FALSE)*(AN61/1000)","v":0},{"$f":"VLOOKUP(AM61,'Fruchtfolge Tabellen'!$E$3:$Q$231,5,FALSE)*(AN61/1000)","v":0},{"$f":"VLOOKUP(AM61,'Fruchtfolge Tabellen'!$E$3:$Q$231,6,FALSE)*(AN61/1000)","v":0},{"$f":"VLOOKUP(AM61,'Fruchtfolge Tabellen'!$E$3:$Q$231,7,FALSE)*(AN61/1000)","v":0},{"$f":"VLOOKUP(AM61,'Fruchtfolge Tabellen'!$E$3:$Q$231,8,FALSE)*(AN61/1000)","v":0},{"$f":"VLOOKUP(AM61,'Fruchtfolge Tabellen'!$E$3:$Q$231,9,FALSE)*(AN61/1000)","v":0},{"$f":"VLOOKUP(AM61,'Fruchtfolge Tabellen'!$E$3:$Q$231,10,FALSE)*(AN61/1000)","v":0},{"$f":"VLOOKUP(AM61,'Fruchtfolge Tabellen'!$E$3:$Q$231,11,FALSE)*(AN61/1000)","v":0},{"$f":"VLOOKUP(AM61,'Fruchtfolge Tabellen'!$E$3:$Q$231,12,FALSE)*(AN61/1000)","v":0},{"$f":"VLOOKUP(AM61,'Fruchtfolge Tabellen'!$E$3:$Q$231,13,FALSE)*(AN61/1000)","v":0},0,0,0,0,0,0,0,0,0,0,{"$f":"AVERAGE(Z61,AL61,AX61)","v":0}]
["Bitte wählen:",{"$nulls":13},{"$f":"VLOOKUP(A62,'Fruchtfolge Tabellen'!$B$3:$E$231,4,FALSE)","v":0},0,{"$f":"VLOOKUP(O62,'Fruchtfolge Tabellen'!$E$3:$Q$231,4,FALSE)*(P62/1000)","v":0},{"$f":"VLOOKUP(O62,'Fruchtfolge Tabellen'!$E$3:$Q$231,5,FALSE)*(P62/1000)","v":0},{"$f":"VLOOKUP(O62,'Fruchtfolge Tabellen'!$E$3:$Q$231,6,FALSE)*(P62/1000)","v":0},{"$f":"VLOOKUP(O62,'Fruchtfolge Tabellen'!$E$3:$Q$231,7,FALSE)*(P62/1000)","v":0},{"$f":"VLOOKUP(O62,'Fruchtfolge Tabellen'!$E$3:$Q$231,8,FALSE)*(P62/1000)","v":0},{"$f":"VLOOKUP(O62,'Fruchtfolge Tabellen'!$E$3:$Q$231,9,FALSE)*(P62/1000)","v":0},{"$f":"VLOOKUP(O62,'Fruchtfolge Tabellen'!$E$3:$Q$231,10,FALSE)*(P62/1000)","v":0},{"$f":"VLOOKUP(O62,'Fruchtfolge Tabellen'!$E$3:$Q$231,11,FALSE)*(P62/1000)","v":0},{"$f":"VLOOKUP(O62,'Fruchtfolge Tabellen'!$E$3:$Q$231,12,FALSE)*(P62/1000)","v":0},{"$f":"VLOOKUP(O62,'Fruchtfolge Tabellen'!$E$3:$Q$231,13,FALSE)*(P62/1000)","v":0},{"$f":"VLOOKUP(A62,'Fruchtfolge Tabellen'!$B$3:$E$231,4,FALSE)","v":0},0,{"$f":"VLOOKUP(AA62,'Fruchtfolge Tabellen'!$E$3:$Q$231,4,FALSE)*(AB62/1000)","v":0},{"$f":"VLOOKUP(AA62,'Fruchtfolge Tabellen'!$E$3:$Q$231,5,FALSE)*(AB62/1000)","v":0},{"$f":"VLOOKUP(AA62,'Fruchtfolge Tabellen'!$E$3:$Q$231,6,FALSE)*(AB62/1000)","v":0},{"$f":"VLOOKUP(AA62,'Fruchtfolge Tabellen'!$E$3:$Q$231,7,FALSE)*(AB62/1000)","v":0},{"$f":"VLOOKUP(AA62,'Fruchtfolge Tabellen'!$E$3:$Q$231,8,FALSE)*(AB62/1000)","v":0},{"$f":"VLOOKUP(AA62,'Fruchtfolge Tabellen'!$E$3:$Q$231,9,FALSE)*(AB62/1000)","v":0},{"$f":"VLOOKUP(AA62,'Fruchtfolge Tabellen'!$E$3:$Q$231,10,FALSE)*(AB62/1000)","v":0},{"$f":"VLOOKUP(AA62,'Fruchtfolge Tabellen'!$E$3:$Q$231,11,FALSE)*(AB62/1000)","v":0},{"$f":"VLOOKUP(AA62,'Fruchtfolge Tabellen'!$E$3:$Q$231,12,FALSE)*(AB62/1000)","v":0},{"$f":"VLOOKUP(AA62,'Fruchtfolge Tabellen'!$E$3:$Q$231,13,FALSE)*(AB62/1000)","v":0},{"$f":"VLOOKUP(A62,'Fruchtfolge Tabellen'!$B$3:$E$231,4,FALSE)","v":0},0,{"$f":"VLOOKUP(AM62,'Fruchtfolge Tabellen'!$E$3:$Q$231,4,FALSE)*(AN62/1000)","v":0},{"$f":"VLOOKUP(AM62,'Fruchtfolge Tabellen'!$E$3:$Q$231,5,FALSE)*(AN62/1000)","v":0},{"$f":"VLOOKUP(AM62,'Fruchtfolge Tabellen'!$E$3:$Q$231,6,FALSE)*(AN62/1000)","v":0},{"$f":"VLOOKUP(AM62,'Fruchtfolge Tabellen'!$E$3:$Q$231,7,FALSE)*(AN62/1000)","v":0},{"$f":"VLOOKUP(AM62,'Fruchtfolge Tabellen'!$E$3:$Q$231,8,FALSE)*(AN62/1000)","v":0},{"$f":"VLOOKUP(AM62,'Fruchtfolge Tabellen'!$E$3:$Q$231,9,FALSE)*(AN62/1000)","v":0},{"$f":"VLOOKUP(AM62,'Fruchtfolge Tabellen'!$E$3:$Q$231,10,FALSE)*(AN62/1000)","v":0},{"$f":"VLOOKUP(AM62,'Fruchtfolge Tabellen'!$E$3:$Q$231,11,FALSE)*(AN62/1000)","v":0},{"$f":"VLOOKUP(AM62,'Fruchtfolge Tabellen'!$E$3:$Q$231,12,FALSE)*(AN62/1000)","v":0},{"$f":"VLOOKUP(AM62,'Fruchtfolge Tabellen'!$E$3:$Q$231,13,FALSE)*(AN62/1000)","v":0},0,0,0,0,0,0,0,0,0,0,0]
["Bitte wählen:",{"$nulls":13},{"$f":"VLOOKUP(A63,'Fruchtfolge Tabellen'!$B$3:$E$231,4,FALSE)","v":0},0,{"$f":"VLOOKUP(O63,'Fruchtfolge Tabellen'!$E$3:$Q$231,4,FALSE)*(P63/1000)","v":0},{"$f":"VLOOKUP(O63,'Fruchtfolge Tabellen'!$E$3:$Q$231,5,FALSE)*(P63/1000)","v":0},{"$f":"VLOOKUP(O63,'Fruchtfolge Tabellen'!$E$3:$Q$231,6,FALSE)*(P63/1000)","v":0},{"$f":"VLOOKUP(O63,'Fruchtfolge Tabellen'!$E$3:$Q$231,7,FALSE)*(P63/1000)","v":0},{"$f":"VLOOKUP(O63,'Fruchtfolge Tabellen'!$E$3:$Q$231,8,FALSE)*(P63/1000)","v":0},{"$f":"VLOOKUP(O63,'Fruchtfolge Tabellen'!$E$3:$Q$231,9,FALSE)*(P63/1000)","v":0},{"$f":"VLOOKUP(O63,'Fruchtfolge Tabellen'!$E$3:$Q$231,10,FALSE)*(P63/1000)","v":0},{"$f":"VLOOKUP(O63,'Fruchtfolge Tabellen'!$E$3:$Q$231,11,FALSE)*(P63/1000)","v":0},{"$f":"VLOOKUP(O63,'Fruchtfolge Tabellen'!$E$3:$Q$231,12,FALSE)*(P63/1000)","v":0},{"$f":"VLOOKUP(O63,'Fruchtfolge Tabellen'!$E$3:$Q$231,13,FALSE)*(P63/1000)","v":0},{"$f":"VLOOKUP(A63,'Fruchtfolge Tabellen'!$B$3:$E$231,4,FALSE)","v":0},0,{"$f":"VLOOKUP(AA63,'Fruchtfolge Tabellen'!$E$3:$Q$231,4,FALSE)*(AB63/1000)","v":0},{"$f":"VLOOKUP(AA63,'Fruchtfolge Tabellen'!$E$3:$Q$231,5,FALSE)*(AB63/1000)","v":0},{"$f":"VLOOKUP(AA63,'Fruchtfolge Tabellen'!$E$3:$Q$231,6,FALSE)*(AB63/1000)","v":0},{"$f":"VLOOKUP(AA63,'Fruchtfolge Tabellen'!$E$3:$Q$231,7,FALSE)*(AB63/1000)","v":0},{"$f":"VLOOKUP(AA63,'Fruchtfolge Tabellen'!$E$3:$Q$231,8,FALSE)*(AB63/1000)","v":0},{"$f":"VLOOKUP(AA63,'Fruchtfolge Tabellen'!$E$3:$Q$231,9,FALSE)*(AB63/1000)","v":0},{"$f":"VLOOKUP(AA63,'Fruchtfolge Tabellen'!$E$3:$Q$231,10,FALSE)*(AB63/1000)","v":0},{"$f":"VLOOKUP(AA63,'Fruchtfolge Tabellen'!$E$3:$Q$231,11,FALSE)*(AB63/1000)","v":0},{"$f":"VLOOKUP(AA63,'Fruchtfolge Tabellen'!$E$3:$Q$231,12,FALSE)*(AB63/1000)","v":0},{"$f":"VLOOKUP(AA63,'Fruchtfolge Tabellen'!$E$3:$Q$231,13,FALSE)*(AB63/1000)","v":0},{"$f":"VLOOKUP(A63,'Fruchtfolge Tabellen'!$B$3:$E$231,4,FALSE)","v":0},0,{"$f":"VLOOKUP(AM63,'Fruchtfolge Tabellen'!$E$3:$Q$231,4,FALSE)*(AN63/1000)","v":0},{"$f":"VLOOKUP(AM63,'Fruchtfolge Tabellen'!$E$3:$Q$231,5,FALSE)*(AN63/1000)","v":0},{"$f":"VLOOKUP(AM63,'Fruchtfolge Tabellen'!$E$3:$Q$231,6,FALSE)*(AN63/1000)","v":0},{"$f":"VLOOKUP(AM63,'Fruchtfolge Tabellen'!$E$3:$Q$231,7,FALSE)*(AN63/1000)","v":0},{"$f":"VLOOKUP(AM63,'Fruchtfolge Tabellen'!$E$3:$Q$231,8,FALSE)*(AN63/1000)","v":0},{"$f":"VLOOKUP(AM63,'Fruchtfolge Tabellen'!$E$3:$Q$231,9,FALSE)*(AN63/1000)","v":0},{"$f":"VLOOKUP(AM63,'Fruchtfolge Tabellen'!$E$3:$Q$231,10,FALSE)*(AN63/1000)","v":0},{"$f":"VLOOKUP(AM63,'Fruchtfolge Tabellen'!$E$3:$Q$231,11,FALSE)*(AN63/1000)","v":0},{"$f":"VLOOKUP(AM63,'Fruchtfolge Tabellen'!$E$3:$Q$231,12,FALSE)*(AN63/1000)","v":0},{"$f":"VLOOKUP(AM63,'Fruchtfolge Tabellen'!$E$3:$Q$231,13,FALSE)*(AN63/1000)","v":0},0,0,0,0,0,0,0,0,0,0,0]
["Bitte wählen:",{"$nulls":13},{"$f":"VLOOKUP(A64,'Fruchtfolge Tabellen'!$B$3:$E$231,4,FALSE)","v":0},0,{"$f":"VLOOKUP(O64,'Fruchtfolge Tabellen'!$E$3:$Q$231,4,FALSE)*(P64/1000)","v":0},{"$f":"VLOOKUP(O64,'Fruchtfolge Tabellen'!$E$3:$Q$231,5,FALSE)*(P64/1000)","v":0},{"$f":"VLOOKUP(O64,'Fruchtfolge Tabellen'!$E$3:$Q$231,6,FALSE)*(P64/1000)","v":0},{"$f":"VLOOKUP(O64,'Fruchtfolge Tabellen'!$E$3:$Q$231,7,FALSE)*(P64/1000)","v":0},{"$f":"VLOOKUP(O64,'Fruchtfolge Tabellen'!$E$3:$Q$231,8,FALSE)*(P64/1000)","v":0},{"$f":"VLOOKUP(O64,'Fruchtfolge Tabellen'!$E$3:$Q$231,9,FALSE)*(P64/1000)","v":0},{"$f":"VLOOKUP(O64,'Fruchtfolge Tabellen'!$E$3:$Q$231,10,FALSE)*(P64/1000)","v":0},{"$f":"VLOOKUP(O64,'Fruchtfolge Tabellen'!$E$3:$Q$231,11,FALSE)*(P64/1000)","v":0},{"$f":"VLOOKUP(O64,'Fruchtfolge Tabellen'!$E$3:$Q$231,12,FALSE)*(P64/1000)","v":0},{"$f":"VLOOKUP(O64,'Fruchtfolge Tabellen'!$E$3:$Q$231,13,FALSE)*(P64/1000)","v":0},{"$f":"VLOOKUP(A64,'Fruchtfolge Tabellen'!$B$3:$E$231,4,FALSE)","v":0},0,{"$f":"VLOOKUP(AA64,'Fruchtfolge Tabellen'!$E$3:$Q$231,4,FALSE)*(AB64/1000)","v":0},{"$f":"VLOOKUP(AA64,'Fruchtfolge Tabellen'!$E$3:$Q$231,5,FALSE)*(AB64/1000)","v":0},{"$f":"VLOOKUP(AA64,'Fruchtfolge Tabellen'!$E$3:$Q$231,6,FALSE)*(AB64/1000)","v":0},{"$f":"VLOOKUP(AA64,'Fruchtfolge Tabellen'!$E$3:$Q$231,7,FALSE)*(AB64/1000)","v":0},{"$f":"VLOOKUP(AA64,'Fruchtfolge Tabellen'!$E$3:$Q$231,8,FALSE)*(AB64/1000)","v":0},{"$f":"VLOOKUP(AA64,'Fruchtfolge Tabellen'!$E$3:$Q$231,9,FALSE)*(AB64/1000)","v":0},{"$f":"VLOOKUP(AA64,'Fruchtfolge Tabellen'!$E$3:$Q$231,10,FALSE)*(AB64/1000)","v":0},{"$f":"VLOOKUP(AA64,'Fruchtfolge Tabellen'!$E$3:$Q$231,11,FALSE)*(AB64/1000)","v":0},{"$f":"VLOOKUP(AA64,'Fruchtfolge Tabellen'!$E$3:$Q$231,12,FALSE)*(AB64/1000)","v":0},{"$f":"VLOOKUP(AA64,'Fruchtfolge Tabellen'!$E$3:$Q$231,13,FALSE)*(AB64/1000)","v":0},{"$f":"VLOOKUP(A64,'Fruchtfolge Tabellen'!$B$3:$E$231,4,FALSE)","v":0},0,{"$f":"VLOOKUP(AM64,'Fruchtfolge Tabellen'!$E$3:$Q$231,4,FALSE)*(AN64/1000)","v":0},{"$f":"VLOOKUP(AM64,'Fruchtfolge Tabellen'!$E$3:$Q$231,5,FALSE)*(AN64/1000)","v":0},{"$f":"VLOOKUP(AM64,'Fruchtfolge Tabellen'!$E$3:$Q$231,6,FALSE)*(AN64/1000)","v":0},{"$f":"VLOOKUP(AM64,'Fruchtfolge Tabellen'!$E$3:$Q$231,7,FALSE)*(AN64/1000)","v":0},{"$f":"VLOOKUP(AM64,'Fruchtfolge Tabellen'!$E$3:$Q$231,8,FALSE)*(AN64/1000)","v":0},{"$f":"VLOOKUP(AM64,'Fruchtfolge Tabellen'!$E$3:$Q$231,9,FALSE)*(AN64/1000)","v":0},{"$f":"VLOOKUP(AM64,'Fruchtfolge Tabellen'!$E$3:$Q$231,10,FALSE)*(AN64/1000)","v":0},{"$f":"VLOOKUP(AM64,'Fruchtfolge Tabellen'!$E$3:$Q$231,11,FALSE)*(AN64/1000)","v":0},{"$f":"VLOOKUP(AM64,'Fruchtfolge Tabellen'!$E$3:$Q$231,12,FALSE)*(AN64/1000)","v":0},{"$f":"VLOOKUP(AM64,'Fruchtfolge Tabellen'!$E$3:$Q$231,13,FALSE)*(AN64/1000)","v":0},0,0,0,0,0,0,0,0,0,0,0]
["Bitte wählen:",{"$nulls":13},{"$f":"VLOOKUP(A65,'Fruchtfolge Tabellen'!$B$3:$E$231,4,FALSE)","v":0},0,{"$f":"VLOOKUP(O65,'Fruchtfolge Tabellen'!$E$3:$Q$231,4,FALSE)*(P65/1000)","v":0},{"$f":"VLOOKUP(O65,'Fruchtfolge Tabellen'!$E$3:$Q$231,5,FALSE)*(P65/1000)","v":0},{"$f":"VLOOKUP(O65,'Fruchtfolge Tabellen'!$E$3:$Q$231,6,FALSE)*(P65/1000)","v":0},{"$f":"VLOOKUP(O65,'Fruchtfolge Tabellen'!$E$3:$Q$231,7,FALSE)*(P65/1000)","v":0},{"$f":"VLOOKUP(O65,'Fruchtfolge Tabellen'!$E$3:$Q$231,8,FALSE)*(P65/1000)","v":0},{"$f":"VLOOKUP(O65,'Fruchtfolge Tabellen'!$E$3:$Q$231,9,FALSE)*(P65/1000)","v":0},{"$f":"VLOOKUP(O65,'Fruchtfolge Tabellen'!$E$3:$Q$231,10,FALSE)*(P65/1000)","v":0},{"$f":"VLOOKUP(O65,'Fruchtfolge Tabellen'!$E$3:$Q$231,11,FALSE)*(P65/1000)","v":0},{"$f":"VLOOKUP(O65,'Fruchtfolge Tabellen'!$E$3:$Q$231,12,FALSE)*(P65/1000)","v":0},{"$f":"VLOOKUP(O65,'Fruchtfolge Tabellen'!$E$3:$Q$231,13,FALSE)*(P65/1000)","v":0},{"$f":"VLOOKUP(A65,'Fruchtfolge Tabellen'!$B$3:$E$231,4,FALSE)","v":0},0,{"$f":"VLOOKUP(AA65,'Fruchtfolge Tabellen'!$E$3:$Q$231,4,FALSE)*(AB65/1000)","v":0},{"$f":"VLOOKUP(AA65,'Fruchtfolge Tabellen'!$E$3:$Q$231,5,FALSE)*(AB65/1000)","v":0},{"$f":"VLOOKUP(AA65,'Fruchtfolge Tabellen'!$E$3:$Q$231,6,FALSE)*(AB65/1000)","v":0},{"$f":"VLOOKUP(AA65,'Fruchtfolge Tabellen'!$E$3:$Q$231,7,FALSE)*(AB65/1000)","v":0},{"$f":"VLOOKUP(AA65,'Fruchtfolge Tabellen'!$E$3:$Q$231,8,FALSE)*(AB65/1000)","v":0},{"$f":"VLOOKUP(AA65,'Fruchtfolge Tabellen'!$E$3:$Q$231,9,FALSE)*(AB65/1000)","v":0},{"$f":"VLOOKUP(AA65,'Fruchtfolge Tabellen'!$E$3:$Q$231,10,FALSE)*(AB65/1000)","v":0},{"$f":"VLOOKUP(AA65,'Fruchtfolge Tabellen'!$E$3:$Q$231,11,FALSE)*(AB65/1000)","v":0},{"$f":"VLOOKUP(AA65,'Fruchtfolge Tabellen'!$E$3:$Q$231,12,FALSE)*(AB65/1000)","v":0},{"$f":"VLOOKUP(AA65,'Fruchtfolge Tabellen'!$E$3:$Q$231,13,FALSE)*(AB65/1000)","v":0},{"$f":"VLOOKUP(A65,'Fruchtfolge Tabellen'!$B$3:$E$231,4,FALSE)","v":0},0,{"$f":"VLOOKUP(AM65,'Fruchtfolge Tabellen'!$E$3:$Q$231,4,FALSE)*(AN65/1000)","v":0},{"$f":"VLOOKUP(AM65,'Fruchtfolge Tabellen'!$E$3:$Q$231,5,FALSE)*(AN65/1000)","v":0},{"$f":"VLOOKUP(AM65,'Fruchtfolge Tabellen'!$E$3:$Q$231,6,FALSE)*(AN65/1000)","v":0},{"$f":"VLOOKUP(AM65,'Fruchtfolge Tabellen'!$E$3:$Q$231,7,FALSE)*(AN65/1000)","v":0},{"$f":"VLOOKUP(AM65,'Fruchtfolge Tabellen'!$E$3:$Q$231,8,FALSE)*(AN65/1000)","v":0},{"$f":"VLOOKUP(AM65,'Fruchtfolge Tabellen'!$E$3:$Q$231,9,FALSE)*(AN65/1000)","v":0},{"$f":"VLOOKUP(AM65,'Fruchtfolge Tabellen'!$E$3:$Q$231,10,FALSE)*(AN65/1000)","v":0},{"$f":"VLOOKUP(AM65,'Fruchtfolge Tabellen'!$E$3:$Q$231,11,FALSE)*(AN65/1000)","v":0},{"$f":"VLOOKUP(AM65,'Fruchtfolge Tabellen'!$E$3:$Q$231,12,FALSE)*(AN65/1000)","v":0},{"$f":"VLOOKUP(AM65,'Fruchtfolge Tabellen'!$E$3:$Q$231,13,FALSE)*(AN65/1000)","v":0},0,0,0,0,0,0,0,0,0,0,0]
["Bitte wählen:",{"$nulls":13},{"$f":"VLOOKUP(A66,'Fruchtfolge Tabellen'!$B$3:$E$231,4,FALSE)","v":0},0,{"$f":"VLOOKUP(O66,'Fruchtfolge Tabellen'!$E$3:$Q$231,4,FALSE)*(P66/1000)","v":0},{"$f":"VLOOKUP(O66,'Fruchtfolge Tabellen'!$E$3:$Q$231,5,FALSE)*(P66/1000)","v":0},{"$f":"VLOOKUP(O66,'Fruchtfolge Tabellen'!$E$3:$Q$231,6,FALSE)*(P66/1000)","v":0},{"$f":"VLOOKUP(O66,'Fruchtfolge Tabellen'!$E$3:$Q$231,7,FALSE)*(P66/1000)","v":0},{"$f":"VLOOKUP(O66,'Fruchtfolge Tabellen'!$E$3:$Q$231,8,FALSE)*(P66/1000)","v":0},{"$f":"VLOOKUP(O66,'Fruchtfolge Tabellen'!$E$3:$Q$231,9,FALSE)*(P66/1000)","v":0},{"$f":"VLOOKUP(O66,'Fruchtfolge Tabellen'!$E$3:$Q$231,10,FALSE)*(P66/1000)","v":0},{"$f":"VLOOKUP(O66,'Fruchtfolge Tabellen'!$E$3:$Q$231,11,FALSE)*(P66/1000)","v":0},{"$f":"VLOOKUP(O66,'Fruchtfolge Tabellen'!$E$3:$Q$231,12,FALSE)*(P66/1000)","v":0},{"$f":"VLOOKUP(O66,'Fruchtfolge Tabellen'!$E$3:$Q$231,13,FALSE)*(P66/1000)","v":0},{"$f":"VLOOKUP(A66,'Fruchtfolge Tabellen'!$B$3:$E$231,4,FALSE)","v":0},0,{"$f":"VLOOKUP(AA66,'Fruchtfolge Tabellen'!$E$3:$Q$231,4,FALSE)*(AB66/1000)","v":0},{"$f":"VLOOKUP(AA66,'Fruchtfolge Tabellen'!$E$3:$Q$231,5,FALSE)*(AB66/1000)","v":0},{"$f":"VLOOKUP(AA66,'Fruchtfolge Tabellen'!$E$3:$Q$231,6,FALSE)*(AB66/1000)","v":0},{"$f":"VLOOKUP(AA66,'Fruchtfolge Tabellen'!$E$3:$Q$231,7,FALSE)*(AB66/1000)","v":0},{"$f":"VLOOKUP(AA66,'Fruchtfolge Tabellen'!$E$3:$Q$231,8,FALSE)*(AB66/1000)","v":0},{"$f":"VLOOKUP(AA66,'Fruchtfolge Tabellen'!$E$3:$Q$231,9,FALSE)*(AB66/1000)","v":0},{"$f":"VLOOKUP(AA66,'Fruchtfolge Tabellen'!$E$3:$Q$231,10,FALSE)*(AB66/1000)","v":0},{"$f":"VLOOKUP(AA66,'Fruchtfolge Tabellen'!$E$3:$Q$231,11,FALSE)*(AB66/1000)","v":0},{"$f":"VLOOKUP(AA66,'Fruchtfolge Tabellen'!$E$3:$Q$231,12,FALSE)*(AB66/1000)","v":0},{"$f":"VLOOKUP(AA66,'Fruchtfolge Tabellen'!$E$3:$Q$231,13,FALSE)*(AB66/1000)","v":0},{"$f":"VLOOKUP(A66,'Fruchtfolge Tabellen'!$B$3:$E$231,4,FALSE)","v":0},0,{"$f":"VLOOKUP(AM66,'Fruchtfolge Tabellen'!$E$3:$Q$231,4,FALSE)*(AN66/1000)","v":0},{"$f":"VLOOKUP(AM66,'Fruchtfolge Tabellen'!$E$3:$Q$231,5,FALSE)*(AN66/1000)","v":0},{"$f":"VLOOKUP(AM66,'Fruchtfolge Tabellen'!$E$3:$Q$231,6,FALSE)*(AN66/1000)","v":0},{"$f":"VLOOKUP(AM66,'Fruchtfolge Tabellen'!$E$3:$Q$231,7,FALSE)*(AN66/1000)","v":0},{"$f":"VLOOKUP(AM66,'Fruchtfolge Tabellen'!$E$3:$Q$231,8,FALSE)*(AN66/1000)","v":0},{"$f":"VLOOKUP(AM66,'Fruchtfolge Tabellen'!$E$3:$Q$231,9,FALSE)*(AN66/1000)","v":0},{"$f":"VLOOKUP(AM66,'Fruchtfolge Tabellen'!$E$3:$Q$231,10,FALSE)*(AN66/1000)","v":0},{"$f":"VLOOKUP(AM66,'Fruchtfolge Tabellen'!$E$3:$Q$231,11,FALSE)*(AN66/1000)","v":0},{"$f":"VLOOKUP(AM66,'Fruchtfolge Tabellen'!$E$3:$Q$231,12,FALSE)*(AN66/1000)","v":0},{"$f":"VLOOKUP(AM66,'Fruchtfolge Tabellen'!$E$3:$Q$231,13,FALSE)*(AN66/1000)","v":0},0,0,0,0,0,0,0,0,0,0,0]
["Bitte wählen:",{"$nulls":13},{"$f":"VLOOKUP(A67,'Fruchtfolge Tabellen'!$B$3:$E$231,4,FALSE)","v":0},0,{"$f":"VLOOKUP(O67,'Fruchtfolge Tabellen'!$E$3:$Q$231,4,FALSE)*(P67/1000)","v":0},{"$f":"VLOOKUP(O67,'Fruchtfolge Tabellen'!$E$3:$Q$231,5,FALSE)*(P67/1000)","v":0},{"$f":"VLOOKUP(O67,'Fruchtfolge Tabellen'!$E$3:$Q$231,6,FALSE)*(P67/1000)","v":0},{"$f":"VLOOKUP(O67,'Fruchtfolge Tabellen'!$E$3:$Q$231,7,FALSE)*(P67/1000)","v":0},{"$f":"VLOOKUP(O67,'Fruchtfolge Tabellen'!$E$3:$Q$231,8,FALSE)*(P67/1000)","v":0},{"$f":"VLOOKUP(O67,'Fruchtfolge Tabellen'!$E$3:$Q$231,9,FALSE)*(P67/1000)","v":0},{"$f":"VLOOKUP(O67,'Fruchtfolge Tabellen'!$E$3:$Q$231,10,FALSE)*(P67/1000)","v":0},{"$f":"VLOOKUP(O67,'Fruchtfolge Tabellen'!$E$3:$Q$231,11,FALSE)*(P67/1000)","v":0},{"$f":"VLOOKUP(O67,'Fruchtfolge Tabellen'!$E$3:$Q$231,12,FALSE)*(P67/1000)","v":0},{"$f":"VLOOKUP(O67,'Fruchtfolge Tabellen'!$E$3:$Q$231,13,FALSE)*(P67/1000)","v":0},{"$f":"VLOOKUP(A67,'Fruchtfolge Tabellen'!$B$3:$E$231,4,FALSE)","v":0},0,{"$f":"VLOOKUP(AA67,'Fruchtfolge Tabellen'!$E$3:$Q$231,4,FALSE)*(AB67/1000)","v":0},{"$f":"VLOOKUP(AA67,'Fruchtfolge Tabellen'!$E$3:$Q$231,5,FALSE)*(AB67/1000)","v":0},{"$f":"VLOOKUP(AA67,'Fruchtfolge Tabellen'!$E$3:$Q$231,6,FALSE)*(AB67/1000)","v":0},{"$f":"VLOOKUP(AA67,'Fruchtfolge Tabellen'!$E$3:$Q$231,7,FALSE)*(AB67/1000)","v":0},{"$f":"VLOOKUP(AA67,'Fruchtfolge Tabellen'!$E$3:$Q$231,8,FALSE)*(AB67/1000)","v":0},{"$f":"VLOOKUP(AA67,'Fruchtfolge Tabellen'!$E$3:$Q$231,9,FALSE)*(AB67/1000)","v":0},{"$f":"VLOOKUP(AA67,'Fruchtfolge Tabellen'!$E$3:$Q$231,10,FALSE)*(AB67/1000)","v":0},{"$f":"VLOOKUP(AA67,'Fruchtfolge Tabellen'!$E$3:$Q$231,11,FALSE)*(AB67/1000)","v":0},{"$f":"VLOOKUP(AA67,'Fruchtfolge Tabellen'!$E$3:$Q$231,12,FALSE)*(AB67/1000)","v":0},{"$f":"VLOOKUP(AA67,'Fruchtfolge Tabellen'!$E$3:$Q$231,13,FALSE)*(AB67/1000)","v":0},{"$f":"VLOOKUP(A67,'Fruchtfolge Tabellen'!$B$3:$E$231,4,FALSE)","v":0},0,{"$f":"VLOOKUP(AM67,'Fruchtfolge Tabellen'!$E$3:$Q$231,4,FALSE)*(AN67/1000)","v":0},{"$f":"VLOOKUP(AM67,'Fruchtfolge Tabellen'!$E$3:$Q$231,5,FALSE)*(AN67/1000)","v":0},{"$f":"VLOOKUP(AM67,'Fruchtfolge Tabellen'!$E$3:$Q$231,6,FALSE)*(AN67/1000)","v":0},{"$f":"VLOOKUP(AM67,'Fruchtfolge Tabellen'!$E$3:$Q$231,7,FALSE)*(AN67/1000)","v":0},{"$f":"VLOOKUP(AM67,'Fruchtfolge Tabellen'!$E$3:$Q$231,8,FALSE)*(AN67/1000)","v":0},{"$f":"VLOOKUP(AM67,'Fruchtfolge Tabellen'!$E$3:$Q$231,9,FALSE)*(AN67/1000)","v":0},{"$f":"VLOOKUP(AM67,'Fruchtfolge Tabellen'!$E$3:$Q$231,10,FALSE)*(AN67/1000)","v":0},{"$f":"VLOOKUP(AM67,'Fruchtfolge Tabellen'!$E$3:$Q$231,11,FALSE)*(AN67/1000)","v":0},{"$f":"VLOOKUP(AM67,'Fruchtfolge Tabellen'!$E$3:$Q$231,12,FALSE)*(AN67/1000)","v":0},{"$f":"VLOOKUP(AM67,'Fruchtfolge Tabellen'!$E$3:$Q$231,13,FALSE)*(AN67/1000)","v":0},0,0,0,0,0,0,0,0,0,0,0]
["Bitte wählen:",{"$nulls":13},{"$f":"VLOOKUP(A68,'Fruchtfolge Tabellen'!$B$3:$E$231,4,FALSE)","v":0},0,{"$f":"VLOOKUP(O68,'Fruchtfolge Tabellen'!$E$3:$Q$231,4,FALSE)*(P68/1000)","v":0},{"$f":"VLOOKUP(O68,'Fruchtfolge Tabellen'!$E$3:$Q$231,5,FALSE)*(P68/1000)","v":0},{"$f":"VLOOKUP(O68,'Fruchtfolge Tabellen'!$E$3:$Q$231,6,FALSE)*(P68/1000)","v":0},{"$f":"VLOOKUP(O68,'Fruchtfolge Tabellen'!$E$3:$Q$231,7,FALSE)*(P68/1000)","v":0},{"$f":"VLOOKUP(O68,'Fruchtfolge Tabellen'!$E$3:$Q$231,8,FALSE)*(P68/1000)","v":0},{"$f":"VLOOKUP(O68,'Fruchtfolge Tabellen'!$E$3:$Q$231,9,FALSE)*(P68/1000)","v":0},{"$f":"VLOOKUP(O68,'Fruchtfolge Tabellen'!$E$3:$Q$231,10,FALSE)*(P68/1000)","v":0},{"$f":"VLOOKUP(O68,'Fruchtfolge Tabellen'!$E$3:$Q$231,11,FALSE)*(P68/1000)","v":0},{"$f":"VLOOKUP(O68,'Fruchtfolge Tabellen'!$E$3:$Q$231,12,FALSE)*(P68/1000)","v":0},{"$f":"VLOOKUP(O68,'Fruchtfolge Tabellen'!$E$3:$Q$231,13,FALSE)*(P68/1000)","v":0},{"$f":"VLOOKUP(A68,'Fruchtfolge Tabellen'!$B$3:$E$231,4,FALSE)","v":0},0,{"$f":"VLOOKUP(AA68,'Fruchtfolge Tabellen'!$E$3:$Q$231,4,FALSE)*(AB68/1000)","v":0},{"$f":"VLOOKUP(AA68,'Fruchtfolge Tabellen'!$E$3:$Q$231,5,FALSE)*(AB68/1000)","v":0},{"$f":"VLOOKUP(AA68,'Fruchtfolge Tabellen'!$E$3:$Q$231,6,FALSE)*(AB68/1000)","v":0},{"$f":"VLOOKUP(AA68,'Fruchtfolge Tabellen'!$E$3:$Q$231,7,FALSE)*(AB68/1000)","v":0},{"$f":"VLOOKUP(AA68,'Fruchtfolge Tabellen'!$E$3:$Q$231,8,FALSE)*(AB68/1000)","v":0},{"$f":"VLOOKUP(AA68,'Fruchtfolge Tabellen'!$E$3:$Q$231,9,FALSE)*(AB68/1000)","v":0},{"$f":"VLOOKUP(AA68,'Fruchtfolge Tabellen'!$E$3:$Q$231,10,FALSE)*(AB68/1000)","v":0},{"$f":"VLOOKUP(AA68,'Fruchtfolge Tabellen'!$E$3:$Q$231,11,FALSE)*(AB68/1000)","v":0},{"$f":"VLOOKUP(AA68,'Fruchtfolge Tabellen'!$E$3:$Q$231,12,FALSE)*(AB68/1000)","v":0},{"$f":"VLOOKUP(AA68,'Fruchtfolge Tabellen'!$E$3:$Q$231,13,FALSE)*(AB68/1000)","v":0},{"$f":"VLOOKUP(A68,'Fruchtfolge Tabellen'!$B$3:$E$231,4,FALSE)","v":0},0,{"$f":"VLOOKUP(AM68,'Fruchtfolge Tabellen'!$E$3:$Q$231,4,FALSE)*(AN68/1000)","v":0},{"$f":"VLOOKUP(AM68,'Fruchtfolge Tabellen'!$E$3:$Q$231,5,FALSE)*(AN68/1000)","v":0},{"$f":"VLOOKUP(AM68,'Fruchtfolge Tabellen'!$E$3:$Q$231,6,FALSE)*(AN68/1000)","v":0},{"$f":"VLOOKUP(AM68,'Fruchtfolge Tabellen'!$E$3:$Q$231,7,FALSE)*(AN68/1000)","v":0},{"$f":"VLOOKUP(AM68,'Fruchtfolge Tabellen'!$E$3:$Q$231,8,FALSE)*(AN68/1000)","v":0},{"$f":"VLOOKUP(AM68,'Fruchtfolge Tabellen'!$E$3:$Q$231,9,FALSE)*(AN68/1000)","v":0},{"$f":"VLOOKUP(AM68,'Fruchtfolge Tabellen'!$E$3:$Q$231,10,FALSE)*(AN68/1000)","v":0},{"$f":"VLOOKUP(AM68,'Fruchtfolge Tabellen'!$E$3:$Q$231,11,FALSE)*(AN68/1000)","v":0},{"$f":"VLOOKUP(AM68,'Fruchtfolge Tabellen'!$E$3:$Q$231,12,FALSE)*(AN68/1000)","v":0},{"$f":"VLOOKUP(AM68,'Fruchtfolge Tabellen'!$E$3:$Q$231,13,FALSE)*(AN68/1000)","v":0},0,0,0,0,0,0,0,0,0,0,0]
["Bitte wählen:",{"$nulls":13},{"$f":"VLOOKUP(A69,'Fruchtfolge Tabellen'!$B$3:$E$231,4,FALSE)","v":0},0,{"$f":"VLOOKUP(O69,'Fruchtfolge Tabellen'!$E$3:$Q$231,4,FALSE)*(P69/1000)","v":0},{"$f":"VLOOKUP(O69,'Fruchtfolge Tabellen'!$E$3:$Q$231,5,FALSE)*(P69/1000)","v":0},{"$f":"VLOOKUP(O69,'Fruchtfolge Tabellen'!$E$3:$Q$231,6,FALSE)*(P69/1000)","v":0},{"$f":"VLOOKUP(O69,'Fruchtfolge Tabellen'!$E$3:$Q$231,7,FALSE)*(P69/1000)","v":0},{"$f":"VLOOKUP(O69,'Fruchtfolge Tabellen'!$E$3:$Q$231,8,FALSE)*(P69/1000)","v":0},{"$f":"VLOOKUP(O69,'Fruchtfolge Tabellen'!$E$3:$Q$231,9,FALSE)*(P69/1000)","v":0},{"$f":"VLOOKUP(O69,'Fruchtfolge Tabellen'!$E$3:$Q$231,10,FALSE)*(P69/1000)","v":0},{"$f":"VLOOKUP(O69,'Fruchtfolge Tabellen'!$E$3:$Q$231,11,FALSE)*(P69/1000)","v":0},{"$f":"VLOOKUP(O69,'Fruchtfolge Tabellen'!$E$3:$Q$231,12,FALSE)*(P69/1000)","v":0},{"$f":"VLOOKUP(O69,'Fruchtfolge Tabellen'!$E$3:$Q$231,13,FALSE)*(P69/1000)","v":0},{"$f":"VLOOKUP(A69,'Fruchtfolge Tabellen'!$B$3:$E$231,4,FALSE)","v":0},0,{"$f":"VLOOKUP(AA69,'Fruchtfolge Tabellen'!$E$3:$Q$231,4,FALSE)*(AB69/1000)","v":0},{"$f":"VLOOKUP(AA69,'Fruchtfolge Tabellen'!$E$3:$Q$231,5,FALSE)*(AB69/1000)","v":0},{"$f":"VLOOKUP(AA69,'Fruchtfolge Tabellen'!$E$3:$Q$231,6,FALSE)*(AB69/1000)","v":0},{"$f":"VLOOKUP(AA69,'Fruchtfolge Tabellen'!$E$3:$Q$231,7,FALSE)*(AB69/1000)","v":0},{"$f":"VLOOKUP(AA69,'Fruchtfolge Tabellen'!$E$3:$Q$231,8,FALSE)*(AB69/1000)","v":0},{"$f":"VLOOKUP(AA69,'Fruchtfolge Tabellen'!$E$3:$Q$231,9,FALSE)*(AB69/1000)","v":0},{"$f":"VLOOKUP(AA69,'Fruchtfolge Tabellen'!$E$3:$Q$231,10,FALSE)*(AB69/1000)","v":0},{"$f":"VLOOKUP(AA69,'Fruchtfolge Tabellen'!$E$3:$Q$231,11,FALSE)*(AB69/1000)","v":0},{"$f":"VLOOKUP(AA69,'Fruchtfolge Tabellen'!$E$3:$Q$231,12,FALSE)*(AB69/1000)","v":0},{"$f":"VLOOKUP(AA69,'Fruchtfolge Tabellen'!$E$3:$Q$231,13,FALSE)*(AB69/1000)","v":0},{"$f":"VLOOKUP(A69,'Fruchtfolge Tabellen'!$B$3:$E$231,4,FALSE)","v":0},0,{"$f":"VLOOKUP(AM69,'Fruchtfolge Tabellen'!$E$3:$Q$231,4,FALSE)*(AN69/1000)","v":0},{"$f":"VLOOKUP(AM69,'Fruchtfolge Tabellen'!$E$3:$Q$231,5,FALSE)*(AN69/1000)","v":0},{"$f":"VLOOKUP(AM69,'Fruchtfolge Tabellen'!$E$3:$Q$231,6,FALSE)*(AN69/1000)","v":0},{"$f":"VLOOKUP(AM69,'Fruchtfolge Tabellen'!$E$3:$Q$231,7,FALSE)*(AN69/1000)","v":0},{"$f":"VLOOKUP(AM69,'Fruchtfolge Tabellen'!$E$3:$Q$231,8,FALSE)*(AN69/1000)","v":0},{"$f":"VLOOKUP(AM69,'Fruchtfolge Tabellen'!$E$3:$Q$231,9,FALSE)*(AN69/1000)","v":0},{"$f":"VLOOKUP(AM69,'Fruchtfolge Tabellen'!$E$3:$Q$231,10,FALSE)*(AN69/1000)","v":0},{"$f":"VLOOKUP(AM69,'Fruchtfolge Tabellen'!$E$3:$Q$231,11,FALSE)*(AN69/1000)","v":0},{"$f":"VLOOKUP(AM69,'Fruchtfolge Tabellen'!$E$3:$Q$231,12,FALSE)*(AN69/1000)","v":0},{"$f":"VLOOKUP(AM69,'Fruchtfolge Tabellen'!$E$3:$Q$231,13,FALSE)*(AN69/1000)","v":0},0,0,0,0,0,0,0,0,0,0,0]
["Bitte wählen:",{"$nulls":13},{"$f":"VLOOKUP(A70,'Fruchtfolge Tabellen'!$B$3:$E$231,4,FALSE)","v":0},0,{"$f":"VLOOKUP(O70,'Fruchtfolge Tabellen'!$E$3:$Q$231,4,FALSE)*(P70/1000)","v":0},{"$f":"VLOOKUP(O70,'Fruchtfolge Tabellen'!$E$3:$Q$231,5,FALSE)*(P70/1000)","v":0},{"$f":"VLOOKUP(O70,'Fruchtfolge Tabellen'!$E$3:$Q$231,6,FALSE)*(P70/1000)","v":0},{"$f":"VLOOKUP(O70,'Fruchtfolge Tabellen'!$E$3:$Q$231,7,FALSE)*(P70/1000)","v":0},{"$f":"VLOOKUP(O70,'Fruchtfolge Tabellen'!$E$3:$Q$231,8,FALSE)*(P70/1000)","v":0},{"$f":"VLOOKUP(O70,'Fruchtfolge Tabellen'!$E$3:$Q$231,9,FALSE)*(P70/1000)","v":0},{"$f":"VLOOKUP(O70,'Fruchtfolge Tabellen'!$E$3:$Q$231,10,FALSE)*(P70/1000)","v":0},{"$f":"VLOOKUP(O70,'Fruchtfolge Tabellen'!$E$3:$Q$231,11,FALSE)*(P70/1000)","v":0},{"$f":"VLOOKUP(O70,'Fruchtfolge Tabellen'!$E$3:$Q$231,12,FALSE)*(P70/1000)","v":0},{"$f":"VLOOKUP(O70,'Fruchtfolge Tabellen'!$E$3:$Q$231,13,FALSE)*(P70/1000)","v":0},{"$f":"VLOOKUP(A70,'Fruchtfolge Tabellen'!$B$3:$E$231,4,FALSE)","v":0},0,{"$f":"VLOOKUP(AA70,'Fruchtfolge Tabellen'!$E$3:$Q$231,4,FALSE)*(AB70/1000)","v":0},{"$f":"VLOOKUP(AA70,'Fruchtfolge Tabellen'!$E$3:$Q$231,5,FALSE)*(AB70/1000)","v":0},{"$f":"VLOOKUP(AA70,'Fruchtfolge Tabellen'!$E$3:$Q$231,6,FALSE)*(AB70/1000)","v":0},{"$f":"VLOOKUP(AA70,'Fruchtfolge Tabellen'!$E$3:$Q$231,7,FALSE)*(AB70/1000)","v":0},{"$f":"VLOOKUP(AA70,'Fruchtfolge Tabellen'!$E$3:$Q$231,8,FALSE)*(AB70/1000)","v":0},{"$f":"VLOOKUP(AA70,'Fruchtfolge Tabellen'!$E$3:$Q$231,9,FALSE)*(AB70/1000)","v":0},{"$f":"VLOOKUP(AA70,'Fruchtfolge Tabellen'!$E$3:$Q$231,10,FALSE)*(AB70/1000)","v":0},{"$f":"VLOOKUP(AA70,'Fruchtfolge Tabellen'!$E$3:$Q$231,11,FALSE)*(AB70/1000)","v":0},{"$f":"VLOOKUP(AA70,'Fruchtfolge Tabellen'!$E$3:$Q$231,12,FALSE)*(AB70/1000)","v":0},{"$f":"VLOOKUP(AA70,'Fruchtfolge Tabellen'!$E$3:$Q$231,13,FALSE)*(AB70/1000)","v":0},{"$f":"VLOOKUP(A70,'Fruchtfolge Tabellen'!$B$3:$E$231,4,FALSE)","v":0},0,{"$f":"VLOOKUP(AM70,'Fruchtfolge Tabellen'!$E$3:$Q$231,4,FALSE)*(AN70/1000)","v":0},{"$f":"VLOOKUP(AM70,'Fruchtfolge Tabellen'!$E$3:$Q$231,5,FALSE)*(AN70/1000)","v":0},{"$f":"VLOOKUP(AM70,'Fruchtfolge Tabellen'!$E$3:$Q$231,6,FALSE)*(AN70/1000)","v":0},{"$f":"VLOOKUP(AM70,'Fruchtfolge Tabellen'!$E$3:$Q$231,7,FALSE)*(AN70/1000)","v":0},{"$f":"VLOOKUP(AM70,'Fruchtfolge Tabellen'!$E$3:$Q$231,8,FALSE)*(AN70/1000)","v":0},{"$f":"VLOOKUP(AM70,'Fruchtfolge Tabellen'!$E$3:$Q$231,9,FALSE)*(AN70/1000)","v":0},{"$f":"VLOOKUP(AM70,'Fruchtfolge Tabellen'!$E$3:$Q$231,10,FALSE)*(AN70/1000)","v":0},{"$f":"VLOOKUP(AM70,'Fruchtfolge Tabellen'!$E$3:$Q$231,11,FALSE)*(AN70/1000)","v":0},{"$f":"VLOOKUP(AM70,'Fruchtfolge Tabellen'!$E$3:$Q$231,12,FALSE)*(AN70/1000)","v":0},{"$f":"VLOOKUP(AM70,'Fruchtfolge Tabellen'!$E$3:$Q$231,13,FALSE)*(AN70/1000)","v":0},0,0,0,0,0,0,0,0,0,0,0]
["Bitte wählen:",{"$nulls":13},{"$f":"VLOOKUP(A71,'Fruchtfolge Tabellen'!$B$3:$E$231,4,FALSE)","v":0},0,{"$f":"VLOOKUP(O71,'Fruchtfolge Tabellen'!$E$3:$Q$231,4,FALSE)*(P71/1000)","v":0},{"$f":"VLOOKUP(O71,'Fruchtfolge Tabellen'!$E$3:$Q$231,5,FALSE)*(P71/1000)","v":0},{"$f":"VLOOKUP(O71,'Fruchtfolge Tabellen'!$E$3:$Q$231,6,FALSE)*(P71/1000)","v":0},{"$f":"VLOOKUP(O71,'Fruchtfolge Tabellen'!$E$3:$Q$231,7,FALSE)*(P71/1000)","v":0},{"$f":"VLOOKUP(O71,'Fruchtfolge Tabellen'!$E$3:$Q$231,8,FALSE)*(P71/1000)","v":0},{"$f":"VLOOKUP(O71,'Fruchtfolge Tabellen'!$E$3:$Q$231,9,FALSE)*(P71/1000)","v":0},{"$f":"VLOOKUP(O71,'Fruchtfolge Tabellen'!$E$3:$Q$231,10,FALSE)*(P71/1000)","v":0},{"$f":"VLOOKUP(O71,'Fruchtfolge Tabellen'!$E$3:$Q$231,11,FALSE)*(P71/1000)","v":0},{"$f":"VLOOKUP(O71,'Fruchtfolge Tabellen'!$E$3:$Q$231,12,FALSE)*(P71/1000)","v":0},{"$f":"VLOOKUP(O71,'Fruchtfolge Tabellen'!$E$3:$Q$231,13,FALSE)*(P71/1000)","v":0},{"$f":"VLOOKUP(A71,'Fruchtfolge Tabellen'!$B$3:$E$231,4,FALSE)","v":0},0,{"$f":"VLOOKUP(AA71,'Fruchtfolge Tabellen'!$E$3:$Q$231,4,FALSE)*(AB71/1000)","v":0},{"$f":"VLOOKUP(AA71,'Fruchtfolge Tabellen'!$E$3:$Q$231,5,FALSE)*(AB71/1000)","v":0},{"$f":"VLOOKUP(AA71,'Fruchtfolge Tabellen'!$E$3:$Q$231,6,FALSE)*(AB71/1000)","v":0},{"$f":"VLOOKUP(AA71,'Fruchtfolge Tabellen'!$E$3:$Q$231,7,FALSE)*(AB71/1000)","v":0},{"$f":"VLOOKUP(AA71,'Fruchtfolge Tabellen'!$E$3:$Q$231,8,FALSE)*(AB71/1000)","v":0},{"$f":"VLOOKUP(AA71,'Fruchtfolge Tabellen'!$E$3:$Q$231,9,FALSE)*(AB71/1000)","v":0},{"$f":"VLOOKUP(AA71,'Fruchtfolge Tabellen'!$E$3:$Q$231,10,FALSE)*(AB71/1000)","v":0},{"$f":"VLOOKUP(AA71,'Fruchtfolge Tabellen'!$E$3:$Q$231,11,FALSE)*(AB71/1000)","v":0},{"$f":"VLOOKUP(AA71,'Fruchtfolge Tabellen'!$E$3:$Q$231,12,FALSE)*(AB71/1000)","v":0},{"$f":"VLOOKUP(AA71,'Fruchtfolge Tabellen'!$E$3:$Q$231,13,FALSE)*(AB71/1000)","v":0},{"$f":"VLOOKUP(A71,'Fruchtfolge Tabellen'!$B$3:$E$231,4,FALSE)","v":0},{"$f":"H71*1000","v":0},{"$f":"VLOOKUP(AM71,'Fruchtfolge Tabellen'!$E$3:$Q$231,4,FALSE)*(AN71/1000)","v":0},{"$f":"VLOOKUP(AM71,'Fruchtfolge Tabellen'!$E$3:$Q$231,5,FALSE)*(AN71/1000)","v":0},{"$f":"VLOOKUP(AM71,'Fruchtfolge Tabellen'!$E$3:$Q$231,6,FALSE)*(AN71/1000)","v":0},{"$f":"VLOOKUP(AM71,'Fruchtfolge Tabellen'!$E$3:$Q$231,7,FALSE)*(AN71/1000)","v":0},{"$f":"VLOOKUP(AM71,'Fruchtfolge Tabellen'!$E$3:$Q$231,8,FALSE)*(AN71/1000)","v":0},{"$f":"VLOOKUP(AM71,'Fruchtfolge Tabellen'!$E$3:$Q$231,9,FALSE)*(AN71/1000)","v":0},{"$f":"VLOOKUP(AM71,'Fruchtfolge Tabellen'!$E$3:$Q$231,10,FALSE)*(AN71/1000)","v":0},{"$f":"VLOOKUP(AM71,'Fruchtfolge Tabellen'!$E$3:$Q$231,11,FALSE)*(AN71/1000)","v":0},{"$f":"VLOOKUP(AM71,'Fruchtfolge Tabellen'!$E$3:$Q$231,12,FALSE)*(AN71/1000)","v":0},{"$f":"VLOOKUP(AM71,'Fruchtfolge Tabellen'!$E$3:$Q$231,13,FALSE)*(AN71/1000)","v":0},0,0,0,0,0,0,0,0,0,0,0]
["Bitte wählen:",{"$nulls":13},{"$f":"VLOOKUP(A72,'Fruchtfolge Tabellen'!$B$3:$E$231,4,FALSE)","v":0},0,{"$f":"VLOOKUP(O72,'Fruchtfolge Tabellen'!$E$3:$Q$231,4,FALSE)*(P72/1000)","v":0},{"$f":"VLOOKUP(O72,'Fruchtfolge Tabellen'!$E$3:$Q$231,5,FALSE)*(P72/1000)","v":0},{"$f":"VLOOKUP(O72,'Fruchtfolge Tabellen'!$E$3:$Q$231,6,FALSE)*(P72/1000)","v":0},{"$f":"VLOOKUP(O72,'Fruchtfolge Tabellen'!$E$3:$Q$231,7,FALSE)*(P72/1000)","v":0},{"$f":"VLOOKUP(O72,'Fruchtfolge Tabellen'!$E$3:$Q$231,8,FALSE)*(P72/1000)","v":0},{"$f":"VLOOKUP(O72,'Fruchtfolge Tabellen'!$E$3:$Q$231,9,FALSE)*(P72/1000)","v":0},{"$f":"VLOOKUP(O72,'Fruchtfolge Tabellen'!$E$3:$Q$231,10,FALSE)*(P72/1000)","v":0},{"$f":"VLOOKUP(O72,'Fruchtfolge Tabellen'!$E$3:$Q$231,11,FALSE)*(P72/1000)","v":0},{"$f":"VLOOKUP(O72,'Fruchtfolge Tabellen'!$E$3:$Q$231,12,FALSE)*(P72/1000)","v":0},{"$f":"VLOOKUP(O72,'Fruchtfolge Tabellen'!$E$3:$Q$231,13,FALSE)*(P72/1000)","v":0},{"$f":"VLOOKUP(A72,'Fruchtfolge Tabellen'!$B$3:$E$231,4,FALSE)","v":0},0,{"$f":"VLOOKUP(AA72,'Fruchtfolge Tabellen'!$E$3:$Q$231,4,FALSE)*(AB72/1000)","v":0},{"$f":"VLOOKUP(AA72,'Fruchtfolge Tabellen'!$E$3:$Q$231,5,FALSE)*(AB72/1000)","v":0},{"$f":"VLOOKUP(AA72,'Fruchtfolge Tabellen'!$E$3:$Q$231,6,FALSE)*(AB72/1000)","v":0},{"$f":"VLOOKUP(AA72,'Fruchtfolge Tabellen'!$E$3:$Q$231,7,FALSE)*(AB72/1000)","v":0},{"$f":"VLOOKUP(AA72,'Fruchtfolge Tabellen'!$E$3:$Q$231,8,FALSE)*(AB72/1000)","v":0},{"$f":"VLOOKUP(AA72,'Fruchtfolge Tabellen'!$E$3:$Q$231,9,FALSE)*(AB72/1000)","v":0},{"$f":"VLOOKUP(AA72,'Fruchtfolge Tabellen'!$E$3:$Q$231,10,FALSE)*(AB72/1000)","v":0},{"$f":"VLOOKUP(AA72,'Fruchtfolge Tabellen'!$E$3:$Q$231,11,FALSE)*(AB72/1000)","v":0},{"$f":"VLOOKUP(AA72,'Fruchtfolge Tabellen'!$E$3:$Q$231,12,FALSE)*(AB72/1000)","v":0},{"$f":"VLOOKUP(AA72,'Fruchtfolge Tabellen'!$E$3:$Q$231,13,FALSE)*(AB72/1000)","v":0},{"$f":"VLOOKUP(A72,'Fruchtfolge Tabellen'!$B$3:$E$231,4,FALSE)","v":0},0,{"$f":"VLOOKUP(AM72,'Fruchtfolge Tabellen'!$E$3:$Q$231,4,FALSE)*(AN72/1000)","v":0},{"$f":"VLOOKUP(AM72,'Fruchtfolge Tabellen'!$E$3:$Q$231,5,FALSE)*(AN72/1000)","v":0},{"$f":"VLOOKUP(AM72,'Fruchtfolge Tabellen'!$E$3:$Q$231,6,FALSE)*(AN72/1000)","v":0},{"$f":"VLOOKUP(AM72,'Fruchtfolge Tabellen'!$E$3:$Q$231,7,FALSE)*(AN72/1000)","v":0},{"$f":"VLOOKUP(AM72,'Fruchtfolge Tabellen'!$E$3:$Q$231,8,FALSE)*(AN72/1000)","v":0},{"$f":"VLOOKUP(AM72,'Fruchtfolge Tabellen'!$E$3:$Q$231,9,FALSE)*(AN72/1000)","v":0},{"$f":"VLOOKUP(AM72,'Fruchtfolge Tabellen'!$E$3:$Q$231,10,FALSE)*(AN72/1000)","v":0},{"$f":"VLOOKUP(AM72,'Fruchtfolge Tabellen'!$E$3:$Q$231,11,FALSE)*(AN72/1000)","v":0},{"$f":"VLOOKUP(AM72,'Fruchtfolge Tabellen'!$E$3:$Q$231,12,FALSE)*(AN72/1000)","v":0},{"$f":"VLOOKUP(AM72,'Fruchtfolge Tabellen'!$E$3:$Q$231,13,FALSE)*(AN72/1000)","v":0},0,0,0,0,0,0,0,0,0,0,0]
["Bitte wählen:",{"$nulls":13},{"$f":"VLOOKUP(A73,'Fruchtfolge Tabellen'!$B$3:$E$231,4,FALSE)","v":0},0,{"$f":"VLOOKUP(O73,'Fruchtfolge Tabellen'!$E$3:$Q$231,4,FALSE)*(P73/1000)","v":0},{"$f":"VLOOKUP(O73,'Fruchtfolge Tabellen'!$E$3:$Q$231,5,FALSE)*(P73/1000)","v":0},{"$f":"VLOOKUP(O73,'Fruchtfolge Tabellen'!$E$3:$Q$231,6,FALSE)*(P73/1000)","v":0},{"$f":"VLOOKUP(O73,'Fruchtfolge Tabellen'!$E$3:$Q$231,7,FALSE)*(P73/1000)","v":0},{"$f":"VLOOKUP(O73,'Fruchtfolge Tabellen'!$E$3:$Q$231,8,FALSE)*(P73/1000)","v":0},{"$f":"VLOOKUP(O73,'Fruchtfolge Tabellen'!$E$3:$Q$231,9,FALSE)*(P73/1000)","v":0},{"$f":"VLOOKUP(O73,'Fruchtfolge Tabellen'!$E$3:$Q$231,10,FALSE)*(P73/1000)","v":0},{"$f":"VLOOKUP(O73,'Fruchtfolge Tabellen'!$E$3:$Q$231,11,FALSE)*(P73/1000)","v":0},{"$f":"VLOOKUP(O73,'Fruchtfolge Tabellen'!$E$3:$Q$231,12,FALSE)*(P73/1000)","v":0},{"$f":"VLOOKUP(O73,'Fruchtfolge Tabellen'!$E$3:$Q$231,13,FALSE)*(P73/1000)","v":0},{"$f":"VLOOKUP(A73,'Fruchtfolge Tabellen'!$B$3:$E$231,4,FALSE)","v":0},0,{"$f":"VLOOKUP(AA73,'Fruchtfolge Tabellen'!$E$3:$Q$231,4,FALSE)*(AB73/1000)","v":0},{"$f":"VLOOKUP(AA73,'Fruchtfolge Tabellen'!$E$3:$Q$231,5,FALSE)*(AB73/1000)","v":0},{"$f":"VLOOKUP(AA73,'Fruchtfolge Tabellen'!$E$3:$Q$231,6,FALSE)*(AB73/1000)","v":0},{"$f":"VLOOKUP(AA73,'Fruchtfolge Tabellen'!$E$3:$Q$231,7,FALSE)*(AB73/1000)","v":0},{"$f":"VLOOKUP(AA73,'Fruchtfolge Tabellen'!$E$3:$Q$231,8,FALSE)*(AB73/1000)","v":0},{"$f":"VLOOKUP(AA73,'Fruchtfolge Tabellen'!$E$3:$Q$231,9,FALSE)*(AB73/1000)","v":0},{"$f":"VLOOKUP(AA73,'Fruchtfolge Tabellen'!$E$3:$Q$231,10,FALSE)*(AB73/1000)","v":0},{"$f":"VLOOKUP(AA73,'Fruchtfolge Tabellen'!$E$3:$Q$231,11,FALSE)*(AB73/1000)","v":0},{"$f":"VLOOKUP(AA73,'Fruchtfolge Tabellen'!$E$3:$Q$231,12,FALSE)*(AB73/1000)","v":0},{"$f":"VLOOKUP(AA73,'Fruchtfolge Tabellen'!$E$3:$Q$231,13,FALSE)*(AB73/1000)","v":0},{"$f":"VLOOKUP(A73,'Fruchtfolge Tabellen'!$B$3:$E$231,4,FALSE)","v":0},0,{"$f":"VLOOKUP(AM73,'Fruchtfolge Tabellen'!$E$3:$Q$231,4,FALSE)*(AN73/1000)","v":0},{"$f":"VLOOKUP(AM73,'Fruchtfolge Tabellen'!$E$3:$Q$231,5,FALSE)*(AN73/1000)","v":0},{"$f":"VLOOKUP(AM73,'Fruchtfolge Tabellen'!$E$3:$Q$231,6,FALSE)*(AN73/1000)","v":0},{"$f":"VLOOKUP(AM73,'Fruchtfolge Tabellen'!$E$3:$Q$231,7,FALSE)*(AN73/1000)","v":0},{"$f":"VLOOKUP(AM73,'Fruchtfolge Tabellen'!$E$3:$Q$231,8,FALSE)*(AN73/1000)","v":0},{"$f":"VLOOKUP(AM73,'Fruchtfolge Tabellen'!$E$3:$Q$231,9,FALSE)*(AN73/1000)","v":0},{"$f":"VLOOKUP(AM73,'Fruchtfolge Tabellen'!$E$3:$Q$231,10,FALSE)*(AN73/1000)","v":0},{"$f":"VLOOKUP(AM73,'Fruchtfolge Tabellen'!$E$3:$Q$231,11,FALSE)*(AN73/1000)","v":0},{"$f":"VLOOKUP(AM73,'Fruchtfolge Tabellen'!$E$3:$Q$231,12,FALSE)*(AN73/1000)","v":0},{"$f":"VLOOKUP(AM73,'Fruchtfolge Tabellen'!$E$3:$Q$231,13,FALSE)*(AN73/1000)","v":0},0,0,0,0,0,0,0,0,0,0,0]
["Bitte wählen:",{"$nulls":13},{"$f":"VLOOKUP(A74,'Fruchtfolge Tabellen'!$B$3:$E$231,4,FALSE)","v":0},0,{"$f":"VLOOKUP(O74,'Fruchtfolge Tabellen'!$E$3:$Q$231,4,FALSE)*(P74/1000)","v":0},{"$f":"VLOOKUP(O74,'Fruchtfolge Tabellen'!$E$3:$Q$231,5,FALSE)*(P74/1000)","v":0},{"$f":"VLOOKUP(O74,'Fruchtfolge Tabellen'!$E$3:$Q$231,6,FALSE)*(P74/1000)","v":0},{"$f":"VLOOKUP(O74,'Fruchtfolge Tabellen'!$E$3:$Q$231,7,FALSE)*(P74/1000)","v":0},{"$f":"VLOOKUP(O74,'Fruchtfolge Tabellen'!$E$3:$Q$231,8,FALSE)*(P74/1000)","v":0},{"$f":"VLOOKUP(O74,'Fruchtfolge Tabellen'!$E$3:$Q$231,9,FALSE)*(P74/1000)","v":0},{"$f":"VLOOKUP(O74,'Fruchtfolge Tabellen'!$E$3:$Q$231,10,FALSE)*(P74/1000)","v":0},{"$f":"VLOOKUP(O74,'Fruchtfolge Tabellen'!$E$3:$Q$231,11,FALSE)*(P74/1000)","v":0},{"$f":"VLOOKUP(O74,'Fruchtfolge Tabellen'!$E$3:$Q$231,12,FALSE)*(P74/1000)","v":0},{"$f":"VLOOKUP(O74,'Fruchtfolge Tabellen'!$E$3:$Q$231,13,FALSE)*(P74/1000)","v":0},{"$f":"VLOOKUP(A74,'Fruchtfolge Tabellen'!$B$3:$E$231,4,FALSE)","v":0},0,{"$f":"VLOOKUP(AA74,'Fruchtfolge Tabellen'!$E$3:$Q$231,4,FALSE)*(AB74/1000)","v":0},{"$f":"VLOOKUP(AA74,'Fruchtfolge Tabellen'!$E$3:$Q$231,5,FALSE)*(AB74/1000)","v":0},{"$f":"VLOOKUP(AA74,'Fruchtfolge Tabellen'!$E$3:$Q$231,6,FALSE)*(AB74/1000)","v":0},{"$f":"VLOOKUP(AA74,'Fruchtfolge Tabellen'!$E$3:$Q$231,7,FALSE)*(AB74/1000)","v":0},{"$f":"VLOOKUP(AA74,'Fruchtfolge Tabellen'!$E$3:$Q$231,8,FALSE)*(AB74/1000)","v":0},{"$f":"VLOOKUP(AA74,'Fruchtfolge Tabellen'!$E$3:$Q$231,9,FALSE)*(AB74/1000)","v":0},{"$f":"VLOOKUP(AA74,'Fruchtfolge Tabellen'!$E$3:$Q$231,10,FALSE)*(AB74/1000)","v":0},{"$f":"VLOOKUP(AA74,'Fruchtfolge Tabellen'!$E$3:$Q$231,11,FALSE)*(AB74/1000)","v":0},{"$f":"VLOOKUP(AA74,'Fruchtfolge Tabellen'!$E$3:$Q$231,12,FALSE)*(AB74/1000)","v":0},{"$f":"VLOOKUP(AA74,'Fruchtfolge Tabellen'!$E$3:$Q$231,13,FALSE)*(AB74/1000)","v":0},{"$f":"VLOOKUP(A74,'Fruchtfolge Tabellen'!$B$3:$E$231,4,FALSE)","v":0},0,{"$f":"VLOOKUP(AM74,'Fruchtfolge Tabellen'!$E$3:$Q$231,4,FALSE)*(AN74/1000)","v":0},{"$f":"VLOOKUP(AM74,'Fruchtfolge Tabellen'!$E$3:$Q$231,5,FALSE)*(AN74/1000)","v":0},{"$f":"VLOOKUP(AM74,'Fruchtfolge Tabellen'!$E$3:$Q$231,6,FALSE)*(AN74/1000)","v":0},{"$f":"VLOOKUP(AM74,'Fruchtfolge Tabellen'!$E$3:$Q$231,7,FALSE)*(AN74/1000)","v":0},{"$f":"VLOOKUP(AM74,'Fruchtfolge Tabellen'!$E$3:$Q$231,8,FALSE)*(AN74/1000)","v":0},{"$f":"VLOOKUP(AM74,'Fruchtfolge Tabellen'!$E$3:$Q$231,9,FALSE)*(AN74/1000)","v":0},{"$f":"VLOOKUP(AM74,'Fruchtfolge Tabellen'!$E$3:$Q$231,10,FALSE)*(AN74/1000)","v":0},{"$f":"VLOOKUP(AM74,'Fruchtfolge Tabellen'!$E$3:$Q$231,11,FALSE)*(AN74/1000)","v":0},{"$f":"VLOOKUP(AM74,'Fruchtfolge Tabellen'!$E$3:$Q$231,12,FALSE)*(AN74/1000)","v":0},{"$f":"VLOOKUP(AM74,'Fruchtfolge Tabellen'!$E$3:$Q$231,13,FALSE)*(AN74/1000)","v":0},0,0,0,0,0,0,0,0,0,0,0]
["Bitte wählen:",{"$nulls":13},{"$f":"VLOOKUP(A75,'Fruchtfolge Tabellen'!$B$3:$E$231,4,FALSE)","v":0},0,{"$f":"VLOOKUP(O75,'Fruchtfolge Tabellen'!$E$3:$Q$231,4,FALSE)*(P75/1000)","v":0},{"$f":"VLOOKUP(O75,'Fruchtfolge Tabellen'!$E$3:$Q$231,5,FALSE)*(P75/1000)","v":0},{"$f":"VLOOKUP(O75,'Fruchtfolge Tabellen'!$E$3:$Q$231,6,FALSE)*(P75/1000)","v":0},{"$f":"VLOOKUP(O75,'Fruchtfolge Tabellen'!$E$3:$Q$231,7,FALSE)*(P75/1000)","v":0},{"$f":"VLOOKUP(O75,'Fruchtfolge Tabellen'!$E$3:$Q$231,8,FALSE)*(P75/1000)","v":0},{"$f":"VLOOKUP(O75,'Fruchtfolge Tabellen'!$E$3:$Q$231,9,FALSE)*(P75/1000)","v":0},{"$f":"VLOOKUP(O75,'Fruchtfolge Tabellen'!$E$3:$Q$231,10,FALSE)*(P75/1000)","v":0},{"$f":"VLOOKUP(O75,'Fruchtfolge Tabellen'!$E$3:$Q$231,11,FALSE)*(P75/1000)","v":0},{"$f":"VLOOKUP(O75,'Fruchtfolge Tabellen'!$E$3:$Q$231,12,FALSE)*(P75/1000)","v":0},{"$f":"VLOOKUP(O75,'Fruchtfolge Tabellen'!$E$3:$Q$231,13,FALSE)*(P75/1000)","v":0},{"$f":"VLOOKUP(A75,'Fruchtfolge Tabellen'!$B$3:$E$231,4,FALSE)","v":0},0,{"$f":"VLOOKUP(AA75,'Fruchtfolge Tabellen'!$E$3:$Q$231,4,FALSE)*(AB75/1000)","v":0},{"$f":"VLOOKUP(AA75,'Fruchtfolge Tabellen'!$E$3:$Q$231,5,FALSE)*(AB75/1000)","v":0},{"$f":"VLOOKUP(AA75,'Fruchtfolge Tabellen'!$E$3:$Q$231,6,FALSE)*(AB75/1000)","v":0},{"$f":"VLOOKUP(AA75,'Fruchtfolge Tabellen'!$E$3:$Q$231,7,FALSE)*(AB75/1000)","v":0},{"$f":"VLOOKUP(AA75,'Fruchtfolge Tabellen'!$E$3:$Q$231,8,FALSE)*(AB75/1000)","v":0},{"$f":"VLOOKUP(AA75,'Fruchtfolge Tabellen'!$E$3:$Q$231,9,FALSE)*(AB75/1000)","v":0},{"$f":"VLOOKUP(AA75,'Fruchtfolge Tabellen'!$E$3:$Q$231,10,FALSE)*(AB75/1000)","v":0},{"$f":"VLOOKUP(AA75,'Fruchtfolge Tabellen'!$E$3:$Q$231,11,FALSE)*(AB75/1000)","v":0},{"$f":"VLOOKUP(AA75,'Fruchtfolge Tabellen'!$E$3:$Q$231,12,FALSE)*(AB75/1000)","v":0},{"$f":"VLOOKUP(AA75,'Fruchtfolge Tabellen'!$E$3:$Q$231,13,FALSE)*(AB75/1000)","v":0},{"$f":"VLOOKUP(A75,'Fruchtfolge Tabellen'!$B$3:$E$231,4,FALSE)","v":0},0,{"$f":"VLOOKUP(AM75,'Fruchtfolge Tabellen'!$E$3:$Q$231,4,FALSE)*(AN75/1000)","v":0},{"$f":"VLOOKUP(AM75,'Fruchtfolge Tabellen'!$E$3:$Q$231,5,FALSE)*(AN75/1000)","v":0},{"$f":"VLOOKUP(AM75,'Fruchtfolge Tabellen'!$E$3:$Q$231,6,FALSE)*(AN75/1000)","v":0},{"$f":"VLOOKUP(AM75,'Fruchtfolge Tabellen'!$E$3:$Q$231,7,FALSE)*(AN75/1000)","v":0},{"$f":"VLOOKUP(AM75,'Fruchtfolge Tabellen'!$E$3:$Q$231,8,FALSE)*(AN75/1000)","v":0},{"$f":"VLOOKUP(AM75,'Fruchtfolge Tabellen'!$E$3:$Q$231,9,FALSE)*(AN75/1000)","v":0},{"$f":"VLOOKUP(AM75,'Fruchtfolge Tabellen'!$E$3:$Q$231,10,FALSE)*(AN75/1000)","v":0},{"$f":"VLOOKUP(AM75,'Fruchtfolge Tabellen'!$E$3:$Q$231,11,FALSE)*(AN75/1000)","v":0},{"$f":"VLOOKUP(AM75,'Fruchtfolge Tabellen'!$E$3:$Q$231,12,FALSE)*(AN75/1000)","v":0},{"$f":"VLOOKUP(AM75,'Fruchtfolge Tabellen'!$E$3:$Q$231,13,FALSE)*(AN75/1000)","v":0},0,0,0,0,0,0,0,0,0,0,0]
["Bitte wählen:",{"$nulls":13},{"$f":"VLOOKUP(A76,'Fruchtfolge Tabellen'!$B$3:$E$231,4,FALSE)","v":0},0,{"$f":"VLOOKUP(O76,'Fruchtfolge Tabellen'!$E$3:$Q$231,4,FALSE)*(P76/1000)","v":0},{"$f":"VLOOKUP(O76,'Fruchtfolge Tabellen'!$E$3:$Q$231,5,FALSE)*(P76/1000)","v":0},{"$f":"VLOOKUP(O76,'Fruchtfolge Tabellen'!$E$3:$Q$231,6,FALSE)*(P76/1000)","v":0},{"$f":"VLOOKUP(O76,'Fruchtfolge Tabellen'!$E$3:$Q$231,7,FALSE)*(P76/1000)","v":0},{"$f":"VLOOKUP(O76,'Fruchtfolge Tabellen'!$E$3:$Q$231,8,FALSE)*(P76/1000)","v":0},{"$f":"VLOOKUP(O76,'Fruchtfolge Tabellen'!$E$3:$Q$231,9,FALSE)*(P76/1000)","v":0},{"$f":"VLOOKUP(O76,'Fruchtfolge Tabellen'!$E$3:$Q$231,10,FALSE)*(P76/1000)","v":0},{"$f":"VLOOKUP(O76,'Fruchtfolge Tabellen'!$E$3:$Q$231,11,FALSE)*(P76/1000)","v":0},{"$f":"VLOOKUP(O76,'Fruchtfolge Tabellen'!$E$3:$Q$231,12,FALSE)*(P76/1000)","v":0},{"$f":"VLOOKUP(O76,'Fruchtfolge Tabellen'!$E$3:$Q$231,13,FALSE)*(P76/1000)","v":0},{"$f":"VLOOKUP(A76,'Fruchtfolge Tabellen'!$B$3:$E$231,4,FALSE)","v":0},0,{"$f":"VLOOKUP(AA76,'Fruchtfolge Tabellen'!$E$3:$Q$231,4,FALSE)*(AB76/1000)","v":0},{"$f":"VLOOKUP(AA76,'Fruchtfolge Tabellen'!$E$3:$Q$231,5,FALSE)*(AB76/1000)","v":0},{"$f":"VLOOKUP(AA76,'Fruchtfolge Tabellen'!$E$3:$Q$231,6,FALSE)*(AB76/1000)","v":0},{"$f":"VLOOKUP(AA76,'Fruchtfolge Tabellen'!$E$3:$Q$231,7,FALSE)*(AB76/1000)","v":0},{"$f":"VLOOKUP(AA76,'Fruchtfolge Tabellen'!$E$3:$Q$231,8,FALSE)*(AB76/1000)","v":0},{"$f":"VLOOKUP(AA76,'Fruchtfolge Tabellen'!$E$3:$Q$231,9,FALSE)*(AB76/1000)","v":0},{"$f":"VLOOKUP(AA76,'Fruchtfolge Tabellen'!$E$3:$Q$231,10,FALSE)*(AB76/1000)","v":0},{"$f":"VLOOKUP(AA76,'Fruchtfolge Tabellen'!$E$3:$Q$231,11,FALSE)*(AB76/1000)","v":0},{"$f":"VLOOKUP(AA76,'Fruchtfolge Tabellen'!$E$3:$Q$231,12,FALSE)*(AB76/1000)","v":0},{"$f":"VLOOKUP(AA76,'Fruchtfolge Tabellen'!$E$3:$Q$231,13,FALSE)*(AB76/1000)","v":0},{"$f":"VLOOKUP(A76,'Fruchtfolge Tabellen'!$B$3:$E$231,4,FALSE)","v":0},0,{"$f":"VLOOKUP(AM76,'Fruchtfolge Tabellen'!$E$3:$Q$231,4,FALSE)*(AN76/1000)","v":0},{"$f":"VLOOKUP(AM76,'Fruchtfolge Tabellen'!$E$3:$Q$231,5,FALSE)*(AN76/1000)","v":0},{"$f":"VLOOKUP(AM76,'Fruchtfolge Tabellen'!$E$3:$Q$231,6,FALSE)*(AN76/1000)","v":0},{"$f":"VLOOKUP(AM76,'Fruchtfolge Tabellen'!$E$3:$Q$231,7,FALSE)*(AN76/1000)","v":0},{"$f":"VLOOKUP(AM76,'Fruchtfolge Tabellen'!$E$3:$Q$231,8,FALSE)*(AN76/1000)","v":0},{"$f":"VLOOKUP(AM76,'Fruchtfolge Tabellen'!$E$3:$Q$231,9,FALSE)*(AN76/1000)","v":0},{"$f":"VLOOKUP(AM76,'Fruchtfolge Tabellen'!$E$3:$Q$231,10,FALSE)*(AN76/1000)","v":0},{"$f":"VLOOKUP(AM76,'Fruchtfolge Tabellen'!$E$3:$Q$231,11,FALSE)*(AN76/1000)","v":0},{"$f":"VLOOKUP(AM76,'Fruchtfolge Tabellen'!$E$3:$Q$231,12,FALSE)*(AN76/1000)","v":0},{"$f":"VLOOKUP(AM76,'Fruchtfolge Tabellen'!$E$3:$Q$231,13,FALSE)*(AN76/1000)","v":0},0,0,0,0,0,0,0,0,0,0,0]
["Bitte wählen:",{"$nulls":13},{"$f":"VLOOKUP(A77,'Fruchtfolge Tabellen'!$B$3:$E$231,4,FALSE)","v":0},0,{"$f":"VLOOKUP(O77,'Fruchtfolge Tabellen'!$E$3:$Q$231,4,FALSE)*(P77/1000)","v":0},{"$f":"VLOOKUP(O77,'Fruchtfolge Tabellen'!$E$3:$Q$231,5,FALSE)*(P77/1000)","v":0},{"$f":"VLOOKUP(O77,'Fruchtfolge Tabellen'!$E$3:$Q$231,6,FALSE)*(P77/1000)","v":0},{"$f":"VLOOKUP(O77,'Fruchtfolge Tabellen'!$E$3:$Q$231,7,FALSE)*(P77/1000)","v":0},{"$f":"VLOOKUP(O77,'Fruchtfolge Tabellen'!$E$3:$Q$231,8,FALSE)*(P77/1000)","v":0},{"$f":"VLOOKUP(O77,'Fruchtfolge Tabellen'!$E$3:$Q$231,9,FALSE)*(P77/1000)","v":0},{"$f":"VLOOKUP(O77,'Fruchtfolge Tabellen'!$E$3:$Q$231,10,FALSE)*(P77/1000)","v":0},{"$f":"VLOOKUP(O77,'Fruchtfolge Tabellen'!$E$3:$Q$231,11,FALSE)*(P77/1000)","v":0},{"$f":"VLOOKUP(O77,'Fruchtfolge Tabellen'!$E$3:$Q$231,12,FALSE)*(P77/1000)","v":0},{"$f":"VLOOKUP(O77,'Fruchtfolge Tabellen'!$E$3:$Q$231,13,FALSE)*(P77/1000)","v":0},{"$f":"VLOOKUP(A77,'Fruchtfolge Tabellen'!$B$3:$E$231,4,FALSE)","v":0},0,{"$f":"VLOOKUP(AA77,'Fruchtfolge Tabellen'!$E$3:$Q$231,4,FALSE)*(AB77/1000)","v":0},{"$f":"VLOOKUP(AA77,'Fruchtfolge Tabellen'!$E$3:$Q$231,5,FALSE)*(AB77/1000)","v":0},{"$f":"VLOOKUP(AA77,'Fruchtfolge Tabellen'!$E$3:$Q$231,6,FALSE)*(AB77/1000)","v":0},{"$f":"VLOOKUP(AA77,'Fruchtfolge Tabellen'!$E$3:$Q$231,7,FALSE)*(AB77/1000)","v":0},{"$f":"VLOOKUP(AA77,'Fruchtfolge Tabellen'!$E$3:$Q$231,8,FALSE)*(AB77/1000)","v":0},{"$f":"VLOOKUP(AA77,'Fruchtfolge Tabellen'!$E$3:$Q$231,9,FALSE)*(AB77/1000)","v":0},{"$f":"VLOOKUP(AA77,'Fruchtfolge Tabellen'!$E$3:$Q$231,10,FALSE)*(AB77/1000)","v":0},{"$f":"VLOOKUP(AA77,'Fruchtfolge Tabellen'!$E$3:$Q$231,11,FALSE)*(AB77/1000)","v":0},{"$f":"VLOOKUP(AA77,'Fruchtfolge Tabellen'!$E$3:$Q$231,12,FALSE)*(AB77/1000)","v":0},{"$f":"VLOOKUP(AA77,'Fruchtfolge Tabellen'!$E$3:$Q$231,13,FALSE)*(AB77/1000)","v":0},{"$f":"VLOOKUP(A77,'Fruchtfolge Tabellen'!$B$3:$E$231,4,FALSE)","v":0},0,{"$f":"VLOOKUP(AM77,'Fruchtfolge Tabellen'!$E$3:$Q$231,4,FALSE)*(AN77/1000)","v":0},{"$f":"VLOOKUP(AM77,'Fruchtfolge Tabellen'!$E$3:$Q$231,5,FALSE)*(AN77/1000)","v":0},{"$f":"VLOOKUP(AM77,'Fruchtfolge Tabellen'!$E$3:$Q$231,6,FALSE)*(AN77/1000)","v":0},{"$f":"VLOOKUP(AM77,'Fruchtfolge Tabellen'!$E$3:$Q$231,7,FALSE)*(AN77/1000)","v":0},{"$f":"VLOOKUP(AM77,'Fruchtfolge Tabellen'!$E$3:$Q$231,8,FALSE)*(AN77/1000)","v":0},{"$f":"VLOOKUP(AM77,'Fruchtfolge Tabellen'!$E$3:$Q$231,9,FALSE)*(AN77/1000)","v":0},{"$f":"VLOOKUP(AM77,'Fruchtfolge Tabellen'!$E$3:$Q$231,10,FALSE)*(AN77/1000)","v":0},{"$f":"VLOOKUP(AM77,'Fruchtfolge Tabellen'!$E$3:$Q$231,11,FALSE)*(AN77/1000)","v":0},{"$f":"VLOOKUP(AM77,'Fruchtfolge Tabellen'!$E$3:$Q$231,12,FALSE)*(AN77/1000)","v":0},{"$f":"VLOOKUP(AM77,'Fruchtfolge Tabellen'!$E$3:$Q$231,13,FALSE)*(AN77/1000)","v":0},0,0,0,0,0,0,0,0,0,0,0]
["Bitte wählen:",{"$nulls":13},{"$f":"VLOOKUP(A78,'Fruchtfolge Tabellen'!$B$3:$E$231,4,FALSE)","v":0},0,{"$f":"VLOOKUP(O78,'Fruchtfolge Tabellen'!$E$3:$Q$231,4,FALSE)*(P78/1000)","v":0},{"$f":"VLOOKUP(O78,'Fruchtfolge Tabellen'!$E$3:$Q$231,5,FALSE)*(P78/1000)","v":0},{"$f":"VLOOKUP(O78,'Fruchtfolge Tabellen'!$E$3:$Q$231,6,FALSE)*(P78/1000)","v":0},{"$f":"VLOOKUP(O78,'Fruchtfolge Tabellen'!$E$3:$Q$231,7,FALSE)*(P78/1000)","v":0},{"$f":"VLOOKUP(O78,'Fruchtfolge Tabellen'!$E$3:$Q$231,8,FALSE)*(P78/1000)","v":0},{"$f":"VLOOKUP(O78,'Fruchtfolge Tabellen'!$E$3:$Q$231,9,FALSE)*(P78/1000)","v":0},{"$f":"VLOOKUP(O78,'Fruchtfolge Tabellen'!$E$3:$Q$231,10,FALSE)*(P78/1000)","v":0},{"$f":"VLOOKUP(O78,'Fruchtfolge Tabellen'!$E$3:$Q$231,11,FALSE)*(P78/1000)","v":0},{"$f":"VLOOKUP(O78,'Fruchtfolge Tabellen'!$E$3:$Q$231,12,FALSE)*(P78/1000)","v":0},{"$f":"VLOOKUP(O78,'Fruchtfolge Tabellen'!$E$3:$Q$231,13,FALSE)*(P78/1000)","v":0},{"$f":"VLOOKUP(A78,'Fruchtfolge Tabellen'!$B$3:$E$231,4,FALSE)","v":0},0,{"$f":"VLOOKUP(AA78,'Fruchtfolge Tabellen'!$E$3:$Q$231,4,FALSE)*(AB78/1000)","v":0},{"$f":"VLOOKUP(AA78,'Fruchtfolge Tabellen'!$E$3:$Q$231,5,FALSE)*(AB78/1000)","v":0},{"$f":"VLOOKUP(AA78,'Fruchtfolge Tabellen'!$E$3:$Q$231,6,FALSE)*(AB78/1000)","v":0},{"$f":"VLOOKUP(AA78,'Fruchtfolge Tabellen'!$E$3:$Q$231,7,FALSE)*(AB78/1000)","v":0},{"$f":"VLOOKUP(AA78,'Fruchtfolge Tabellen'!$E$3:$Q$231,8,FALSE)*(AB78/1000)","v":0},{"$f":"VLOOKUP(AA78,'Fruchtfolge Tabellen'!$E$3:$Q$231,9,FALSE)*(AB78/1000)","v":0},{"$f":"VLOOKUP(AA78,'Fruchtfolge Tabellen'!$E$3:$Q$231,10,FALSE)*(AB78/1000)","v":0},{"$f":"VLOOKUP(AA78,'Fruchtfolge Tabellen'!$E$3:$Q$231,11,FALSE)*(AB78/1000)","v":0},{"$f":"VLOOKUP(AA78,'Fruchtfolge Tabellen'!$E$3:$Q$231,12,FALSE)*(AB78/1000)","v":0},{"$f":"VLOOKUP(AA78,'Fruchtfolge Tabellen'!$E$3:$Q$231,13,FALSE)*(AB78/1000)","v":0},{"$f":"VLOOKUP(A78,'Fruchtfolge Tabellen'!$B$3:$E$231,4,FALSE)","v":0},0,{"$f":"VLOOKUP(AM78,'Fruchtfolge Tabellen'!$E$3:$Q$231,4,FALSE)*(AN78/1000)","v":0},{"$f":"VLOOKUP(AM78,'Fruchtfolge Tabellen'!$E$3:$Q$231,5,FALSE)*(AN78/1000)","v":0},{"$f":"VLOOKUP(AM78,'Fruchtfolge Tabellen'!$E$3:$Q$231,6,FALSE)*(AN78/1000)","v":0},{"$f":"VLOOKUP(AM78,'Fruchtfolge Tabellen'!$E$3:$Q$231,7,FALSE)*(AN78/1000)","v":0},{"$f":"VLOOKUP(AM78,'Fruchtfolge Tabellen'!$E$3:$Q$231,8,FALSE)*(AN78/1000)","v":0},{"$f":"VLOOKUP(AM78,'Fruchtfolge Tabellen'!$E$3:$Q$231,9,FALSE)*(AN78/1000)","v":0},{"$f":"VLOOKUP(AM78,'Fruchtfolge Tabellen'!$E$3:$Q$231,10,FALSE)*(AN78/1000)","v":0},{"$f":"VLOOKUP(AM78,'Fruchtfolge Tabellen'!$E$3:$Q$231,11,FALSE)*(AN78/1000)","v":0},{"$f":"VLOOKUP(AM78,'Fruchtfolge Tabellen'!$E$3:$Q$231,12,FALSE)*(AN78/1000)","v":0},{"$f":"VLOOKUP(AM78,'Fruchtfolge Tabellen'!$E$3:$Q$231,13,FALSE)*(AN78/1000)","v":0},0,0,0,0,0,0,0,0,0,0,0]
["Bitte wählen:",{"$nulls":13},{"$f":"VLOOKUP(A79,'Fruchtfolge Tabellen'!$B$3:$E$231,4,FALSE)","v":0},0,{"$f":"VLOOKUP(O79,'Fruchtfolge Tabellen'!$E$3:$Q$231,4,FALSE)*(P79/1000)","v":0},{"$f":"VLOOKUP(O79,'Fruchtfolge Tabellen'!$E$3:$Q$231,5,FALSE)*(P79/1000)","v":0},{"$f":"VLOOKUP(O79,'Fruchtfolge Tabellen'!$E$3:$Q$231,6,FALSE)*(P79/1000)","v":0},{"$f":"VLOOKUP(O79,'Fruchtfolge Tabellen'!$E$3:$Q$231,7,FALSE)*(P79/1000)","v":0},{"$f":"VLOOKUP(O79,'Fruchtfolge Tabellen'!$E$3:$Q$231,8,FALSE)*(P79/1000)","v":0},{"$f":"VLOOKUP(O79,'Fruchtfolge Tabellen'!$E$3:$Q$231,9,FALSE)*(P79/1000)","v":0},{"$f":"VLOOKUP(O79,'Fruchtfolge Tabellen'!$E$3:$Q$231,10,FALSE)*(P79/1000)","v":0},{"$f":"VLOOKUP(O79,'Fruchtfolge Tabellen'!$E$3:$Q$231,11,FALSE)*(P79/1000)","v":0},{"$f":"VLOOKUP(O79,'Fruchtfolge Tabellen'!$E$3:$Q$231,12,FALSE)*(P79/1000)","v":0},{"$f":"VLOOKUP(O79,'Fruchtfolge Tabellen'!$E$3:$Q$231,13,FALSE)*(P79/1000)","v":0},{"$f":"VLOOKUP(A79,'Fruchtfolge Tabellen'!$B$3:$E$231,4,FALSE)","v":0},0,{"$f":"VLOOKUP(AA79,'Fruchtfolge Tabellen'!$E$3:$Q$231,4,FALSE)*(AB79/1000)","v":0},{"$f":"VLOOKUP(AA79,'Fruchtfolge Tabellen'!$E$3:$Q$231,5,FALSE)*(AB79/1000)","v":0},{"$f":"VLOOKUP(AA79,'Fruchtfolge Tabellen'!$E$3:$Q$231,6,FALSE)*(AB79/1000)","v":0},{"$f":"VLOOKUP(AA79,'Fruchtfolge Tabellen'!$E$3:$Q$231,7,FALSE)*(AB79/1000)","v":0},{"$f":"VLOOKUP(AA79,'Fruchtfolge Tabellen'!$E$3:$Q$231,8,FALSE)*(AB79/1000)","v":0},{"$f":"VLOOKUP(AA79,'Fruchtfolge Tabellen'!$E$3:$Q$231,9,FALSE)*(AB79/1000)","v":0},{"$f":"VLOOKUP(AA79,'Fruchtfolge Tabellen'!$E$3:$Q$231,10,FALSE)*(AB79/1000)","v":0},{"$f":"VLOOKUP(AA79,'Fruchtfolge Tabellen'!$E$3:$Q$231,11,FALSE)*(AB79/1000)","v":0},{"$f":"VLOOKUP(AA79,'Fruchtfolge Tabellen'!$E$3:$Q$231,12,FALSE)*(AB79/1000)","v":0},{"$f":"VLOOKUP(AA79,'Fruchtfolge Tabellen'!$E$3:$Q$231,13,FALSE)*(AB79/1000)","v":0},{"$f":"VLOOKUP(A79,'Fruchtfolge Tabellen'!$B$3:$E$231,4,FALSE)","v":0},0,{"$f":"VLOOKUP(AM79,'Fruchtfolge Tabellen'!$E$3:$Q$231,4,FALSE)*(AN79/1000)","v":0},{"$f":"VLOOKUP(AM79,'Fruchtfolge Tabellen'!$E$3:$Q$231,5,FALSE)*(AN79/1000)","v":0},{"$f":"VLOOKUP(AM79,'Fruchtfolge Tabellen'!$E$3:$Q$231,6,FALSE)*(AN79/1000)","v":0},{"$f":"VLOOKUP(AM79,'Fruchtfolge Tabellen'!$E$3:$Q$231,7,FALSE)*(AN79/1000)","v":0},{"$f":"VLOOKUP(AM79,'Fruchtfolge Tabellen'!$E$3:$Q$231,8,FALSE)*(AN79/1000)","v":0},{"$f":"VLOOKUP(AM79,'Fruchtfolge Tabellen'!$E$3:$Q$231,9,FALSE)*(AN79/1000)","v":0},{"$f":"VLOOKUP(AM79,'Fruchtfolge Tabellen'!$E$3:$Q$231,10,FALSE)*(AN79/1000)","v":0},{"$f":"VLOOKUP(AM79,'Fruchtfolge Tabellen'!$E$3:$Q$231,11,FALSE)*(AN79/1000)","v":0},{"$f":"VLOOKUP(AM79,'Fruchtfolge Tabellen'!$E$3:$Q$231,12,FALSE)*(AN79/1000)","v":0},{"$f":"VLOOKUP(AM79,'Fruchtfolge Tabellen'!$E$3:$Q$231,13,FALSE)*(AN79/1000)","v":0},0,0,0,0,0,0,0,0,0,0,0]
["Bitte wählen:",{"$nulls":13},{"$f":"VLOOKUP(A80,'Fruchtfolge Tabellen'!$B$3:$E$231,4,FALSE)","v":0},0,{"$f":"VLOOKUP(O80,'Fruchtfolge Tabellen'!$E$3:$Q$231,4,FALSE)*(P80/1000)","v":0},{"$f":"VLOOKUP(O80,'Fruchtfolge Tabellen'!$E$3:$Q$231,5,FALSE)*(P80/1000)","v":0},{"$f":"VLOOKUP(O80,'Fruchtfolge Tabellen'!$E$3:$Q$231,6,FALSE)*(P80/1000)","v":0},{"$f":"VLOOKUP(O80,'Fruchtfolge Tabellen'!$E$3:$Q$231,7,FALSE)*(P80/1000)","v":0},{"$f":"VLOOKUP(O80,'Fruchtfolge Tabellen'!$E$3:$Q$231,8,FALSE)*(P80/1000)","v":0},{"$f":"VLOOKUP(O80,'Fruchtfolge Tabellen'!$E$3:$Q$231,9,FALSE)*(P80/1000)","v":0},{"$f":"VLOOKUP(O80,'Fruchtfolge Tabellen'!$E$3:$Q$231,10,FALSE)*(P80/1000)","v":0},{"$f":"VLOOKUP(O80,'Fruchtfolge Tabellen'!$E$3:$Q$231,11,FALSE)*(P80/1000)","v":0},{"$f":"VLOOKUP(O80,'Fruchtfolge Tabellen'!$E$3:$Q$231,12,FALSE)*(P80/1000)","v":0},{"$f":"VLOOKUP(O80,'Fruchtfolge Tabellen'!$E$3:$Q$231,13,FALSE)*(P80/1000)","v":0},{"$f":"VLOOKUP(A80,'Fruchtfolge Tabellen'!$B$3:$E$231,4,FALSE)","v":0},0,{"$f":"VLOOKUP(AA80,'Fruchtfolge Tabellen'!$E$3:$Q$231,4,FALSE)*(AB80/1000)","v":0},{"$f":"VLOOKUP(AA80,'Fruchtfolge Tabellen'!$E$3:$Q$231,5,FALSE)*(AB80/1000)","v":0},{"$f":"VLOOKUP(AA80,'Fruchtfolge Tabellen'!$E$3:$Q$231,6,FALSE)*(AB80/1000)","v":0},{"$f":"VLOOKUP(AA80,'Fruchtfolge Tabellen'!$E$3:$Q$231,7,FALSE)*(AB80/1000)","v":0},{"$f":"VLOOKUP(AA80,'Fruchtfolge Tabellen'!$E$3:$Q$231,8,FALSE)*(AB80/1000)","v":0},{"$f":"VLOOKUP(AA80,'Fruchtfolge Tabellen'!$E$3:$Q$231,9,FALSE)*(AB80/1000)","v":0},{"$f":"VLOOKUP(AA80,'Fruchtfolge Tabellen'!$E$3:$Q$231,10,FALSE)*(AB80/1000)","v":0},{"$f":"VLOOKUP(AA80,'Fruchtfolge Tabellen'!$E$3:$Q$231,11,FALSE)*(AB80/1000)","v":0},{"$f":"VLOOKUP(AA80,'Fruchtfolge Tabellen'!$E$3:$Q$231,12,FALSE)*(AB80/1000)","v":0},{"$f":"VLOOKUP(AA80,'Fruchtfolge Tabellen'!$E$3:$Q$231,13,FALSE)*(AB80/1000)","v":0},{"$f":"VLOOKUP(A80,'Fruchtfolge Tabellen'!$B$3:$E$231,4,FALSE)","v":0},0,{"$f":"VLOOKUP(AM80,'Fruchtfolge Tabellen'!$E$3:$Q$231,4,FALSE)*(AN80/1000)","v":0},{"$f":"VLOOKUP(AM80,'Fruchtfolge Tabellen'!$E$3:$Q$231,5,FALSE)*(AN80/1000)","v":0},{"$f":"VLOOKUP(AM80,'Fruchtfolge Tabellen'!$E$3:$Q$231,6,FALSE)*(AN80/1000)","v":0},{"$f":"VLOOKUP(AM80,'Fruchtfolge Tabellen'!$E$3:$Q$231,7,FALSE)*(AN80/1000)","v":0},{"$f":"VLOOKUP(AM80,'Fruchtfolge Tabellen'!$E$3:$Q$231,8,FALSE)*(AN80/1000)","v":0},{"$f":"VLOOKUP(AM80,'Fruchtfolge Tabellen'!$E$3:$Q$231,9,FALSE)*(AN80/1000)","v":0},{"$f":"VLOOKUP(AM80,'Fruchtfolge Tabellen'!$E$3:$Q$231,10,FALSE)*(AN80/1000)","v":0},{"$f":"VLOOKUP(AM80,'Fruchtfolge Tabellen'!$E$3:$Q$231,11,FALSE)*(AN80/1000)","v":0},{"$f":"VLOOKUP(AM80,'Fruchtfolge Tabellen'!$E$3:$Q$231,12,FALSE)*(AN80/1000)","v":0},{"$f":"VLOOKUP(AM80,'Fruchtfolge Tabellen'!$E$3:$Q$231,13,FALSE)*(AN80/1000)","v":0},0,0,0,0,0,0,0,0,0,0,0]
["Bitte wählen:",{"$nulls":13},{"$f":"VLOOKUP(A81,'Fruchtfolge Tabellen'!$B$3:$E$231,4,FALSE)","v":0},{"$f":"B81*1000","v":0},{"$f":"VLOOKUP(O81,'Fruchtfolge Tabellen'!$E$3:$Q$231,4,FALSE)*(P81/1000)","v":0},{"$f":"VLOOKUP(O81,'Fruchtfolge Tabellen'!$E$3:$Q$231,5,FALSE)*(P81/1000)","v":0},{"$f":"VLOOKUP(O81,'Fruchtfolge Tabellen'!$E$3:$Q$231,6,FALSE)*(P81/1000)","v":0},{"$f":"VLOOKUP(O81,'Fruchtfolge Tabellen'!$E$3:$Q$231,7,FALSE)*(P81/1000)","v":0},{"$f":"VLOOKUP(O81,'Fruchtfolge Tabellen'!$E$3:$Q$231,8,FALSE)*(P81/1000)","v":0},{"$f":"VLOOKUP(O81,'Fruchtfolge Tabellen'!$E$3:$Q$231,9,FALSE)*(P81/1000)","v":0},{"$f":"VLOOKUP(O81,'Fruchtfolge Tabellen'!$E$3:$Q$231,10,FALSE)*(P81/1000)","v":0},{"$f":"VLOOKUP(O81,'Fruchtfolge Tabellen'!$E$3:$Q$231,11,FALSE)*(P81/1000)","v":0},{"$f":"VLOOKUP(O81,'Fruchtfolge Tabellen'!$E$3:$Q$231,12,FALSE)*(P81/1000)","v":0},{"$f":"VLOOKUP(O81,'Fruchtfolge Tabellen'!$E$3:$Q$231,13,FALSE)*(P81/1000)","v":0},{"$f":"VLOOKUP(A81,'Fruchtfolge Tabellen'!$B$3:$E$231,4,FALSE)","v":0},0,{"$f":"VLOOKUP(AA81,'Fruchtfolge Tabellen'!$E$3:$Q$231,4,FALSE)*(AB81/1000)","v":0},{"$f":"VLOOKUP(AA81,'Fruchtfolge Tabellen'!$E$3:$Q$231,5,FALSE)*(AB81/1000)","v":0},{"$f":"VLOOKUP(AA81,'Fruchtfolge Tabellen'!$E$3:$Q$231,6,FALSE)*(AB81/1000)","v":0},{"$f":"VLOOKUP(AA81,'Fruchtfolge Tabellen'!$E$3:$Q$231,7,FALSE)*(AB81/1000)","v":0},{"$f":"VLOOKUP(AA81,'Fruchtfolge Tabellen'!$E$3:$Q$231,8,FALSE)*(AB81/1000)","v":0},{"$f":"VLOOKUP(AA81,'Fruchtfolge Tabellen'!$E$3:$Q$231,9,FALSE)*(AB81/1000)","v":0},{"$f":"VLOOKUP(AA81,'Fruchtfolge Tabellen'!$E$3:$Q$231,10,FALSE)*(AB81/1000)","v":0},{"$f":"VLOOKUP(AA81,'Fruchtfolge Tabellen'!$E$3:$Q$231,11,FALSE)*(AB81/1000)","v":0},{"$f":"VLOOKUP(AA81,'Fruchtfolge Tabellen'!$E$3:$Q$231,12,FALSE)*(AB81/1000)","v":0},{"$f":"VLOOKUP(AA81,'Fruchtfolge Tabellen'!$E$3:$Q$231,13,FALSE)*(AB81/1000)","v":0},{"$f":"VLOOKUP(A81,'Fruchtfolge Tabellen'!$B$3:$E$231,4,FALSE)","v":0},0,{"$f":"VLOOKUP(AM81,'Fruchtfolge Tabellen'!$E$3:$Q$231,4,FALSE)*(AN81/1000)","v":0},{"$f":"VLOOKUP(AM81,'Fruchtfolge Tabellen'!$E$3:$Q$231,5,FALSE)*(AN81/1000)","v":0},{"$f":"VLOOKUP(AM81,'Fruchtfolge Tabellen'!$E$3:$Q$231,6,FALSE)*(AN81/1000)","v":0},{"$f":"VLOOKUP(AM81,'Fruchtfolge Tabellen'!$E$3:$Q$231,7,FALSE)*(AN81/1000)","v":0},{"$f":"VLOOKUP(AM81,'Fruchtfolge Tabellen'!$E$3:$Q$231,8,FALSE)*(AN81/1000)","v":0},{"$f":"VLOOKUP(AM81,'Fruchtfolge Tabellen'!$E$3:$Q$231,9,FALSE)*(AN81/1000)","v":0},{"$f":"VLOOKUP(AM81,'Fruchtfolge Tabellen'!$E$3:$Q$231,10,FALSE)*(AN81/1000)","v":0},{"$f":"VLOOKUP(AM81,'Fruchtfolge Tabellen'!$E$3:$Q$231,11,FALSE)*(AN81/1000)","v":0},{"$f":"VLOOKUP(AM81,'Fruchtfolge Tabellen'!$E$3:$Q$231,12,FALSE)*(AN81/1000)","v":0},{"$f":"VLOOKUP(AM81,'Fruchtfolge Tabellen'!$E$3:$Q$231,13,FALSE)*(AN81/1000)","v":0},{"$f":"AVERAGE(P81,AB81,AN81)","v":0},0,0,0,0,0,0,0,0,0,0]
["Bitte wählen:",{"$nulls":13},{"$f":"VLOOKUP(A82,'Fruchtfolge Tabellen'!$B$3:$E$231,4,FALSE)","v":0},0,{"$f":"VLOOKUP(O82,'Fruchtfolge Tabellen'!$E$3:$Q$231,4,FALSE)*(P82/1000)","v":0},{"$f":"VLOOKUP(O82,'Fruchtfolge Tabellen'!$E$3:$Q$231,5,FALSE)*(P82/1000)","v":0},{"$f":"VLOOKUP(O82,'Fruchtfolge Tabellen'!$E$3:$Q$231,6,FALSE)*(P82/1000)","v":0},{"$f":"VLOOKUP(O82,'Fruchtfolge Tabellen'!$E$3:$Q$231,7,FALSE)*(P82/1000)","v":0},{"$f":"VLOOKUP(O82,'Fruchtfolge Tabellen'!$E$3:$Q$231,8,FALSE)*(P82/1000)","v":0},{"$f":"VLOOKUP(O82,'Fruchtfolge Tabellen'!$E$3:$Q$231,9,FALSE)*(P82/1000)","v":0},{"$f":"VLOOKUP(O82,'Fruchtfolge Tabellen'!$E$3:$Q$231,10,FALSE)*(P82/1000)","v":0},{"$f":"VLOOKUP(O82,'Fruchtfolge Tabellen'!$E$3:$Q$231,11,FALSE)*(P82/1000)","v":0},{"$f":"VLOOKUP(O82,'Fruchtfolge Tabellen'!$E$3:$Q$231,12,FALSE)*(P82/1000)","v":0},{"$f":"VLOOKUP(O82,'Fruchtfolge Tabellen'!$E$3:$Q$231,13,FALSE)*(P82/1000)","v":0},{"$f":"VLOOKUP(A82,'Fruchtfolge Tabellen'!$B$3:$E$231,4,FALSE)","v":0},0,{"$f":"VLOOKUP(AA82,'Fruchtfolge Tabellen'!$E$3:$Q$231,4,FALSE)*(AB82/1000)","v":0},{"$f":"VLOOKUP(AA82,'Fruchtfolge Tabellen'!$E$3:$Q$231,5,FALSE)*(AB82/1000)","v":0},{"$f":"VLOOKUP(AA82,'Fruchtfolge Tabellen'!$E$3:$Q$231,6,FALSE)*(AB82/1000)","v":0},{"$f":"VLOOKUP(AA82,'Fruchtfolge Tabellen'!$E$3:$Q$231,7,FALSE)*(AB82/1000)","v":0},{"$f":"VLOOKUP(AA82,'Fruchtfolge Tabellen'!$E$3:$Q$231,8,FALSE)*(AB82/1000)","v":0},{"$f":"VLOOKUP(AA82,'Fruchtfolge Tabellen'!$E$3:$Q$231,9,FALSE)*(AB82/1000)","v":0},{"$f":"VLOOKUP(AA82,'Fruchtfolge Tabellen'!$E$3:$Q$231,10,FALSE)*(AB82/1000)","v":0},{"$f":"VLOOKUP(AA82,'Fruchtfolge Tabellen'!$E$3:$Q$231,11,FALSE)*(AB82/1000)","v":0},{"$f":"VLOOKUP(AA82,'Fruchtfolge Tabellen'!$E$3:$Q$231,12,FALSE)*(AB82/1000)","v":0},{"$f":"VLOOKUP(AA82,'Fruchtfolge Tabellen'!$E$3:$Q$231,13,FALSE)*(AB82/1000)","v":0},{"$f":"VLOOKUP(A82,'Fruchtfolge Tabellen'!$B$3:$E$231,4,FALSE)","v":0},0,{"$f":"VLOOKUP(AM82,'Fruchtfolge Tabellen'!$E$3:$Q$231,4,FALSE)*(AN82/1000)","v":0},{"$f":"VLOOKUP(AM82,'Fruchtfolge Tabellen'!$E$3:$Q$231,5,FALSE)*(AN82/1000)","v":0},{"$f":"VLOOKUP(AM82,'Fruchtfolge Tabellen'!$E$3:$Q$231,6,FALSE)*(AN82/1000)","v":0},{"$f":"VLOOKUP(AM82,'Fruchtfolge Tabellen'!$E$3:$Q$231,7,FALSE)*(AN82/1000)","v":0},{"$f":"VLOOKUP(AM82,'Fruchtfolge Tabellen'!$E$3:$Q$231,8,FALSE)*(AN82/1000)","v":0},{"$f":"VLOOKUP(AM82,'Fruchtfolge Tabellen'!$E$3:$Q$231,9,FALSE)*(AN82/1000)","v":0},{"$f":"VLOOKUP(AM82,'Fruchtfolge Tabellen'!$E$3:$Q$231,10,FALSE)*(AN82/1000)","v":0},{"$f":"VLOOKUP(AM82,'Fruchtfolge Tabellen'!$E$3:$Q$231,11,FALSE)*(AN82/1000)","v":0},{"$f":"VLOOKUP(AM82,'Fruchtfolge Tabellen'!$E$3:$Q$231,12,FALSE)*(AN82/1000)","v":0},{"$f":"VLOOKUP(AM82,'Fruchtfolge Tabellen'!$E$3:$Q$231,13,FALSE)*(AN82/1000)","v":0},0,0,0,0,0,0,0,0,0,0,0]
["Bitte wählen:",{"$nulls":13},{"$f":"VLOOKUP(A83,'Fruchtfolge Tabellen'!$B$3:$E$231,4,FALSE)","v":0},0,{"$f":"VLOOKUP(O83,'Fruchtfolge Tabellen'!$E$3:$Q$231,4,FALSE)*(P83/1000)","v":0},{"$f":"VLOOKUP(O83,'Fruchtfolge Tabellen'!$E$3:$Q$231,5,FALSE)*(P83/1000)","v":0},{"$f":"VLOOKUP(O83,'Fruchtfolge Tabellen'!$E$3:$Q$231,6,FALSE)*(P83/1000)","v":0},{"$f":"VLOOKUP(O83,'Fruchtfolge Tabellen'!$E$3:$Q$231,7,FALSE)*(P83/1000)","v":0},{"$f":"VLOOKUP(O83,'Fruchtfolge Tabellen'!$E$3:$Q$231,8,FALSE)*(P83/1000)","v":0},{"$f":"VLOOKUP(O83,'Fruchtfolge Tabellen'!$E$3:$Q$231,9,FALSE)*(P83/1000)","v":0},{"$f":"VLOOKUP(O83,'Fruchtfolge Tabellen'!$E$3:$Q$231,10,FALSE)*(P83/1000)","v":0},{"$f":"VLOOKUP(O83,'Fruchtfolge Tabellen'!$E$3:$Q$231,11,FALSE)*(P83/1000)","v":0},{"$f":"VLOOKUP(O83,'Fruchtfolge Tabellen'!$E$3:$Q$231,12,FALSE)*(P83/1000)","v":0},{"$f":"VLOOKUP(O83,'Fruchtfolge Tabellen'!$E$3:$Q$231,13,FALSE)*(P83/1000)","v":0},{"$f":"VLOOKUP(A83,'Fruchtfolge Tabellen'!$B$3:$E$231,4,FALSE)","v":0},0,{"$f":"VLOOKUP(AA83,'Fruchtfolge Tabellen'!$E$3:$Q$231,4,FALSE)*(AB83/1000)","v":0},{"$f":"VLOOKUP(AA83,'Fruchtfolge Tabellen'!$E$3:$Q$231,5,FALSE)*(AB83/1000)","v":0},{"$f":"VLOOKUP(AA83,'Fruchtfolge Tabellen'!$E$3:$Q$231,6,FALSE)*(AB83/1000)","v":0},{"$f":"VLOOKUP(AA83,'Fruchtfolge Tabellen'!$E$3:$Q$231,7,FALSE)*(AB83/1000)","v":0},{"$f":"VLOOKUP(AA83,'Fruchtfolge Tabellen'!$E$3:$Q$231,8,FALSE)*(AB83/1000)","v":0},{"$f":"VLOOKUP(AA83,'Fruchtfolge Tabellen'!$E$3:$Q$231,9,FALSE)*(AB83/1000)","v":0},{"$f":"VLOOKUP(AA83,'Fruchtfolge Tabellen'!$E$3:$Q$231,10,FALSE)*(AB83/1000)","v":0},{"$f":"VLOOKUP(AA83,'Fruchtfolge Tabellen'!$E$3:$Q$231,11,FALSE)*(AB83/1000)","v":0},{"$f":"VLOOKUP(AA83,'Fruchtfolge Tabellen'!$E$3:$Q$231,12,FALSE)*(AB83/1000)","v":0},{"$f":"VLOOKUP(AA83,'Fruchtfolge Tabellen'!$E$3:$Q$231,13,FALSE)*(AB83/1000)","v":0},{"$f":"VLOOKUP(A83,'Fruchtfolge Tabellen'!$B$3:$E$231,4,FALSE)","v":0},0,{"$f":"VLOOKUP(AM83,'Fruchtfolge Tabellen'!$E$3:$Q$231,4,FALSE)*(AN83/1000)","v":0},{"$f":"VLOOKUP(AM83,'Fruchtfolge Tabellen'!$E$3:$Q$231,5,FALSE)*(AN83/1000)","v":0},{"$f":"VLOOKUP(AM83,'Fruchtfolge Tabellen'!$E$3:$Q$231,6,FALSE)*(AN83/1000)","v":0},{"$f":"VLOOKUP(AM83,'Fruchtfolge Tabellen'!$E$3:$Q$231,7,FALSE)*(AN83/1000)","v":0},{"$f":"VLOOKUP(AM83,'Fruchtfolge Tabellen'!$E$3:$Q$231,8,FALSE)*(AN83/1000)","v":0},{"$f":"VLOOKUP(AM83,'Fruchtfolge Tabellen'!$E$3:$Q$231,9,FALSE)*(AN83/1000)","v":0},{"$f":"VLOOKUP(AM83,'Fruchtfolge Tabellen'!$E$3:$Q$231,10,FALSE)*(AN83/1000)","v":0},{"$f":"VLOOKUP(AM83,'Fruchtfolge Tabellen'!$E$3:$Q$231,11,FALSE)*(AN83/1000)","v":0},{"$f":"VLOOKUP(AM83,'Fruchtfolge Tabellen'!$E$3:$Q$231,12,FALSE)*(AN83/1000)","v":0},{"$f":"VLOOKUP(AM83,'Fruchtfolge Tabellen'!$E$3:$Q$231,13,FALSE)*(AN83/1000)","v":0},0,0,0,{"$f":"AVERAGE(S83,AE83,AQ83)","v":0},0,0,0,0,0,0,0]
["Bitte wählen:",{"$nulls":13},{"$f":"VLOOKUP(A84,'Fruchtfolge Tabellen'!$B$3:$E$231,4,FALSE)","v":0},0,{"$f":"VLOOKUP(O84,'Fruchtfolge Tabellen'!$E$3:$Q$231,4,FALSE)*(P84/1000)","v":0},{"$f":"VLOOKUP(O84,'Fruchtfolge Tabellen'!$E$3:$Q$231,5,FALSE)*(P84/1000)","v":0},{"$f":"VLOOKUP(O84,'Fruchtfolge Tabellen'!$E$3:$Q$231,6,FALSE)*(P84/1000)","v":0},{"$f":"VLOOKUP(O84,'Fruchtfolge Tabellen'!$E$3:$Q$231,7,FALSE)*(P84/1000)","v":0},{"$f":"VLOOKUP(O84,'Fruchtfolge Tabellen'!$E$3:$Q$231,8,FALSE)*(P84/1000)","v":0},{"$f":"VLOOKUP(O84,'Fruchtfolge Tabellen'!$E$3:$Q$231,9,FALSE)*(P84/1000)","v":0},{"$f":"VLOOKUP(O84,'Fruchtfolge Tabellen'!$E$3:$Q$231,10,FALSE)*(P84/1000)","v":0},{"$f":"VLOOKUP(O84,'Fruchtfolge Tabellen'!$E$3:$Q$231,11,FALSE)*(P84/1000)","v":0},{"$f":"VLOOKUP(O84,'Fruchtfolge Tabellen'!$E$3:$Q$231,12,FALSE)*(P84/1000)","v":0},{"$f":"VLOOKUP(O84,'Fruchtfolge Tabellen'!$E$3:$Q$231,13,FALSE)*(P84/1000)","v":0},{"$f":"VLOOKUP(A84,'Fruchtfolge Tabellen'!$B$3:$E$231,4,FALSE)","v":0},0,{"$f":"VLOOKUP(AA84,'Fruchtfolge Tabellen'!$E$3:$Q$231,4,FALSE)*(AB84/1000)","v":0},{"$f":"VLOOKUP(AA84,'Fruchtfolge Tabellen'!$E$3:$Q$231,5,FALSE)*(AB84/1000)","v":0},{"$f":"VLOOKUP(AA84,'Fruchtfolge Tabellen'!$E$3:$Q$231,6,FALSE)*(AB84/1000)","v":0},{"$f":"VLOOKUP(AA84,'Fruchtfolge Tabellen'!$E$3:$Q$231,7,FALSE)*(AB84/1000)","v":0},{"$f":"VLOOKUP(AA84,'Fruchtfolge Tabellen'!$E$3:$Q$231,8,FALSE)*(AB84/1000)","v":0},{"$f":"VLOOKUP(AA84,'Fruchtfolge Tabellen'!$E$3:$Q$231,9,FALSE)*(AB84/1000)","v":0},{"$f":"VLOOKUP(AA84,'Fruchtfolge Tabellen'!$E$3:$Q$231,10,FALSE)*(AB84/1000)","v":0},{"$f":"VLOOKUP(AA84,'Fruchtfolge Tabellen'!$E$3:$Q$231,11,FALSE)*(AB84/1000)","v":0},{"$f":"VLOOKUP(AA84,'Fruchtfolge Tabellen'!$E$3:$Q$231,12,FALSE)*(AB84/1000)","v":0},{"$f":"VLOOKUP(AA84,'Fruchtfolge Tabellen'!$E$3:$Q$231,13,FALSE)*(AB84/1000)","v":0},{"$f":"VLOOKUP(A84,'Fruchtfolge Tabellen'!$B$3:$E$231,4,FALSE)","v":0},0,{"$f":"VLOOKUP(AM84,'Fruchtfolge Tabellen'!$E$3:$Q$231,4,FALSE)*(AN84/1000)","v":0},{"$f":"VLOOKUP(AM84,'Fruchtfolge Tabellen'!$E$3:$Q$231,5,FALSE)*(AN84/1000)","v":0},{"$f":"VLOOKUP(AM84,'Fruchtfolge Tabellen'!$E$3:$Q$231,6,FALSE)*(AN84/1000)","v":0},{"$f":"VLOOKUP(AM84,'Fruchtfolge Tabellen'!$E$3:$Q$231,7,FALSE)*(AN84/1000)","v":0},{"$f":"VLOOKUP(AM84,'Fruchtfolge Tabellen'!$E$3:$Q$231,8,FALSE)*(AN84/1000)","v":0},{"$f":"VLOOKUP(AM84,'Fruchtfolge Tabellen'!$E$3:$Q$231,9,FALSE)*(AN84/1000)","v":0},{"$f":"VLOOKUP(AM84,'Fruchtfolge Tabellen'!$E$3:$Q$231,10,FALSE)*(AN84/1000)","v":0},{"$f":"VLOOKUP(AM84,'Fruchtfolge Tabellen'!$E$3:$Q$231,11,FALSE)*(AN84/1000)","v":0},{"$f":"VLOOKUP(AM84,'Fruchtfolge Tabellen'!$E$3:$Q$231,12,FALSE)*(AN84/1000)","v":0},{"$f":"VLOOKUP(AM84,'Fruchtfolge Tabellen'!$E$3:$Q$231,13,FALSE)*(AN84/1000)","v":0},0,0,0,0,0,0,0,0,0,0,0]
["SUMME",{"$f":"SUM(B6:B84)","v":0},null,null,{"$f":"SUM(E6:E84)","v":0},null,null,{"$f":"SUM(H6:H84)","v":0},{"$nulls":6},{"$f":"Betriebsdaten!$B$29","v":2022},{"$nulls":11},{"$f":"Betriebsdaten!$B$30","v":2021},{"$nulls":11},{"$f":"Betriebsdaten!$B$31","v":2020},{"$nulls":11},"Durchschnitt"]
["Gesamt Nährstoffoutput ",{"$nulls":13},"Summe",null,"C","N","NH4-N","P2O5","K2O","Ca","MgO","S","Na","Cl","Summe",null,"C","N","NH4-N","P2O5","K2O","Ca","MgO","S","Na","Cl","Summe",null,"C","N","NH4-N","P2O5","K2O","Ca","MgO","S","Na","Cl","Summe","C","N","NH4-N","P2O5","K2O","Ca","MgO","S","Na","Cl"]
[{"$nulls":16},"kg*a-1","kg*a-1","kg*a-1","kg*a-1","kg*a-1","kg*a-1","kg*a-1","kg*a-1","kg*a-1","kg*a-1",null,null,"kg*a-1","kg*a-1","kg*a-1","kg*a-1","kg*a-1","kg*a-1","kg*a-1","kg*a-1","kg*a-1","kg*a-1",null,null,"kg*a-1","kg*a-1","kg*a-1","kg*a-1","kg*a-1","kg*a-1","kg*a-1","kg*a-1","kg*a-1","kg*a-1",null,"kg*a-1","kg*a-1","kg*a-1","kg*a-1","kg*a-1","kg*a-1","kg*a-1","kg*a-1","kg*a-1","kg*a-1"]
[]
[{"$nulls":16},{"$f":"SUM(Q6:Q84)","v":0},{"$f":"SUM(R6:R84)","v":0},0,0,0,0,0,0,0,0,null,null,{"$f":"SUM(AC6:AC84)","v":0},{"$f":"SUM(AD6:AD84)","v":0},0,0,0,0,0,0,0,0,null,null,{"$f":"SUM(AO6:AO84)","v":0},{"$f":"SUM(AP6:AP84)","v":0},0,0,0,0,0,0,0,0,null,{"$f":"SUM(AZ6:AZ84)","v":0},{"$f":"SUM(BA6:BA84)","v":0},0,0,0,0,0,0,0,0]

{"sheet":"Fu-Mi; Biogassub. Verk.","index":13,"n_rows":17,"n_cols":58,"rows_kept":17,"merged":[[0,0,0,9],[1,0,1,9],[2,1,2,3],[2,4,2,6],[2,7,2,9],[2,11,2,22],[2,23,2,34],[2,35,2,46],[2,47,2,57],[3,11,4,11],[3,12,4,12],[3,23,4,23],[3,24,4,24],[3,35,4,35],[3,36,4,36],[3,47,4,47],[13,0,16,10],[13,11,13,22],[13,23,13,34],[13,35,13,46],[13,47,13,57],[14,11,16,12],[14,23,16,24],[14,35,16,36],[14,47,16,47]]}
["A.12 Nährstoffoutputs"]
["A12.1 Nährstoffabfuhr Bitte geben Sie alle Nährstoffoutputs durch Verkauf von Futtermitteln und Biogassubstrat, sowie Sonstigen Pflanzlichen Produkten an. Sollten eigene Untersuchungsergebnisse zu Nährstoffergebnissen vorliegen, rechnen wir gerne mit betriebspezifischen Daten. (N-Gehalt [kg/t FM], TS-Gehalt* %, P2O5-Gehalt* [kg/t FM], K2O-Gehalt* [kg/t FM], MgO-Gehalt* [kg/t FM], CaO-Gehalt* [kg/t FM], Grobfutter)"]
["Futtermittel / Biogassubstrat",{"$f":"Betriebsdaten!$B$29","v":2022},null,null,{"$f":"Betriebsdaten!$B$30","v":2021},null,null,{"$f":"Betriebsdaten!$B$31","v":2020},{"$nulls":3},{"$f":"Betriebsdaten!$B$29","v":2022},{"$nulls":11},{"$f":"Betriebsdaten!$B$30","v":2021},{"$nulls":11},{"$f":"Betriebsdaten!$B$31","v":2020},{"$nulls":11},"Durchschnitt"]
[null,null,"Menge ","Bemerkung",null,"Menge ","Bemerkung",null,"Menge ","Bemerkung",null,"Code","Menge (kg)","C","N","NH4-N","P2O5","K2O","Ca","MgO","S","Na","Cl","Code","Menge (kg)","C","N","NH4-N","P2O5","K2O","Ca","MgO","S","Na","Cl","Code","Menge (kg)","C","N","NH4-N","P2O5","K2O","Ca","MgO","S","Na","Cl","Menge (kg)","C","N","NH4-N","P2O5","K2O","Ca","MgO","S","Na","Cl"]
[{"$f":"HYPERLINK(\"#Futtermitteltabelle!B173\",\"eigene Futtermittel hinzufügen\")","v":"eigene Futtermittel hinzufügen"},null,"t",null,null,"t",null,null,"t",{"$nulls":4},"kg*a-1","kg*a-1","kg*a-1","kg*a-1","kg*a-1","kg*a-1","kg*a-1","kg*a-1","kg*a-1","kg*a-1",null,null,"kg*a-1","kg*a-1","kg*a-1","kg*a-1","kg*a-1","kg*a-1","kg*a-1","kg*a-1","kg*a-1","kg*a-1",null,null,"kg*a-1","kg*a-1","kg*a-1","kg*a-1","kg*a-1","kg*a-1","kg*a-1","kg*a-1","kg*a-1","kg*a-1",null,"kg*a-1","kg*a-1","kg*a-1","kg*a-1","kg*a-1","kg*a-1","kg*a-1","kg*a-1","kg*a-1","kg*a-1"]
["Bitte wählen:",{"$nulls":10},{"$f":"VLOOKUP(A6,Futtermitteltabelle!$B$3:$E$193,4,FALSE)","v":0},{"$f":"C6*1000","v":0},{"$f":"VLOOKUP(L6,Futtermitteltabelle!$E$3:$R$193,5,FALSE)*(M6/1000)","v":0},{"$f":"VLOOKUP(L6,Futtermitteltabelle!$E$3:$R$193,6,FALSE)*(M6/1000)","v":0},{"$f":"VLOOKUP(L6,Futtermitteltabelle!$E$3:$R$193,7,FALSE)*(M6/1000)","v":0},{"$f":"VLOOKUP(L6,Futtermitteltabelle!$E$3:$R$193,8,FALSE)*(M6/1000)","v":0},{"$f":"VLOOKUP(L6,Futtermitteltabelle!$E$3:$R$193,9,FALSE)*(M6/1000)","v":0},{"$f":"VLOOKUP(L6,Futtermitteltabelle!$E$3:$R$193,10,FALSE)*(M6/1000)","v":0},{"$f":"VLOOKUP(L6,Futtermitteltabelle!$E$3:$R$193,11,FALSE)*(M6/1000)","v":0},{"$f":"VLOOKUP(L6,Futtermitteltabelle!$E$3:$R$193,12,FALSE)*(M6/1000)","v":0},{"$f":"VLOOKUP(L6,Futtermitteltabelle!$E$3:$R$193,13,FALSE)*(M6/1000)","v":0},{"$f":"VLOOKUP(L6,Futtermitteltabelle!$E$3:$R$193,14,FALSE)*(M6/1000)","v":0},{"$f":"VLOOKUP(A6,Futtermitteltabelle!$B$3:$E$193,4,FALSE)","v":0},{"$f":"F6*1000","v":0},{"$f":"VLOOKUP(X6,Futtermitteltabelle!$E$3:$R$193,5,FALSE)*(Y6/1000)","v":0},{"$f":"VLOOKUP(X6,Futtermitteltabelle!$E$3:$R$193,6,FALSE)*(Y6/1000)","v":0},{"$f":"VLOOKUP(X6,Futtermitteltabelle!$E$3:$R$193,7,FALSE)*(Y6/1000)","v":0},{"$f":"VLOOKUP(X6,Futtermitteltabelle!$E$3:$R$193,8,FALSE)*(Y6/1000)","v":0},{"$f":"VLOOKUP(X6,Futtermitteltabelle!$E$3:$R$193,9,FALSE)*(Y6/1000)","v":0},{"$f":"VLOOKUP(X6,Futtermitteltabelle!$E$3:$R$193,10,FALSE)*(Y6/1000)","v":0},{"$f":"VLOOKUP(X6,Futtermitteltabelle!$E$3:$R$193,11,FALSE)*(Y6/1000)","v":0},{"$f":"VLOOKUP(X6,Futtermitteltabelle!$E$3:$R$193,12,FALSE)*(Y6/1000)","v":0},{"$f":"VLOOKUP(X6,Futtermitteltabelle!$E$3:$R$193,13,FALSE)*(Y6/1000)","v":0},{"$f":"VLOOKUP(X6,Futtermitteltabelle!$E$3:$R$193,14,FALSE)*(Y6/1000)","v":0},{"$f":"VLOOKUP(A6,Futtermitteltabelle!$B$3:$E$193,4,FALSE)","v":0},{"$f":"I6*1000","v":0},{"$f":"VLOOKUP(AJ6,Futtermitteltabelle!$E$3:$R$193,5,FALSE)*(AK6/1000)","v":0},{"$f":"VLOOKUP(AJ6,Futtermitteltabelle!$E$3:$R$193,6,FALSE)*(AK6/1000)","v":0},{"$f":"VLOOKUP(AJ6,Futtermitteltabelle!$E$3:$R$193,7,FALSE)*(AK6/1000)","v":0},{"$f":"VLOOKUP(AJ6,Futtermitteltabelle!$E$3:$R$193,8,FALSE)*(AK6/1000)","v":0},{"$f":"VLOOKUP(AJ6,Futtermitteltabelle!$E$3:$R$193,9,FALSE)*(AK6/1000)","v":0},{"$f":"VLOOKUP(AJ6,Futtermitteltabelle!$E$3:$R$193,10,FALSE)*(AK6/1000)","v":0},{"$f":"VLOOKUP(AJ6,Futtermitteltabelle!$E$3:$R$193,11,FALSE)*(AK6/1000)","v":0},{"$f":"VLOOKUP(AJ6,Futtermitteltabelle!$E$3:$R$193,12,FALSE)*(AK6/1000)","v":0},{"$f":"VLOOKUP(AJ6,Futtermitteltabelle!$E$3:$R$193,13,FALSE)*(AK6/1000)","v":0},{"$f":"VLOOKUP(AJ6,Futtermitteltabelle!$E$3:$R$193,14,FALSE)*(AK6/1000)","v":0},{"$f":"AVERAGE(M6,Y6,AK6)","v":0},{"$f":"AVERAGE(N6,Z6,AL6)","v":0},{"$f":"AVERAGE(O6,AA6,AM6)","v":0},{"$f":"AVERAGE(P6,AB6,AN6)","v":0},0,0,0,0,0,0,0]
["Bitte wählen:",{"$nulls":10},{"$f":"VLOOKUP(A7,Futtermitteltabelle!$B$3:$E$193,4,FALSE)","v":0},0,{"$f":"VLOOKUP(L7,Futtermitteltabelle!$E$3:$R$193,5,FALSE)*(M7/1000)","v":0},{"$f":"VLOOKUP(L7,Futtermitteltabelle!$E$3:$R$193,6,FALSE)*(M7/1000)","v":0},{"$f":"VLOOKUP(L7,Futtermitteltabelle!$E$3:$R$193,7,FALSE)*(M7/1000)","v":0},{"$f":"VLOOKUP(L7,Futtermitteltabelle!$E$3:$R$193,8,FALSE)*(M7/1000)","v":0},{"$f":"VLOOKUP(L7,Futtermitteltabelle!$E$3:$R$193,9,FALSE)*(M7/1000)","v":0},{"$f":"VLOOKUP(L7,Futtermitteltabelle!$E$3:$R$193,10,FALSE)*(M7/1000)","v":0},{"$f":"VLOOKUP(L7,Futtermitteltabelle!$E$3:$R$193,11,FALSE)*(M7/1000)","v":0},{"$f":"VLOOKUP(L7,Futtermitteltabelle!$E$3:$R$193,12,FALSE)*(M7/1000)","v":0},{"$f":"VLOOKUP(L7,Futtermitteltabelle!$E$3:$R$193,13,FALSE)*(M7/1000)","v":0},{"$f":"VLOOKUP(L7,Futtermitteltabelle!$E$3:$R$193,14,FALSE)*(M7/1000)","v":0},{"$f":"VLOOKUP(A7,Futtermitteltabelle!$B$3:$E$193,4,FALSE)","v":0},{"$f":"F7*1000","v":0},{"$f":"VLOOKUP(X7,Futtermitteltabelle!$E$3:$R$193,5,FALSE)*(Y7/1000)","v":0},{"$f":"VLOOKUP(X7,Futtermitteltabelle!$E$3:$R$193,6,FALSE)*(Y7/1000)","v":0},{"$f":"VLOOKUP(X7,Futtermitteltabelle!$E$3:$R$193,7,FALSE)*(Y7/1000)","v":0},{"$f":"VLOOKUP(X7,Futtermitteltabelle!$E$3:$R$193,8,FALSE)*(Y7/1000)","v":0},{"$f":"VLOOKUP(X7,Futtermitteltabelle!$E$3:$R$193,9,FALSE)*(Y7/1000)","v":0},{"$f":"VLOOKUP(X7,Futtermitteltabelle!$E$3:$R$193,10,FALSE)*(Y7/1000)","v":0},{"$f":"VLOOKUP(X7,Futtermitteltabelle!$E$3:$R$193,11,FALSE)*(Y7/1000)","v":0},{"$f":"VLOOKUP(X7,Futtermitteltabelle!$E$3:$R$193,12,FALSE)*(Y7/1000)","v":0},{"$f":"VLOOKUP(X7,Futtermitteltabelle!$E$3:$R$193,13,FALSE)*(Y7/1000)","v":0},{"$f":"VLOOKUP(X7,Futtermitteltabelle!$E$3:$R$193,14,FALSE)*(Y7/1000)","v":0},{"$f":"VLOOKUP(A7,Futtermitteltabelle!$B$3:$E$193,4,FALSE)","v":0},{"$f":"I7*1000","v":0},{"$f":"VLOOKUP(AJ7,Futtermitteltabelle!$E$3:$R$193,5,FALSE)*(AK7/1000)","v":0},{"$f":"VLOOKUP(AJ7,Futtermitteltabelle!$E$3:$R$193,6,FALSE)*(AK7/1000)","v":0},{"$f":"VLOOKUP(AJ7,Futtermitteltabelle!$E$3:$R$193,7,FALSE)*(AK7/1000)","v":0},{"$f":"VLOOKUP(AJ7,Futtermitteltabelle!$E$3:$R$193,8,FALSE)*(AK7/1000)","v":0},{"$f":"VLOOKUP(AJ7,Futtermitteltabelle!$E$3:$R$193,9,FALSE)*(AK7/1000)","v":0},{"$f":"VLOOKUP(AJ7,Futtermitteltabelle!$E$3:$R$193,10,FALSE)*(AK7/1000)","v":0},{"$f":"VLOOKUP(AJ7,Futtermitteltabelle!$E$3:$R$193,11,FALSE)*(AK7/1000)","v":0},{"$f":"VLOOKUP(AJ7,Futtermitteltabelle!$E$3:$R$193,12,FALSE)*(AK7/1000)","v":0},{"$f":"VLOOKUP(AJ7,Futtermitteltabelle!$E$3:$R$193,13,FALSE)*(AK7/1000)","v":0},{"$f":"VLOOKUP(AJ7,Futtermitteltabelle!$E$3:$R$193,14,FALSE)*(AK7/1000)","v":0},0,0,0,0,{"$f":"AVERAGE(Q7,AC7,AO7)","v":0},0,0,0,0,0,0]
["Bitte wählen:",{"$nulls":10},{"$f":"VLOOKUP(A8,Futtermitteltabelle!$B$3:$E$193,4,FALSE)","v":0},0,{"$f":"VLOOKUP(L8,Futtermitteltabelle!$E$3:$R$193,5,FALSE)*(M8/1000)","v":0},{"$f":"VLOOKUP(L8,Futtermitteltabelle!$E$3:$R$193,6,FALSE)*(M8/1000)","v":0},{"$f":"VLOOKUP(L8,Futtermitteltabelle!$E$3:$R$193,7,FALSE)*(M8/1000)","v":0},{"$f":"VLOOKUP(L8,Futtermitteltabelle!$E$3:$R$193,8,FALSE)*(M8/1000)","v":0},{"$f":"VLOOKUP(L8,Futtermitteltabelle!$E$3:$R$193,9,FALSE)*(M8/1000)","v":0},{"$f":"VLOOKUP(L8,Futtermitteltabelle!$E$3:$R$193,10,FALSE)*(M8/1000)","v":0},{"$f":"VLOOKUP(L8,Futtermitteltabelle!$E$3:$R$193,11,FALSE)*(M8/1000)","v":0},{"$f":"VLOOKUP(L8,Futtermitteltabelle!$E$3:$R$193,12,FALSE)*(M8/1000)","v":0},{"$f":"VLOOKUP(L8,Futtermitteltabelle!$E$3:$R$193,13,FALSE)*(M8/1000)","v":0},{"$f":"VLOOKUP(L8,Futtermitteltabelle!$E$3:$R$193,14,FALSE)*(M8/1000)","v":0},{"$f":"VLOOKUP(A8,Futtermitteltabelle!$B$3:$E$193,4,FALSE)","v":0},0,{"$f":"VLOOKUP(X8,Futtermitteltabelle!$E$3:$R$193,5,FALSE)*(Y8/1000)","v":0},{"$f":"VLOOKUP(X8,Futtermitteltabelle!$E$3:$R$193,6,FALSE)*(Y8/1000)","v":0},{"$f":"VLOOKUP(X8,Futtermitteltabelle!$E$3:$R$193,7,FALSE)*(Y8/1000)","v":0},{"$f":"VLOOKUP(X8,Futtermitteltabelle!$E$3:$R$193,8,FALSE)*(Y8/1000)","v":0},{"$f":"VLOOKUP(X8,Futtermitteltabelle!$E$3:$R$193,9,FALSE)*(Y8/1000)","v":0},{"$f":"VLOOKUP(X8,Futtermitteltabelle!$E$3:$R$193,10,FALSE)*(Y8/1000)","v":0},{"$f":"VLOOKUP(X8,Futtermitteltabelle!$E$3:$R$193,11,FALSE)*(Y8/1000)","v":0},{"$f":"VLOOKUP(X8,Futtermitteltabelle!$E$3:$R$193,12,FALSE)*(Y8/1000)","v":0},{"$f":"VLOOKUP(X8,Futtermitteltabelle!$E$3:$R$193,13,FALSE)*(Y8/1000)","v":0},{"$f":"VLOOKUP(X8,Futtermitteltabelle!$E$3:$R$193,14,FALSE)*(Y8/1000)","v":0},{"$f":"VLOOKUP(A8,Futtermitteltabelle!$B$3:$E$193,4,FALSE)","v":0},0,{"$f":"VLOOKUP(AJ8,Futtermitteltabelle!$E$3:$R$193,5,FALSE)*(AK8/1000)","v":0},{"$f":"VLOOKUP(AJ8,Futtermitteltabelle!$E$3:$R$193,6,FALSE)*(AK8/1000)","v":0},{"$f":"VLOOKUP(AJ8,Futtermitteltabelle!$E$3:$R$193,7,FALSE)*(AK8/1000)","v":0},{"$f":"VLOOKUP(AJ8,Futtermitteltabelle!$E$3:$R$193,8,FALSE)*(AK8/1000)","v":0},{"$f":"VLOOKUP(AJ8,Futtermitteltabelle!$E$3:$R$193,9,FALSE)*(AK8/1000)","v":0},{"$f":"VLOOKUP(AJ8,Futtermitteltabelle!$E$3:$R$193,10,FALSE)*(AK8/1000)","v":0},{"$f":"VLOOKUP(AJ8,Futtermitteltabelle!$E$3:$R$193,11,FALSE)*(AK8/1000)","v":0},{"$f":"VLOOKUP(AJ8,Futtermitteltabelle!$E$3:$R$193,12,FALSE)*(AK8/1000)","v":0},{"$f":"VLOOKUP(AJ8,Futtermitteltabelle!$E$3:$R$193,13,FALSE)*(AK8/1000)","v":0},{"$f":"VLOOKUP(AJ8,Futtermitteltabelle!$E$3:$R$193,14,FALSE)*(AK8/1000)","v":0},0,0,0,0,0,0,0,0,0,0,0]
["Bitte wählen:",{"$nulls":10},{"$f":"VLOOKUP(A9,Futtermitteltabelle!$B$3:$E$193,4,FALSE)","v":0},0,{"$f":"VLOOKUP(L9,Futtermitteltabelle!$E$3:$R$193,5,FALSE)*(M9/1000)","v":0},{"$f":"VLOOKUP(L9,Futtermitteltabelle!$E$3:$R$193,6,FALSE)*(M9/1000)","v":0},{"$f":"VLOOKUP(L9,Futtermitteltabelle!$E$3:$R$193,7,FALSE)*(M9/1000)","v":0},{"$f":"VLOOKUP(L9,Futtermitteltabelle!$E$3:$R$193,8,FALSE)*(M9/1000)","v":0},{"$f":"VLOOKUP(L9,Futtermitteltabelle!$E$3:$R$193,9,FALSE)*(M9/1000)","v":0},{"$f":"VLOOKUP(L9,Futtermitteltabelle!$E$3:$R$193,10,FALSE)*(M9/1000)","v":0},{"$f":"VLOOKUP(L9,Futtermitteltabelle!$E$3:$R$193,11,FALSE)*(M9/1000)","v":0},{"$f":"VLOOKUP(L9,Futtermitteltabelle!$E$3:$R$193,12,FALSE)*(M9/1000)","v":0},{"$f":"VLOOKUP(L9,Futtermitteltabelle!$E$3:$R$193,13,FALSE)*(M9/1000)","v":0},{"$f":"VLOOKUP(L9,Futtermitteltabelle!$E$3:$R$193,14,FALSE)*(M9/1000)","v":0},{"$f":"VLOOKUP(A9,Futtermitteltabelle!$B$3:$E$193,4,FALSE)","v":0},0,{"$f":"VLOOKUP(X9,Futtermitteltabelle!$E$3:$R$193,5,FALSE)*(Y9/1000)","v":0},{"$f":"VLOOKUP(X9,Futtermitteltabelle!$E$3:$R$193,6,FALSE)*(Y9/1000)","v":0},{"$f":"VLOOKUP(X9,Futtermitteltabelle!$E$3:$R$193,7,FALSE)*(Y9/1000)","v":0},{"$f":"VLOOKUP(X9,Futtermitteltabelle!$E$3:$R$193,8,FALSE)*(Y9/1000)","v":0},{"$f":"VLOOKUP(X9,Futtermitteltabelle!$E$3:$R$193,9,FALSE)*(Y9/1000)","v":0},{"$f":"VLOOKUP(X9,Futtermitteltabelle!$E$3:$R$193,10,FALSE)*(Y9/1000)","v":0},{"$f":"VLOOKUP(X9,Futtermitteltabelle!$E$3:$R$193,11,FALSE)*(Y9/1000)","v":0},{"$f":"VLOOKUP(X9,Futtermitteltabelle!$E$3:$R$193,12,FALSE)*(Y9/1000)","v":0},{"$f":"VLOOKUP(X9,Futtermitteltabelle!$E$3:$R$193,13,FALSE)*(Y9/1000)","v":0},{"$f":"VLOOKUP(X9,Futtermitteltabelle!$E$3:$R$193,14,FALSE)*(Y9/1000)","v":0},{"$f":"VLOOKUP(A9,Futtermitteltabelle!$B$3:$E$193,4,FALSE)","v":0},0,{"$f":"VLOOKUP(AJ9,Futtermitteltabelle!$E$3:$R$193,5,FALSE)*(AK9/1000)","v":0},{"$f":"VLOOKUP(AJ9,Futtermitteltabelle!$E$3:$R$193,6,FALSE)*(AK9/1000)","v":0},{"$f":"VLOOKUP(AJ9,Futtermitteltabelle!$E$3:$R$193,7,FALSE)*(AK9/1000)","v":0},{"$f":"VLOOKUP(AJ9,Futtermitteltabelle!$E$3:$R$193,8,FALSE)*(AK9/1000)","v":0},{"$f":"VLOOKUP(AJ9,Futtermitteltabelle!$E$3:$R$193,9,FALSE)*(AK9/1000)","v":0},{"$f":"VLOOKUP(AJ9,Futtermitteltabelle!$E$3:$R$193,10,FALSE)*(AK9/1000)","v":0},{"$f":"VLOOKUP(AJ9,Futtermitteltabelle!$E$3:$R$193,11,FALSE)*(AK9/1000)","v":0},{"$f":"VLOOKUP(AJ9,Futtermitteltabelle!$E$3:$R$193,12,FALSE)*(AK9/1000)","v":0},{"$f":"VLOOKUP(AJ9,Futtermitteltabelle!$E$3:$R$193,13,FALSE)*(AK9/1000)","v":0},{"$f":"VLOOKUP(AJ9,Futtermitteltabelle!$E$3:$R$193,14,FALSE)*(AK9/1000)","v":0},0,0,0,0,0,0,0,0,0,0,0]
["Bitte wählen:",{"$nulls":10},{"$f":"VLOOKUP(A10,Futtermitteltabelle!$B$3:$E$194,4,FALSE)","v":0},0,{"$f":"VLOOKUP(L10,Futtermitteltabelle!$E$3:$R$193,5,FALSE)*(M10/1000)","v":0},{"$f":"VLOOKUP(L10,Futtermitteltabelle!$E$3:$R$193,6,FALSE)*(M10/1000)","v":0},{"$f":"VLOOKUP(L10,Futtermitteltabelle!$E$3:$R$193,7,FALSE)*(M10/1000)","v":0},{"$f":"VLOOKUP(L10,Futtermitteltabelle!$E$3:$R$193,8,FALSE)*(M10/1000)","v":0},{"$f":"VLOOKUP(L10,Futtermitteltabelle!$E$3:$R$193,9,FALSE)*(M10/1000)","v":0},{"$f":"VLOOKUP(L10,Futtermitteltabelle!$E$3:$R$193,10,FALSE)*(M10/1000)","v":0},{"$f":"VLOOKUP(L10,Futtermitteltabelle!$E$3:$R$193,11,FALSE)*(M10/1000)","v":0},{"$f":"VLOOKUP(L10,Futtermitteltabelle!$E$3:$R$193,12,FALSE)*(M10/1000)","v":0},{"$f":"VLOOKUP(L10,Futtermitteltabelle!$E$3:$R$193,13,FALSE)*(M10/1000)","v":0},{"$f":"VLOOKUP(L10,Futtermitteltabelle!$E$3:$R$193,14,FALSE)*(M10/1000)","v":0},{"$f":"VLOOKUP(A10,Futtermitteltabelle!$B$3:$E$193,4,FALSE)","v":0},0,{"$f":"VLOOKUP(X10,Futtermitteltabelle!$E$3:$R$193,5,FALSE)*(Y10/1000)","v":0},{"$f":"VLOOKUP(X10,Futtermitteltabelle!$E$3:$R$193,6,FALSE)*(Y10/1000)","v":0},{"$f":"VLOOKUP(X10,Futtermitteltabelle!$E$3:$R$193,7,FALSE)*(Y10/1000)","v":0},{"$f":"VLOOKUP(X10,Futtermitteltabelle!$E$3:$R$193,8,FALSE)*(Y10/1000)","v":0},{"$f":"VLOOKUP(X10,Futtermitteltabelle!$E$3:$R$193,9,FALSE)*(Y10/1000)","v":0},{"$f":"VLOOKUP(X10,Futtermitteltabelle!$E$3:$R$193,10,FALSE)*(Y10/1000)","v":0},{"$f":"VLOOKUP(X10,Futtermitteltabelle!$E$3:$R$193,11,FALSE)*(Y10/1000)","v":0},{"$f":"VLOOKUP(X10,Futtermitteltabelle!$E$3:$R$193,12,FALSE)*(Y10/1000)","v":0},{"$f":"VLOOKUP(X10,Futtermitteltabelle!$E$3:$R$193,13,FALSE)*(Y10/1000)","v":0},{"$f":"VLOOKUP(X10,Futtermitteltabelle!$E$3:$R$193,14,FALSE)*(Y10/1000)","v":0},{"$f":"VLOOKUP(A10,Futtermitteltabelle!$B$3:$E$193,4,FALSE)","v":0},0,{"$f":"VLOOKUP(AJ10,Futtermitteltabelle!$E$3:$R$193,5,FALSE)*(AK10/1000)","v":0},{"$f":"VLOOKUP(AJ10,Futtermitteltabelle!$E$3:$R$193,6,FALSE)*(AK10/1000)","v":0},{"$f":"VLOOKUP(AJ10,Futtermitteltabelle!$E$3:$R$193,7,FALSE)*(AK10/1000)","v":0},{"$f":"VLOOKUP(AJ10,Futtermitteltabelle!$E$3:$R$193,8,FALSE)*(AK10/1000)","v":0},{"$f":"VLOOKUP(AJ10,Futtermitteltabelle!$E$3:$R$193,9,FALSE)*(AK10/1000)","v":0},{"$f":"VLOOKUP(AJ10,Futtermitteltabelle!$E$3:$R$193,10,FALSE)*(AK10/1000)","v":0},{"$f":"VLOOKUP(AJ10,Futtermitteltabelle!$E$3:$R$193,11,FALSE)*(AK10/1000)","v":0},{"$f":"VLOOKUP(AJ10,Futtermitteltabelle!$E$3:$R$193,12,FALSE)*(AK10/1000)","v":0},{"$f":"VLOOKUP(AJ10,Futtermitteltabelle!$E$3:$R$193,13,FALSE)*(AK10/1000)","v":0},{"$f":"VLOOKUP(AJ10,Futtermitteltabelle!$E$3:$R$193,14,FALSE)*(AK10/1000)","v":0},0,0,0,0,0,0,0,0,0,0,0]
["Bitte wählen:",{"$nulls":10},{"$f":"VLOOKUP(A11,Futtermitteltabelle!$B$3:$E$194,4,FALSE)","v":0},0,{"$f":"VLOOKUP(L11,Futtermitteltabelle!$E$3:$R$193,5,FALSE)*(M11/1000)","v":0},{"$f":"VLOOKUP(L11,Futtermitteltabelle!$E$3:$R$193,6,FALSE)*(M11/1000)","v":0},{"$f":"VLOOKUP(L11,Futtermitteltabelle!$E$3:$R$193,7,FALSE)*(M11/1000)","v":0},{"$f":"VLOOKUP(L11,Futtermitteltabelle!$E$3:$R$193,8,FALSE)*(M11/1000)","v":0},{"$f":"VLOOKUP(L11,Futtermitteltabelle!$E$3:$R$193,9,FALSE)*(M11/1000)","v":0},{"$f":"VLOOKUP(L11,Futtermitteltabelle!$E$3:$R$193,10,FALSE)*(M11/1000)","v":0},{"$f":"VLOOKUP(L11,Futtermitteltabelle!$E$3:$R$193,11,FALSE)*(M11/1000)","v":0},{"$f":"VLOOKUP(L11,Futtermitteltabelle!$E$3:$R$193,12,FALSE)*(M11/1000)","v":0},{"$f":"VLOOKUP(L11,Futtermitteltabelle!$E$3:$R$193,13,FALSE)*(M11/1000)","v":0},{"$f":"VLOOKUP(L11,Futtermitteltabelle!$E$3:$R$193,14,FALSE)*(M11/1000)","v":0},{"$f":"VLOOKUP(A11,Futtermitteltabelle!$B$3:$E$193,4,FALSE)","v":0},0,{"$f":"VLOOKUP(X11,Futtermitteltabelle!$E$3:$R$193,5,FALSE)*(Y11/1000)","v":0},{"$f":"VLOOKUP(X11,Futtermitteltabelle!$E$3:$R$193,6,FALSE)*(Y11/1000)","v":0},{"$f":"VLOOKUP(X11,Futtermitteltabelle!$E$3:$R$193,7,FALSE)*(Y11/1000)","v":0},{"$f":"VLOOKUP(X11,Futtermitteltabelle!$E$3:$R$193,8,FALSE)*(Y11/1000)","v":0},{"$f":"VLOOKUP(X11,Futtermitteltabelle!$E$3:$R$193,9,FALSE)*(Y11/1000)","v":0},{"$f":"VLOOKUP(X11,Futtermitteltabelle!$E$3:$R$193,10,FALSE)*(Y11/1000)","v":0},{"$f":"VLOOKUP(X11,Futtermitteltabelle!$E$3:$R$193,11,FALSE)*(Y11/1000)","v":0},{"$f":"VLOOKUP(X11,Futtermitteltabelle!$E$3:$R$193,12,FALSE)*(Y11/1000)","v":0},{"$f":"VLOOKUP(X11,Futtermitteltabelle!$E$3:$R$193,13,FALSE)*(Y11/1000)","v":0},{"$f":"VLOOKUP(X11,Futtermitteltabelle!$E$3:$R$193,14,FALSE)*(Y11/1000)","v":0},{"$f":"VLOOKUP(A11,Futtermitteltabelle!$B$3:$E$193,4,FALSE)","v":0},0,{"$f":"VLOOKUP(AJ11,Futtermitteltabelle!$E$3:$R$193,5,FALSE)*(AK11/1000)","v":0},{"$f":"VLOOKUP(AJ11,Futtermitteltabelle!$E$3:$R$193,6,FALSE)*(AK11/1000)","v":0},{"$f":"VLOOKUP(AJ11,Futtermitteltabelle!$E$3:$R$193,7,FALSE)*(AK11/1000)","v":0},{"$f":"VLOOKUP(AJ11,Futtermitteltabelle!$E$3:$R$193,8,FALSE)*(AK11/1000)","v":0},{"$f":"VLOOKUP(AJ11,Futtermitteltabelle!$E$3:$R$193,9,FALSE)*(AK11/1000)","v":0},{"$f":"VLOOKUP(AJ11,Futtermitteltabelle!$E$3:$R$193,10,FALSE)*(AK11/1000)","v":0},{"$f":"VLOOKUP(AJ11,Futtermitteltabelle!$E$3:$R$193,11,FALSE)*(AK11/1000)","v":0},{"$f":"VLOOKUP(AJ11,Futtermitteltabelle!$E$3:$R$193,12,FALSE)*(AK11/1000)","v":0},{"$f":"VLOOKUP(AJ11,Futtermitteltabelle!$E$3:$R$193,13,FALSE)*(AK11/1000)","v":0},{"$f":"VLOOKUP(AJ11,Futtermitteltabelle!$E$3:$R$193,14,FALSE)*(AK11/1000)","v":0},0,0,0,0,0,0,0,0,0,0,0]
["Bitte wählen:",{"$nulls":10},{"$f":"VLOOKUP(A12,Futtermitteltabelle!$B$3:$E$194,4,FALSE)","v":0},0,{"$f":"VLOOKUP(L12,Futtermitteltabelle!$E$3:$R$193,5,FALSE)*(M12/1000)","v":0},{"$f":"VLOOKUP(L12,Futtermitteltabelle!$E$3:$R$193,6,FALSE)*(M12/1000)","v":0},{"$f":"VLOOKUP(L12,Futtermitteltabelle!$E$3:$R$193,7,FALSE)*(M12/1000)","v":0},{"$f":"VLOOKUP(L12,Futtermitteltabelle!$E$3:$R$193,8,FALSE)*(M12/1000)","v":0},{"$f":"VLOOKUP(L12,Futtermitteltabelle!$E$3:$R$193,9,FALSE)*(M12/1000)","v":0},{"$f":"VLOOKUP(L12,Futtermitteltabelle!$E$3:$R$193,10,FALSE)*(M12/1000)","v":0},{"$f":"VLOOKUP(L12,Futtermitteltabelle!$E$3:$R$193,11,FALSE)*(M12/1000)","v":0},{"$f":"VLOOKUP(L12,Futtermitteltabelle!$E$3:$R$193,12,FALSE)*(M12/1000)","v":0},{"$f":"VLOOKUP(L12,Futtermitteltabelle!$E$3:$R$193,13,FALSE)*(M12/1000)","v":0},{"$f":"VLOOKUP(L12,Futtermitteltabelle!$E$3:$R$193,14,FALSE)*(M12/1000)","v":0},{"$f":"VLOOKUP(A12,Futtermitteltabelle!$B$3:$E$193,4,FALSE)","v":0},0,{"$f":"VLOOKUP(X12,Futtermitteltabelle!$E$3:$R$193,5,FALSE)*(Y12/1000)","v":0},{"$f":"VLOOKUP(X12,Futtermitteltabelle!$E$3:$R$193,6,FALSE)*(Y12/1000)","v":0},{"$f":"VLOOKUP(X12,Futtermitteltabelle!$E$3:$R$193,7,FALSE)*(Y12/1000)","v":0},{"$f":"VLOOKUP(X12,Futtermitteltabelle!$E$3:$R$193,8,FALSE)*(Y12/1000)","v":0},{"$f":"VLOOKUP(X12,Futtermitteltabelle!$E$3:$R$193,9,FALSE)*(Y12/1000)","v":0},{"$f":"VLOOKUP(X12,Futtermitteltabelle!$E$3:$R$193,10,FALSE)*(Y12/1000)","v":0},{"$f":"VLOOKUP(X12,Futtermitteltabelle!$E$3:$R$193,11,FALSE)*(Y12/1000)","v":0},{"$f":"VLOOKUP(X12,Futtermitteltabelle!$E$3:$R$193,12,FALSE)*(Y12/1000)","v":0},{"$f":"VLOOKUP(X12,Futtermitteltabelle!$E$3:$R$193,13,FALSE)*(Y12/1000)","v":0},{"$f":"VLOOKUP(X12,Futtermitteltabelle!$E$3:$R$193,14,FALSE)*(Y12/1000)","v":0},{"$f":"VLOOKUP(A12,Futtermitteltabelle!$B$3:$E$193,4,FALSE)","v":0},0,{"$f":"VLOOKUP(AJ12,Futtermitteltabelle!$E$3:$R$193,5,FALSE)*(AK12/1000)","v":0},{"$f":"VLOOKUP(AJ12,Futtermitteltabelle!$E$3:$R$193,6,FALSE)*(AK12/1000)","v":0},{"$f":"VLOOKUP(AJ12,Futtermitteltabelle!$E$3:$R$193,7,FALSE)*(AK12/1000)","v":0},{"$f":"VLOOKUP(AJ12,Futtermitteltabelle!$E$3:$R$193,8,FALSE)*(AK12/1000)","v":0},{"$f":"VLOOKUP(AJ12,Futtermitteltabelle!$E$3:$R$193,9,FALSE)*(AK12/1000)","v":0},{"$f":"VLOOKUP(AJ12,Futtermitteltabelle!$E$3:$R$193,10,FALSE)*(AK12/1000)","v":0},{"$f":"VLOOKUP(AJ12,Futtermitteltabelle!$E$3:$R$193,11,FALSE)*(AK12/1000)","v":0},{"$f":"VLOOKUP(AJ12,Futtermitteltabelle!$E$3:$R$193,12,FALSE)*(AK12/1000)","v":0},{"$f":"VLOOKUP(AJ12,Futtermitteltabelle!$E$3:$R$193,13,FALSE)*(AK12/1000)","v":0},{"$f":"VLOOKUP(AJ12,Futtermitteltabelle!$E$3:$R$193,14,FALSE)*(AK12/1000)","v":0},0,0,0,0,0,0,0,0,0,0,0]
["SUMME",null,{"$f":"SUM(C6:C12)","v":0},null,null,{"$f":"SUM(F6:F12)","v":0},null,null,{"$f":"SUM(I6:I12)","v":0}]
["Gesamt Nährstoffoutput ",{"$nulls":10},{"$f":"Betriebsdaten!$B$29","v":2022},{"$nulls":11},{"$f":"Betriebsdaten!$B$30","v":2021},{"$nulls":11},{"$f":"Betriebsdaten!$B$31","v":2020},{"$nulls":11},"Durchschnitt"]
[{"$nulls":11},"Summe",null,"C","N","NH4-N","P2O5","K2O","Ca","MgO","S","Na","Cl","Summe",null,"C","N","NH4-N","P2O5","K2O","Ca","MgO","S","Na","Cl","Summe",null,"C","N","NH4-N","P2O5","K2O","Ca","MgO","S","Na","Cl","Summe","C","N","NH4-N","P2O5","K2O","Ca","MgO","S","Na","Cl"]
[{"$nulls":13},"kg*a-1","kg*a-1","kg*a-1","kg*a-1","kg*a-1","kg*a-1","kg*a-1","kg*a-1","kg*a-1","kg*a-1",null,null,"kg*a-1","kg*a-1","kg*a-1","kg*a-1","kg*a-1","kg*a-1","kg*a-1","kg*a-1","kg*a-1","kg*a-1",null,null,"kg*a-1","kg*a-1","kg*a-1","kg*a-1","kg*a-1","kg*a-1","kg*a-1","kg*a-1","kg*a-1","kg*a-1",null,"kg*a-1","kg*a-1","kg*a-1","kg*a-1","kg*a-1","kg*a-1","kg*a-1","kg*a-1","kg*a-1","kg*a-1"]
[{"$nulls":13},{"$f":"SUM(N6:N12)","v":0},0,0,0,0,0,0,0,0,0,null,null,{"$f":"SUM(Z6:Z12)","v":0},{"$f":"SUM(AA6:AA12)","v":0},null,{"$f":"SUM(AC6:AC12)","v":0},0,0,0,0,0,0,null,null,{"$f":"SUM(AL6:AL12)","v":0},0,0,0,0,0,0,0,0,0,null,{"$f":"SUM(AW6:AW13)","v":0},0,0,0,0,0,0,0,0,0]

{"sheet":"Gesamter Nährstoffoutput","index":14,"n_rows":56,"n_cols":10,"rows_kept":56}
["Gesamt Output"]
[{"$f":"Betriebsdaten!$B$29","v":2022}]
["Pflanzliche Outputs"]
["C","N","NH4-N","P2O5","K2O","Ca","MgO","S","Na","Cl"]
["kg*a-1","kg*a-1","kg*a-1","kg*a-1","kg*a-1","kg*a-1","kg*a-1","kg*a-1","kg*a-1","kg*a-1"]
[{"$f":"'Pfl. Prod. Verk.'!Q89+'Fu-Mi; Biogassub. Verk.'!N17","v":0},{"$f":"'Pfl. Prod. Verk.'!R89+'Fu-Mi; Biogassub. Verk.'!O17","v":0},{"$f":"'Pfl. Prod. Verk.'!S89+'Fu-Mi; Biogassub. Verk.'!P17","v":0},{"$f":"'Pfl. Prod. Verk.'!T89+'Fu-Mi; Biogassub. Verk.'!Q17","v":0},{"$f":"'Pfl. Prod. Verk.'!U89+'Fu-Mi; Biogassub. Verk.'!R17","v":0},{"$f":"'Pfl. Prod. Verk.'!V89+'Fu-Mi; Biogassub. Verk.'!S17","v":0},{"$f":"'Pfl. Prod. Verk.'!W89+'Fu-Mi; Biogassub. Verk.'!T17","v":0},{"$f":"'Pfl. Prod. Verk.'!X89+'Fu-Mi; Biogassub. Verk.'!U17","v":0},{"$f":"'Pfl. Prod. Verk.'!Y89+'Fu-Mi; Biogassub. Verk.'!V17","v":0},{"$f":"'Pfl. Prod. Verk.'!Z89+'Fu-Mi; Biogassub. Verk.'!W17","v":0}]
["Tierische Outputs"]
["C","N","NH4-N","P2O5","K2O","Ca","MgO","S","Na","Cl"]
["kg*a-1","kg*a-1","kg*a-1","kg*a-1","kg*a-1","kg*a-1","kg*a-1","kg*a-1","kg*a-1","kg*a-1"]
[{"$f":"'Tierverk.; Tier.Prod.'!T48+'Wi-Dü-Abgabe'!J33","v":0},{"$f":"'Tierverk.; Tier.Prod.'!U48+'Wi-Dü-Abgabe'!K33","v":0},{"$f":"'Tierverk.; Tier.Prod.'!V48+'Wi-Dü-Abgabe'!L33","v":0},{"$f":"'Tierverk.; Tier.Prod.'!W48+'Wi-Dü-Abgabe'!M33","v":0},{"$f":"'Tierverk.; Tier.Prod.'!X48+'Wi-Dü-Abgabe'!N33","v":0},{"$f":"'Tierverk.; Tier.Prod.'!Y48+'Wi-Dü-Abgabe'!O33","v":0},{"$f":"'Tierverk.; Tier.Prod.'!Z48+'Wi-Dü-Abgabe'!P33","v":0},{"$f":"'Tierverk.; Tier.Prod.'!AA48+'Wi-Dü-Abgabe'!Q33","v":0},{"$f":"'Tierverk.; Tier.Prod.'!AB48+'Wi-Dü-Abgabe'!R33","v":0},{"$f":"'Tierverk.; Tier.Prod.'!AC48+'Wi-Dü-Abgabe'!S33","v":0}]
["Gesamt Output"]
["C","N","NH4-N","P2O5","K2O","Ca","MgO","S","Na","Cl"]
["kg*a-1","kg*a-1","kg*a-1","kg*a-1","kg*a-1","kg*a-1","kg*a-1","kg*a-1","kg*a-1","kg*a-1"]
[{"$f":"A6+A10","v":0},{"$f":"B6+B10","v":0},0,0,0,0,0,0,0,0]
[]
[{"$f":"Betriebsdaten!$B$30","v":2021}]
["Pflanzliche Outputs"]
["C","N","NH4-N","P2O5","K2O","Ca","MgO","S","Na","Cl"]
["kg*a-1","kg*a-1","kg*a-1","kg*a-1","kg*a-1","kg*a-1","kg*a-1","kg*a-1","kg*a-1","kg*a-1"]
[{"$f":"'Pfl. Prod. Verk.'!AC89+'Fu-Mi; Biogassub. Verk.'!Z17","v":0},{"$f":"'Pfl. Prod. Verk.'!AD89+'Fu-Mi; Biogassub. Verk.'!AA17","v":0},{"$f":"'Pfl. Prod. Verk.'!AE89+'Fu-Mi; Biogassub. Verk.'!AB17","v":0},{"$f":"'Pfl. Prod. Verk.'!AF89+'Fu-Mi; Biogassub. Verk.'!AC17","v":0},{"$f":"'Pfl. Prod. Verk.'!AG89+'Fu-Mi; Biogassub. Verk.'!AD17","v":0},{"$f":"'Pfl. Prod. Verk.'!AH89+'Fu-Mi; Biogassub. Verk.'!AE17","v":0},{"$f":"'Pfl. Prod. Verk.'!AI89+'Fu-Mi; Biogassub. Verk.'!AF17","v":0},{"$f":"'Pfl. Prod. Verk.'!AJ89+'Fu-Mi; Biogassub. Verk.'!AG17","v":0},{"$f":"'Pfl. Prod. Verk.'!AK89+'Fu-Mi; Biogassub. Verk.'!AH17","v":0},{"$f":"'Pfl. Prod. Verk.'!AL89+'Fu-Mi; Biogassub. Verk.'!AI17","v":0}]
["Tierische Outputs"]
["C","N","NH4-N","P2O5","K2O","Ca","MgO","S","Na","Cl"]
["kg*a-1","kg*a-1","kg*a-1","kg*a-1","kg*a-1","kg*a-1","kg*a-1","kg*a-1","kg*a-1","kg*a-1"]
[{"$f":"'Tierverk.; Tier.Prod.'!AF48+'Wi-Dü-Abgabe'!V33","v":0},{"$f":"'Tierverk.; Tier.Prod.'!AG48+'Wi-Dü-Abgabe'!W33","v":0},{"$f":"'Tierverk.; Tier.Prod.'!AH48+'Wi-Dü-Abgabe'!X33","v":0},{"$f":"'Tierverk.; Tier.Prod.'!AI48+'Wi-Dü-Abgabe'!Y33","v":0},{"$f":"'Tierverk.; Tier.Prod.'!AJ48+'Wi-Dü-Abgabe'!Z33","v":0},{"$f":"'Tierverk.; Tier.Prod.'!AK48+'Wi-Dü-Abgabe'!AA33","v":0},{"$f":"'Tierverk.; Tier.Prod.'!AL48+'Wi-Dü-Abgabe'!AB33","v":0},{"$f":"'Tierverk.; Tier.Prod.'!AM48+'Wi-Dü-Abgabe'!AC33","v":0},{"$f":"'Tierverk.; Tier.Prod.'!AN48+'Wi-Dü-Abgabe'!AD33","v":0},{"$f":"'Tierverk.; Tier.Prod.'!AO48+'Wi-Dü-Abgabe'!AE33","v":0}]
["Gesamt Output"]
["C","N","NH4-N","P2O5","K2O","Ca","MgO","S","Na","Cl"]
["kg*a-1","kg*a-1","kg*a-1","kg*a-1","kg*a-1","kg*a-1","kg*a-1","kg*a-1","kg*a-1","kg*a-1"]
[{"$f":"A20+A24","v":0},{"$f":"B20+B24","v":0},0,0,0,0,0,0,0,0]
[]
[{"$f":"Betriebsdaten!$B$31","v":2020}]
["Pflanzliche Outputs"]
["C","N","NH4-N","P2O5","K2O","Ca","MgO","S","Na","Cl"]
["kg*a-1","kg*a-1","kg*a-1","kg*a-1","kg*a-1","kg*a-1","kg*a-1","kg*a-1","kg*a-1","kg*a-1"]
[{"$f":"'Pfl. Prod. Verk.'!AO89+'Fu-Mi; Biogassub. Verk.'!AL17","v":0},{"$f":"'Pfl. Prod. Verk.'!AP89+'Fu-Mi; Biogassub. Verk.'!AM17","v":0},{"$f":"'Pfl. Prod. Verk.'!AQ89+'Fu-Mi; Biogassub. Verk.'!AN17","v":0},{"$f":"'Pfl. Prod. Verk.'!AR89+'Fu-Mi; Biogassub. Verk.'!AO17","v":0},{"$f":"'Pfl. Prod. Verk.'!AS89+'Fu-Mi; Biogassub. Verk.'!AP17","v":0},{"$f":"'Pfl. Prod. Verk.'!AT89+'Fu-Mi; Biogassub. Verk.'!AQ17","v":0},{"$f":"'Pfl. Prod. Verk.'!AU89+'Fu-Mi; Biogassub. Verk.'!AR17","v":0},{"$f":"'Pfl. Prod. Verk.'!AV89+'Fu-Mi; Biogassub. Verk.'!AS17","v":0},{"$f":"'Pfl. Prod. Verk.'!AW89+'Fu-Mi; Biogassub. Verk.'!AT17","v":0},{"$f":"'Pfl. Prod. Verk.'!AX89+'Fu-Mi; Biogassub. Verk.'!AU17","v":0}]
["Tierische Outputs"]
["C","N","NH4-N","P2O5","K2O","Ca","MgO","S","Na","Cl"]
["kg*a-1","kg*a-1","kg*a-1","kg*a-1","kg*a-1","kg*a-1","kg*a-1","kg*a-1","kg*a-1","kg*a-1"]
[{"$f":"'Tierverk.; Tier.Prod.'!AR48+'Wi-Dü-Abgabe'!AH33","v":0},{"$f":"'Tierverk.; Tier.Prod.'!AS48+'Wi-Dü-Abgabe'!AI33","v":0},{"$f":"'Tierverk.; Tier.Prod.'!AT48+'Wi-Dü-Abgabe'!AJ33","v":0},{"$f":"'Tierverk.; Tier.Prod.'!AU48+'Wi-Dü-Abgabe'!AK33","v":0},{"$f":"'Tierverk.; Tier.Prod.'!AV48+'Wi-Dü-Abgabe'!AL33","v":0},{"$f":"'Tierverk.; Tier.Prod.'!AW48+'Wi-Dü-Abgabe'!AM33","v":0},{"$f":"'Tierverk.; Tier.Prod.'!AX48+'Wi-Dü-Abgabe'!AN33","v":0},{"$f":"'Tierverk.; Tier.Prod.'!AY48+'Wi-Dü-Abgabe'!AO33","v":0},{"$f":"'Tierverk.; Tier.Prod.'!AZ48+'Wi-Dü-Abgabe'!AP33","v":0},{"$f":"'Tierverk.; Tier.Prod.'!BA48+'Wi-Dü-Abgabe'!AQ33","v":0}]
["Gesamt Output"]
["C","N","NH4-N","P2O5","K2O","Ca","MgO","S","Na","Cl"]
["kg*a-1","kg*a-1","kg*a-1","kg*a-1","kg*a-1","kg*a-1","kg*a-1","kg*a-1","kg*a-1","kg*a-1"]
[{"$f":"A34+A38","v":0},{"$f":"B34+B38","v":0},0,0,0,0,0,0,0,0]
[]
["Durchschnitt"]
["Pflanzliche Outputs"]
["C","N","NH4-N","P2O5","K2O","Ca","MgO","S","Na","Cl"]
["kg*a-1","kg*a-1","kg*a-1","kg*a-1","kg*a-1","kg*a-1","kg*a-1","kg*a-1","kg*a-1","kg*a-1"]
[{"$f":"'Pfl. Prod. Verk.'!AZ89+'Fu-Mi; Biogassub. Verk.'!AW17","v":0},{"$f":"'Pfl. Prod. Verk.'!BA89+'Fu-Mi; Biogassub. Verk.'!AX17","v":0},{"$f":"'Pfl. Prod. Verk.'!BB89+'Fu-Mi; Biogassub. Verk.'!AY17","v":0},{"$f":"'Pfl. Prod. Verk.'!BC89+'Fu-Mi; Biogassub. Verk.'!AZ17","v":0},{"$f":"'Pfl. Prod. Verk.'!BD89+'Fu-Mi; Biogassub. Verk.'!BA17","v":0},{"$f":"'Pfl. Prod. Verk.'!BE89+'Fu-Mi; Biogassub. Verk.'!BB17","v":0},{"$f":"'Pfl. Prod. Verk.'!BF89+'Fu-Mi; Biogassub. Verk.'!BC17","v":0},{"$f":"'Pfl. Prod. Verk.'!BG89+'Fu-Mi; Biogassub. Verk.'!BD17","v":0},{"$f":"'Pfl. Prod. Verk.'!BH89+'Fu-Mi; Biogassub. Verk.'!BE17","v":0},{"$f":"'Pfl. Prod. Verk.'!BI89+'Fu-Mi; Biogassub. Verk.'!BF17","v":0}]
["Tierische Outputs"]
["C","N","NH4-N","P2O5","K2O","Ca","MgO","S","Na","Cl"]
["kg*a-1","kg*a-1","kg*a-1","kg*a-1","kg*a-1","kg*a-1","kg*a-1","kg*a-1","kg*a-1","kg*a-1"]
[{"$f":"'Tierverk.; Tier.Prod.'!BC48+'Wi-Dü-Abgabe'!AS33","v":0},{"$f":"'Tierverk.; Tier.Prod.'!BD48+'Wi-Dü-Abgabe'!AT33","v":0},{"$f":"'Tierverk.; Tier.Prod.'!BE48+'Wi-Dü-Abgabe'!AU33","v":0},{"$f":"'Tierverk.; Tier.Prod.'!BF48+'Wi-Dü-Abgabe'!AV33","v":0},{"$f":"'Tierverk.; Tier.Prod.'!BG48+'Wi-Dü-Abgabe'!AW33","v":0},{"$f":"'Tierverk.; Tier.Prod.'!BH48+'Wi-Dü-Abgabe'!AX33","v":0},{"$f":"'Tierverk.; Tier.Prod.'!BI48+'Wi-Dü-Abgabe'!AY33","v":0},{"$f":"'Tierverk.; Tier.Prod.'!BJ48+'Wi-Dü-Abgabe'!AZ33","v":0},{"$f":"'Tierverk.; Tier.Prod.'!BK48+'Wi-Dü-Abgabe'!BA33","v":0},{"$f":"'Tierverk.; Tier.Prod.'!BL48+'Wi-Dü-Abgabe'!BB33","v":0}]
["Gesamt Output"]
["C","N","NH4-N","P2O5","K2O","Ca","MgO","S","Na","Cl"]
["kg*a-1","kg*a-1","kg*a-1","kg*a-1","kg*a-1","kg*a-1","kg*a-1","kg*a-1","kg*a-1","kg*a-1"]
[{"$f":"A48+A52","v":0},{"$f":"B48+B52","v":0},0,0,0,0,0,0,0,0]

{"sheet":"Hoftorbilanz","index":15,"n_rows":57,"n_cols":22,"rows_kept":57,"merged":[[1,0,1,10],[1,11,1,20],[1,21,1,30],[2,0,2,10],[2,15,2,16],[3,0,3,10],[16,15,16,16],[30,15,30,16],[44,15,44,16]]}
["Hoftorbilanz"]
["Für den Ganzen Betrieb (kg/a)",{"$nulls":10},"Bezogen auf die bewirtschaftete Fläche (kg/ha&a)",{"$nulls":9},"Abbildungen"]
[{"$f":"Betriebsdaten!$B$29","v":2022},{"$nulls":10},"Bewirtschaftete Fläche",{"$nulls":3},{"$f":"Betriebsdaten!$B$17+Betriebsdaten!$B$18+Betriebsdaten!$B$19+Betriebsdaten!$B$20","v":{"v":0,"d":"0.00"}},null,"ha"]
["Nährstoffinputs",{"$nulls":10},"Nährstoffinputs"]
["C","N","NH4-N","P2O5","K2O","Ca","MgO","S","Na","Cl","Sluijsmans","C","N","NH4-N","P2O5","K2O","Ca","MgO","S","Na","Cl"]
["kg*a-1","kg*a-1","kg*a-1","kg*a-1","kg*a-1","kg*a-1","kg*a-1","kg*a-1","kg*a-1","kg*a-1","kg CaO/a","kg/ha&a","kg/ha&a","kg/ha&a","kg/ha&a","kg/ha&a","kg/ha&a","kg/ha&a","kg/ha&a","kg/ha&a","kg CaO/ha&a"]
[{"$f":"'Gesamt Nährstoffinput'!A14","v":0},{"$f":"'Gesamt Nährstoffinput'!B14","v":0},{"$f":"'Gesamt Nährstoffinput'!C14","v":0},{"$f":"'Gesamt Nährstoffinput'!D14","v":0},{"$f":"'Gesamt Nährstoffinput'!E14","v":0},{"$f":"'Gesamt Nährstoffinput'!F14","v":0},{"$f":"'Gesamt Nährstoffinput'!G14","v":0},{"$f":"'Gesamt Nährstoffinput'!H14","v":0},{"$f":"'Gesamt Nährstoffinput'!I14","v":0},{"$f":"'Gesamt Nährstoffinput'!J14","v":0},{"$f":"1.4*F7+2.33*G7+0.72*E7+1.21*(I7/10000)-0.92*D7-1.75*H7-0.8*J7-B7","v":0},{"$f":"IF(A7<>0,(A7)/$P$3,0)","v":0},{"$f":"IF(B7<>0,(B7)/$P$3,0)","v":0},0,0,0,0,0,0,0,0]
["Nährstoffoutputs",{"$nulls":10},"Nährstoffoutputs"]
["C","N","NH4-N","P2O5","K2O","Ca","MgO","S","Na","Cl","Sluijsmans","C","N","NH4-N","P2O5","K2O","Ca","MgO","S","Na","Cl"]
["kg*a-1","kg*a-1","kg*a-1","kg*a-1","kg*a-1","kg*a-1","kg*a-1","kg*a-1","kg*a-1","kg*a-1","kg CaO/a","kg/ha&a","kg/ha&a","kg/ha&a","kg/ha&a","kg/ha&a","kg/ha&a","kg/ha&a","kg/ha&a","kg/ha&a","kg CaO/ha&a"]
[{"$f":"'Gesamter Nährstoffoutput'!A14","v":0},{"$f":"'Gesamter Nährstoffoutput'!B14","v":0},{"$f":"'Gesamter Nährstoffoutput'!C14","v":0},{"$f":"'Gesamter Nährstoffoutput'!D14","v":0},{"$f":"'Gesamter Nährstoffoutput'!E14","v":0},{"$f":"'Gesamter Nährstoffoutput'!F14","v":0},{"$f":"'Gesamter Nährstoffoutput'!G14","v":0},{"$f":"'Gesamter Nährstoffoutput'!H14","v":0},{"$f":"'Gesamter Nährstoffoutput'!I14","v":0},{"$f":"'Gesamter Nährstoffoutput'!J14","v":0},{"$f":"1.4*F11+2.33*G11+0.72*E11+1.21*(I11/10000)-0.92*D11-1.75*H11-0.8*J11-B11","v":0},{"$f":"IF(A11<>0,A11/$P$3,0)","v":0},{"$f":"IF(B11<>0,B11/$P$3,0)","v":0},0,0,0,0,0,0,0,0]
["Bilanz für den Gesamtbetrieb",{"$nulls":10},"Bilanz für den Gesamtbetrieb"]
["C","N","NH4-N","P2O5","K2O","Ca","MgO","S","Na","Cl","Sluijsmans","C","N","NH4-N","P2O5","K2O","Ca","MgO","S","Na","Cl"]
["kg*a-1","kg*a-1","kg*a-1","kg*a-1","kg*a-1","kg*a-1","kg*a-1","kg*a-1","kg*a-1","kg*a-1","kg CaO/a","kg/ha&a","kg/ha&a","kg/ha&a","kg/ha&a","kg/ha&a","kg/ha&a","kg/ha&a","kg/ha&a","kg/ha&a","kg CaO/ha&a"]
[{"$f":"A7-A11","v":0},{"$f":"B7-B11","v":0},0,0,0,0,0,0,0,0,0,{"$f":"IF(A15<>0,A15/$P$3,0)","v":0},{"$f":"IF(B15<>0,B15/$P$3,0)","v":0},0,0,0,0,0,0,0,0]
[{"$f":"Betriebsdaten!$B$30","v":2021}]
[{"$nulls":11},"Bewirtschaftete Fläche",{"$nulls":3},{"$f":"Betriebsdaten!$C$17+Betriebsdaten!$C$18+Betriebsdaten!$C$19+Betriebsdaten!$C$20","v":{"v":0,"d":"0.00"}},null,"ha"]
["Nährstoffinputs",{"$nulls":10},"Nährstoffinputs"]
["C","N","NH4-N","P2O5","K2O","Ca","MgO","S","Na","Cl","Sluijsmans","C","N","NH4-N","P2O5","K2O","Ca","MgO","S","Na","Cl"]
["kg*a-1","kg*a-1","kg*a-1","kg*a-1","kg*a-1","kg*a-1","kg*a-1","kg*a-1","kg*a-1","kg*a-1","kg CaO/a","kg/ha&a","kg/ha&a","kg/ha&a","kg/ha&a","kg/ha&a","kg/ha&a","kg/ha&a","kg/ha&a","kg/ha&a","kg CaO/ha&a"]
[{"$f":"'Gesamt Nährstoffinput'!A28","v":0},{"$f":"'Gesamt Nährstoffinput'!B28","v":0},{"$f":"'Gesamt Nährstoffinput'!C28","v":0},{"$f":"'Gesamt Nährstoffinput'!D28","v":0},{"$f":"'Gesamt Nährstoffinput'!E28","v":0},{"$f":"'Gesamt Nährstoffinput'!F28","v":0},{"$f":"'Gesamt Nährstoffinput'!G28","v":0},{"$f":"'Gesamt Nährstoffinput'!H28","v":0},{"$f":"'Gesamt Nährstoffinput'!I28","v":0},{"$f":"'Gesamt Nährstoffinput'!J28","v":0},{"$f":"1.4*F21+2.33*G21+0.72*E21+1.21*(I21/10000)-0.92*D21-1.75*H21-0.8*J21-B21","v":0},{"$f":"IF(A21<>0,A21/$P$17,0)","v":0},{"$f":"IF(B21<>0,B21/$P$17,0)","v":0},0,0,0,0,0,0,0,0]
["Nährstoffoutputs",{"$nulls":10},"Nährstoffoutputs"]
["C","N","NH4-N","P2O5","K2O","Ca","MgO","S","Na","Cl","Sluijsmans","C","N","NH4-N","P2O5","K2O","Ca","MgO","S","Na","Cl"]
["kg*a-1","kg*a-1","kg*a-1","kg*a-1","kg*a-1","kg*a-1","kg*a-1","kg*a-1","kg*a-1","kg*a-1","kg CaO/a","kg/ha&a","kg/ha&a","kg/ha&a","kg/ha&a","kg/ha&a","kg/ha&a","kg/ha&a","kg/ha&a","kg/ha&a","kg CaO/ha&a"]
[{"$f":"'Gesamter Nährstoffoutput'!A28","v":0},{"$f":"'Gesamter Nährstoffoutput'!B28","v":0},{"$f":"'Gesamter Nährstoffoutput'!C28","v":0},{"$f":"'Gesamter Nährstoffoutput'!D28","v":0},{"$f":"'Gesamter Nährstoffoutput'!E28","v":0},{"$f":"'Gesamter Nährstoffoutput'!F28","v":0},{"$f":"'Gesamter Nährstoffoutput'!G28","v":0},{"$f":"'Gesamter Nährstoffoutput'!H28","v":0},{"$f":"'Gesamter Nährstoffoutput'!I28","v":0},{"$f":"'Gesamter Nährstoffoutput'!J28","v":0},{"$f":"1.4*F25+2.33*G25+0.72*E25+1.21*(I25/10000)-0.92*D25-1.75*H25-0.8*J25-B25","v":0},{"$f":"IF(A25<>0,A25/$P$17,0)","v":0},{"$f":"IF(B25<>0,B25/$P$17,0)","v":0},0,0,0,0,0,0,0,0]
["Bilanz für den Gesamtbetrieb",{"$nulls":10},"Bilanz für den Gesamtbetrieb"]
["C","N","NH4-N","P2O5","K2O","Ca","MgO","S","Na","Cl","Sluijsmans","C","N","NH4-N","P2O5","K2O","Ca","MgO","S","Na","Cl"]
["kg*a-1","kg*a-1","kg*a-1","kg*a-1","kg*a-1","kg*a-1","kg*a-1","kg*a-1","kg*a-1","kg*a-1","kg CaO/a","kg/ha&a","kg/ha&a","kg/ha&a","kg/ha&a","kg/ha&a","kg/ha&a","kg/ha&a","kg/ha&a","kg/ha&a","kg CaO/ha&a"]
[{"$f":"A21-A25","v":0},{"$f":"B21-B25","v":0},0,0,0,0,0,0,0,0,{"$f":"1.4*F29+2.33*G29+0.72*E29+1.21*(I29/10000)-0.92*D29-1.75*H29-0.8*J29-B29","v":0},{"$f":"IF(A29<>0,A29/$P$17,0)","v":0},{"$f":"IF(B29<>0,B29/$P$17,0)","v":0},0,0,0,0,0,0,0,0]
[{"$f":"Betriebsdaten!$B$31","v":2020}]
[{"$nulls":11},"Bewirtschaftete Fläche",{"$nulls":3},{"$f":"Betriebsdaten!$D$17+Betriebsdaten!$D$18+Betriebsdaten!$D$19+Betriebsdaten!$D$20","v":{"v":0,"d":"0.00"}},null,"ha"]
["Nährstoffinputs",{"$nulls":10},"Nährstoffinputs"]
["C","N","NH4-N","P2O5","K2O","Ca","MgO","S","Na","Cl","Sluijsmans","C","N","NH4-N","P2O5","K2O","Ca","MgO","S","Na","Cl"]
["kg*a-1","kg*a-1","kg*a-1","kg*a-1","kg*a-1","kg*a-1","kg*a-1","kg*a-1","kg*a-1","kg*a-1","kg CaO/a","kg/ha&a","kg/ha&a","kg/ha&a","kg/ha&a","kg/ha&a","kg/ha&a","kg/ha&a","kg/ha&a","kg/ha&a","kg CaO/ha&a"]
[{"$f":"'Gesamt Nährstoffinput'!A42","v":0},{"$f":"'Gesamt Nährstoffinput'!B42","v":0},{"$f":"'Gesamt Nährstoffinput'!C42","v":0},{"$f":"'Gesamt Nährstoffinput'!D42","v":0},{"$f":"'Gesamt Nährstoffinput'!E42","v":0},{"$f":"'Gesamt Nährstoffinput'!F42","v":0},{"$f":"'Gesamt Nährstoffinput'!G42","v":0},{"$f":"'Gesamt Nährstoffinput'!H42","v":0},{"$f":"'Gesamt Nährstoffinput'!I42","v":0},{"$f":"'Gesamt Nährstoffinput'!J42","v":0},{"$f":"1.4*F35+2.33*G35+0.72*E35+1.21*(I35/10000)-0.92*D35-1.75*H35-0.8*J35-B35","v":0},{"$f":"IF(A35<>0,A35/$P$31,0)","v":0},{"$f":"IF(B35<>0,B35/$P$31,0)","v":0},0,0,0,0,0,0,0,0]
["Nährstoffoutputs",{"$nulls":10},"Nährstoffoutputs"]
["C","N","NH4-N","P2O5","K2O","Ca","MgO","S","Na","Cl","Sluijsmans","C","N","NH4-N","P2O5","K2O","Ca","MgO","S","Na","Cl"]
["kg*a-1","kg*a-1","kg*a-1","kg*a-1","kg*a-1","kg*a-1","kg*a-1","kg*a-1","kg*a-1","kg*a-1","kg CaO/a","kg/ha&a","kg/ha&a","kg/ha&a","kg/ha&a","kg/ha&a","kg/ha&a","kg/ha&a","kg/ha&a","kg/ha&a","kg CaO/ha&a"]
[{"$f":"'Gesamter Nährstoffoutput'!A42","v":0},{"$f":"'Gesamter Nährstoffoutput'!B42","v":0},{"$f":"'Gesamter Nährstoffoutput'!C42","v":0},{"$f":"'Gesamter Nährstoffoutput'!D42","v":0},{"$f":"'Gesamter Nährstoffoutput'!E42","v":0},{"$f":"'Gesamter Nährstoffoutput'!F42","v":0},{"$f":"'Gesamter Nährstoffoutput'!G42","v":0},{"$f":"'Gesamter Nährstoffoutput'!H42","v":0},{"$f":"'Gesamter Nährstoffoutput'!I42","v":0},{"$f":"'Gesamter Nährstoffoutput'!J42","v":0},{"$f":"1.4*F39+2.33*G39+0.72*E39+1.21*(I39/10000)-0.92*D39-1.75*H39-0.8*J39-B39","v":0},{"$f":"IF(A39<>0,A39/$P$31,0)","v":0},{"$f":"IF(B39<>0,B39/$P$31,0)","v":0},0,0,0,0,0,0,0,0]
["Bilanz für den Gesamtbetrieb",{"$nulls":10},"Bilanz für den Gesamtbetrieb"]
["C","N","NH4-N","P2O5","K2O","Ca","MgO","S","Na","Cl","Sluijsmans","C","N","NH4-N","P2O5","K2O","Ca","MgO","S","Na","Cl"]
["kg*a-1","kg*a-1","kg*a-1","kg*a-1","kg*a-1","kg*a-1","kg*a-1","kg*a-1","kg*a-1","kg*a-1","kg CaO/a","kg/ha&a","kg/ha&a","kg/ha&a","kg/ha&a","kg/ha&a","kg/ha&a","kg/ha&a","kg/ha&a","kg/ha&a","kg CaO/ha&a"]
[{"$f":"A35-A39","v":0},{"$f":"B35-B39","v":0},0,0,0,0,0,0,0,0,{"$f":"1.4*F43+2.33*G43+0.72*E43+1.21*(I43/10000)-0.92*D43-1.75*H43-0.8*J43-B43","v":0},{"$f":"IF(A43<>0,A43/$P$31,0)","v":0},{"$f":"IF(B43<>0,B43/$P$31,0)","v":0},0,0,0,0,0,0,0,0]
["Durchschnitt",{"$nulls":10},"Durchschnitt"]
[{"$nulls":11},"Bewirtschaftete Fläche",{"$nulls":3},{"$f":"AVERAGE(P3,P17,P31)","v":{"v":0,"d":"0.00"}},null,"ha"]
["Nährstoffinputs",{"$nulls":10},"Nährstoffinputs"]
["C","N","NH4-N","P2O5","K2O","Ca","MgO","S","Na","Cl","Sluijsmans","C","N","NH4-N","P2O5","K2O","Ca","MgO","S","Na","Cl"]
["kg*a-1","kg*a-1","kg*a-1","kg*a-1","kg*a-1","kg*a-1","kg*a-1","kg*a-1","kg*a-1","kg*a-1","kg CaO/a","kg/ha&a","kg/ha&a","kg/ha&a","kg/ha&a","kg/ha&a","kg/ha&a","kg/ha&a","kg/ha&a","kg/ha&a","kg CaO/ha&a"]
[{"$f":"'Gesamt Nährstoffinput'!A56","v":0},{"$f":"'Gesamt Nährstoffinput'!B56","v":0},{"$f":"'Gesamt Nährstoffinput'!C56","v":0},{"$f":"'Gesamt Nährstoffinput'!D56","v":0},{"$f":"'Gesamt Nährstoffinput'!E56","v":0},{"$f":"'Gesamt Nährstoffinput'!F56","v":0},{"$f":"'Gesamt Nährstoffinput'!G56","v":0},{"$f":"'Gesamt Nährstoffinput'!H56","v":0},{"$f":"'Gesamt Nährstoffinput'!I56","v":0},{"$f":"'Gesamt Nährstoffinput'!J56","v":0},{"$f":"1.4*F49+2.33*G49+0.72*E49+1.21*(I49/10000)-0.92*D49-1.75*H49-0.8*J49-B49","v":0},{"$f":"IF(A49<>0,A49/$P$45,0)","v":0},{"$f":"IF(B49<>0,B49/$P$45,0)","v":0},0,0,0,0,0,0,0,0]
["Nährstoffoutputs",{"$nulls":10},"Nährstoffoutputs"]
["C","N","NH4-N","P2O5","K2O","Ca","MgO","S","Na","Cl","Sluijsmans","C","N","NH4-N","P2O5","K2O","Ca","MgO","S","Na","Cl"]
["kg*a-1","kg*a-1","kg*a-1","kg*a-1","kg*a-1","kg*a-1","kg*a-1","kg*a-1","kg*a-1","kg*a-1","kg CaO/a","kg/ha&a","kg/ha&a","kg/ha&a","kg/ha&a","kg/ha&a","kg/ha&a","kg/ha&a","kg/ha&a","kg/ha&a","kg CaO/ha&a"]
[{"$f":"'Gesamter Nährstoffoutput'!A56","v":0},{"$f":"'Gesamter Nährstoffoutput'!B56","v":0},{"$f":"'Gesamter Nährstoffoutput'!C56","v":0},{"$f":"'Gesamter Nährstoffoutput'!D56","v":0},{"$f":"'Gesamter Nährstoffoutput'!E56","v":0},{"$f":"'Gesamter Nährstoffoutput'!F56","v":0},{"$f":"'Gesamter Nährstoffoutput'!G56","v":0},{"$f":"'Gesamter Nährstoffoutput'!H56","v":0},{"$f":"'Gesamter Nährstoffoutput'!I56","v":0},{"$f":"'Gesamter Nährstoffoutput'!J56","v":0},{"$f":"1.4*F53+2.33*G53+0.72*E53+1.21*(I53/10000)-0.92*D53-1.75*H53-0.8*J53-B53","v":0},{"$f":"IF(A53<>0,A53/$P$45,0)","v":0},{"$f":"IF(B53<>0,B53/$P$45,0)","v":0},0,0,0,0,0,0,0,0]
["Bilanz für den Gesamtbetrieb",{"$nulls":10},"Bilanz für den Gesamtbetrieb"]
["C","N","NH4-N","P2O5","K2O","Ca","MgO","S","Na","Cl","Sluijsmans","C","N","NH4-N","P2O5","K2O","Ca","MgO","S","Na","Cl"]
["kg*a-1","kg*a-1","kg*a-1","kg*a-1","kg*a-1","kg*a-1","kg*a-1","kg*a-1","kg*a-1","kg*a-1","kg CaO/a","kg/ha&a","kg/ha&a","kg/ha&a","kg/ha&a","kg/ha&a","kg/ha&a","kg/ha&a","kg/ha&a","kg/ha&a","kg CaO/ha&a"]
[{"$f":"A49-A53","v":0},{"$f":"B49-B53","v":0},0,0,0,0,0,0,0,0,{"$f":"1.4*F57+2.33*G57+0.72*E57+1.21*(I57/10000)-0.92*D57-1.75*H57-0.8*J57-B57","v":0},{"$f":"IF(A67<>0,A57/$P$45,0)","v":0},{"$f":"IF(B67<>0,B57/$P$45,0)","v":0},0,0,0,0,0,0,0,0]

{"sheet":"Ergebnisausgabe","index":16,"n_rows":119,"n_cols":13,"rows_kept":119,"merged":[[1,0,1,1],[1,3,1,5],[1,6,1,7],[1,8,1,10],[1,11,1,12],[2,4,2,5],[2,9,2,10],[3,0,3,1],[3,2,3,3],[3,4,3,5],[3,6,3,9],[3,10,3,11],[3,12,3,13],[4,0,4,1],[4,2,4,3],[4,4,4,5],[4,6,4,9],[4,10,4,11],[4,12,4,13],[5,2,5,3],[5,4,5,5],[5,6,5,9],[5,10,5,11],[5,12,5,13],[6,0,6,1],[6,2,6,3],[6,4,6,5],[6,6,6,7],[6,9,6,11],[6,12,6,13],[7,0,7,1],[7,2,7,3],[7,4,7,5],[7,6,7,7],[7,9,7,11],[7,12,7,13],[8,0,8,1],[8,2,8,3],[8,4,8,5],[8,6,8,7],[8,9,8,11],[8,12,8,13],[9,0,9,13],[10,4,10,6],[10,7,10,13],[11,1,12,3],[11,4,12,6],[11,7,11,13],[27,8,28,9],[27,10,27,11],[27,13,28,13],[28,10,28,11],[31,0,31,1],[31,3,31,5],[31,6,31,7],[31,8,31,10],[31,11,31,12],[32,4,32,5],[32,9,32,10],[33,2,33,3],[33,4,33,5],[33,6,33,9],[33,10,33,11],[33,12,33,13],[34,0,34,1],[34,2,34,3],[34,4,34,5],[34,6,34,9],[34,10,34,11],[34,12,34,13],[35,2,35,3],[35,4,35,5],[35,6,35,9],[35,10,35,11],[35,12,35,13],[36,0,36,1],[36,2,36,3],[36,4,36,5],[36,6,36,7],[36,9,36,11],[36,12,36,13],[37,0,37,1],[37,2,37,3],[37,4,37,5],[37,6,37,7],[37,9,37,11],[37,12,37,13],[38,0,38,1],[38,2,38,3],[38,4,38,5],[38,6,38,7],[38,9,38,11],[38,12,38,13],[39,0,39,13],[40,4,40,6],[40,7,40,13],[41,1,42,3],[41,4,42,6],[41,7,41,13],[57,8,58,9],[57,10,57,11],[57,13,58,13],[58,10,58,11],[61,0,61,1],[61,3,61,5],[61,6,61,7],[61,8,61,10],[61,11,61,12],[62,4,62,5],[62,9,62,10],[63,2,63,3],[63,4,63,5],[63,6,63,9],[63,10,63,11],[63,12,63,13],[64,0,64,1],[64,2,64,3],[64,4,64,5],[64,6,64,9],[64,10,64,11],[64,12,64,13],[65,2,65,3],[65,4,65,5],[65,6,65,9],[65,10,65,11],[65,12,65,13],[66,0,66,1],[66,2,66,3],[66,4,66,5],[66,6,66,7],[66,9,66,11],[66,12,66,13],[67,0,67,1],[67,2,67,3],[67,4,67,5],[67,6,67,7],[67,9,67,11],[67,12,67,13],[68,0,68,1],[68,2,68,3],[68,4,68,5],[68,6,68,7],[68,9,68,11],[68,12,68,13],[69,0,69,13],[70,4,70,6],[70,7,70,13],[71,1,72,3],[71,4,72,6],[71,7,71,13],[87,8,88,9],[87,10,87,11],[87,13,88,13],[88,10,88,11],[91,0,91,1],[91,6,91,7],[91,8,91,10],[91,11,91,12],[92,6,92,7],[93,6,93,9],[93,10,93,11],[94,0,94,1],[94,6,94,9],[94,10,94,11],[95,6,95,9],[95,10,95,11],[97,0,97,1],[98,0,98,1],[100,4,101,5],[100,7,100,13],[116,8,117,9],[116,10,116,11],[116,13,117,13],[117,10,117,11]]}
[]
["BetriebsNr.:",null,{"$f":"Betriebsdaten!B2","v":0},"Bilanzierungszeitraum: ",null,null,{"$f":"Betriebsdaten!$B$29","v":2022},null,"Betriebsgröße (ha):",null,null,{"$f":"Betriebsdaten!$B$17+Betriebsdaten!$B$18+Betriebsdaten!$B$19+Betriebsdaten!$B$20+Betriebsdaten!$B$21","v":{"v":0,"d":"0.00"}}]
[]
["Ackerland (ha)",null,{"$f":"Betriebsdaten!B17","v":{"v":0,"d":"0.00"}},{"$nulls":3},"Gemüse Freiland (ha)",{"$nulls":3},{"$f":"Betriebsdaten!B19","v":{"v":0,"d":"0.00"}}]
["Grünland (ha)",null,{"$f":"Betriebsdaten!B18","v":{"v":0,"d":"0.00"}},{"$nulls":3},"Gemüse unter Glas (ha)",{"$nulls":3},{"$f":"Betriebsdaten!B20","v":{"v":0,"d":"0.00"}}]
["Tierbestand (GV)",null,{"$f":"Betriebsdaten!B24","v":0},{"$nulls":3},"Fl. in öko. Bewirtschaftung (ha)",{"$nulls":3},{"$f":"Betriebsdaten!B21","v":{"v":0,"d":"0.00"}}]
["Tierbestand (GV /ha)*",null,{"$f":"Betriebsdaten!B25","v":0}]
["N-Einsatz Organische Dünger (kg/ha)**",null,{"$f":"IF(C4>0,(((Tierbestand!N16+Tierbestand!O16)+'Wi-Dü-Aufnahme'!K33)-'Wi-Dü-Abgabe'!K33)/(C4+C5),0)","v":0}]
["Biogasanlage (kW)",null,{"$f":"Betriebsdaten!B26","v":0}]
["* basierend auf den Einteilungen von FIONA; **berücksichtigt die Stall- und Lagerungsverluste"]
[]
["N-Fixierung:","Für den Ganzen Betrieb",null,null,"Bezogen auf die bewirtschaftete Fläche",null,null,"Abbildung"]
[{"$f":"'Gesamt Nährstoffinput'!B10","v":0}]
[null,"Nährstoffinputs (kg)",null,null,"Nährstoffinputs (kg/ha)"]
[null,"N","P2O5","K2O","N","P2O5","K2O"]
["Saatgutzukauf",{"$f":"Saatgut_MinD!R29","v":0},{"$f":"Saatgut_MinD!T29","v":0},{"$f":"Saatgut_MinD!U29","v":0},{"$f":"IF(B16<>0,(B16)/$L$2,0)","v":0},{"$f":"IF(C16<>0,(C16)/$L$2,0)","v":0},0]
["Organische Dünger",{"$f":"'Wi-Dü-Aufnahme'!K33","v":0},{"$f":"'Wi-Dü-Aufnahme'!M33","v":0},{"$f":"'Wi-Dü-Aufnahme'!N33","v":0},{"$f":"IF(B17<>0,(B17)/$L$2,0)","v":0},0,0]
["Futtermittel",{"$f":"'Fu-Mi;Biogassubstr. Zuk.'!O26","v":0},{"$f":"'Fu-Mi;Biogassubstr. Zuk.'!Q26","v":0},{"$f":"'Fu-Mi;Biogassubstr. Zuk.'!R26","v":0},{"$f":"IF(B18<>0,(B18)/$L$2,0)","v":0},0,0]
["Tierzukauf",{"$f":"Tierzukauf!N16","v":0},{"$f":"Tierzukauf!Q16","v":0},{"$f":"Tierzukauf!R16","v":0},{"$f":"IF(B19<>0,(B19)/$L$2,0)","v":0},0,0]
["GESAMT",{"$f":"SUM(B16:B19)+A13","v":0},{"$f":"SUM(C16:C19)","v":0},{"$f":"SUM(D16:D19)","v":0},{"$f":"SUM(E16:E19)+A13/L2","v":{"$error":"#DIV/0!"}},{"$f":"SUM(F16:F19)","v":0},{"$f":"SUM(G16:G19)","v":0}]
[null,"Nährstoffoutputs (kg)",null,null,"Nährstoffoutputs (kg/ha)"]
[null,"N","P2O5","K2O","N","P2O5","K2O"]
["pfl. Produkte",{"$f":"'Pfl. Prod. Verk.'!R89+'Fu-Mi; Biogassub. Verk.'!O17","v":0},{"$f":"'Pfl. Prod. Verk.'!T89+'Fu-Mi; Biogassub. Verk.'!Q17","v":0},{"$f":"'Pfl. Prod. Verk.'!U89+'Fu-Mi; Biogassub. Verk.'!R17","v":0},{"$f":"IF(B23>0,B23/$L$2,0)","v":0},{"$f":"IF(C23>0,C23/$L$2,0)","v":0},0]
["tier. Produkte",{"$f":"'Tierverk.; Tier.Prod.'!U48","v":0},{"$f":"'Tierverk.; Tier.Prod.'!W48","v":0},{"$f":"'Tierverk.; Tier.Prod.'!X48","v":0},{"$f":"IF(B24>0,B24/$L$2,0)","v":0},0,0]
["Sonstiges",{"$f":"'Wi-Dü-Abgabe'!K33","v":0},{"$f":"'Wi-Dü-Abgabe'!M33","v":0},{"$f":"'Wi-Dü-Abgabe'!N33","v":0},{"$f":"IF(B25>0,B25/$L$2,0)","v":0},0,0]
["GESAMT",{"$f":"SUM(B23:B25)","v":0},0,0,0,0,0]
[null,"Bilanz für den Gesamtbetrieb",null,null,"Bilanz für den Gesamtbetrieb"]
[null,"N","P2O5","K2O","N","P2O5","K2O",null,"N-Effizienz:",null,"Summe N-Ausfuhr",null,{"$f":"B26","v":0}]
[{"$nulls":10},"Summe N-Zufuhr",null,{"$f":"B20","v":0}]
["SALDO",{"$f":"B20-B26","v":0},{"$f":"C20-C26","v":0},{"$f":"D20-D26","v":0},{"$f":"E20-E26","v":{"$error":"#DIV/0!"}},0,0]
[]
["BetriebsNr.:",null,{"$f":"Betriebsdaten!B2","v":0},"Bilanzierungszeitraum: ",null,null,{"$f":"Betriebsdaten!$B$30","v":2021},null,"Betriebsgröße (ha):",null,null,{"$f":"Betriebsdaten!$B$17+Betriebsdaten!$B$18+Betriebsdaten!$B$19+Betriebsdaten!$B$20+Betriebsdaten!$B$21","v":{"v":0,"d":"0.00"}}]
[]
["Ackerland (ha)",null,{"$f":"Betriebsdaten!C17","v":{"v":0,"d":"0.00"}},{"$nulls":3},"Gemüse Freiland (ha)",{"$nulls":3},{"$f":"Betriebsdaten!B19","v":{"v":0,"d":"0.00"}}]
["Grünland (ha)",null,{"$f":"Betriebsdaten!C18","v":{"v":0,"d":"0.00"}},{"$nulls":3},"Gemüse unter Glas (ha)",{"$nulls":3},{"$f":"Betriebsdaten!B20","v":{"v":0,"d":"0.00"}}]
["Tierbestand (GV)",null,{"$f":"Betriebsdaten!C24","v":0},{"$nulls":3},"Fl. in öko. Bewirtschaftung (ha)",{"$nulls":3},{"$f":"Betriebsdaten!B21","v":{"v":0,"d":"0.00"}}]
["Tierbestand (GV /ha)*",null,{"$f":"Betriebsdaten!C25","v":0}]
["N-Einsatz organische Dünger (kg/ha)**",null,{"$f":"IF(C34>0,(((Tierbestand!N17+Tierbestand!O17)+'Wi-Dü-Aufnahme'!W33)-'Wi-Dü-Abgabe'!W33)/(C34+C35),0)","v":0}]
["Biogasanlage (kW)",null,{"$f":"Betriebsdaten!C26","v":0}]
["* basierend auf den Einteilungen von FIONA; **berücksichtigt die Stall- und Lagerungsverluste"]
[]
["N-Fixierung:","Für den Ganzen Betrieb",null,null,"Bezogen auf die bewirtschaftete Fläche",null,null,"Abbildung"]
[{"$f":"'Gesamt Nährstoffinput'!B24","v":0}]
[null,"Nährstoffinputs (kg)",null,null,"Nährstoffinputs (kg/ha)"]
[null,"N","P2O5","K2O","N","P2O5","K2O"]
["Saatgutzukauf",{"$f":"Saatgut_MinD!AD29","v":0},{"$f":"Saatgut_MinD!AF29","v":0},{"$f":"Saatgut_MinD!AG29","v":0},{"$f":"IF(B46<>0,(B46)/$L$32,0)","v":0},{"$f":"IF(C46<>0,(C46)/$L$32,0)","v":0},0]
["Organische Dünger",{"$f":"'Wi-Dü-Aufnahme'!W33","v":0},{"$f":"'Wi-Dü-Aufnahme'!Y33","v":0},{"$f":"'Wi-Dü-Aufnahme'!Z33","v":0},{"$f":"IF(B47<>0,(B47)/$L$32,0)","v":0},0,0]
["Futtermittel",{"$f":"'Fu-Mi;Biogassubstr. Zuk.'!AA26","v":0},{"$f":"'Fu-Mi;Biogassubstr. Zuk.'!AC26","v":0},{"$f":"'Fu-Mi;Biogassubstr. Zuk.'!AD26","v":0},{"$f":"IF(B48<>0,(B48)/$L$32,0)","v":0},0,0]
["Tierzukauf",{"$f":"Tierzukauf!AA16","v":0},{"$f":"Tierzukauf!AC16","v":0},{"$f":"Tierzukauf!AD16","v":0},{"$f":"IF(B49<>0,(B49)/$L$32,0)","v":0},0,0]
["GESAMT",{"$f":"SUM(B46:B49)+A43","v":0},{"$f":"SUM(C46:C49)","v":0},{"$f":"SUM(D46:D49)","v":0},{"$f":"SUM(E46:E49)+A43/L32","v":{"$error":"#DIV/0!"}},{"$f":"SUM(F46:F49)","v":0},{"$f":"SUM(G46:G49)","v":0}]
[null,"Nährstoffoutputs (kg)",null,null,"Nährstoffoutputs (kg/ha)"]
[null,"N","P2O5","K2O","N","P2O5","K2O"]
["pfl. Produkte",{"$f":"'Pfl. Prod. Verk.'!AD89+'Fu-Mi; Biogassub. Verk.'!AA17","v":0},{"$f":"'Pfl. Prod. Verk.'!AF89+'Fu-Mi; Biogassub. Verk.'!AC17","v":0},{"$f":"'Pfl. Prod. Verk.'!AG89+'Fu-Mi; Biogassub. Verk.'!AD17","v":0},{"$f":"IF(B53<>0,B53/$L$32,0)","v":0},{"$f":"IF(C53<>0,C53/$L$32,0)","v":0},0]
["tier. Produkte",{"$f":"'Tierverk.; Tier.Prod.'!AG48","v":0},{"$f":"'Tierverk.; Tier.Prod.'!AI48","v":0},{"$f":"'Tierverk.; Tier.Prod.'!AJ48","v":0},{"$f":"IF(B54<>0,B54/$L$32,0)","v":0},0,0]
["Sonstiges",{"$f":"'Wi-Dü-Abgabe'!W33","v":0},{"$f":"'Wi-Dü-Abgabe'!Y33","v":0},{"$f":"'Wi-Dü-Abgabe'!Z33","v":0},{"$f":"IF(B55<>0,B55/$L$32,0)","v":0},0,0]
["GESAMT",{"$f":"SUM(B51:B55)","v":0},0,0,0,0,0]
[null,"Bilanz für den Gesamtbetrieb",null,null,"Bilanz für den Gesamtbetrieb"]
[null,"N","P2O5","K2O","N","P2O5","K2O",null,"N-Effizienz:",null,"Summe N-Ausfuhr",null,{"$f":"B56","v":0}]
[{"$nulls":10},"Summe N-Zufuhr",null,{"$f":"B50","v":0}]
["SALDO",{"$f":"B50-B56","v":0},{"$f":"C50-C56","v":0},{"$f":"D50-D56","v":0},{"$f":"E50-E56","v":{"$error":"#DIV/0!"}},0,0]
[]
["BetriebsNr.:",null,{"$f":"Betriebsdaten!B26","v":0},"Bilanzierungszeitraum: ",null,null,{"$f":"Betriebsdaten!$B$31","v":2020},null,"Betriebsgröße (ha):",null,null,{"$f":"Betriebsdaten!$B$17+Betriebsdaten!$B$18+Betriebsdaten!$B$19+Betriebsdaten!$B$20+Betriebsdaten!$B$21","v":{"v":0,"d":"0.00"}}]
[]
["Ackerland (ha)",null,{"$f":"Betriebsdaten!D17","v":{"v":0,"d":"0.00"}},{"$nulls":3},"Gemüse Freiland (ha)",{"$nulls":3},{"$f":"Betriebsdaten!B19","v":{"v":0,"d":"0.00"}}]
["Grünland (ha)",null,{"$f":"Betriebsdaten!D18","v":{"v":0,"d":"0.00"}},{"$nulls":3},"Gemüse unter Glas (ha)",{"$nulls":3},{"$f":"Betriebsdaten!B20","v":{"v":0,"d":"0.00"}}]
["Tierbestand (GV)",null,{"$f":"Betriebsdaten!D24","v":0},{"$nulls":3},"Fl. in öko. Bewirtschaftung (ha)",{"$nulls":3},{"$f":"Betriebsdaten!B21","v":{"v":0,"d":"0.00"}}]
["Tierbestand (GV /ha)*",null,{"$f":"Betriebsdaten!D25","v":0}]
["N-Einsatz organische Dünger (kg/ha)**",null,{"$f":"IF(C64>0,(((Tierbestand!N18+Tierbestand!O18)+'Wi-Dü-Aufnahme'!AI33)-'Wi-Dü-Abgabe'!AI33)/(C64+C65),0)","v":0}]
["Biogasanlage (kW)",null,{"$f":"Betriebsdaten!D26","v":0}]
["* basierend auf den Einteilungen von FIONA; **berücksichtigt die Stall- und Lagerungsverluste"]
[]
["N-Fixierung:","Für den Ganzen Betrieb ",null,null,"Bezogen auf die bewirtschaftete Fläche ",null,null,"Abbildung"]
[{"$f":"'Gesamt Nährstoffinput'!B38","v":0}]
[null,"Nährstoffinputs (kg)",null,null,"Nährstoffinputs (kg/ha)"]
[null,"N","P2O5","K2O","N","P2O5","K2O"]
["Saatgutzukauf",{"$f":"Saatgut_MinD!AP29","v":0},{"$f":"Saatgut_MinD!AR29","v":0},{"$f":"Saatgut_MinD!AS29","v":0},{"$f":"IF(B76<>0,(B76)/$L$62,0)","v":0},{"$f":"IF(C76<>0,(C76)/$L$62,0)","v":0},0]
["Organische Dünger",{"$f":"'Wi-Dü-Aufnahme'!AI33","v":0},{"$f":"'Wi-Dü-Aufnahme'!AK33","v":0},{"$f":"'Wi-Dü-Aufnahme'!AL33","v":0},{"$f":"IF(B77<>0,(B77)/$L$62,0)","v":0},0,0]
["Futtermittel",{"$f":"'Fu-Mi;Biogassubstr. Zuk.'!AM26","v":0},{"$f":"'Fu-Mi;Biogassubstr. Zuk.'!AO26","v":0},{"$f":"'Fu-Mi;Biogassubstr. Zuk.'!AP26","v":0},{"$f":"IF(B78<>0,(B78)/$L$62,0)","v":0},0,0]
["Tierzukauf",{"$f":"Tierzukauf!AM16","v":0},{"$f":"Tierzukauf!AO16","v":0},{"$f":"Tierzukauf!AP16","v":0},{"$f":"IF(B79<>0,(B79)/$L$62,0)","v":0},0,0]
["GESAMT",{"$f":"SUM(B76:B79)+A73","v":0},{"$f":"SUM(C76:C79)","v":0},{"$f":"SUM(D76:D79)","v":0},{"$f":"SUM(E76:E79)+A73/L62","v":{"$error":"#DIV/0!"}},{"$f":"SUM(F76:F79)","v":0},{"$f":"SUM(G76:G79)","v":0}]
[null,"Nährstoffoutputs (kg)",null,null,"Nährstoffoutputs (kg/ha)"]
[null,"N","P2O5","K2O","N","P2O5","K2O"]
["pfl. Produkte",{"$f":"'Pfl. Prod. Verk.'!AP89+'Fu-Mi; Biogassub. Verk.'!AM17","v":0},{"$f":"'Pfl. Prod. Verk.'!AR89+'Fu-Mi; Biogassub. Verk.'!AO17","v":0},{"$f":"'Pfl. Prod. Verk.'!AS89+'Fu-Mi; Biogassub. Verk.'!AP17","v":0},{"$f":"IF(B83<>0,B83/$L$62,0)","v":0},{"$f":"IF(C83<>0,C83/$L$62,0)","v":0},0]
["tier. Produkte",{"$f":"'Tierverk.; Tier.Prod.'!AS48","v":0},{"$f":"'Tierverk.; Tier.Prod.'!AU48","v":0},{"$f":"'Tierverk.; Tier.Prod.'!AV48","v":0},{"$f":"IF(B84<>0,B84/$L$62,0)","v":0},0,0]
["Sonstiges",{"$f":"'Wi-Dü-Abgabe'!AI33","v":0},{"$f":"'Wi-Dü-Abgabe'!AK33","v":0},{"$f":"'Wi-Dü-Abgabe'!AL33","v":0},{"$f":"IF(B85<>0,B85/$L$62,0)","v":0},0,0]
["GESAMT",{"$f":"SUM(B81:B85)","v":0},0,0,0,0,0]
[null,"Bilanz für den Gesamtbetrieb",null,null,"Bilanz für den Gesamtbetrieb"]
[null,"N","P2O5","K2O","N","P2O5","K2O",null,"N-Effizienz:",null,"Summe N-Ausfuhr",null,{"$f":"B86","v":0}]
[{"$nulls":10},"Summe N-Zufuhr",null,{"$f":"B80","v":0}]
["SALDO",{"$f":"B80-B86","v":0},{"$f":"C80-C86","v":0},{"$f":"D80-D86","v":0},{"$f":"E80-E86","v":{"$error":"#DIV/0!"}},0,0]
[]
["BetriebsNr.:",null,{"$f":"Betriebsdaten!B56","v":0},"Bil.Zeitr.",{"$f":"G2","v":2022},{"$f":"G32","v":2021},{"$f":"G62","v":2020},null,"Ø Betriebsgröße  (ha):",null,null,{"$f":"AVERAGE(L2,L32,L62)","v":{"v":0,"d":"0.00"}}]
[]
["Ø Ackerland (ha)",null,{"$f":"AVERAGE(C4,C34,C64)","v":0},{"$nulls":3},"Ø Gemüse Freiland (ha)",{"$nulls":3},{"$f":"AVERAGE(K64,K4,K34)","v":{"v":0,"d":"0.00"}}]
["Ø Grünland (ha)",null,{"$f":"AVERAGE(C5,C35,C65)","v":0},{"$nulls":3},"Ø Gemüse unter Glas (ha)",{"$nulls":3},{"$f":"AVERAGE(K65,K5,K35)","v":{"v":0,"d":"0.00"}}]
["Ø Tierbestand (GV)",null,{"$f":"AVERAGE(C6,C36,C66)","v":0},{"$nulls":3},"Ø Fl. in öko. Bewirtschaftung (ha)",{"$nulls":3},{"$f":"AVERAGE(K66,K6,K36)","v":{"v":0,"d":"0.00"}}]
["Ø Tierbestand (GV/ha)",null,{"$f":"AVERAGE(C7,C37,C67)","v":0}]
["N-Einsatz organische Dünger (kg/ha)**",null,{"$f":"AVERAGE(C8,C38,C68)","v":0}]
["Biogasanlage (kW)",null,{"$f":"Betriebsdaten!D26","v":0}]
[]
["N-Fixierung:","Durchschnitt",null,null,"Bewirtschaftete Fläche",null,null,"Abbildung"]
[{"$f":"AVERAGE(A13,A43,A73)","v":0},{"$nulls":5},{"$f":"IF(G73>0,AVERAGE(G13,G43,G73),0)","v":{"v":0,"d":"0.00"}}]
[null,"Nährstoffinputs (kg)",null,null,"Nährstoffinputs (kg/ha)"]
[null,"N","P2O5","K2O","N","P2O5","K2O"]
["Saatgutzukauf",{"$f":"AVERAGE(B16,B46,B76)","v":0},0,0,{"$f":"IF(B105<>0,(B105)/$L$92,0)","v":0},{"$f":"IF(C105<>0,(C105)/$L$92,0)","v":0},0]
["Organische Dünger",0,0,0,{"$f":"IF(B106<>0,(B106)/$L$92,0)","v":0},0,0]
["Futtermittel",0,0,0,{"$f":"IF(B107<>0,(B107)/$L$92,0)","v":0},0,0]
["Tierzukauf",0,0,0,{"$f":"IF(B108<>0,(B108)/$L$92,0)","v":0},0,0]
["GESAMT",{"$f":"SUM(B105:B108)","v":0},{"$f":"SUM(C105:C108)","v":0},0,{"$f":"SUM(E105:E108)+A102/L92","v":{"$error":"#DIV/0!"}},0,0]
[null,"Nährstoffoutputs (kg)",null,null,"Nährstoffoutputs (kg/ha)"]
[null,"N","P2O5","K2O","N","P2O5","K2O"]
["pfl. Produkte",{"$f":"AVERAGE(B23,B53,B83)","v":0},0,0,{"$f":"IF(B112<>0,B112/$L$92,0)","v":0},{"$f":"IF(C112<>0,C112/$L$92,0)","v":0},0]
["tier. Produkte",0,0,0,{"$f":"IF(B113<>0,B113/$L$92,0)","v":0},0,0]
["Sonstiges",0,0,0,{"$f":"IF(B114<>0,B114/$L$92,0)","v":0},0,0]
["GESAMT",{"$f":"SUM(B112:B114)","v":0},{"$f":"SUM(C112:C114)","v":0},0,0,0,0]
[null,"Bilanz für den Gesamtbetrieb",null,null,"Bilanz für den Gesamtbetrieb"]
[null,"N","P2O5","K2O","N","P2O5","K2O",null,"N-Effizienz:",null,"Summe N-Ausfuhr",null,{"$f":"B115","v":0}]
[{"$nulls":10},"Summe N-Zufuhr",null,{"$f":"B109","v":0}]
["SALDO",{"$f":"B109-B115","v":0},{"$f":"C109-C115","v":0},{"$f":"D109-D115","v":0},{"$f":"E109-E115","v":{"$error":"#DIV/0!"}},0,0]

{"sheet":"Tierbestand Tabellen","index":17,"n_rows":223,"n_cols":44,"rows_kept":223,"merged":[[0,0,2,0],[0,1,2,1],[0,2,2,2],[0,3,2,3],[0,4,2,4],[0,5,2,5],[0,6,0,17],[0,19,1,21],[0,22,1,24],[0,25,1,26],[0,28,2,29],[0,33,1,43],[1,10,1,11],[1,13,1,14],[1,16,1,17],[2,33,2,41],[2,42,3,42],[2,43,3,43],[3,28,4,29],[4,0,79,0],[81,0,156,0],[158,0,192,0],[194,0,202,0],[204,0,209,0],[211,0,213,0],[216,0,219,0]]}
[null,"Tierart","Tierart Code","GV Fiona","RGV",null,"Wirtschaftsdüngeranfall bei den verschiedenen Haltungsverfahren \n(je mittlerem Jahresbestand und Jahr)",{"$nulls":12},"Nährstoffausscheidungen in \n(kg je mittlerem Jahresbestand/ Jahr) ",null,null,"Nährstoffaufnahme aus Grobfutter   \n (kg je mittlerem Jahresbestand/Jahr)",null,null,"Anzurechnenende Mindestwerte der Ausscheidungen an Gesamtsickstoff in Wirtschaftsdüngern tierischer Herkunft und andeer Kenngrößen (Anlage 2 DüV)",null,null,"Haltungsverfahren ",null,"Tierzukauf",null,null,"Nährstoffgehalte von Tieren \n(ggf. auch tote Tiere) sowie der Ausschlachtungsgrad \n(Schlachtgewicht in % Lebendgewicht)"]
[{"$nulls":6},"Gülle",null,"Trockenkot",null,"niedrige Einstreumenge",null,null,"mittlere Einstreumenge",null,null,"hohe Einstreumenge"]
[{"$nulls":6},"[m³]",null,"[t]",null,"Festmist [t]","Jauche [m3]",null,"Festmist [t]","Jauche [m3]",null,"Festmist [t]","Jauche [m3]","Quelle","Nbrutto","P2O5","K2O","N","P2O5","K2O","Gülle, Gärrückstände","Festmist, Jauche,Weidehaltung",{"$nulls":6},"Nährstoffgehalt [kg/t]",{"$nulls":8},"Eiweiß-\ngehalt\n [%]","Aus-\nschlachtung\n [%]"]
[null,"Bitte wählen:",null,0,0,{"$nulls":23},"*Düngung BW/Stoffstrombilanz",null,"Produkt*","Code","C","N","NH4-N","P2O5","K2O","Ca","MgO","S","Na","Cl"]
["Rinder","Kälberaufzucht 16 Wo",1,null,null,"Gülle",{"v":3,"d":"3.0"},null,"-","niedrige Einstreumenge",3.2,0.8,"mittlere Einstreumenge",3.7,0.4,"hohe Einstreumenge",4.2,0,"DüV, ergänzt",16.6,6.4,15.3,{"v":5.7059999999999995,"d":"5.7"},{"v":1.974,"d":"2.0"},{"v":7.6290000000000004,"d":"7.6"},0.85,0.7,{"$nulls":3},"Bitte wählen:",0]
[null,"Kälber bis 6 Monate Zucht/Mast",1,0.4,0.4,"Gülle",3.4,null,"-","niedrige Einstreumenge",2.7,1.2,"mittlere Einstreumenge",3.5,0.6,"hohe Einstreumenge",4.6,0,"Basisdaten Bayern",{"v":22,"d":"22.0"},7.6,22.6,17.5,5.8,20.3,0.85,0.7,null,null,"CODE","Rind, milchb., männl.",1,null,25,0,13.7,2.9,{"$nulls":6},56]
[null,"Jungrinderaufzucht GL konv 7-12 M",1,0.6,0.6,"Gülle",7.8,null,"-","niedrige Einstreumenge",4.5,{"v":2,"d":"2.0"},"mittlere Einstreumenge",7.4,{"v":1,"d":"1.0"},"hohe Einstreumenge",8.9,0,"Basisdaten Bayern",{"v":47,"d":"47.0"},13.7,57.6,{"v":48,"d":"48.0"},{"v":14,"d":"14.0"},{"v":56,"d":"56.0"},0.85,0.7,null,"Bitte wählen:",0,"Rind milchb., weibl.",2,null,25,0,13.7,2.9,{"$nulls":6},54]
[null,"Jungrinderaufzucht GL konv 13-24 M",1,0.6,0.6,"Gülle",11.7,null,"-","niedrige Einstreumenge",6.9,{"v":3,"d":"3.0"},"mittlere Einstreumenge",{"v":12,"d":"12.0"},1.5,"hohe Einstreumenge",14.8,0,"Basisdaten Bayern",{"v":72,"d":"72.0"},20.6,93.6,{"v":73,"d":"73.0"},{"v":22,"d":"22.0"},{"v":87,"d":"87.0"},0.85,0.7,null,"Gülle",1,"Rind, milchb., Milchkuh",3,null,25,0,13.7,2.9,{"$nulls":6},46]
[null,"Jungrinderaufzucht GL konv >24 M",1,1,1,"Gülle",13.4,null,"-","niedrige Einstreumenge",8.1,3.5,"mittlere Einstreumenge",14.5,{"v":1.75,"d":"1.8"},"hohe Einstreumenge",18.1,0,"Basisdaten Bayern",{"v":84,"d":"84.0"},22.9,99.6,{"v":86,"d":"86.0"},{"v":25,"d":"25.0"},{"v":100,"d":"100.0"},0.85,0.7,null,"Trockenkot",2,"Rind, fleischb., männl.",4,null,27,0,14.9,2.9,{"$nulls":6},58]
[null,"Jungrinderaufzucht GL ext 7-12 M",1,0.6,0.6,"Gülle",7.8,null,"-","niedrige Einstreumenge",4.7,{"v":2,"d":"2.0"},"mittlere Einstreumenge",7.4,{"v":1,"d":"1.0"},"hohe Einstreumenge",8.9,0,"Basisdaten Bayern",{"v":44,"d":"44.0"},13.7,{"v":48,"d":"48.0"},{"v":43.74016468435499,"d":"43.7"},{"v":12.877998979070954,"d":"12.9"},{"v":46.59530905792407,"d":"46.6"},0.85,0.7,null,"Festmist mit wenig Einstreu",2,"Rind fleischb., weibl.",5,null,27,0,14.9,2.9,{"$nulls":6},56]
[null,"Jungrinderaufzucht GL ext 13-24 M",1,0.6,0.6,"Gülle",11.7,null,"-","niedrige Einstreumenge",7.1,{"v":3,"d":"3.0"},"mittlere Einstreumenge",11.9,1.5,"hohe Einstreumenge",14.7,0,"Basisdaten Bayern",{"v":67,"d":"67.0"},20.6,73.2,{"v":66.52150045745654,"d":"66.5"},{"v":20.23685553854007,"d":"20.2"},{"v":72.38914085784633,"d":"72.4"},0.85,0.7,null,"Festmist mit mittlerer Einstreu",2,"Rind, fleischb., Milchkuh",6,null,27,0,14.9,2.9,{"$nulls":6},50]
[null,"Jungrinderaufzucht GL ext >24 M",1,1,1,"Gülle",13.4,null,"-","niedrige Einstreumenge",8.1,3.2,"mittlere Einstreumenge",14.3,{"v":1.75,"d":"1.8"},"hohe Einstreumenge",17.7,0,"Basisdaten Bayern",{"v":77,"d":"77.0"},22.9,{"v":84,"d":"84.0"},{"v":78.36779505946936,"d":"78.4"},{"v":22.996426748340987,"d":"23.0"},{"v":83.20590903200727,"d":"83.2"},0.85,0.7,null,"Festmist mit viel Einstreu",2,"Schweine",7,null,25.6,0,11.7,2.4,{"$nulls":6},79]
[null,"Jungrinderaufzucht AF/GL mit Weide 7-12 M",1,0.6,0.6,"Gülle",7.75,null,"-","niedrige Einstreumenge",4.45,1.95,"mittlere Einstreumenge",7.35,{"v":0.975,"d":"0.98"},"hohe Einstreumenge",8.850000000000001,0,{"$error":"#VALUE!"},{"v":43,"d":"43.0"},12.6,52.8,{"v":43.905975762641035,"d":"43.9"},{"v":13.51645569620253,"d":"13.5"},{"v":51.44325330594428,"d":"51.4"},0.85,0.7,null,"Gärrest",1,"Schafe",8,null,26,0,13.7,2.4,{"$nulls":6},48]
[null,"Jungrinderaufzucht AF/GL mit Weide 13-24 M",1,0.6,0.6,"Gülle",11.7,null,"-","niedrige Einstreumenge",6.9,3,"mittlere Einstreumenge",12,1.5,"hohe Einstreumenge",14.8,0,{"$error":"#VALUE!"},66.5,20.6,83.4,{"v":66.64333472628499,"d":"66.6"},{"v":20.774683544303798,"d":"20.8"},{"v":78.39228399024265,"d":"78.4"},0.85,0.7,{"$nulls":3},"Ziegen",9,null,26,0,13.7,2.9,{"$nulls":6},48]
[null,"Jungrinderaufzucht AF/GL mit Weide >24 M",1,1,1,"Gülle",13.4,null,"-","niedrige Einstreumenge",7.949999999999999,3.5,"mittlere Einstreumenge",14.25,1.75,"hohe Einstreumenge",17.8,0,{"$error":"#VALUE!"},{"v":77,"d":"77.0"},22.9,91.8,{"v":78.26201420810698,"d":"78.3"},{"v":23.360759493670884,"d":"23.4"},{"v":89.79901142637053,"d":"89.8"},0.85,0.7,{"$nulls":3},"Pferde bis 5 Monate",10,null,27,0,20.6,2.2]
[null,"Jungrinderaufzucht AF/GL ohne Weide 7-12 M",1,0.6,0.6,"Gülle",7.75,null,"-","niedrige Einstreumenge",4.5,2,"mittlere Einstreumenge",7.4,1,"hohe Einstreumenge",8.9,0,{"$error":"#VALUE!"},{"v":42,"d":"42.0"},12.6,51.6,41.5,{"v":13,"d":"13.0"},49.5,0.85,0.7,{"$nulls":3},"Pferde über 5 Monate",11,null,30,0,17.4,2.4]
[null,"Jungrinderaufzucht AF/GL ohne Weide 13-24 M",1,0.6,0.6,"Gülle",11.7,null,"-","niedrige Einstreumenge",6.85,3,"mittlere Einstreumenge",11.9,1.5,"hohe Einstreumenge",14.7,0,{"$error":"#VALUE!"},{"v":64,"d":"64.0"},{"v":19.450000000000003,"d":"19.5"},{"v":81,"d":"81.0"},{"v":63,"d":"63.0"},{"v":20,"d":"20.0"},75.5,0.85,0.7,{"$nulls":3},"Legehennen",12,null,35,0,12.8,3]
[null,"Jungrinderaufzucht AF/GL ohne Weide >24 M",1,1,1,"Gülle",13.4,null,"-","niedrige Einstreumenge",7.949999999999999,3.45,"mittlere Einstreumenge",14.25,{"v":1.725,"d":"1.73"},"hohe Einstreumenge",17.8,0,{"$error":"#VALUE!"},{"v":74,"d":"74.0"},{"v":21.75,"d":"21.8"},88.8,{"v":74,"d":"74.0"},22.5,86.5,0.85,0.7,{"$nulls":3},"Masthähnchen",13,null,30,0,9.2,3.1]
[null,"Jungrinderaufzucht AF mit Weide 7-12 M",1,0.6,0.6,"Gülle",7.7,null,"-","niedrige Einstreumenge",4.4,1.9,"mittlere Einstreumenge",7.3,{"v":0.95,"d":"1.0"},"hohe Einstreumenge",8.8,0,"Basisdaten Bayern",{"v":39,"d":"39.0"},11.5,{"v":48,"d":"48.0"},{"v":39.81195152528207,"d":"39.8"},{"v":13.032911392405063,"d":"13.0"},{"v":46.88650661188856,"d":"46.9"},0.85,0.7,{"$nulls":3},"Puten",14,null,33,0,11.7,3]
[null,"Jungrinderaufzucht AF mit Weide 13-24 M",1,0.6,0.6,"Gülle",11.7,null,"-","niedrige Einstreumenge",6.9,{"v":3,"d":"3.0"},"mittlere Einstreumenge",{"v":12,"d":"12.0"},1.5,"hohe Einstreumenge",14.8,0,"Basisdaten Bayern",{"v":61,"d":"61.0"},20.6,73.2,{"v":60.286669452569996,"d":"60.3"},{"v":19.549367088607593,"d":"19.5"},{"v":69.78456798048529,"d":"69.8"},0.85,0.7,{"$nulls":3},"Enten",15,null,30,0,11.5,3]
[null,"Jungrinderaufzucht AF mit Weide > 24 M",1,1,1,"Gülle",13.4,null,"-","niedrige Einstreumenge",7.8,3.5,"mittlere Einstreumenge",{"v":14,"d":"14.0"},{"v":1.75,"d":"1.8"},"hohe Einstreumenge",17.5,0,"Basisdaten Bayern",{"v":70,"d":"70.0"},22.9,{"v":84,"d":"84.0"},{"v":70.52402841621395,"d":"70.5"},{"v":21.72151898734177,"d":"21.7"},{"v":79.59802285274104,"d":"79.6"},0.85,0.7,{"$nulls":3},"Gänse",16,null,30,0,12.1,3]
[null,"Jungrinderaufzucht AF ohne Weide 7-12 M",1,0.6,0.6,"Gülle",7.7,null,"-","niedrige Einstreumenge",4.5,{"v":2,"d":"2.0"},"mittlere Einstreumenge",7.4,{"v":1,"d":"1.0"},"hohe Einstreumenge",8.9,0,"Basisdaten Bayern",{"v":37,"d":"37.0"},11.5,45.6,{"v":35,"d":"35.0"},{"v":12,"d":"12.0"},{"v":43,"d":"43.0"},0.85,0.7,{"$nulls":3},"Kaninchen",17,null,30,0,14.9,3]
[null,"Jungrinderaufzucht AF ohne Weide 13-24 M",1,0.6,0.6,"Gülle",11.7,null,"-","niedrige Einstreumenge",6.8,{"v":3,"d":"3.0"},"mittlere Einstreumenge",11.8,1.5,"hohe Einstreumenge",14.6,0,"Basisdaten Bayern",{"v":56,"d":"56.0"},18.3,68.4,{"v":53,"d":"53.0"},{"v":18,"d":"18.0"},{"v":64,"d":"64.0"},0.85,0.7,{"$nulls":3},"Gehegewild",18,null,26,0,13.7,2.4]
[null,"Jungrinderaufzucht AF ohne Weide >24 M ",1,1,1,"Gülle",13.4,null,"-","niedrige Einstreumenge",7.8,3.4,"mittlere Einstreumenge",{"v":14,"d":"14.0"},1.7,"hohe Einstreumenge",17.5,0,"Basisdaten Bayern",{"v":64,"d":"64.0"},20.6,{"v":78,"d":"78.0"},{"v":62,"d":"62.0"},{"v":20,"d":"20.0"},{"v":73,"d":"73.0"},0.85,0.7,{"$nulls":3},"Bitte wählen:",19,null,null,0]
[null,"MV GL mit Weide  6000",1,1,1,"Gülle",{"v":19,"d":"19.0"},null,"-","niedrige Einstreumenge",14.4,{"v":6,"d":"6.0"},"mittlere Einstreumenge",18.6,{"v":3,"d":"3.0"},"hohe Einstreumenge",23.4,0,"DüV / Basisdaten Bayern",{"v":114,"d":"114.0"},{"v":36,"d":"36.0"},{"v":134,"d":"134.0"},{"v":108.15,"d":"108.2"},{"v":32.78999999999999,"d":"32.8"},{"v":126.73500000000001,"d":"126.7"},0.85,0.7,null,null,"Tierische Produkte","Hühnerei",20,null,19,0,4.81,1.77]
[null,"MV GL mit Weide  7000",1,1,1,"Gülle",19.5,null,"-","niedrige Einstreumenge",14.7,6.2,"mittlere Einstreumenge",19,3.1,"hohe Einstreumenge",23.9,0,{"$error":"#VALUE!"},121.5,39.5,{"v":138,"d":"138.0"},{"v":109.77000000000001,"d":"109.8"},{"v":33.62499999999999,"d":"33.6"},{"v":128.85500000000002,"d":"128.9"},0.85,0.7,{"$nulls":3},"Schafwolle",21,null,128,0,0.9,60.3]
[null,"MV GL mit Weide  8000",1,1,1,"Gülle",{"v":20,"d":"20.0"},null,"-","niedrige Einstreumenge",{"v":15,"d":"15.0"},6.4,"mittlere Einstreumenge",19.4,3.2,"hohe Einstreumenge",24.4,0,"DüV / Basisdaten Bayern",{"v":129,"d":"129.0"},{"v":43,"d":"43.0"},{"v":142,"d":"142.0"},{"v":111.39000000000001,"d":"111.4"},{"v":34.459999999999994,"d":"34.5"},{"v":130.97500000000002,"d":"131.0"},0.85,0.7,{"$nulls":3},"Bitte wählen:",22,null,0,0,0,0]
[null,"MV GL mit Weide  9000",1,1,1,"Gülle",20.5,null,"-","niedrige Einstreumenge",15.5,6.6,"mittlere Einstreumenge",19.799999999999997,3.3,"hohe Einstreumenge",24.9,0,{"$error":"#VALUE!"},{"v":136,"d":"136.0"},{"v":45,"d":"45.0"},{"v":146,"d":"146.0"},{"v":112.39500000000001,"d":"112.4"},{"v":35.044999999999995,"d":"35.0"},{"v":132.43,"d":"132.4"},0.85,0.7,{"$nulls":3},"Kuhmilch 3,1%",23,null,4.86,0,2.3,1.8,{"$nulls":5},3.1]
[null,"MV GL mit Weide  10000",1,1,1,"Gülle",{"v":21,"d":"21.0"},null,"-","niedrige Einstreumenge",{"v":16,"d":"16.0"},6.8,"mittlere Einstreumenge",20.2,3.4,"hohe Einstreumenge",25.4,0,"DüV / Basisdaten Bayern",{"v":143,"d":"143.0"},{"v":47,"d":"47.0"},{"v":150,"d":"150.0"},113.4,{"v":35.629999999999995,"d":"35.6"},{"v":133.88500000000002,"d":"133.9"},0.85,0.7,{"$nulls":3},"Kuhmilch 3,15%",24,null,4.94,null,2.3,1.8,{"$nulls":5},3.15]
[null,"MV GL ohne Weide  6000",1,1,1,"Gülle",{"v":19,"d":"19.0"},null,"-","niedrige Einstreumenge",14.4,{"v":6,"d":"6.0"},"mittlere Einstreumenge",18.6,{"v":3,"d":"3.0"},"hohe Einstreumenge",23.4,0,"DüV / Basisdaten Bayern",{"v":109,"d":"109.0"},{"v":37,"d":"37.0"},{"v":129,"d":"129.0"},{"v":97.52000000000001,"d":"97.5"},{"v":30.82,"d":"30.8"},{"v":120.44,"d":"120.4"},0.85,0.7,{"$nulls":3},"Kuhmilch 3,2%",25,null,5.02,0,2.3,1.8,{"$nulls":5},3.2]
[null,"MV GL ohne Weide  7000",1,1,1,"Gülle",19.5,null,"-","niedrige Einstreumenge",14.7,6.2,"mittlere Einstreumenge",19,3.1,"hohe Einstreumenge",23.9,0,{"$error":"#VALUE!"},116.5,{"v":40,"d":"40.0"},131.5,97.5,{"v":31.060000000000002,"d":"31.1"},{"v":120.09,"d":"120.1"},0.85,0.7,{"$nulls":3},"Kuhmilch 3,25%",26,null,5.095,0,2.3,1.8,{"$nulls":5},3.25]
[null,"MV GL ohne Weide  8000",1,1,1,"Gülle",{"v":20,"d":"20.0"},null,"-","niedrige Einstreumenge",{"v":15,"d":"15.0"},6.4,"mittlere Einstreumenge",19.4,3.2,"hohe Einstreumenge",24.4,0,"DüV / Basisdaten Bayern",{"v":124,"d":"124.0"},{"v":43,"d":"43.0"},{"v":134,"d":"134.0"},{"v":97.47999999999999,"d":"97.5"},31.3,{"v":119.74000000000001,"d":"119.7"},0.85,0.7,{"$nulls":3},"Kuhmilch 3,3%",27,null,5.17,0,2.3,1.8,{"$nulls":5},3.3]
[null,"MV GL ohne Weide  9000",1,1,1,"Gülle",20.5,null,"-","niedrige Einstreumenge",15.5,6.6,"mittlere Einstreumenge",19.799999999999997,3.3,"hohe Einstreumenge",24.9,0,{"$error":"#VALUE!"},132.5,45.5,138.5,{"v":99.325,"d":"99.3"},{"v":32.05,"d":"32.1"},{"v":121.73500000000001,"d":"121.7"},0.85,0.7,{"$nulls":3},"Kuhmilch 3,35%",28,null,5.25,0,2.3,1.8,{"$nulls":5},3.35]
[null,"MV GL ohne Weide  10000",1,1,1,"Gülle",{"v":21,"d":"21.0"},null,"-","niedrige Einstreumenge",{"v":16,"d":"16.0"},6.8,"mittlere Einstreumenge",20.2,3.4,"hohe Einstreumenge",25.4,0,"DüV / Basisdaten Bayern",{"v":141,"d":"141.0"},{"v":48,"d":"48.0"},{"v":143,"d":"143.0"},{"v":101.17000000000002,"d":"101.2"},32.8,{"v":123.73,"d":"123.7"},0.85,0.7,{"$nulls":3},"Kuhmilch 3,4%",29,null,5.33,0,2.3,1.8,{"$nulls":5},3.4]
[null,"MV AF/GL mit Weide 6000",1,1,1,"Gülle",{"v":19,"d":"19.0"},null,"-","niedrige Einstreumenge",14.4,{"v":6,"d":"6.0"},"mittlere Einstreumenge",18.6,{"v":3,"d":"3.0"},"hohe Einstreumenge",23.4,0,{"$error":"#VALUE!"},108.5,36.5,121.5,{"v":96.815,"d":"96.8"},{"v":30.454999999999995,"d":"30.5"},{"v":112.87500000000001,"d":"112.9"},0.85,0.7,{"$nulls":3},"Kuhmilch 3,45%",30,null,5.41,0,2.3,1.8,{"$nulls":5},3.45]
[null,"MV AF/GL mit Weide 7000",1,1,1,"Gülle",19.5,null,"-","niedrige Einstreumenge",14.7,6.2,"mittlere Einstreumenge",{"v":19,"d":"19.0"},3.1,"hohe Einstreumenge",23.9,0,{"$error":"#VALUE!"},{"v":115.75,"d":"115.8"},39.5,{"v":126.25,"d":"126.3"},{"v":99.38250000000001,"d":"99.4"},{"v":31.462499999999995,"d":"31.5"},{"v":115.90875000000001,"d":"115.9"},0.85,0.7,{"$nulls":3},"Kuhmilch 3,5%",31,null,5.49,0,2.3,1.8,{"$nulls":5},3.5]
[null,"MV AF/GL mit Weide 8000",1,1,1,"Gülle",{"v":20,"d":"20.0"},null,"-","niedrige Einstreumenge",{"v":15,"d":"15.0"},6.4,"mittlere Einstreumenge",19.4,3.2,"hohe Einstreumenge",24.4,0,{"$error":"#VALUE!"},{"v":123,"d":"123.0"},42.5,{"v":131,"d":"131.0"},{"v":101.95,"d":"102.0"},{"v":32.47,"d":"32.5"},{"v":118.94250000000001,"d":"118.9"},0.85,0.7,{"$nulls":3},"Kuhmilch 3,55%",32,null,5.57,0,2.3,1.8,{"$nulls":5},3.55]
[null,"MV AF/GL mit Weide 9000",1,1,1,"Gülle",20.5,null,"-","niedrige Einstreumenge",15.5,6.6,"mittlere Einstreumenge",{"v":19.799999999999997,"d":"19.8"},3.3,"hohe Einstreumenge",24.9,0,{"$error":"#VALUE!"},{"v":130.75,"d":"130.8"},{"v":44.75,"d":"44.8"},{"v":135.75,"d":"135.8"},{"v":103.8575,"d":"103.9"},{"v":33.269999999999996,"d":"33.3"},{"v":121.37375,"d":"121.4"},0.85,0.7,{"$nulls":3},"Kuhmilch 3,6%",33,null,5.65,0,2.3,1.8,{"$nulls":5},3.6]
[null,"MV AF/GL mit Weide 10000",1,1,1,"Gülle",{"v":21,"d":"21.0"},null,"-","niedrige Einstreumenge",{"v":16,"d":"16.0"},6.8,"mittlere Einstreumenge",20.2,3.4,"hohe Einstreumenge",25.4,0,{"$error":"#VALUE!"},138.5,{"v":47,"d":"47.0"},140.5,{"v":105.765,"d":"105.8"},{"v":34.06999999999999,"d":"34.1"},{"v":123.80500000000002,"d":"123.8"},0.85,0.7,{"$nulls":3},"Stutenmilch",34,null,3.5,0,1.4,0.6,{"$nulls":5},2.23]
[null,"MV AF/GL mit Weide 11000",1,1,1,"Gülle",21.5,null,"-","niedrige Einstreumenge",16.5,7,"mittlere Einstreumenge",20.6,3.5,"hohe Einstreumenge",25.9,0,null,{"v":147,"d":"147.0"},49.5,145.2,107.9,34.9,126.2,0.85,0.7,{"$nulls":3},"Ziegenmilch",35,null,5.8,0,2.8,2.2,{"$nulls":5},3.7]
[null,"MV AF/GL mit Weide 12000",1,1,1,"Gülle",22,null,"-","niedrige Einstreumenge",{"v":17,"d":"17.0"},7.2,"mittlere Einstreumenge",21,3.6,"hohe Einstreumenge",26.4,0,null,{"v":155,"d":"155.0"},{"v":52,"d":"52.0"},149.9,{"v":110,"d":"110.0"},35.7,128.6,0.85,0.7,{"$nulls":3},"Schafmilch",36,null,8.3,0,2.5,2.2,{"$nulls":5},5.3]
[null,"MV AF/GL ohne Weide 6000",1,1,1,"Gülle",{"v":19,"d":"19.0"},null,"-","niedrige Einstreumenge",14.7,{"v":6,"d":"6.0"},"mittlere Einstreumenge",18.6,{"v":3,"d":"3.0"},"hohe Einstreumenge",23.4,0,{"$error":"#VALUE!"},104.5,36.5,116.5,{"v":87.38000000000001,"d":"87.4"},{"v":28.655,"d":"28.7"},{"v":106.6075,"d":"106.6"},0.85,0.7]
[null,"MV AF/GL ohne Weide 7000",1,1,1,"Gülle",19.5,null,"-","niedrige Einstreumenge",15.1,6.2,"mittlere Einstreumenge",19,3.1,"hohe Einstreumenge",23.9,0,{"$error":"#VALUE!"},{"v":112,"d":"112.0"},39.5,{"v":120.75,"d":"120.8"},{"v":89.065,"d":"89.1"},{"v":29.37,"d":"29.4"},{"v":108.48250000000002,"d":"108.5"},0.85,0.7]
[null,"MV AF/GL ohne Weide 8000",1,1,1,"Gülle",{"v":20,"d":"20.0"},null,"-","niedrige Einstreumenge",15.5,6.4,"mittlere Einstreumenge",19.4,3.2,"hohe Einstreumenge",24.4,0,{"$error":"#VALUE!"},119.5,42.5,{"v":125,"d":"125.0"},{"v":90.75,"d":"90.8"},{"v":30.085,"d":"30.1"},{"v":110.35750000000002,"d":"110.4"},0.85,0.7]
[null,"MV AF/GL ohne Weide 9000",1,1,1,"Gülle",20.5,null,"-","niedrige Einstreumenge",16,6.6,"mittlere Einstreumenge",19.799999999999997,3.3,"hohe Einstreumenge",24.9,0,{"$error":"#VALUE!"},{"v":128.25,"d":"128.3"},{"v":45,"d":"45.0"},129.5,{"v":92.9075,"d":"92.9"},30.9,{"v":112.77250000000001,"d":"112.8"},0.85,0.7]
[null,"MV AF/GL ohne Weide 10000",1,1,1,"Gülle",{"v":21,"d":"21.0"},null,"-","niedrige Einstreumenge",16.5,6.8,"mittlere Einstreumenge",20.2,3.4,"hohe Einstreumenge",25.4,0,{"$error":"#VALUE!"},{"v":137,"d":"137.0"},47.5,{"v":134,"d":"134.0"},{"v":95.06500000000001,"d":"95.1"},{"v":31.714999999999996,"d":"31.7"},{"v":115.1875,"d":"115.2"},0.85,0.7]
[null,"MV AF/GL ohne Weide 11000",1,1,1,"Gülle",21.5,null,"-","niedrige Einstreumenge",17,7,"mittlere Einstreumenge",20.6,3.5,"hohe Einstreumenge",25.9,0,null,{"v":145,"d":"145.0"},{"v":50,"d":"50.0"},139.5,{"v":97.26500000000001,"d":"97.3"},32.5,{"v":117.6875,"d":"117.7"},0.85,0.7]
[null,"MV AF/GL ohne Weide 12000",1,1,1,"Gülle",22,null,"-","niedrige Einstreumenge",17.5,7.2,"mittlere Einstreumenge",21,3.6,"hohe Einstreumenge",26.4,0,null,{"v":152,"d":"152.0"},52.5,{"v":145,"d":"145.0"},{"v":99.46500000000002,"d":"99.5"},33.3,{"v":120.1875,"d":"120.2"},0.85,0.7]
[null,"MV AF mit Weide 6000",1,1,1,"Gülle",{"v":19,"d":"19.0"},null,"-","niedrige Einstreumenge",14.4,{"v":6,"d":"6.0"},"mittlere Einstreumenge",18.6,{"v":3,"d":"3.0"},"hohe Einstreumenge",23.4,0,"DüV / Basisdaten Bayern",{"v":103,"d":"103.0"},{"v":37,"d":"37.0"},{"v":109,"d":"109.0"},{"v":85.48,"d":"85.5"},{"v":28.119999999999997,"d":"28.1"},{"v":99.01500000000001,"d":"99.0"},0.85,0.7]
[null,"MV AF mit Weide 7000",1,1,1,"Gülle",19.5,null,"-","niedrige Einstreumenge",14.7,6.2,"mittlere Einstreumenge",{"v":19,"d":"19.0"},3.1,"hohe Einstreumenge",23.9,0,{"$error":"#VALUE!"},{"v":110,"d":"110.0"},39.5,114.5,{"v":88.995,"d":"89.0"},{"v":29.299999999999997,"d":"29.3"},{"v":102.9625,"d":"103.0"},0.85,0.7]
[null,"MV AF mit Weide 8000",1,1,1,"Gülle",{"v":20,"d":"20.0"},null,"-","niedrige Einstreumenge",{"v":15,"d":"15.0"},6.4,"mittlere Einstreumenge",19.4,3.2,"hohe Einstreumenge",24.4,0,"DüV / Basisdaten Bayern",{"v":117,"d":"117.0"},{"v":42,"d":"42.0"},{"v":120,"d":"120.0"},{"v":92.50999999999999,"d":"92.5"},{"v":30.48,"d":"30.5"},{"v":106.91,"d":"106.9"},0.85,0.7]
[null,"MV AF mit Weide 9000",1,1,1,"Gülle",20.5,null,"-","niedrige Einstreumenge",15.5,6.6,"mittlere Einstreumenge",{"v":19.799999999999997,"d":"19.8"},3.3,"hohe Einstreumenge",24.9,0,{"$error":"#VALUE!"},125.5,44.5,125.5,{"v":95.32,"d":"95.3"},{"v":31.494999999999997,"d":"31.5"},{"v":110.31750000000001,"d":"110.3"},0.85,0.7]
[null,"MV AF mit Weide 10000",1,1,1,"Gülle",{"v":21,"d":"21.0"},null,"-","niedrige Einstreumenge",{"v":16,"d":"16.0"},6.8,"mittlere Einstreumenge",20.2,3.4,"hohe Einstreumenge",25.4,0,"DüV / Basisdaten Bayern",{"v":134,"d":"134.0"},{"v":47,"d":"47.0"},{"v":131,"d":"131.0"},{"v":98.13,"d":"98.1"},{"v":32.51,"d":"32.5"},{"v":113.72500000000002,"d":"113.7"},0.85,0.7]
[null,"MV AF mit Weide 11000",1,1,1,"Gülle",21.5,null,"-","niedrige Einstreumenge",15.2,{"v":7,"d":"7.0"},"mittlere Einstreumenge",20.6,3.5,"hohe Einstreumenge",25.9,0,{"$error":"#VALUE!"},143.5,49.5,135.5,99.7,{"v":33.144999999999996,"d":"33.1"},{"v":115.62750000000001,"d":"115.6"},0.85,0.7]
[null,"MV AF mit Weide 12000",1,1,1,"Gülle",{"v":22,"d":"22.0"},null,"-","niedrige Einstreumenge",14.4,7.2,"mittlere Einstreumenge",{"v":21,"d":"21.0"},3.6,"hohe Einstreumenge",26.4,0,"DüV / Basisdaten Bayern",{"v":153,"d":"153.0"},{"v":52,"d":"52.0"},{"v":140,"d":"140.0"},{"v":101.27000000000001,"d":"101.3"},{"v":33.78,"d":"33.8"},{"v":117.53,"d":"117.5"},0.85,0.7]
[null,"MV AF ohne Weide 6000",1,1,1,"Gülle",{"v":19,"d":"19.0"},null,"-","niedrige Einstreumenge",{"v":15,"d":"15.0"},{"v":6,"d":"6.0"},"mittlere Einstreumenge",18.6,{"v":3,"d":"3.0"},"hohe Einstreumenge",23.4,0,"DüV / Basisdaten Bayern",{"v":100,"d":"100.0"},{"v":36,"d":"36.0"},{"v":104,"d":"104.0"},{"v":77.24000000000001,"d":"77.2"},{"v":26.490000000000002,"d":"26.5"},{"v":92.775,"d":"92.8"},0.85,0.7]
[null,"MV AF ohne Weide 7000",1,1,1,"Gülle",19.5,null,"-","niedrige Einstreumenge",15.5,6.2,"mittlere Einstreumenge",{"v":19,"d":"19.0"},3.1,"hohe Einstreumenge",23.9,0,{"$error":"#VALUE!"},107.5,{"v":39,"d":"39.0"},{"v":110,"d":"110.0"},{"v":80.63,"d":"80.6"},{"v":27.68,"d":"27.7"},{"v":96.87500000000001,"d":"96.9"},0.85,0.7]
[null,"MV AF ohne Weide 8000",1,1,1,"Gülle",{"v":20,"d":"20.0"},null,"-","niedrige Einstreumenge",{"v":16,"d":"16.0"},6.4,"mittlere Einstreumenge",19.4,3.2,"hohe Einstreumenge",24.4,0,"DüV / Basisdaten Bayern",{"v":115,"d":"115.0"},{"v":42,"d":"42.0"},{"v":116,"d":"116.0"},{"v":84.02,"d":"84.0"},{"v":28.869999999999997,"d":"28.9"},{"v":100.97500000000002,"d":"101.0"},0.85,0.7]
[null,"MV AF ohne Weide 9000",1,1,1,"Gülle",20.5,null,"-","niedrige Einstreumenge",16.5,6.6,"mittlere Einstreumenge",{"v":19.799999999999997,"d":"19.8"},3.3,"hohe Einstreumenge",24.9,0,{"$error":"#VALUE!"},{"v":124,"d":"124.0"},44.5,120.5,{"v":86.49000000000001,"d":"86.5"},{"v":29.749999999999996,"d":"29.8"},{"v":103.81000000000002,"d":"103.8"},0.85,0.7]
[null,"MV AF ohne Weide 10000",1,1,1,"Gülle",{"v":21,"d":"21.0"},null,"-","niedrige Einstreumenge",{"v":17,"d":"17.0"},6.8,"mittlere Einstreumenge",20.2,3.4,"hohe Einstreumenge",25.4,0,"DüV / Basisdaten Bayern",{"v":133,"d":"133.0"},{"v":47,"d":"47.0"},{"v":125,"d":"125.0"},{"v":88.96000000000001,"d":"89.0"},{"v":30.629999999999995,"d":"30.6"},{"v":106.64500000000001,"d":"106.6"},0.85,0.7]
[null,"MV AF ohne Weide 11000",1,1,1,"Gülle",21.5,null,"-","niedrige Einstreumenge",{"v":17,"d":"17.0"},{"v":7,"d":"7.0"},"mittlere Einstreumenge",20.6,3.5,"hohe Einstreumenge",25.9,0,{"$error":"#VALUE!"},142.5,49.5,130.5,{"v":91.43,"d":"91.4"},{"v":31.509999999999998,"d":"31.5"},{"v":109.48,"d":"109.5"},0.85,0.7]
[null,"MV AF ohne Weide 12000",1,1,1,"Gülle",{"v":22,"d":"22.0"},null,"-","niedrige Einstreumenge",{"v":17,"d":"17.0"},7.2,"mittlere Einstreumenge",{"v":21,"d":"21.0"},3.6,"hohe Einstreumenge",26.4,0,"DüV / Basisdaten Bayern",{"v":152,"d":"152.0"},{"v":52,"d":"52.0"},{"v":136,"d":"136.0"},93.9,{"v":32.39,"d":"32.4"},{"v":112.315,"d":"112.3"},0.85,0.7]
[null,"MV klein AF mit Weide 5000",1,1,1,"Gülle",18.5,null,"-","niedrige Einstreumenge",13.8,5.8,"mittlere Einstreumenge",18.2,2.9,"hohe Einstreumenge",22.9,0,"DüV / Basisdaten Bayern",{"v":76,"d":"76.0"},{"v":27,"d":"27.0"},{"v":84,"d":"84.0"},{"v":67.88,"d":"67.9"},{"v":22.439999999999998,"d":"22.4"},{"v":78.47000000000001,"d":"78.5"},0.85,0.7]
[null,"MV klein AF mit Weide 6000",1,1,1,"Gülle",{"v":19,"d":"19.0"},null,"-","niedrige Einstreumenge",14.3,{"v":6,"d":"6.0"},"mittlere Einstreumenge",18.6,{"v":3,"d":"3.0"},"hohe Einstreumenge",23.4,0,{"$error":"#VALUE!"},83.5,{"v":30,"d":"30.0"},{"v":90,"d":"90.0"},{"v":71.59,"d":"71.6"},23.7,{"v":82.81,"d":"82.8"},0.85,0.7]
[null,"MV klein AF mit Weide 7000",1,1,1,"Gülle",19.5,null,"-","niedrige Einstreumenge",14.8,6.2,"mittlere Einstreumenge",{"v":19,"d":"19.0"},3.1,"hohe Einstreumenge",23.9,0,"DüV / Basisdaten Bayern",{"v":91,"d":"91.0"},{"v":33,"d":"33.0"},{"v":96,"d":"96.0"},{"v":75.30000000000001,"d":"75.3"},{"v":24.96,"d":"25.0"},{"v":87.15,"d":"87.2"},0.85,0.7]
[null,"MV klein AF mit Weide 8000",1,1,1,"Gülle",{"v":20,"d":"20.0"},null,"-","niedrige Einstreumenge",15.3,6.4,"mittlere Einstreumenge",19.4,3.2,"hohe Einstreumenge",24.4,0,{"$error":"#VALUE!"},{"v":101,"d":"101.0"},37.5,{"v":102,"d":"102.0"},{"v":77.49000000000001,"d":"77.5"},{"v":25.785000000000004,"d":"25.8"},{"v":89.805,"d":"89.8"},0.85,0.7]
[null,"MV klein AF mit Weide 9000",1,1,1,"Gülle",20.5,null,"-","niedrige Einstreumenge",15.8,6.6,"mittlere Einstreumenge",19.8,3.3,"hohe Einstreumenge",24.9,0,"DüV / Basisdaten Bayern",{"v":111,"d":"111.0"},{"v":42,"d":"42.0"},{"v":108,"d":"108.0"},{"v":79.68,"d":"79.7"},{"v":26.610000000000003,"d":"26.6"},{"v":92.46000000000001,"d":"92.5"},0.85,0.7]
[null,"RiMa Geburt bis 675 kg HOL19M",1,0.6,0.6,"Gülle",6.7,null,"-","niedrige Einstreumenge",4.6,null,"mittlere Einstreumenge",6.2,1.2,"hohe Einstreumenge",7.8,0,"DüV / Basisdaten Bayern",{"v":37,"d":"37.0"},14.2,{"v":30,"d":"30.0"},{"v":19.417894736842108,"d":"19.4"},{"v":7.812631578947368,"d":"7.8"},{"v":21.337894736842102,"d":"21.3"},0.85,0.7]
[null,"RiMa Geburt bis 750 kg FV19M",1,0.6,0.6,"Gülle",7.3,null,"-","niedrige Einstreumenge",4.6,null,"mittlere Einstreumenge",6.2,1.5,"hohe Einstreumenge",7.8,0,"DüV / Basisdaten Bayern",{"v":39,"d":"39.0"},14.3,31.5,{"v":19.910526315789475,"d":"19.9"},{"v":8.014736842105263,"d":"8.0"},{"v":22.329473684210523,"d":"22.3"},0.85,0.7]
[null,"Bullenmast 0-6 M",1,0.4,0.4,"Gülle",3.4,null,"-","niedrige Einstreumenge",1.4,1.5,"mittlere Einstreumenge",3.6,{"v":0.75,"d":"0.8"},"hohe Einstreumenge",4.9,0,"Basisdaten Bayern",{"v":22,"d":"22.0"},7.6,22.6,17.5,5.8,20.3,0.85,0.7]
[null,"Bullenmast 7-12 M",1,0.6,0.6,"Gülle",6.9,null,"-","niedrige Einstreumenge",2.9,2.7,"mittlere Einstreumenge",6.6,{"v":1.35,"d":"1.4"},"hohe Einstreumenge",8.6,0,"Basisdaten Bayern",37.5,14.9,31.3,{"v":20,"d":"20.0"},{"v":8,"d":"8.0"},{"v":22,"d":"22.0"},0.85,0.7]
[null,"Bullenmast 13-24 M",1,0.6,0.6,"Gülle",9.4,null,"-","niedrige Einstreumenge",4.1,3.9,"mittlere Einstreumenge",9.2,{"v":1.95,"d":"2.0"},"hohe Einstreumenge",12.7,0,"Basisdaten Bayern",54.5,20.5,45.5,28.5,11.5,31.5,0.85,0.7]
[null,"Bullenmast > 24 M, Zuchtbulle",1,1,1,"Gülle",15.1,null,"-","niedrige Einstreumenge",7.8,3.4,"mittlere Einstreumenge",{"v":14,"d":"14.0"},1.7,"hohe Einstreumenge",17.5,0,"Basisdaten Bayern",{"v":64,"d":"64.0"},{"v":21,"d":"21.0"},{"v":78,"d":"78.0"},{"v":61,"d":"61.0"},{"v":20,"d":"20.0"},{"v":74,"d":"74.0"},0.85,0.7]
[null,"Fresseraufzucht 80 -210kg 2,7 DG",1,0.6,0.6,"Gülle",5.5,null,"-","niedrige Einstreumenge",4.6,0.5,"mittlere Einstreumenge",4.9,{"v":0.25,"d":"0.3"},"hohe Einstreumenge",5.2,0,"DüV / Basisdaten Bayern",15.7,5.4,{"v":15,"d":"15.0"},{"v":5.897297297297296,"d":"5.9"},{"v":2.3108108108108105,"d":"2.3"},{"v":6.741891891891891,"d":"6.7"},0.85,0.7]
[null,"Fresser N/P-red 80 -210kg 2,7 DG",1,0.6,0.6,"Gülle",5.5,null,"-","niedrige Einstreumenge",4.6,0.5,"mittlere Einstreumenge",4.9,{"v":0.25,"d":"0.3"},"hohe Einstreumenge",5.2,0,"DüV / Basisdaten Bayern",14.6,4.5,{"v":15,"d":"15.0"},{"v":5.897297297297296,"d":"5.9"},{"v":2.3108108108108105,"d":"2.3"},{"v":6.741891891891891,"d":"6.7"},0.85,0.7]
[null,"Mutterkuh  500 kg 6Mo 200 kg",1,1,1,"Gülle",{"v":16,"d":"16.0"},null,"-","niedrige Einstreumenge",{"v":12,"d":"12.0"},5.5,"mittlere Einstreumenge",15.8,{"v":2.75,"d":"2.8"},"hohe Einstreumenge",20.4,0,"DüV / Basisdaten Bayern",{"v":88,"d":"88.0"},{"v":26,"d":"26.0"},{"v":104,"d":"104.0"},{"v":101.06,"d":"101.1"},{"v":29.32,"d":"29.3"},{"v":109.45,"d":"109.5"},0.85,0.7]
[null,"Mutterkuh  700 kg 6Mo 230 kg",1,1,1,"Gülle",{"v":20,"d":"20.0"},null,"-","niedrige Einstreumenge",15.8,{"v":6,"d":"6.0"},"mittlere Einstreumenge",19.6,{"v":3,"d":"3.0"},"hohe Einstreumenge",24.4,0,"DüV / Basisdaten Bayern",{"v":105,"d":"105.0"},{"v":31,"d":"31.0"},{"v":129,"d":"129.0"},{"v":108.03999999999999,"d":"108.0"},{"v":32.29,"d":"32.3"},{"v":128.10999999999999,"d":"128.1"},0.85,0.7]
[null,"Mutterkuh  700 kg 9Mo 340 kg",1,1,1,"Gülle",{"v":20,"d":"20.0"},null,"-","niedrige Einstreumenge",15.8,{"v":6,"d":"6.0"},"mittlere Einstreumenge",19.6,{"v":3,"d":"3.0"},"hohe Einstreumenge",24.4,0,"DüV / Basisdaten Bayern",{"v":114,"d":"114.0"},{"v":33,"d":"33.0"},{"v":142,"d":"142.0"},{"v":120.19999999999999,"d":"120.2"},{"v":35.769999999999996,"d":"35.8"},{"v":141.59,"d":"141.6"},0.85,0.7]
[null,"Rosa Kalbfleisch 50-350kg 1,3 DG",1,0.6,0.6,"Gülle",{"v":4,"d":"4.0"},null,"-","niedrige Einstreumenge",0.3,0.5,"mittlere Einstreumenge",4.5,0.2,"hohe Einstreumenge",5.3,0,"DüV / Basisdaten Bayern",{"v":31,"d":"31.0"},12.7,{"v":23,"d":"23.0"},{"v":7.338260869565218,"d":"7.3"},{"v":2.9413043478260867,"d":"2.9"},{"v":8.111086956521742,"d":"8.1"},0.85,0.7]
[null,"Kälbermast 50-250kg 2,1 DG",1,0.4,0.4,"Gülle",2.5,null,"-","niedrige Einstreumenge",1.9,0.6,"mittlere Einstreumenge",{"v":3,"d":"3.0"},0.3,"hohe Einstreumenge",3.8,0,"DüV / Basisdaten Bayern",{"v":13,"d":"13.0"},6.5,{"v":13,"d":"13.0"},{"v":0.6473684210526315,"d":"0.6"},{"v":0.263157894736842,"d":"0.3"},0.7,0.85,0.7]
[{"$nulls":9},"niedrige Einstreumenge",null,null,"mittlere Einstreumenge",null,null,"hohe Einstreumenge"]
["Schweine","Zuchtsauen (ab Belegen), 22 F, bis 8 kg, Standard",2,0.3,null,"Gülle",4,null,"-","niedrige Einstreumenge",3.5,1.2,"mittlere Einstreumenge",4.2,0.6,"hohe Einstreumenge",5.3,0,null,27.1,12.6,12.8,{"$nulls":3},0.8,0.7]
[null,"Zuchtsauen (ab Belegen), 22 F, bis 8 kg, N/P-red",2,0.3,null,"Gülle",4,null,"-","niedrige Einstreumenge",3.5,1.2,"mittlere Einstreumenge",4.2,0.6,"hohe Einstreumenge",5.3,0,null,24,11,11.6,{"$nulls":3},0.8,0.7]
[null,"Zuchtsauen (ab Belegen), 22 F, bis 8 kg, stark N/P-red",2,0.3,null,"Gülle",4,null,"-","niedrige Einstreumenge",3.5,1.2,"mittlere Einstreumenge",4.2,0.6,"hohe Einstreumenge",5.3,0,null,23,10.3,11.6,{"$nulls":3},0.8,0.7]
[null,"Zuchtsauen (ab Belegen), 25 F, bis 8 kg, Standard",2,0.3,null,"Gülle",4.2,null,"-","niedrige Einstreumenge",3.6,1.3,"mittlere Einstreumenge",4.3,0.65,"hohe Einstreumenge",5.5,0,null,27.3,12.6,12.8,{"$nulls":3},0.8,0.7]
[null,"Zuchtsauen (ab Belegen), 25 F, bis 8 kg, N/P-red",2,0.3,null,"Gülle",4.2,null,"-","niedrige Einstreumenge",3.6,1.3,"mittlere Einstreumenge",4.3,0.65,"hohe Einstreumenge",5.5,0,null,24.1,11.2,11.6,{"$nulls":3},0.8,0.7]
[null,"Zuchtsauen (ab Belegen), 25 F, bis 8 kg, stark N/P-red",2,0.3,null,"Gülle",4.2,null,"-","niedrige Einstreumenge",3.6,1.3,"mittlere Einstreumenge",4.3,0.65,"hohe Einstreumenge",5.5,0,null,23.1,10.3,11.6,{"$nulls":3},0.8,0.7]
[null,"Zuchtsauen (ab Belegen), 28 F, bis 8 kg, Standard",2,0.3,null,"Gülle",4.4,null,"-","niedrige Einstreumenge",3.7,1.4,"mittlere Einstreumenge",4.5,0.7,"hohe Einstreumenge",5.7,0,null,27.5,12.8,13.1,{"$nulls":3},0.8,0.7]
[null,"Zuchtsauen (ab Belegen), 28 F, bis 8 kg, N/P-red",2,0.3,null,"Gülle",4.4,null,"-","niedrige Einstreumenge",3.7,1.4,"mittlere Einstreumenge",4.5,0.7,"hohe Einstreumenge",5.7,0,null,24.2,11.2,11.8,{"$nulls":3},0.8,0.7]
[null,"Zuchtsauen (ab Belegen), 28 F, bis 8 kg, stark N/P-red",2,0.3,null,"Gülle",4.4,null,"-","niedrige Einstreumenge",3.7,1.4,"mittlere Einstreumenge",4.5,0.7,"hohe Einstreumenge",5.7,0,null,23.2,10.3,11.8,{"$nulls":3},0.8,0.7]
[null,"Zuchtsauen (ab Belegen), 22 F, bis 28 kg, Standard",2,0.32,null,"Gülle",6,null,"-","niedrige Einstreumenge",4.8,2.2,"mittlere Einstreumenge",5.7,1.1,"hohe Einstreumenge",7.3,0,null,39.2,17.2,19.9,{"$nulls":3},0.8,0.7]
[null,"Zuchtsauen (ab Belegen), 22 F, bis 28 kg, N/P-red",2,0.32,null,"Gülle",6,null,"-","niedrige Einstreumenge",4.8,2.2,"mittlere Einstreumenge",5.7,1.1,"hohe Einstreumenge",7.3,0,null,35.1,15.3,18.3,{"$nulls":3},0.8,0.7]
[null,"Zuchtsauen (ab Belegen), 22 F, bis 28 kg, stark N/P-red",2,0.32,null,"Gülle",6,null,"-","niedrige Einstreumenge",4.8,2.2,"mittlere Einstreumenge",5.7,1.1,"hohe Einstreumenge",7.3,0,null,33.5,14,18.3,{"$nulls":3},0.8,0.7]
[null,"Zuchtsauen (ab Belegen), 25 F, bis 28 kg, Standard",2,0.32,null,"Gülle",6.5,null,"-","niedrige Einstreumenge",5.2,2.4,"mittlere Einstreumenge",6.1,1.2,"hohe Einstreumenge",7.8,0,null,41.1,19.9,21.1,{"$nulls":3},0.8,0.7]
[null,"Zuchtsauen (ab Belegen), 25 F, bis 28 kg, N/P-red",2,0.32,null,"Gülle",6.5,null,"-","niedrige Einstreumenge",5.2,2.4,"mittlere Einstreumenge",6.1,1.2,"hohe Einstreumenge",7.8,0,null,36.8,16,19.5,{"$nulls":3},0.8,0.7]
[null,"Zuchtsauen (ab Belegen), 25 F, bis 28 kg, stark N/P-red",2,0.32,null,"Gülle",6.5,null,"-","niedrige Einstreumenge",5.2,2.4,"mittlere Einstreumenge",6.1,1.2,"hohe Einstreumenge",7.8,0,null,35,14.7,19.5,{"$nulls":3},0.8,0.7]
[null,"Zuchtsauen (ab Belegen), 28 F, bis 28 kg, Standard",2,0.32,null,"Gülle",7,null,"-","niedrige Einstreumenge",5.5,2.6,"mittlere Einstreumenge",6.5,1.3,"hohe Einstreumenge",8.3,0,null,42.9,18.6,21.3,{"$nulls":3},0.8,0.7]
[null,"Zuchtsauen (ab Belegen), 28 F, bis 28 kg, N/P-red",2,0.32,null,"Gülle",7,null,"-","niedrige Einstreumenge",5.5,2.6,"mittlere Einstreumenge",6.5,1.3,"hohe Einstreumenge",8.3,0,null,38.4,16.7,20.7,{"$nulls":3},0.8,0.7]
[null,"Zuchtsauen (ab Belegen), 28 F, bis 28 kg, stark N/P-red",2,0.32,null,"Gülle",7,null,"-","niedrige Einstreumenge",5.5,2.6,"mittlere Einstreumenge",6.5,1.3,"hohe Einstreumenge",8.3,0,null,36.6,15.1,20.7,{"$nulls":3},0.8,0.7]
[null,"Ferkel (8-28 kg), 450 g TZ, Standard",2,0.02,null,"Gülle",0.7,null,"-","niedrige Einstreumenge",0.4,0.4,"mittlere Einstreumenge",0.6,0.2,"hohe Einstreumenge",0.8,0,null,4.5,1.64,2.7,{"$nulls":3},0.8,0.7]
[null,"Ferkel (8-28 kg), 450 g TZ, N/P-red",2,0.02,null,"Gülle",0.7,null,"-","niedrige Einstreumenge",0.4,0.4,"mittlere Einstreumenge",0.6,0.2,"hohe Einstreumenge",0.8,0,null,4.2,1.61,2.6,{"$nulls":3},0.8,0.7]
[null,"Ferkel (8-28 kg), 450 g TZ, stark-N/P-red",2,0.02,null,"Gülle",0.7,null,"-","niedrige Einstreumenge",0.4,0.4,"mittlere Einstreumenge",0.6,0.2,"hohe Einstreumenge",0.8,0,null,3.9,1.3,2.6,{"$nulls":3},0.8,0.7]
[null,"Ferkel (8-28 kg), 500 g TZ, Standard",2,0.02,null,"Gülle",0.7,null,"-","niedrige Einstreumenge",0.4,0.3,"mittlere Einstreumenge",0.6,0.15,"hohe Einstreumenge",0.8,0,null,4.7,1.8,2.9,{"$nulls":3},0.8,0.7]
[null,"Ferkel (8-28 kg), 500 g TZ, N/P-red",2,0.02,null,"Gülle",0.7,null,"-","niedrige Einstreumenge",0.4,0.3,"mittlere Einstreumenge",0.6,0.15,"hohe Einstreumenge",0.8,0,null,4.4,1.6,2.8,{"$nulls":3},0.8,0.7]
[null,"Ferkel (8-28 kg), 500 g TZ, stark N/P-red",2,0.02,null,"Gülle",0.7,null,"-","niedrige Einstreumenge",0.4,0.3,"mittlere Einstreumenge",0.6,0.15,"hohe Einstreumenge",0.8,0,null,4.1,1.6,2.8,{"$nulls":3},0.8,0.7]
[null,"Jungsauenaufzucht, 87 kg Zuwachs, Standard",2,0.13,null,"Gülle",2,null,"-","niedrige Einstreumenge",1.5,0.7,"mittlere Einstreumenge",1.8,0.35,"hohe Einstreumenge",2.7,0,null,12,6.1,5.6,{"$nulls":3},0.8,0.7]
[null,"Jungsauenaufzucht, 87 kg Zuwachs, N/P-red",2,0.13,null,"Gülle",2,null,"-","niedrige Einstreumenge",1.5,0.7,"mittlere Einstreumenge",1.8,0.35,"hohe Einstreumenge",2.7,0,null,9.8,5.1,5,{"$nulls":3},0.8,0.7]
[null,"Jungsaueneingliederung, 95-135 kg, Standard",2,0.13,null,"Gülle",2.7,null,"-","niedrige Einstreumenge",2,1.1,"mittlere Einstreumenge",2.5,0.55,"hohe Einstreumenge",3.4,0,null,16.4,9.1,8,{"$nulls":3},0.8,0.7]
[null,"Jungsaueneingliederung, 95-135 kg, N/P-red",2,0.13,null,"Gülle",2.7,null,"-","niedrige Einstreumenge",2,1.1,"mittlere Einstreumenge",2.5,0.55,"hohe Einstreumenge",3.4,0,null,14.2,8,6.9,{"$nulls":3},0.8,0.7]
[null,"Mastschwein, 700 g TZ, Standard",2,0.13,null,"Gülle",1.8,null,"-","niedrige Einstreumenge",1.3,0.7,"mittlere Einstreumenge",1.9,0.35,"hohe Einstreumenge",2.5,0,null,13.5,5.8,6.7,{"$nulls":3},0.8,0.7]
[null,"Mastschwein, 700 g TZ, N/P-red",2,0.13,null,"Gülle",1.8,null,"-","niedrige Einstreumenge",1.3,0.7,"mittlere Einstreumenge",1.9,0.35,"hohe Einstreumenge",2.5,0,null,13,5,6.5,{"$nulls":3},0.8,0.7]
[null,"Mastschwein, 700 g TZ, stark N/P-red",2,0.13,null,"Gülle",1.8,null,"-","niedrige Einstreumenge",1.3,0.7,"mittlere Einstreumenge",1.9,0.35,"hohe Einstreumenge",2.5,0,null,11.7,4.6,6.3,{"$nulls":3},0.8,0.7]
[null,"Mastschwein, 750 g TZ, Standard",2,0.13,null,"Gülle",1.8,null,"-","niedrige Einstreumenge",1.3,0.7,"mittlere Einstreumenge",1.9,0.35,"hohe Einstreumenge",2.6,0,null,14.1,6,7,{"$nulls":3},0.8,0.7]
[null,"Mastschwein, 750 g TZ, N/P-red",2,0.13,null,"Gülle",1.8,null,"-","niedrige Einstreumenge",1.3,0.7,"mittlere Einstreumenge",1.9,0.35,"hohe Einstreumenge",2.6,0,null,13.4,5.1,6.8,{"$nulls":3},0.8,0.7]
[null,"Mastschwein, 750 g TZ, stark N/P-red",2,0.13,null,"Gülle",1.8,null,"-","niedrige Einstreumenge",1.3,0.7,"mittlere Einstreumenge",1.9,0.35,"hohe Einstreumenge",2.6,0,null,12.1,4.7,6.6,{"$nulls":3},0.8,0.7]
[null,"Mastschwein, 850 g TZ, Standard",2,0.13,null,"Gülle",1.9,null,"-","niedrige Einstreumenge",1.4,0.8,"mittlere Einstreumenge",1.9,0.4,"hohe Einstreumenge",2.6,0,null,15.4,6.3,7.5,{"$nulls":3},0.8,0.7]
[null,"Mastschwein, 850 g TZ, N/P-red",2,0.13,null,"Gülle",1.9,null,"-","niedrige Einstreumenge",1.4,0.8,"mittlere Einstreumenge",1.9,0.4,"hohe Einstreumenge",2.6,0,null,14.8,5.4,7.3,{"$nulls":3},0.8,0.7]
[null,"Mastschwein, 850 g TZ, stark N/P-red",2,0.13,null,"Gülle",1.9,null,"-","niedrige Einstreumenge",1.4,0.8,"mittlere Einstreumenge",1.9,0.4,"hohe Einstreumenge",2.6,0,null,13.7,4.9,7.1,{"$nulls":3},0.8,0.7]
[null,"Mastschwein, 950 g TZ, Standard",2,0.13,null,"Gülle",1.9,null,"-","niedrige Einstreumenge",1.4,0.8,"mittlere Einstreumenge",2,0.4,"hohe Einstreumenge",2.6,0,null,16.2,6.5,8,{"$nulls":3},0.8,0.7]
[null,"Mastschwein, 950 g TZ, N/P-red",2,0.13,null,"Gülle",1.9,null,"-","niedrige Einstreumenge",1.4,0.8,"mittlere Einstreumenge",2,0.4,"hohe Einstreumenge",2.6,0,null,15.6,5.6,7.8,{"$nulls":3},0.8,0.7]
[null,"Mastschwein, 950 g TZ, stark N/P-red",2,0.13,null,"Gülle",1.9,null,"-","niedrige Einstreumenge",1.4,0.8,"mittlere Einstreumenge",2,0.4,"hohe Einstreumenge",2.6,0,null,14,5.1,7.5,{"$nulls":3},0.8,0.7]
[null,"Jungebermast, 850 g TZ, w:m 1:1, Standard",2,0.13,null,"Gülle",1.9,null,"-","niedrige Einstreumenge",1.4,0.8,"mittlere Einstreumenge",1.9,0.4,"hohe Einstreumenge",2.6,0,null,14.9,6.1,8.3,{"$nulls":3},0.8,0.7]
[null,"Jungebermast, 850 g TZ, w:m 1:1, N/P-red",2,0.13,null,"Gülle",1.9,null,"-","niedrige Einstreumenge",1.4,0.8,"mittlere Einstreumenge",1.9,0.4,"hohe Einstreumenge",2.6,0,null,14.3,5.5,8.1,{"$nulls":3},0.8,0.7]
[null,"Jungebermast, 900 g TZ, 100 % Eber, Standard",2,0.13,null,"Gülle",1.9,null,"-","niedrige Einstreumenge",1.4,0.8,"mittlere Einstreumenge",1.9,0.4,"hohe Einstreumenge",2.6,0,null,14.5,5.9,8.3,{"$nulls":3},0.8,0.7]
[null,"Jungebermast, 900 g TZ, 100 % Eber, N/P-red",2,0.13,null,"Gülle",1.9,null,"-","niedrige Einstreumenge",1.4,0.8,"mittlere Einstreumenge",1.9,0.4,"hohe Einstreumenge",2.6,0,null,14,5.3,8.2,{"$nulls":3},0.8,0.7]
[null,"Schwein weibl. Tiere 800 g TZ, Standard",2,0.13,null,"Gülle",1.9,null,"-","niedrige Einstreumenge",1.4,0.8,"mittlere Einstreumenge",1.9,0.4,"hohe Einstreumenge",2.6,0,null,15.1,6.2,8.1,{"$nulls":3},0.8,0.7]
[null,"Schwein weibl. Tiere 800 g TZ, N/P-red",2,0.13,null,"Gülle",1.9,null,"-","niedrige Einstreumenge",1.4,0.8,"mittlere Einstreumenge",1.9,0.4,"hohe Einstreumenge",2.6,0,null,14.6,5.6,7.9,{"$nulls":3},0.8,0.7]
[null,"Zuchteber",2,0.3,null,"Gülle",3.6,null,"-","niedrige Einstreumenge",2.5,1.5,"mittlere Einstreumenge",3.6,0.75,"hohe Einstreumenge",4.9,0,null,22.1,9.6,8.8,{"$nulls":3},0.8,0.7]
[null,"Saugferkel ",2,{"$nulls":22},0.8,0.7]
[null,"Deckbetrieb, 22 Ferkel bis 8 kg, Standard",2,null,null,"Gülle",{"v":3.021,"d":"3.0"},null,"-","niedrige Einstreumenge",{"v":2.643,"d":"2.6"},{"v":0.906,"d":"0.91"},"mittlere Einstreumenge",{"v":3.172,"d":"3.2"},{"v":0.453,"d":"0.45"},"hohe Einstreumenge",{"v":4.003,"d":"4.00"},0,null,20.5,{"v":9.393,"d":"9.39"},{"v":9.64,"d":"9.6"},{"$nulls":3},0.8,0.7]
[null,"Deckbetrieb, 22 Ferkel bis 8 kg, N/P-red",2,null,null,"Gülle",{"v":3.021,"d":"3.0"},null,"-","niedrige Einstreumenge",{"v":2.643,"d":"2.6"},{"v":0.906,"d":"0.91"},"mittlere Einstreumenge",{"v":3.172,"d":"3.2"},{"v":0.453,"d":"0.45"},"hohe Einstreumenge",{"v":4.003,"d":"4.00"},0,null,18.1,{"v":8.477,"d":"8.48"},{"v":8.797,"d":"8.8"},{"$nulls":3},0.8,0.7]
[null,"Deckbetrieb, 22 Ferkel bis 8 kg, stark N/P-red",2,null,null,"Gülle",{"v":3.021,"d":"3.0"},null,"-","niedrige Einstreumenge",{"v":2.643,"d":"2.6"},{"v":0.906,"d":"0.91"},"mittlere Einstreumenge",{"v":3.172,"d":"3.2"},{"v":0.453,"d":"0.45"},"hohe Einstreumenge",{"v":4.003,"d":"4.00"},0,null,17.4,{"v":7.789,"d":"7.79"},{"v":8.797,"d":"8.8"},{"$nulls":3},0.8,0.7]
[null,"Deckbetrieb, 25 Ferkel bis 8 kg, Standard",2,null,null,"Gülle",{"v":3.172,"d":"3.2"},null,"-","niedrige Einstreumenge",{"v":2.719,"d":"2.7"},{"v":0.982,"d":"0.98"},"mittlere Einstreumenge",{"v":3.247,"d":"3.2"},{"v":0.491,"d":"0.49"},"hohe Einstreumenge",{"v":4.154,"d":"4.15"},0,null,20.6,{"v":9.622,"d":"9.62"},{"v":9.64,"d":"9.6"},{"$nulls":3},0.8,0.7]
[null,"Deckbetrieb, 25 Ferkel bis 8 kg, N/P-red",2,null,null,"Gülle",{"v":3.172,"d":"3.2"},null,"-","niedrige Einstreumenge",{"v":2.719,"d":"2.7"},{"v":0.982,"d":"0.98"},"mittlere Einstreumenge",{"v":3.247,"d":"3.2"},{"v":0.491,"d":"0.49"},"hohe Einstreumenge",{"v":4.154,"d":"4.15"},0,null,{"v":18,"d":"18.0"},{"v":8.477,"d":"8.48"},{"v":8.797,"d":"8.8"},{"$nulls":3},0.8,0.7]
[null,"Deckbetrieb, 25 Ferkel bis 8 kg, stark N/P-red",2,null,null,"Gülle",{"v":3.172,"d":"3.2"},null,"-","niedrige Einstreumenge",{"v":2.719,"d":"2.7"},{"v":0.982,"d":"0.98"},"mittlere Einstreumenge",{"v":3.247,"d":"3.2"},{"v":0.491,"d":"0.49"},"hohe Einstreumenge",{"v":4.154,"d":"4.15"},0,null,17.5,{"v":7.789,"d":"7.79"},{"v":8.797,"d":"8.8"},{"$nulls":3},0.8,0.7]
[null,"Deckbetrieb, 28 Ferkel bis 8 kg, Standard",2,null,null,"Gülle",{"v":3.323,"d":"3.3"},null,"-","niedrige Einstreumenge",{"v":2.794,"d":"2.8"},{"v":1.057,"d":"1.06"},"mittlere Einstreumenge",{"v":3.398,"d":"3.4"},{"v":0.5285,"d":"0.53"},"hohe Einstreumenge",{"v":4.305,"d":"4.31"},0,null,20.8,{"v":9.622,"d":"9.62"},{"v":9.881,"d":"9.9"},{"$nulls":3},0.8,0.7]
[null,"Deckbetrieb, 28 Ferkel bis 8 kg, N/P-red",2,null,null,"Gülle",{"v":3.323,"d":"3.3"},null,"-","niedrige Einstreumenge",{"v":2.794,"d":"2.8"},{"v":1.057,"d":"1.06"},"mittlere Einstreumenge",{"v":3.398,"d":"3.4"},{"v":0.5285,"d":"0.53"},"hohe Einstreumenge",{"v":4.305,"d":"4.31"},0,null,18.3,{"v":8.477,"d":"8.48"},{"v":8.917,"d":"8.9"},{"$nulls":3},0.8,0.7]
[null,"Deckbetrieb, 28 Ferkel bis 8 kg, stark N/P-red",2,null,null,"Gülle",{"v":3.323,"d":"3.3"},null,"-","niedrige Einstreumenge",{"v":2.794,"d":"2.8"},{"v":1.057,"d":"1.06"},"mittlere Einstreumenge",{"v":3.398,"d":"3.4"},{"v":0.5285,"d":"0.53"},"hohe Einstreumenge",{"v":4.305,"d":"4.31"},0,null,17.5,{"v":7.789,"d":"7.79"},{"v":8.917,"d":"8.9"},{"$nulls":3},0.8,0.7]
[null,"Wartebetrieb, 22 Ferkel bis 8 kg, Standard",2,null,null,"Gülle",{"v":2.55,"d":"2.6"},null,"-","niedrige Einstreumenge",{"v":2.231,"d":"2.2"},{"v":0.765,"d":"0.77"},"mittlere Einstreumenge",{"v":2.678,"d":"2.7"},{"v":0.3825,"d":"0.38"},"hohe Einstreumenge",{"v":3.379,"d":"3.38"},0,null,17.3,{"v":8.019,"d":"8.02"},{"v":8.194,"d":"8.2"},{"$nulls":3},0.8,0.7]
[null,"Wartebetrieb, 22 Ferkel bis 8 kg, N/P-red",2,null,null,"Gülle",{"v":2.55,"d":"2.6"},null,"-","niedrige Einstreumenge",{"v":2.231,"d":"2.2"},{"v":0.765,"d":"0.77"},"mittlere Einstreumenge",{"v":2.678,"d":"2.7"},{"v":0.3825,"d":"0.38"},"hohe Einstreumenge",{"v":3.379,"d":"3.38"},0,null,15.3,{"v":7.102,"d":"7.10"},{"v":7.351,"d":"7.4"},{"$nulls":3},0.8,0.7]
[null,"Wartebetrieb, 22 Ferkel bis 8 kg, stark N/P-red",2,null,null,"Gülle",{"v":2.55,"d":"2.6"},null,"-","niedrige Einstreumenge",{"v":2.231,"d":"2.2"},{"v":0.765,"d":"0.77"},"mittlere Einstreumenge",{"v":2.678,"d":"2.7"},{"v":0.3825,"d":"0.38"},"hohe Einstreumenge",{"v":3.379,"d":"3.38"},0,null,14.7,{"v":6.415,"d":"6.42"},{"v":7.351,"d":"7.4"},{"$nulls":3},0.8,0.7]
[null,"Wartebetrieb, 25 Ferkel bis 8 kg, Standard",2,null,null,"Gülle",{"v":2.678,"d":"2.7"},null,"-","niedrige Einstreumenge",{"v":2.295,"d":"2.3"},{"v":0.829,"d":"0.83"},"mittlere Einstreumenge",{"v":2.741,"d":"2.7"},{"v":0.4145,"d":"0.41"},"hohe Einstreumenge",{"v":3.506,"d":"3.51"},0,null,17.4,{"v":8.019,"d":"8.02"},{"v":8.194,"d":"8.2"},{"$nulls":3},0.8,0.7]
[null,"Wartebetrieb, 25 Ferkel bis 8 kg, N/P-red",2,null,null,"Gülle",{"v":2.678,"d":"2.7"},null,"-","niedrige Einstreumenge",{"v":2.295,"d":"2.3"},{"v":0.829,"d":"0.83"},"mittlere Einstreumenge",{"v":2.741,"d":"2.7"},{"v":0.4145,"d":"0.41"},"hohe Einstreumenge",{"v":3.506,"d":"3.51"},0,null,15.4,{"v":7.1052,"d":"7.11"},{"v":7.351,"d":"7.4"},{"$nulls":3},0.8,0.7]
[null,"Wartebetrieb, 25 Ferkel bis 8 kg, stark N/P-red",2,null,null,"Gülle",{"v":2.678,"d":"2.7"},null,"-","niedrige Einstreumenge",{"v":2.295,"d":"2.3"},{"v":0.823,"d":"0.82"},"mittlere Einstreumenge",{"v":2.741,"d":"2.7"},{"v":0.4115,"d":"0.41"},"hohe Einstreumenge",{"v":3.506,"d":"3.51"},0,null,14.7,{"v":6.644,"d":"6.64"},{"v":7.351,"d":"7.4"},{"$nulls":3},0.8,0.7]
[null,"Wartebetrieb, 28 Ferkel bis 8 kg, Standard",2,null,null,"Gülle",{"v":2.805,"d":"2.8"},null,"-","niedrige Einstreumenge",{"v":2.359,"d":"2.4"},{"v":0.893,"d":"0.89"},"mittlere Einstreumenge",{"v":2.859,"d":"2.9"},{"v":0.4465,"d":"0.45"},"hohe Einstreumenge",{"v":3.634,"d":"3.63"},0,null,17.5,{"v":8.248,"d":"8.25"},{"v":8.315,"d":"8.3"},{"$nulls":3},0.8,0.7]
[null,"Wartebetrieb, 28 Ferkel bis 8 kg, N/P-red",2,null,null,"Gülle",{"v":2.805,"d":"2.8"},null,"-","niedrige Einstreumenge",{"v":2.359,"d":"2.4"},{"v":0.893,"d":"0.89"},"mittlere Einstreumenge",{"v":2.869,"d":"2.9"},{"v":0.4465,"d":"0.45"},"hohe Einstreumenge",{"v":3.634,"d":"3.63"},0,null,15.4,{"v":7.102,"d":"7.10"},{"v":7.592,"d":"7.6"},{"$nulls":3},0.8,0.7]
[null,"Wartebetrieb, 28 Ferkel bis 8 kg, stark N/P-red",2,null,null,"Gülle",{"v":2.805,"d":"2.8"},null,"-","niedrige Einstreumenge",{"v":2.359,"d":"2.4"},{"v":0.893,"d":"0.89"},"mittlere Einstreumenge",{"v":2.869,"d":"2.9"},{"v":0.4465,"d":"0.45"},"hohe Einstreumenge",{"v":3.634,"d":"3.63"},0,null,14.8,{"v":6.644,"d":"6.64"},{"v":7.592,"d":"7.6"},{"$nulls":3},0.8,0.7]
[null,"Abferkelbetrieb, 22 Ferkel bis 8 kg, Standard",2,null,null,"Gülle",{"v":4.81,"d":"4.8"},null,"-","niedrige Einstreumenge",{"v":4.211,"d":"4.2"},{"v":1.444,"d":"1.44"},"mittlere Einstreumenge",{"v":5.053,"d":"5.1"},{"v":0.722,"d":"0.72"},"hohe Einstreumenge",{"v":6.377,"d":"6.38"},0,null,32.6,15.12,{"v":15.42,"d":"15.4"},{"$nulls":3},0.8,0.7]
[null,"Abferkelbetrieb, 22 Ferkel bis 8 kg, N/P-red",2,null,null,"Gülle",{"v":4.813,"d":"4.8"},null,"-","niedrige Einstreumenge",{"v":4.211,"d":"4.2"},{"v":1.444,"d":"1.44"},"mittlere Einstreumenge",{"v":5.053,"d":"5.1"},{"v":0.722,"d":"0.72"},"hohe Einstreumenge",{"v":6.377,"d":"6.38"},0,null,28.8,13.29,{"v":13.98,"d":"14.0"},{"$nulls":3},0.8,0.7]
[null,"Abferkelbetrieb, 22 Ferkel bis 8 kg, stark N/P-red",2,null,null,"Gülle",{"v":4.813,"d":"4.8"},null,"-","niedrige Einstreumenge",{"v":4.211,"d":"4.2"},{"v":1.444,"d":"1.44"},"mittlere Einstreumenge",{"v":5.053,"d":"5.1"},{"v":0.722,"d":"0.72"},"hohe Einstreumenge",{"v":6.377,"d":"6.38"},0,null,27.7,12.37,{"v":13.98,"d":"14.0"},{"$nulls":3},0.8,0.7]
[null,"Abferkelbetrieb, 25 Ferkel bis 8 kg, Standard",2,null,null,"Gülle",{"v":5.053,"d":"5.1"},null,"-","niedrige Einstreumenge",{"v":4.331,"d":"4.3"},{"v":1.564,"d":"1.56"},"mittlere Einstreumenge",{"v":5.173,"d":"5.2"},{"v":0.782,"d":"0.78"},"hohe Einstreumenge",{"v":6.617,"d":"6.62"},0,null,32.8,15.35,{"v":15.42,"d":"15.4"},{"$nulls":3},0.8,0.7]
[null,"Abferkelbetrieb, 25 Ferkel bis 8 kg, N/P-red",2,null,null,"Gülle",{"v":5.053,"d":"5.1"},null,"-","niedrige Einstreumenge",{"v":4.331,"d":"4.3"},{"v":1.564,"d":"1.56"},"mittlere Einstreumenge",{"v":5.173,"d":"5.2"},{"v":0.782,"d":"0.78"},"hohe Einstreumenge",{"v":6.617,"d":"6.62"},0,null,{"v":29,"d":"29.0"},13.52,{"v":13.98,"d":"14.0"},{"$nulls":3},0.8,0.7]
[null,"Abferkelbetrieb, 25 Ferkel bis 8 kg, stark N/P-red",2,null,null,"Gülle",{"v":5.053,"d":"5.1"},null,"-","niedrige Einstreumenge",{"v":4.331,"d":"4.3"},{"v":1.564,"d":"1.56"},"mittlere Einstreumenge",{"v":5.173,"d":"5.2"},{"v":0.782,"d":"0.78"},"hohe Einstreumenge",{"v":6.617,"d":"6.62"},0,null,27.8,12.37,{"v":13.98,"d":"14.0"},{"$nulls":3},0.8,0.7]
[null,"Abferkelbetrieb, 28 Ferkel bis 8 kg, Standard",2,null,null,"Gülle",{"v":5.294,"d":"5.3"},null,"-","niedrige Einstreumenge",{"v":4.452,"d":"4.5"},{"v":1.684,"d":"1.68"},"mittlere Einstreumenge",{"v":5.414,"d":"5.4"},{"v":0.842,"d":"0.84"},"hohe Einstreumenge",{"v":6.858,"d":"6.86"},0,null,33.1,15.35,{"v":15.67,"d":"15.7"},{"$nulls":3},0.8,0.7]
[null,"Abferkelbetrieb, 28 Ferkel bis 8 kg, N/P-red",2,null,null,"Gülle",{"v":5.294,"d":"5.3"},null,"-","niedrige Einstreumenge",{"v":4.452,"d":"4.5"},{"v":1.684,"d":"1.68"},"mittlere Einstreumenge",{"v":5.414,"d":"5.4"},{"v":0.842,"d":"0.84"},"hohe Einstreumenge",{"v":6.858,"d":"6.86"},0,null,29.1,13.52,{"v":14.22,"d":"14.2"},{"$nulls":3},0.8,0.7]
[null,"Abferkelbetrieb, 28 Ferkel bis 8 kg, stark N/P-red",2,null,null,"Gülle",{"v":5.294,"d":"5.3"},null,"-","niedrige Einstreumenge",{"v":4.452,"d":"4.5"},{"v":1.684,"d":"1.68"},"mittlere Einstreumenge",{"v":5.414,"d":"5.4"},{"v":0.842,"d":"0.84"},"hohe Einstreumenge",{"v":6.858,"d":"6.86"},0,null,27.9,12.37,{"v":14.22,"d":"14.2"},{"$nulls":3},0.8,0.7]
[{"$nulls":25},0.8,0.7]
[]
["Geflügel","100 Legehennen, Standard",3,0.4,null,null,"-","Trockenkot",2.45,"niedrige Einstreumenge",2.45,0,"mittlere Einstreumenge","-","-","hohe Einstreumenge","-","-",null,85,44,38,{"$nulls":4},0.6]
[null,"100 Legehennen, N/P-red",3,0.4,null,null,"-","Trockenkot",2.45,"niedrige Einstreumenge",2.45,0,"mittlere Einstreumenge","-","-","hohe Einstreumenge","-","-",null,81,39,38,{"$nulls":4},0.6]
[null,"100 Junghennen, Standard",3,0.15,null,null,"-","Trockenkot",0.84,"niedrige Einstreumenge",0.84,0,"mittlere Einstreumenge","-","-","hohe Einstreumenge","-","-",null,32,21,15,{"$nulls":4},0.6]
[null,"100 Junghennen, N/P-red",3,0.15,null,null,"-","Trockenkot",0.84,"niedrige Einstreumenge",0.84,0,"mittlere Einstreumenge","-","-","hohe Einstreumenge","-","-",null,30,18,15,{"$nulls":4},0.6]
[null,"100 Masthähnchen über 39 Tage, 2,6 kg Zuw., Standard",3,0.15,null,null,"-",null,"-","niedrige Einstreumenge",1.58,0,"mittlere Einstreumenge","-","-","hohe Einstreumenge","-","-",null,55,28,32,{"$nulls":4},0.6]
[null,"100 Masthähnchen über 39 Tage, 2,6 kg Zuw., N/P-red.",3,0.15,null,null,"-",null,"-","niedrige Einstreumenge",1.58,0,"mittlere Einstreumenge","-","-","hohe Einstreumenge","-","-",null,51,24,32,{"$nulls":4},0.6]
[null,"100 Masthähnchen 34-38 Tage, 2,3 kg Zuw., Standard",3,0.15,null,null,"-",null,"-","niedrige Einstreumenge",1.48,0,"mittlere Einstreumenge","-","-","hohe Einstreumenge","-","-",null,52,25,28,{"$nulls":4},0.6]
[null,"100 Masthähnchen 34-38 Tage, 2,3 kg Zuw., N/P-red.",3,0.15,null,null,"-",null,"-","niedrige Einstreumenge",1.48,0,"mittlere Einstreumenge","-","-","hohe Einstreumenge","-","-",null,48,23,28,{"$nulls":4},0.6]
[null,"100 Masthähnchen 30-33 Tage, 1,85 kg Zuw., Standard",3,0.15,null,null,"-",null,"-","niedrige Einstreumenge",1.36,0,"mittlere Einstreumenge","-","-","hohe Einstreumenge","-","-",null,45,24,26,{"$nulls":4},0.6]
[null,"100 Masthähnchen 30-33 Tage, 1,85 kg Zuw., N/P-red.",3,0.15,null,null,"-",null,"-","niedrige Einstreumenge",1.36,0,"mittlere Einstreumenge","-","-","hohe Einstreumenge","-","-",null,42,21,26,{"$nulls":4},0.6]
[null,"100 Masthähnchen bis 29 Tage, 1,55 kg Zuw., Standard",3,0.15,null,null,"-",null,"-","niedrige Einstreumenge",1.32,0,"mittlere Einstreumenge","-","-","hohe Einstreumenge","-","-",null,38,20,23,{"$nulls":4},0.6]
[null,"100 Masthähnchen bis 29 Tage, 1,55 kg Zuw., N/P-red.",3,0.15,null,null,"-",null,"-","niedrige Einstreumenge",1.32,0,"mittlere Einstreumenge","-","-","hohe Einstreumenge","-","-",null,35,17,23,{"$nulls":4},0.6]
[null,"100 Putenaufzucht bis 5 Wochen, w und m, Standard",3,1.3,null,null,"-",null,"-","niedrige Einstreumenge",1.86,0,"mittlere Einstreumenge","-","-","hohe Einstreumenge","-","-",null,59,41,23,{"$nulls":4},0.6]
[null,"100 Putenhähne ab der 6. Woche, Standard",3,1.3,null,null,"-",null,"-","niedrige Einstreumenge",7.85,0,"mittlere Einstreumenge","-","-","hohe Einstreumenge","-","-",null,318,177,112,{"$nulls":4},0.6]
[null,"100 Putenhähne ab der 6. Woche Mast, N/P-red.",3,1.3,null,null,"-",null,"-","niedrige Einstreumenge",7.85,0,"mittlere Einstreumenge","-","-","hohe Einstreumenge","-","-",null,294,134,105,{"$nulls":4},0.6]
[null,"100 Putenhennen ab der 6. Woche, Standard",3,1.3,null,null,"-",null,"-","niedrige Einstreumenge",8.46,0,"mittlere Einstreumenge","-","-","hohe Einstreumenge","-","-",null,233,130,76,{"$nulls":4},0.6]
[null,"100 Putenhennen ab der 6. Woche, N/P-red.",3,1.3,null,null,"-",null,"-","niedrige Einstreumenge",8.46,0,"mittlere Einstreumenge","-","-","hohe Einstreumenge","-","-",null,217,102,73,{"$nulls":4},0.6]
[null,"100 Mastputen, w und m, Standard",3,1.3,null,null,"-",null,"-","niedrige Einstreumenge",6.3,0,"mittlere Einstreumenge","-","-","hohe Einstreumenge","-","-",null,211,118,75,{"$nulls":4},0.6]
[null,"100 Mastputen, w und m, N/P-red.",3,1.3,null,null,"-",null,"-","niedrige Einstreumenge",6.3,0,"mittlere Einstreumenge","-","-","hohe Einstreumenge","-","-",null,197,93,71,{"$nulls":4},0.6]
[null,"100 Putenhähne bis 21 Wochen Mast, 22,1 kg Zuw.,Standard",3,1.3,null,null,"-",null,"-","niedrige Einstreumenge",5.46,0,"mittlere Einstreumenge","-","-","hohe Einstreumenge","-","-",null,242,136,117,{"$nulls":4},0.6]
[null,"100 Putenhähne bis 21 Wochen Mast, 22,1 kg Zuw., \nN/P-red.",3,1.3,null,null,"-",null,"-","niedrige Einstreumenge",5.46,0,"mittlere Einstreumenge","-","-","hohe Einstreumenge","-","-",null,225,106,111,{"$nulls":4},0.6]
[null,"100 Putenhennen 16 Wochen Mast, 10,9 kg Zuw., Standard",3,1.3,null,null,"-",null,"-","niedrige Einstreumenge",6.08,0,"mittlere Einstreumenge","-","-","hohe Einstreumenge","-","-",null,171,93,96,{"$nulls":4},0.6]
[null,"100 Putenhennen 16 Wochen Mast, 10,9 kg Zuw., \nN/P-red.",3,1.3,null,null,"-",null,"-","niedrige Einstreumenge",6.08,0,"mittlere Einstreumenge","-","-","hohe Einstreumenge","-","-",null,162,66,92,{"$nulls":4},0.6]
[null,"100 Gänse Schnellmast, 5 kg Zuw.",3,0.4,null,null,"-",null,"-",null,"-","-","mittlere Einstreumenge",9.62,0,"hohe Einstreumenge","-","-",null,134,77,12,{"$nulls":4},0.6]
[null,"100 Gänse Mittelmast, 6,8 kg Zuw.",3,0.4,null,null,"-",null,"-",null,"-","-","mittlere Einstreumenge",12.19,0,"hohe Einstreumenge","-","-",null,229,126,31,{"$nulls":4},0.6]
[null,"100 Gänse Spät-/Weidemast, 7,8 kg Zuw.",3,0.4,null,null,"-",null,"-",null,"-","-","mittlere Einstreumenge",10.53,0,"hohe Einstreumenge","-","-",null,187,58,91,{"$nulls":4},0.6]
[null,"100 Pekingenten, 3,0 kg Zuw., 6,5 Durchgänge",3,0.4,null,null,"-",null,"-",null,"-","-","mittlere Einstreumenge",6.74,0,"hohe Einstreumenge","-","-",null,71,40,38,{"$nulls":4},0.6]
[null,"100 Flugenten, 4 Durchgänge",3,0.4,null,null,"-",null,"-",null,"-","-","mittlere Einstreumenge",5,0,"hohe Einstreumenge","-","-",null,63,40,31,{"$nulls":4},0.6]
[null,"Strauß (Zucht)",3,0.24,null,null,"-",null,"-",null,"-","-","mittlere Einstreumenge",0.16,0,"hohe Einstreumenge","-","-",null,24.7,15.8,18.4,{"$nulls":4},0.6]
[null,"Emu, Nandu",3,{"$nulls":3},"-",null,"-",null,"-","-","mittlere Einstreumenge",0.07,0,"hohe Einstreumenge","-","-",null,7.4,4.7,5.5,{"$nulls":4},0.6]
[null,"100 Perlhühner",3,0.15,null,null,"-",null,"-",null,"-","-","mittlere Einstreumenge",0.09,0,"hohe Einstreumenge","-","-",null,64,28,21,{"$nulls":4},0.6]
[null,"Fasan",3,{"$nulls":3},"-",null,"-","niedrige Einstreumenge",0,0,"mittlere Einstreumenge","-","-","hohe Einstreumenge","-","-",null,0.57,0.25,0.17,{"$nulls":4},0.6]
[null,"Masttauben (Elternpaar mit Jungtauben)",3,{"$nulls":3},"-",null,"-","niedrige Einstreumenge",0,0,"mittlere Einstreumenge","-","-","hohe Einstreumenge","-","-",null,1.03,0.5,0.43,{"$nulls":4},0.6]
[null,"Wachteln",3,0.0003,null,null,"-",null,"-","niedrige Einstreumenge",0,0,"mittlere Einstreumenge","-","-","hohe Einstreumenge","-","-",null,0.3,0.16,0.11,{"$nulls":4},0.6]
[{"$nulls":12},"mittlere Einstreumenge",null,null,"hohe Einstreumenge",{"$nulls":10},0.6]
[]
["Pferde","Pferde 500 – 600 kg LM Stall",4,1,1,null,"-",null,"-","niedrige Einstreumenge",8.6,0,"mittlere Einstreumenge",10,0,"hohe Einstreumenge",11.5,0,null,51.1,23.4,57.5,{"$nulls":4},0.55]
[null,"Pferde 500 – 600 kg LM Stall + Weide",4,1,1,null,"-",null,"-","niedrige Einstreumenge",8.6,0,"mittlere Einstreumenge",10,0,"hohe Einstreumenge",11.5,0,null,53.6,23.4,67,{"$nulls":4},0.55]
[null,"Ponys 300 kg LM Stall",4,0.5,0.5,null,"-",null,"-","niedrige Einstreumenge",6.8,0,"mittlere Einstreumenge",8.3,0,"hohe Einstreumenge",9.8,0,null,34.9,16.5,47,{"$nulls":4},0.55]
[null,"Ponys 300 kg LM Stall + Weide",4,0.5,0.5,null,"-",null,"-","niedrige Einstreumenge",6.8,0,"mittlere Einstreumenge",8.3,0,"hohe Einstreumenge",9.8,0,null,33.4,15.3,51,{"$nulls":4},0.55]
[null,"Zuchtstuten Pferd  600 kg LM 0,5 Fohl. p. a.",4,1,1,null,"-",null,"-","niedrige Einstreumenge",9.6,0,"mittlere Einstreumenge",11,0,"hohe Einstreumenge",12.5,0,null,63.5,28,73.7,{"$nulls":4},0.55]
[null,"Zuchtstuten Pony  350 kg LM 0,5 Fohl. p. a.",4,0.5,0.5,null,"-",null,"-","niedrige Einstreumenge",7.4,0,"mittlere Einstreumenge",8.8,0,"hohe Einstreumenge",10.3,0,null,42.3,18.4,56.3,{"$nulls":4},0.55]
[null,"Aufzucht Pferd 6. - 36. Monat",4,1,1,null,"-",null,"-","niedrige Einstreumenge",7.1,0,"mittlere Einstreumenge",8.5,0,"hohe Einstreumenge",10,0,null,44.5,18.9,54.3,{"$nulls":4},0.55]
[null,"Aufzucht Pony 6. - 36. Monat",4,0.5,0.5,null,"-",null,"-","niedrige Einstreumenge",5.7,0,"mittlere Einstreumenge",7.2,0,"hohe Einstreumenge",8.6,0,null,31.6,13.5,42,{"$nulls":4},0.55]
[{"$nulls":15},"hohe Einstreumenge"]
[]
["Schafe/Ziegen","Lämmer, Schafe bis 1 Jahr, konv",4,0.05,0.05,null,"-",null,"-",null,"-","-",null,"-","-","hohe Einstreumenge",0.4,0,null,5.9,1.9,6.5,5.4,1.7,6.6,null,0.55]
[null,"Mutterschaf (ohne Lamm), andere Schafe, konv",4,0.15,0.15,null,"-",null,"-",null,"-","-",null,"-","-","hohe Einstreumenge",1.1,0,null,14.2,4.3,15.5,12.4,3.6,12.9,null,0.55]
[null,"Mutterschaf (1,5 Lämmer), 40 kg Zuw.,konv",4,0.15,0.15,null,"-",null,"-",null,"-","-",null,"-","-","hohe Einstreumenge",1.1,0,null,20.1,6.2,22,18.2,5.3,20.9,null,0.55]
[null,"Mutterschaf (1,1 Lämmer), 40 kg Zuw., ext",4,0.15,0.15,null,"-",null,"-",null,"-","-",null,"-","-","hohe Einstreumenge",1.1,0,null,17.6,5,17,17.3,{"v":5,"d":"5.0"},{"v":16,"d":"16.0"},null,0.55]
[null,"Mutterziege (1,5 Lämmer), 800 kg Milch, andere Ziegen",4,0.15,0.15,null,"-",null,"-",null,"-","-",null,"-","-","hohe Einstreumenge",1,0,null,15.2,5.7,18,11.7,3.8,14.8,null,0.55]
[{"$nulls":15},"hohe Einstreumenge"]
[]
["Kaninchen","Mutterhäsin mit Jungtiere bis 0,6 kg",4,0.02,null,"Gülle",0.3,null,"-","niedrige Einstreumenge",0.4,0,null,"-","-","hohe Einstreumenge","-","-",null,2.6,1.5,2.1,{"$nulls":4},0.55]
[null,"Mutterhäsin mit Jungtiere bis 3 kg",4,0.02,null,"Gülle",0.6,null,"-","niedrige Einstreumenge",0.8,0,null,"-","-","hohe Einstreumenge","-","-",null,9.7,5.4,8.3,{"$nulls":4},0.55]
[null,"Kaninchenmast, 0,6 bis 3 kg",4,0.003,null,"Gülle",0.1,null,"-","niedrige Einstreumenge",0.1,0,null,"-","-","hohe Einstreumenge","-","-",null,0.8,0.5,0.9,{"$nulls":4},0.55]
[]
[{"$nulls":15},"hohe Einstreumenge"]
["Gehegewild","Damwild Alttier",4,0.15,null,null,"-",null,"-",null,"-","-",null,"-","-","hohe Einstreumenge",0,0,null,15.8,4.5,17.6,15.1,4.8,{"v":18,"d":"18.0"},null,0.55]
[null,"Damwild Kalb",4,0.05,null,null,"-",null,"-",null,"-","-",null,"-","-","hohe Einstreumenge",0,0,null,5.8,1.7,6.4,5.5,1.8,6.6,null,0.55]
[null,"Rotwild Alttier",4,{"$nulls":3},"-",null,"-",null,"-","-",null,"-","-","hohe Einstreumenge",0,0,null,22.7,7.2,27,22.7,7.2,{"v":27,"d":"27.0"},null,0.55]
[null,"Rotwild Kalb",4,{"$nulls":3},"-",null,"-",null,"-","-",null,"-","-","hohe Einstreumenge",0,0,null,8.3,2.7,9.9,8.3,2.7,9.9,null,0.55]
[{"$nulls":15},"hohe Einstreumenge"]
[{"$nulls":15},"hohe Einstreumenge"]
["Sonstige","Lama, Alpaka",4,"0,25/0,15",null,null,"-",null,"-",null,"-","-",null,"-","-","hohe Einstreumenge",3.4,0,null,22.7,7.2,27,{"$nulls":4},0.55]

{"sheet":"Fruchtfolge Tabellen","index":18,"n_rows":231,"n_cols":37,"rows_kept":231,"merged":[[1,7,1,16],[3,0,18,0],[19,0,23,0],[24,0,30,0],[31,0,40,0],[41,0,45,0],[46,0,49,0],[50,0,59,0],[60,0,64,0],[65,0,74,0],[80,0,90,0],[95,0,174,0],[175,0,186,0]]}
[null,"Kulturenliste ",null,"Durchschnittsertrag ","Code","TS","RP in TM","C","N","NH4-N","P2O5","K2O","Ca","MgO","S","Na","Cl",null,"Kulturenliste Grobfutter","Durchschnittsertrag","Gärrückstandsfaktor","Nutzung ",null,"Saatgut/Pflanzgut","Code","TKG","KF","C","N","NH4-N","P2O5","K2O","Ca","Mg","S","Na","Cl"]
[null,"Düngung BW + REPRO+BESyD","Kategorie","[dt/ha]",null,"[%]","[%]","Nährstoffgehalt [kg/t]",{"$nulls":11},"[dt/ha]","[m³/t]","Düngung BW/ Stoffstrombilanz",{"$nulls":3},"[g]","[%]","[kg/a]","[kg/a]",null,"[kg/a]","[kg/a]","[kg/a]","[kg/a]","[kg/a]","[kg/a]","[kg/a]"]
[null,"Bitte wählen:",null,null,0,null,null,0,0,0,0,0,0,0,0,0,0,null,"Bitte wählen:",0,null,"Bitte wählen:",null,"Bitte wählen:",0,0]
["Getreide","Winterweizen 12 % RP ( C)",null,45,1,86,null,null,18.1,null,8,6,null,2,{"$nulls":4},"Sareptasenf (Ganzpflanze FM)",null,null,"Hauptfrucht & NawaRo",null,"Winterweizen 12 % RP (C)",1,{"$nulls":3},18.1,null,{"v":8,"d":"8.0"},{"v":6,"d":"6.0"},null,2]
[null,"Winterweizen 14 % RP (A, B)",null,45,2,86,null,null,21.099999999999998,null,8,6,null,2,{"$nulls":4},"Silomais  Frischmasse 33 % TS",450,null,"Futterzwischenfrucht",null,"Winterweizen 14 % RP (A, B)",2,{"$nulls":3},{"v":21.099999999999998,"d":"21.1"},null,{"v":8,"d":"8.0"},{"v":6,"d":"6.0"},null,2]
[null,"Winterweizen  16 % RP (E)",null,45,3,86,null,null,24.1,null,8,6,null,2,{"$nulls":4},"Sudangras (Hauptkultur, FM)",600,null,"Begrünungsfrucht",null,"Winterweizen  16 % RP (E)",3,{"$nulls":3},24.1,null,{"v":8,"d":"8.0"},{"v":6,"d":"6.0"},null,2]
[null,"Brauweizen",null,null,4,86,null,null,18.1,null,8,6,null,2,{"$nulls":4},"Zuckerhirse (Milch- bis Teigreife der Körner, FM)",550,null,"Zweit- und Drittfrucht",null,"Brauweizen",4,{"$nulls":3},18.1,null,{"v":8,"d":"8.0"},{"v":6,"d":"6.0"},null,2]
[null,"Sommerweizen 14 % RP",null,40,5,86,null,null,21.099999999999998,null,8,6,null,2,{"$nulls":4},"Durchwachsene Silphie (27 % TM)",550,null,"stillgelegt",null,"Sommerweizen",5,{"$nulls":3},{"v":22.599999999999998,"d":"22.6"},null,{"v":8,"d":"8.0"},{"v":6,"d":"6.0"},null,2]
[null,"Sommerweizen 16 % RP",null,40,6,86,null,null,24.1,null,8,6,null,2,{"$nulls":4},"Grünroggen (FM)",250,null,"aus d. Erzeugung genommen",null,"Sommerweizen",5,{"$nulls":3},{"v":22.599999999999998,"d":"22.6"},null,{"v":8,"d":"8.0"},{"v":6,"d":"6.0"},null,2]
[null,"Winterfuttergerste 13 % RP",null,40,7,86,null,null,17.9,null,8,6,null,2,{"$nulls":4},"Ganzpflanze Weizen (Milch- bis Teigreife, FM)",300,{"$nulls":3},"Winterfuttergerste",6,{"$nulls":3},17.2,null,{"v":8,"d":"8.0"},{"v":6,"d":"6.0"},null,2]
[null,"Winterbraugerste 10 % RP",null,40,8,86,null,null,13.799999999999999,null,8,6,null,2,{"$nulls":4},"Ganzpflanze Triticale (Milch- bis Teigreife, FM)",300,null,"Verwendung Erzeugnisse",null,"Winterbraugerste",7,{"$nulls":3},14.5,null,{"v":8,"d":"8.0"},{"v":6,"d":"6.0"},null,2]
[null,"Sommerfuttergerste 13 % RP",null,35,9,86,null,null,17.9,null,8,6,null,2,{"$nulls":4},"Ganzpflanze Hafer (Milchreife, FM)",250,null,"Düngung BW/ Stoffstrombilanz",null,"Sommerfuttergerste",8,{"$nulls":3},17.2,null,{"v":8,"d":"8.0"},{"v":6,"d":"6.0"},null,2]
[null,"Sommerbraugerste 10 % RP",null,35,10,86,null,null,13.799999999999999,null,8,6,null,2,{"$nulls":4},"Ganzpflanze Sonnenblumen (Zitronenreife, FM)",400,{"$nulls":3},"Sommerbraugerste",9,{"$nulls":3},14.5,null,{"v":8,"d":"8.0"},{"v":6,"d":"6.0"},null,2]
[null,"Winterroggen 11 % RP",null,40,11,86,null,null,15.1,null,8,6,null,2,{"$nulls":4},"Sonnenblumen/Mais (Ganzpflanze, FM) ",500,null,"Bitte wählen:",null,"Winterroggen",10,{"$nulls":3},15.8,null,{"v":8,"d":"8.0"},{"v":6,"d":"6.0"},null,2]
[null,"Sommerroggen 11 % RP",null,30,12,86,null,null,15.1,null,8,6,null,2,{"$nulls":4},"Hanf (Ganzpflanze)",150,null,"eigene Biogasanlage",null,"Sommerroggen",11,{"$nulls":3},15.8,null,{"v":8,"d":"8.0"},{"v":6,"d":"6.0"},null,2]
[null,"Hafer 11 % RP",null,35,13,86,null,null,15.1,null,8,6,null,2,{"$nulls":4},"Miscanthus",200,null,"Verkauf",null,"Hafer",12,{"$nulls":3},15.8,null,{"v":8,"d":"8.0"},{"v":6,"d":"6.0"},null,2]
[null,"Wintertriticale 13 % RP",null,40,14,86,null,null,17.9,null,8,6,null,2,{"$nulls":4},"Grünland 1 Schnitt",40,null,"GF & eigene Biogasanlage",null,"Wintertriticale",13,{"$nulls":3},17.2,null,{"v":8,"d":"8.0"},{"v":6,"d":"6.0"},null,2]
[null,"Dinkel mit Vesen",null,40,15,86,null,null,16,null,8,8,null,2,{"$nulls":4},"Grünland 2 Schnitte",55,null,"andere eigene Verwendung",null,"Dinkel mit Vesen",14,{"$nulls":3},{"v":16,"d":"16.0"},null,{"v":8,"d":"8.0"},{"v":8,"d":"8.0"},null,2]
[null,"Hartweizen (Durumweizen) 15 % RP",null,40,16,86,null,null,22.599999999999998,null,8,6,null,2,{"$nulls":4},"Grünland 3 Schnitte",80,null,"Sonstiges",null,"Hartweizen \n(Durumweizen) 15 % RP",15,{"$nulls":3},{"v":22.599999999999998,"d":"22.6"},null,{"v":8,"d":"8.0"},{"v":6,"d":"6.0"},null,5]
["Ölfrüchte","Winterraps",null,25,17,91,null,null,33.5,null,18,10,null,5,{"$nulls":4},"Grünland 4 Schnitte",90]
[null,"Körnersenf",null,10,18,91,null,null,50.8,null,17.7,9.3,null,3,{"$nulls":4},"Grünland 5 Schnitte",110,null,"Verwendung Grobfutter"]
[null,"Sommerraps",null,15,19,91,null,null,33.5,null,18,10,null,5,{"$nulls":4},"Grünland 6 Schnitte",120,null,"Düngung BW Stoffstrombilanz"]
[null,"Sonnenblumen (Korn)",null,15,20,91,null,null,29.1,null,16,24,null,7,{"$nulls":4},"Ackergras (5 Schnitte/Jahr)",150,null,"Bitte wählen:"]
[null,"Öllein",null,15,21,91,null,null,35,null,12,10,null,8,{"$nulls":4},"Ackergras (3 - 4 Schnitte/Jahr)",120,null,"eigene Wiederkäuer"]
["Körner-\nlegumino-\nsen","Ackerbohnen Körner",null,35,22,86,null,null,41,null,12,14,null,2,{"$nulls":4},"Ackergras (Zweitkultur, Nutzung im Herbst- 1 Schnitt)",30,null,"eigene Nicht-Wiederkäuer",null,"Ackerbohnen",22,{"$nulls":3},{"v":41,"d":"41.0"},null,{"v":12,"d":"12.0"},{"v":14,"d":"14.0"},null,2]
[null,"Buschbohnen Körner",null,20,23,86,null,null,41,null,12,14,null,0.4,{"$nulls":4},"Ackergras (Zweitkultur, Nutzung im Herbst- 2 Schnitte)",60,null,"eigene Biogasanlage",null,"Buschbohnen",23,{"$nulls":3},{"v":41,"d":"41.0"},null,{"v":12,"d":"12.0"},{"v":14,"d":"14.0"},null,0.4]
[null,"Erbsen Körner",null,35,24,86,null,null,36,null,11,14,null,2,{"$nulls":4},"Ackergras (Zweitkultur, Nutzung im Frühjahr- 1 Schnitt)",50,{"$nulls":3},"Erbsen",24,{"$nulls":3},{"v":36,"d":"36.0"},null,{"v":11,"d":"11.0"},{"v":14,"d":"14.0"},null,2]
[null,"Süßlupinen",null,20,25,86,null,null,44.800000000000004,null,10.2,16.599999999999998,null,2,{"$nulls":4},"Kleegras (30 : 70)",130,{"$nulls":3},"Süßlupinen",26,{"$nulls":3},{"v":44.800000000000004,"d":"44.8"},null,10.2,{"v":16.599999999999998,"d":"16.6"},null,2]
[null,"Sojabohnen",null,25,26,91,null,null,44,null,15,19.4,null,3,{"$nulls":4},"Kleegras (50 : 50)",120,{"$nulls":3},"Sojabohnen",25,{"$nulls":3},{"v":44,"d":"44.0"},null,{"v":15,"d":"15.0"},19.4,null,3]
[null,"Linsen",null,20,27,86,null,null,35.8,null,11,14,null,2,{"$nulls":4},"Kleegras (70 : 30)",115,{"$nulls":3},"Linsen",28,{"$nulls":3},35.8,null,{"v":11,"d":"11.0"},{"v":14,"d":"14.0"},null,2]
[null,"Wicken",null,20,28,86,null,null,36,null,13.899999999999999,16.599999999999998,null,2,{"$nulls":4},"Rotklee",110,{"$nulls":3},"Wicken",27,{"$nulls":3},{"v":36,"d":"36.0"},null,{"v":13.899999999999999,"d":"13.9"},{"v":16.599999999999998,"d":"16.6"},null,2]
["Mais","Körnermais 10 % RP",null,60,29,86,null,null,13.799999999999999,null,8,5,null,2,{"$nulls":4},"Luzernegras (30 : 70)",130,{"$nulls":3},"Mais",20,{"$nulls":3},14.5,null,{"v":8,"d":"8.0"},{"v":5,"d":"5.0"}]
[null,"Körnermais beregnet 10 % RP",null,null,30,86,null,null,13.799999999999999,null,8,5,null,2,{"$nulls":4},"Luzernegras (50 : 50)",120,{"$nulls":3},"Mais",20,{"$nulls":3},14.5,null,{"v":8,"d":"8.0"},{"v":5,"d":"5.0"}]
[null,"Silomais  Frischmasse 33 % TS","Grobfutter",350,31,33,null,null,4.5,null,1.9,5.300000000000001,null,1,{"$nulls":4},"Luzernegras (70 : 30)",115,{"$nulls":3},"Mais",20,{"$nulls":3},14.5,null,{"v":8,"d":"8.0"},{"v":5,"d":"5.0"}]
[null,"Energiemais  Frischmasse ",null,400,32,30,null,null,4.5,null,1.9,5.300000000000001,null,0.7000000000000001,{"$nulls":4},"Luzerne",110,{"$nulls":3},"Mais",20,{"$nulls":3},14.5,null,{"v":8,"d":"8.0"},{"v":5,"d":"5.0"}]
[null,"Corn-Cob-Mix, CCM",null,90,33,60,null,null,10.1,null,5.8,3.5999999999999996,null,1.4000000000000001,{"$nulls":4},"Futterzwischenfrucht ohne Leguminosen",150,{"$nulls":3},"Mais",20,{"$nulls":3},14.5,null,{"v":8,"d":"8.0"},{"v":5,"d":"5.0"}]
[null,"Lieschkolbensilage (LKS)",null,95,34,50,null,null,7.6,null,3.2,3.5999999999999996,null,1,{"$nulls":4},"Futterzwischenfrucht mit Leguminosen",150,{"$nulls":3},"Mais",20,{"$nulls":3},14.5,null,{"v":8,"d":"8.0"},{"v":5,"d":"5.0"}]
[null,"Saatmais (< 30 dt/ha)",null,null,35,86,null,null,13.799999999999999,null,10,5,null,1.7000000000000002,{"$nulls":4},"GPS Körnerleguminosen",250,{"$nulls":3},"Mais",20,{"$nulls":3},14.5,null,{"v":8,"d":"8.0"},{"v":5,"d":"5.0"}]
[null,"Saatmais (30 bis < 40 dt/ha)",null,null,36,86,null,null,13.799999999999999,null,10,5,null,1.7000000000000002,{"$nulls":9},"Mais",20,{"$nulls":3},14.5,null,{"v":8,"d":"8.0"},{"v":5,"d":"5.0"}]
[null,"Saatmais (40 bis < 50 dt/ha)",null,null,37,86,null,null,13.799999999999999,null,10,5,null,1.7000000000000002,{"$nulls":9},"Mais",20,{"$nulls":3},14.5,null,{"v":8,"d":"8.0"},{"v":5,"d":"5.0"}]
[null,"Saatmais (≥ 50 dt/ha)",null,null,38,86,null,null,13.799999999999999,null,10,5,null,1.7000000000000002,{"$nulls":9},"Mais",20,{"$nulls":3},14.5,null,{"v":8,"d":"8.0"},{"v":5,"d":"5.0"}]
["Hack-\nfrüchte","Frühkartoffeln",null,200,39,22,null,null,3.5,null,1.4000000000000001,6,null,0.4,{"$nulls":9},"Kartoffel",21,{"$nulls":3},3.5,null,{"v":1.4000000000000001,"d":"1.4"},{"v":6,"d":"6.0"}]
[null,"Kartoffeln, ab mittelfrüh",null,220,40,22,null,null,3.5,null,1.4000000000000001,6,null,0.4,{"$nulls":9},"Kartoffel",21,{"$nulls":3},3.5,null,{"v":1.4000000000000001,"d":"1.4"},{"v":6,"d":"6.0"}]
[null,"Gehaltsrüben",null,350,41,15,null,null,1.7999999999999998,null,0.8999999999999999,5,null,0.5]
[null,"Futtermassenrüben",null,500,42,12,null,null,1.4000000000000001,null,0.7000000000000001,4.5,null,0.5]
[null,"Zuckerrüben",null,450,43,23,null,null,1.7999999999999998,null,1,2.5,null,0.8]
["Energie-\npflanzen","Miscanthus",null,120,44,80,null,null,1.5,null,1.2,6,null,2.5]
[null,"Sudangras (Hauptkultur, FM)","Grobfutter",400,45,25,null,null,2.7,null,2.3000000000000003,3.8,null,0.8999999999999999]
[null,"Zuckerhirse (Milch- bis Teigreife der Körner, FM)","Grobfutter",300,46,22,null,null,3.5,null,1.7000000000000002,5.2,null,0.5]
[null,"Durchwachsene Silphie (27 % TM)",null,null,47,27,null,null,2.4,null,1.1,6.2,null,1.2]
["GPS-\nSorten","Grünroggen (FM)","Grobfutter",null,48,35,null,null,3.9000000000000004,null,2.1,4.8,null,0.5]
[null,"Ganzpflanze Weizen (Milch- bis Teigreife, FM)","Grobfutter",200,49,35,null,null,4.9,null,2.3000000000000003,4.1,null,0.5]
[null,"Ganzpflanze Triticale (Milch- bis Teigreife, FM)","Grobfutter",200,50,35,null,null,3.9000000000000004,null,2.3000000000000003,4.8,null,0.5]
[null,"Ganzpflanze Hafer (Milchreife, FM)","Grobfutter",50,51,35,null,null,5.300000000000001,null,2.3000000000000003,9.399999999999999,null,0.5]
[null,"Ganzpflanze Sonnenblumen (Zitronenreife, FM)","Grobfutter",40,52,23,null,null,4.699999999999999,null,1.2,9.8,null,0.5]
[null,"Sonnenblumen/Mais (Ganzpflanze, FM) ","Grobfutter",300,53,28,null,null,3.4000000000000004,null,1.7000000000000002,7.199999999999999,null,0.5]
[null,"Sareptasenf (Ganzpflanze FM)","Grobfutter",300,54,35,null,null,4.6000000000000005,null,2.3000000000000003,4.699999999999999,null,1]
[null,"Winterrübsen (Ganzpflanze)",null,200,55,35,null,null,3.5,null,1.1,4.5,null,0.5]
[null,"Sommerrübsen (Ganzpflanze)",null,200,56,35,null,null,3.5,null,1.1,4.5,null,0.5]
[null,"GPS Körnerleguminosen",null,100,57,35,null,null,5.6000000000000005,null,2.3000000000000003,4.699999999999999,null,1]
["Grünland","Grünland 1 Schnitt 4 t TM ha","Grobfutter",40,58,35,null,null,13.799999999999999,null,{"v":5,"d":"5.00"},{"v":19.3,"d":"19.30"},null,{"v":3.5,"d":"3.50"}]
[null,"Grünland 2 Schnitte 5,5 t TM ha","Grobfutter",50,59,35,null,null,18.2,null,{"v":6.4,"d":"6.40"},{"v":24.1,"d":"24.10"},null,{"v":4,"d":"4.00"}]
[null,"Grünland 3 Schnitte 8 t TM ha","Grobfutter",75,60,35,null,null,24,null,{"v":7.1,"d":"7.10"},{"v":28.900000000000002,"d":"28.90"},null,{"v":4.1,"d":"4.10"}]
[null,"Grünland 4 Schnitte 9 t TM ha","Grobfutter",80,61,35,null,null,27.200000000000003,null,{"v":8,"d":"8.00"},{"v":31.299999999999997,"d":"31.30"},null,{"v":4.5,"d":"4.50"}]
[null,"Grünland 5 Schnitte 11 t TM ha","Grobfutter",100,62,35,null,null,28,null,{"v":8.5,"d":"8.50"},{"v":32.5,"d":"32.50"},null,{"v":4.5,"d":"4.50"}]
[null,"Ackergras (Zweitkultur, Nutzung im Herbst- 1 Schnitt)","Grobfutter",110,63,15,null,null,5.3,null,{"v":1.6,"d":"1.60"},{"v":6.5,"d":"6.50"},null,{"v":0.8,"d":"0.80"}]
[null,"Ackergras (3 - 4 Schnitte/Jahr)","Grobfutter",500,64,20,null,null,5.3,null,1.6,6.5,null,0.8]
[null,"Kleegras (30 : 70)","Grobfutter",550,65,20,null,null,5.6000000000000005,null,1.5,7,null,0.8]
[null,"Kleegras (50 : 50)","Grobfutter",600,66,20,null,null,5.699999999999999,null,1.5,7,null,0.8]
[null,"Kleegras (70 : 30)","Grobfutter",600,67,20,null,null,5.8,null,1.5,7,null,0.8]
[null,"Rotklee","Grobfutter",550,68,20,null,null,5.8,null,1.5,7,null,0.8]
[null,"Klee allgemein","Grobfutter",500,69,20,null,null,5.5,null,1.4,6,null,0.7]
[null,"Luzernegras (30 : 70)","Grobfutter",550,70,20,null,null,5.6000000000000005,null,1.6,7,null,0.8]
[null,"Luzernegras (50 : 50)","Grobfutter",600,71,20,null,null,5.699999999999999,null,1.6,7,null,0.8]
[null,"Luzernegras (70 : 30)","Grobfutter",600,72,20,null,null,5.8,null,1.6,7,null,0.5]
[null,"Luzerne","Ganzpflanze",500,73,20,null,null,6.5,null,1.4000000000000001,6.5,null,0.8]
[null,"Legum.-(grobk.)/ Nicht-legum.-Gemenge","Ganzpflanze",400,74,20,null,null,4.4,null,1.1,6,null,0.8]
[null,"Wickroggen","Ganzpflanze",400,75,15,null,null,4.5,null,0.7000000000000001,1.9,null,0.5]
[null,"Sommer-Gemenge, Legum.anteil >30-75 %","Ganzpflanze",400,76,15,null,null,1.7000000000000002,null,1.4000000000000001,4.4,null,1.2]
[null,"Winter-Gemenge, Legum.anteil >30-75 %","Ganzpflanze",400,77,15,null,null,1.7000000000000002,null,1.4000000000000001,4.4,null,1.2]
["Sonstiges","Grassamenvermehrung",null,40,78,86,null,null,22,null,{"v":6.5,"d":"6.50"},{"v":5,"d":"5.00"},null,{"v":1.7000000000000002,"d":"1.70"}]
[null,"Amarant (Korn)",null,20,79,86,null,null,26.299999999999997,null,8.9,5,null,3]
[null,"Körnerhirse",null,35,80,86,null,null,20.7,null,7.5,4.8,null,2.6]
[null,"Hanf (Ganzpflanze)","Grobfutter",110,81,40,null,null,4,null,3,8.8,null,4.5]
[null,"Topinambur",null,400,82,21,null,null,3,null,1.5,6.3,null,0.2]
[null,"Lein, Faserlein, Flachs",null,25,83,86,null,null,10,null,6.4,17.1,null,4.1]
[null,"Buchweizen (Korn)",null,20,84,86,null,null,23.3,null,6.5,5,null,3]
[null,"Wildkräutervermehrung (Leguminose)",null,5,85,91,null,null,28,null,15,18,null,4.5]
[null,"Wildkräutervermehrung (Nichtleguminosen)",null,5,86,91,null,null,28,null,15,18,null,4.5]
[null,"Acker aus der Erzeugung genommen",null,0,87,20,null,null,0,null,0,0,null,0]
[null,"Grünland aus der Erzeugung genommen",null,0,88,20,null,null,0,null,0,0,null,0]
[null,"Futterzwischenfrucht ohne Leguminosen","Grobfutter",120,89,16,null,null,4.6000000000000005,null,1.4000000000000001,5,null,0.5]
[null,"Futterzwischenfrucht mit Leguminosen",null,120,90,16,null,null,4.6000000000000005,null,1.4000000000000001,5,null,0.5]
[null,"Begrünungszwischenfrucht ohne Leguminosen",null,null,91,20,null,null,0,null,0,0,null,0]
[null,"Begrünungszwischenfrucht mit Leguminosen",null,null,92,20,null,null,0,null,0,0,null,0]
["Gemüse","Blumenkohl","Gemüse",{"v":168.3204451384333,"d":"168"},93,7,null,null,2.8,null,1.03,3.61,null,0.2]
[null,"Brokkoli","Gemüse",{"v":101.6888986652055,"d":"102"},94,9,null,null,4.5,null,1.49,4.58,null,0.33]
[null,"Buschbohnen","Gemüse",{"v":76.8067511929134,"d":"77"},95,8,null,null,2.5,null,0.92,3.01,null,0.41]
[null,"Chicoreerüben","Gemüse",{"v":229.48346596182643,"d":"229"},96,24,null,null,2.5,null,1.21,5.42,null,0.66]
[null,"Chinakohl","Gemüse",{"v":225.17587980687554,"d":"225"},97,6,null,null,1.5,null,0.92,3.01,null,0.17]
[null,"Dill, Frischmarkt","Gemüse",{"v":101.99265153858951,"d":"102"},98,10,null,null,3,null,0.92,6.02,null,0.41]
[null,"Dill, Industrieware","Gemüse",{"v":127.4908144232369,"d":"127"},99,10,null,null,3,null,0.92,6.02,null,0.41]
[null,"Feldsalat","Gemüse",{"v":44.434740842175835,"d":"44"},100,9,null,null,4.5,null,0.99,6.5,null,0.71]
[null,"Feldsalat, großblättrig","Gemüse",{"v":66.29522350008318,"d":"66"},101,9,null,null,4.5,null,0.99,6.5,null,0.71]
[null,"Gemüseerbse","Gemüse",{"v":50.23279680273159,"d":"50"},102,22,null,null,10,null,2.29,3.61,null,0.58]
[null,"Grünkohl","Gemüse",{"v":136.39871219913414,"d":"136"},103,15,null,null,4.9,null,1.63,5.9,null,0.41]
[null,"Gurke, Einleger","Gemüse",{"v":415.983057690166,"d":"416"},104,4,null,null,1.5,null,0.69,2.41,null,0.2]
[null,"Knollenfenchel","Gemüse",{"v":203.98530307717903,"d":"204"},105,7,null,null,2,null,0.69,4.82,null,0.33]
[null,"Kohlrabi","Gemüse",{"v":199.97257783901202,"d":"200"},106,7,null,null,2.8,null,1.03,4.21,null,0.25]
[null,"Kürbis","Gemüse",{"v":180.62251837740737,"d":"181"},107,12,null,null,2.5,null,2.06,5.54,null,0.8]
[null,"Melone","Gemüse",{"v":152.98897730788428,"d":"153"},108,5,null,null,1.5,null,0.92,4.21,null,0.5]
[null,"Mairüben (mit Laub)","Gemüse",{"v":331.4761175004159,"d":"331"},109,7,null,null,1.7,null,1.03,4.21,null,0.36]
[null,"Möhren, Bund-","Gemüse",{"v":305.97795461576857,"d":"306"},110,11,null,null,1.7,null,0.82,5.3,null,0.45]
[null,"Möhren, Industrie","Gemüse",{"v":458.96693192365285,"d":"459"},111,10,null,null,1.3,null,0.8,4.21,null,0.25]
[null,"Möhren, Wasch-","Gemüse",{"v":436.1320401565752,"d":"436"},112,10,null,null,1.3,null,0.8,4.21,null,0.25]
[null,"Pastinake","Gemüse",{"v":203.98530307717903,"d":"204"},113,20,null,null,2.5,null,2.36,7.22,null,0.88]
[null,"Petersilie, Blatt-, bis 1. Schnitt","Gemüse",{"v":122.39118184630742,"d":"122"},114,11,null,null,4.5,null,1.15,6.62,null,0.36]
[null,"Petersilie, Blatt-, nach einem Schnitt","Gemüse",{"v":81.59412123087162,"d":"82"},115,11,null,null,4.5,null,1.15,6.62,null,0.36]
[null,"Petersilie, Wurzel-","Gemüse",{"v":203.98530307717903,"d":"204"},116,15,null,null,4.2,null,1.37,8.43,null,0.91]
[null,"Porree","Gemüse",{"v":223.1035453863951,"d":"223"},117,11,null,null,2,null,0.8,3.61,null,0.33]
[null,"Radies","Gemüse",{"v":192.49880826679032,"d":"192"},118,6,null,null,2,null,0.69,3.37,null,0.33]
[null,"Rettich, Bund-","Gemüse",{"v":254.9816288464738,"d":"255"},119,7,null,null,1.7,null,0.76,3.61,null,0.27]
[null,"Rettich, deutsch","Gemüse",{"v":278.1028381421711,"d":"278"},120,5,null,null,1.4,null,0.8,3.97,null,0.17]
[null,"Rettich, japanisch","Gemüse",{"v":509.9632576929476,"d":"510"},121,5,null,null,1,null,0.6,3.37,null,0.2]
[null,"Rhabarber 1. Standjahr","Gemüse",null,122,10,null,null,1.8,null,0.48,4.8,null,0.25]
[null,"Rhabarber 2. Standjahr Austrieb","Gemüse",null,123,10,null,null,1.8,null,0.48,4.8,null,0.25]
[null,"Rhabarber 3. Standjahr Austrieb","Gemüse",{"v":176.15260833803646,"d":"176"},124,10,null,null,1.8,null,0.48,4.8,null,0.25]
[null,"Rhabarber ab 4. Standjahr Austrieb","Gemüse",null,125,10,null,null,1.8,null,0.48,4.8,null,0.25]
[null,"Rosenkohl","Gemüse",{"v":94.5730113695003,"d":"95"},126,15,null,null,6.5,null,1.95,6.62,null,0.41]
[null,"Rote Rüben","Gemüse",{"v":382.50450036549086,"d":"383"},127,15,null,null,2.8,null,1.15,4.82,null,0.5]
[null,"Rotkohl","Gemüse",{"v":335.2765755991863,"d":"335"},128,10,null,null,2.2,null,0.8,3.61,null,0.25]
[null,"Rucola, Feinware","Gemüse",{"v":56.34754224270353,"d":"56"},129,7,null,null,4,null,1.03,5.3,null,0.5]
[null,"Rucola, Grobware","Gemüse",{"v":152.98897730788428,"d":"153"},130,7,null,null,4,null,1.03,5.3,null,0.5]
[null,"Salate, Baby Leaf Lettuce","Gemüse",{"v":71.39485607701266,"d":"71"},131,7,null,null,3.5,null,0.8,6.02,null,0.45]
[null,"Salate, Blatt-, grün (Lollo, Eichblatt, Krul)","Gemüse",{"v":211.25625942398094,"d":"211"},132,6,null,null,1.9,null,0.69,4.45,null,0.2]
[null,"Salate, Blatt-, rot (Lollo, Eichblatt, Krul)","Gemüse",{"v":152.98897730788428,"d":"153"},133,6,null,null,1.9,null,0.69,4.45,null,0.2]
[null,"Salate, Eissalat","Gemüse",{"v":182.9104878610855,"d":"183"},134,5,null,null,1.6,null,0.57,3.01,null,0.17]
[null,"Salate, Endivien, Frisee","Gemüse",{"v":178.48714019253165,"d":"178"},135,8,null,null,2.5,null,0.6,5.54,null,0.3]
[null,"Salate, Endivien, glattblättrig","Gemüse",{"v":229.77556051807449,"d":"230"},136,8,null,null,2,null,0.6,5.54,null,0.3]
[null,"Salate, Kopfsalat","Gemüse",{"v":209.05796575251193,"d":"209"},137,5,null,null,1.8,null,0.69,3.61,null,0.25]
[null,"Salate, Radicchio","Gemüse",{"v":166.6689811807212,"d":"167"},138,10,null,null,2.5,null,0.92,4.82,null,0.33]
[null,"Salate, verschiedene Arten","Gemüse",{"v":146.1347761621291,"d":"146"},139,5,null,null,1.8,null,0.69,3.61,null,0.25]
[null,"Salate, Romana","Gemüse",{"v":227.36761414967347,"d":"227"},140,5,null,null,2,null,0.92,3.97,null,0.22]
[null,"Salate, Romana Herzen","Gemüse",{"v":152.98897730788428,"d":"153"},141,5,null,null,2.4,null,0.92,3.97,null,0.22]
[null,"Salate, Zuckerhut","Gemüse",{"v":305.97795461576857,"d":"306"},142,8,null,null,2,null,1.15,3.01,null,0.17]
[null,"Schnittlauch, gesät, bis 1. Schnitt","Gemüse",{"v":152.98897730788428,"d":"153"},143,12,null,null,5,null,1.37,5.42,null,0.58]
[null,"Schnittlauch, nach einem Schnitt","Gemüse",{"v":101.99265153858951,"d":"102"},144,12,null,null,5,null,1.37,5.42,null,0.58]
[null,"Schnittlauch, Anbau für Treiberei","Gemüse",{"v":142.78971215402532,"d":"143"},145,12,null,null,5,null,1.37,5.42,null,0.58]
[null,"Schwarzwurzel","Gemüse",{"v":101.99265153858951,"d":"102"},146,20,null,null,2.3,null,1.6,3.85,null,0.41]
[null,"Sellerie, Bund-","Gemüse",{"v":305.97795461576857,"d":"306"},147,12,null,null,2.7,null,1.26,5.66,null,0.33]
[null,"Sellerie, Knollen-","Gemüse",{"v":319.75296384786935,"d":"320"},148,10,null,null,2.2,null,1.49,5.42,null,0.25]
[null,"Sellerie, Stangen-","Gemüse",{"v":273.5433335689185,"d":"274"},149,12,null,null,2.5,null,1.15,5.42,null,0.33]
[null,"Spargel 1. Standjahr","Gemüse",0,150,10,null,null,2.6,null,0.82,2.4,null,0.18]
[null,"Spargel 2. Standjahr","Gemüse",{"v":10.199265153858953,"d":"10"},151,10,null,null,2.6,null,0.82,2.4,null,0.18]
[null,"Spargel 3. Standjahr","Gemüse",{"v":40.79706061543581,"d":"41"},152,10,null,null,2.6,null,0.82,2.4,null,0.18]
[null,"Spargel ab 4. Standjahr","Gemüse",{"v":48.680012745184705,"d":"49"},153,10,null,null,2.6,null,0.82,2.4,null,0.18]
[null,"Spinat, Blatt-, FM, Baby","Gemüse",{"v":50.99632576929476,"d":"51"},154,8,null,null,4.5,null,1.15,6.62,null,0.83]
[null,"Spinat, Blatt-, Standard","Gemüse",{"v":145.1056663476075,"d":"145"},155,8,null,null,3.6,null,1.15,6.62,null,0.83]
[null,"Spinat, Hack, Standard","Gemüse",{"v":152.98897730788428,"d":"153"},156,8,null,null,3.6,null,1.15,6.62,null,0.83]
[null,"Stangenbohne, Standard","Gemüse",{"v":69.52380952380952,"d":"70"},157,8,null,null,2.5,null,0.92,3.01,null,0.41]
[null,"Teltower Rübchen (Herbstanbau)","Gemüse",{"v":76.49448865394214,"d":"76"},158,20,null,null,4.5,null,2.41,6.62,null,0.83]
[null,"Weißkohl, Frischmarkt","Gemüse",{"v":530.5334605303063,"d":"531"},159,8,null,null,2,null,0.73,3.13,null,0.25]
[null,"Weißkohl, Industrie","Gemüse",{"v":509.9632576929476,"d":"510"},160,8,null,null,2,null,0.73,3.13,null,0.25]
[null,"Wirsing","Gemüse",{"v":214.01343105316377,"d":"214"},161,10,null,null,3.5,null,1.15,3.85,null,0.25]
[null,"Zucchini","Gemüse",{"v":297.86846919921976,"d":"298"},162,5,null,null,1.6,null,0.6,2.05,null,0.27]
[null,"Zuckermais","Gemüse",{"v":84.48389893562036,"d":"84"},163,22,null,null,3.5,null,1.6,2.65,null,0.58]
[null,"Zwiebel, Bund-","Gemüse",{"v":196.4107444279858,"d":"196"},164,10,null,null,2,null,0.6,2.41,null,0.3]
[null,"Zwiebel, Trocken","Gemüse",{"v":307.74932777943826,"d":"308"},165,14,null,null,1.8,null,0.8,2.41,null,0.25]
[null,"Aubergine, Freiland","Gemüse",{"v":254.9816288464738,"d":"255"},166,10,null,null,2,null,0.55,3.01,null,0.25]
[null,"Aubergine, Folientunnel/Unter Glas (Bodenkulturen)","Gemüse",{"v":764.9448865394214,"d":"765"},167,10,null,null,2,null,0.55,3.01,null,0.25]
[null,"Gurke, Folientunnel/Unter Glas (Bodenkulturen)","Gemüse",{"v":1361.947901437222,"d":"1362"},168,4,null,null,1.6,null,0.9,2.79,null,0.4]
[null,"Paprika, Freiland","Gemüse",{"v":254.9816288464738,"d":"255"},169,10,null,null,2.3,null,0.57,2.65,null,0.2]
[null,"Paprika, Folientunnel/Unter Glas (Bodenkulturen)","Gemüse",{"v":779.2990323983473,"d":"779"},170,10,null,null,2.3,null,0.57,2.65,null,0.2]
[null,"Tomate, Freiland","Gemüse",{"v":229.48346596182643,"d":"229"},171,6,null,null,1.6,null,0.46,3.85,null,0.2]
[null,"Tomate, Folientunnel/Unter Glas (Bodenkulturen)","Gemüse",{"v":1823.736369901226,"d":"1824"},172,6,null,null,2,null,0.71,3.79,null,0.5]
["Obst = konv *o.6","Kernobst","Obst",132,173,15,null,null,{"v":1.1,"d":"1.10"},null,{"v":0.3,"d":"0.30"},{"v":2,"d":"2.00"}]
[null,"Steinobst","Obst",102,174,16,null,null,{"v":18,"d":"18.00"},null,{"v":0.6,"d":"0.60"},{"v":3,"d":"3.00"},null,{"v":0.2,"d":"0.20"}]
[null,"Erdbeere","Obst",84,175,14,null,null,{"v":17,"d":"17.00"},null,{"v":0.5,"d":"0.50"},{"v":2.8,"d":"2.80"},null,{"v":0.2,"d":"0.20"}]
[null,"Süßkirschen","Obst",108,176,16,null,null,{"v":1.8,"d":"1.80"},null,{"v":0.6,"d":"0.60"},{"v":3,"d":"3.00"}]
[null,"Zwetschen","Obst",90,177,16,null,null,{"v":1.8,"d":"1.80"},null,{"v":0.6,"d":"0.60"},{"v":3,"d":"3.00"}]
[null,"Schwarze Johannisbeeren (z.B. Ben Alder)","Obst",60,178,15,null,null,{"v":3,"d":"3.00"},null,{"v":0.5,"d":"0.50"},{"v":3.5,"d":"3.50"}]
[null,"Rote Johannisbeeren (z.B. Rovada)","Obst",90,179,15,null,null,{"v":3,"d":"3.00"},null,{"v":0.5,"d":"0.50"},{"v":3.5,"d":"3.50"}]
[null,"Sommerhimbeere Glen Ample","Obst",48,180,16,null,null,{"v":2,"d":"2.00"},null,{"v":0.4,"d":"0.40"},{"v":2,"d":"2.00"}]
[null,"Sommerhimbeere Tulameen","Obst",48,181,16,null,null,{"v":2,"d":"2.00"},null,{"v":0.4,"d":"0.40"},{"v":2,"d":"2.00"}]
[null,"Herbsthimbeeren","Obst",48,182,16,null,null,{"v":2,"d":"2.00"},null,{"v":0.4,"d":"0.40"},{"v":2,"d":"2.00"}]
[null,"Stachelbeeren","Obst",72,183,15,null,null,{"v":3,"d":"3.00"},null,{"v":0.3,"d":"0.30"},{"v":3.5,"d":"3.50"}]
[null,"Brombeeren","Obst",72,184,16,null,null,{"v":2,"d":"2.00"},null,{"v":0.5,"d":"0.50"},{"v":2,"d":"2.00"}]
[null,"Anis, Samen","Gewürz",13,185,{"$nulls":3},2.65,null,1.15,1.55,null,0.38]
[null,"Arzneifenchel, Samen","Gewürz",25,186,{"$nulls":3},2.78,null,1.26,2.58,null,0.43]
[null,"Bärlauch, Blätter","Gewürz",20,187,{"$nulls":3},0.5,null,0.75,0.4,null,0.2]
[null,"Basilikum, Kraut b. Blühbeginn","Gewürz",150,188,{"$nulls":3},0.43,null,0.08,0.67,null,0.07]
[null,"Bergbohnenkraut, Blühendes Kraut","Gewürz",135,189,{"$nulls":3},0.65,null,0.16,0.74,null,0.15]
[null,"Bohnenkraut, einjährig, Blühendes Kraut","Gewürz",450,190,{"$nulls":3},0.32,null,0.12,0.49,null,0.07]
[null,"Borretsch, Blühendes Kraut","Gewürz",300,191,{"$nulls":3},0.2,null,0.05,0.44,null,0.02]
[null,"Brunnenkresse 3), Kraut","Gewürz",150,192,{"$nulls":3},0.3,null,0.092,0.71,null,0.04]
[null,"Dost, Oregano, Blühendes Kraut","Gewürz",120,193,{"$nulls":3},0.5,null,0.14,0.52,null,0.17]
[null,"Estragon, Deutscher, Nicht blühendes Kraut","Gewürz",150,194,{"$nulls":3},0.55,null,0.16,0.88,null,0.04]
[null,"Gartenkresse, Kraut","Gewürz",150,195,{"$nulls":3},0.53,null,0.26,0.75,null,0.05]
[null,"Gartenpimpinelle, Kraut","Gewürz",100,196,{"$nulls":3},0.41,null,0.1,0.7,null,0.04]
[null,"Ingwer, Rhizom","Gewürz",420,197,{"$nulls":3},0.2,null,0.07,0.63,null,0.05]
[null,"Kamille, Blühhorizont, Blühhorizont","Gewürz",45,198,{"$nulls":3},0.42,null,0.21,0.54,null,0.01]
[null,"Kerbel, Kraut","Gewürz",190,199,{"$nulls":3},0.41,null,0.1,0.7,null,0.04]
[null,"Koriander, Kraut, Kraut für Blattdroge","Gewürz",120,200,{"$nulls":3},0.51,null,0.14,0.82,null,0.08]
[null,"Koriander, Samen","Gewürz",20,201,{"$nulls":3},1.93,null,1.1,1.55,null,0.38]
[null,"Knoblauch, Zwiebel ganz","Gewürz",80,202,{"$nulls":3},0.48,null,0.17,0.35,null,0.03]
[null,"Kümmel, einjährig, Samen","Gewürz",20,203,{"$nulls":3},2.65,null,1.15,1.55,null,0.38]
[null,"Liebstöckel, Nicht blühendes Kraut","Gewürz",550,204,{"$nulls":3},0.37,null,0.11,0.5,null,0.06]
[null,"Majoran, Kraut bei Blühbeginn","Gewürz",200,205,{"$nulls":3},0.48,null,0.14,0.59,null,0.07]
[null,"Meerrettich, Wurzeln","Gewürz",200,206,{"$nulls":3},0.69,null,0.22,0.72,null,0.07]
[null,"Rosmarin 3), Nicht blühendes Kraut","Gewürz",80,207,{"$nulls":3},0.58,null,0.09,0.5,null,0.3]
[null,"Salbei (Salvia officinalis), Nicht blühendes Kraut","Gewürz",350,208,{"$nulls":3},0.49,null,0.11,0.62,null,0.13]
[null,"Schnittlauch, bis 1. Schnitt, Kraut, bis 1. Schnitt","Gewürz",300,209,{"$nulls":3},0.5,null,0.137,0.52,null,0.07]
[null,"Schnittlauch, nach 1. Schnitt, Kraut, nach 1 Schnitt","Gewürz",200,210,{"$nulls":3},0.5,null,0.137,0.52,null,0.07]
[null,"Senf, Brauner, Samen","Gewürz",9,211,{"$nulls":3},3.05,null,1.53,0.67,null,0.34]
[null,"Senf, Gelber/Weißer, Samen","Gewürz",15,212,{"$nulls":3},5,null,1.77,0.93,null,0.3]
[null,"Senf, Schwarzer, Samen","Gewürz",12,213,{"$nulls":3},3.23,null,1.81,0.65,null,0.35]
[null,"Thymian, Blühendes Kraut","Gewürz",150,214,{"$nulls":3},0.41,null,0.12,0.77,null,0.08]
[null,"Zitronenmelisse, Nicht blühendes Kraut","Gewürz",300,215,{"$nulls":3},0.49,null,0.14,0.76,null,0.09]
[{"$nulls":4},216]
[{"$nulls":4},217]
[{"$nulls":4},218]
[null,"Eigene Kulturen anlegen",null,null,219]
[{"$nulls":4},220]
[{"$nulls":4},221]
[{"$nulls":4},222]
[{"$nulls":4},223]
[{"$nulls":4},224]
[{"$nulls":4},225]
[{"$nulls":4},226]
[{"$nulls":4},227]
[{"$nulls":4},228]

{"sheet":"Wirtschaftsdünger Tabellen","index":19,"n_rows":93,"n_cols":20,"rows_kept":93,"merged":[[1,6,1,15],[3,0,7,0],[8,0,15,0],[16,0,21,0],[22,0,39,0],[40,0,41,0],[42,0,62,0],[73,0,76,0],[73,4,76,4],[77,0,89,0],[90,1,91,1],[92,1,93,1]]}
[null,"Düngemittel",null,"Einheit","TS","Mindestwirksamkeit","C","Nges.","NH4-N","P2O5","K2O","Ca","MgO","S","Na","Cl","Anteil tierischer N","Aufbringungs-\nverluste","Gärrück-\nstandsfaktor","Verwendung"]
[null,"Düngung BW (NSV/SSB)","Code",null,"%","%","Nährstoffgehalt [kg/t oder kg/m³]",{"$nulls":9},"[%]","[%]","[m³/t]","Bitte wählen:"]
[null,"Bitte wählen:",0,null,0,0,0,0,0,0,0,0,0,{"v":0,"d":"0.0"},0,0,0,0,0,"Düngung"]
["Stroh","Getreidestroh",1,"t",86,0,null,{"v":5,"d":"5.0"},{"v":0,"d":"0.0"},{"v":3,"d":"3.0"},{"v":17,"d":"17.0"},null,{"v":2,"d":"2.0"},{"$nulls":3},0,0,0.58,"Biogasanlage"]
[null,"Rapsstroh",2,"t",86,0,null,{"v":7,"d":"7.0"},{"v":0,"d":"0.0"},{"v":4,"d":"4.0"},23.5,null,4.1,{"$nulls":3},0,0,0.58,"Sonstiges"]
[null,"Körnermaisstroh",3,"t",86,0,null,{"v":9,"d":"9.0"},{"v":0,"d":"0.0"},{"v":2,"d":"2.0"},{"v":20,"d":"20.0"},null,{"v":4,"d":"4.0"},{"$nulls":3},0,0,0.58,"Verkauf"]
[null,"Hanfstroh",4,"t",86,0,null,{"v":4,"d":"4.0"},{"v":0,"d":"0.0"},{"v":3,"d":"3.0"},{"v":8,"d":"8.0"},null,3.6,{"$nulls":3},0,0,0.58]
[null,"Saatmaisstroh",5,"t",86,0,null,14.4,{"v":0,"d":"0.0"},{"v":2,"d":"2.0"},{"v":20,"d":"20.0"},null,2.7,{"$nulls":3},0,0,0.58]
["Festmist","Festmist Rinder, Grünland",6,"t",25,25,null,7.3,0.6,4.5,12.8,null,1.5,{"$nulls":3},91,14.3,0.88]
[null,"Festmist Rinder, Acker",7,"t",25,25,null,6.5,0.6,{"v":4,"d":"4.0"},{"v":11,"d":"11.0"},null,1.5,{"$nulls":3},90,14.3,0.88]
[null,"Festmist Schweine Standard",8,"t",25,30,null,9.8,0.8,8.2,6.9,null,2.5,{"$nulls":3},93,14.3,0.93]
[null,"Festmist Schweine N/P-reduz.",9,"t",25,30,null,8.6,0.7,6.8,6.7,null,2.5,{"$nulls":3},93,14.3,0.93]
[null,"Festmist Schafe",10,"t",25,25,null,5.5,0.5,3.2,13.3,null,{"v":2,"d":"2.0"},{"$nulls":3},79,9.1,0.89]
[null,"Festmist Pferde",11,"t",25,25,null,{"v":5,"d":"5.0"},0.5,3.8,12.6,null,{"v":1,"d":"1.0"},{"$nulls":3},68,9.1,0.89]
[null,"Festmist Ziegen",12,"t",25,25,null,5.2,0.5,3.6,12.8,null,{"v":2,"d":"2.0"},{"$nulls":3},79,9.1,0.89]
[null,"Kaninchenfestmist",13,"t",30,30,null,{"v":18,"d":"18.0"},"N. N.",{"v":19,"d":"19.0"},{"v":45,"d":"45.0"},null,1.5,{"$nulls":3},68,9.1,0.89]
["Geflügel-\nmist/-kot","Hühnermist (Einstreu)",14,"t",50,30,null,{"v":22,"d":"22.0"},8.9,{"v":18,"d":"18.0"},{"v":16,"d":"16.0"},null,{"v":6,"d":"6.0"},{"$nulls":3},100,16.7,0.79]
[null,"Hühnertrockenkot",15,"t",50,60,null,21.3,{"v":9,"d":"9.0"},{"v":18,"d":"18.0"},{"v":15,"d":"15.0"},null,{"v":5,"d":"5.0"},{"$nulls":3},100,16.7,0.79]
[null,"Putenhähne Putenmist (Einstreu)",16,"t",55,30,null,22.6,{"v":6,"d":"6.0"},{"v":22,"d":"22.0"},{"v":22,"d":"22.0"},null,{"v":4,"d":"4.0"},{"$nulls":3},93,16.7,0.79]
[null,"Putenhähne Putenmist (Einstreu) N/P-reduz.",17,"t",55,30,null,21.9,{"v":4,"d":"4.0"},{"v":14,"d":"14.0"},{"v":25,"d":"25.0"},null,{"v":4,"d":"4.0"},{"$nulls":3},93,16.7,0.79]
[null,"Putenhennen Putenmist (Einstreu)",18,"t",55,30,null,17.6,4.7,17.6,{"v":16,"d":"16.0"},null,{"v":4,"d":"4.0"},{"$nulls":3},95,16.7,0.79]
[null,"Putenhennen Putenmist (Einstreu) N/P-reduz.",19,"t",55,30,null,16.7,4.6,{"v":10,"d":"10.0"},{"v":16,"d":"16.0"},null,{"v":4,"d":"4.0"},{"$nulls":3},95,16.7,0.79]
["Gülle","Gülle Jungvieh Grünland, 7,5% TS",20,"m³",7.5,50,null,{"v":3,"d":"3.0"},1.7,1.2,4.7,null,0.8,{"$nulls":3},100,17.6,0.96]
[null,"Gülle Jungvieh Grünland, 10% TS",21,"m³",10,50,null,{"v":4,"d":"4.0"},2.2,1.6,6.3,null,{"v":1.07,"d":"1.1"},{"$nulls":3},100,17.6,0.96]
[null,"Gülle Jungvieh Ackerland, 7,5% TS",22,"m³",7.5,50,null,2.4,1.3,{"v":1,"d":"1.0"},{"v":4,"d":"4.0"},null,0.8,{"$nulls":3},100,17.6,0.96]
[null,"Gülle Jungvieh Ackerland, 10% TS",23,"m³",10,50,null,3.2,1.8,1.3,5.3,null,{"v":1.07,"d":"1.1"},{"$nulls":3},100,17.6,0.96]
[null,"Gülle Milchvieh Grünland, 7,5% TS",24,"m³",7.5,50,null,3.4,1.9,1.4,5.3,null,0.7,{"$nulls":3},100,17.6,0.96]
[null,"Gülle Milchvieh Grünland, 10% TS",25,"m³",10,50,null,4.5,2.5,1.8,7.1,null,{"v":0.93,"d":"0.9"},{"$nulls":3},100,17.6,0.96]
[null,"Gülle Milchvieh Ackerland, 7,5% TS",26,"m³",7.5,50,null,{"v":3,"d":"3.0"},1.7,1.3,4.3,null,0.7,{"$nulls":3},100,17.6,0.96]
[null,"Gülle Milchvieh Ackerland, 10% TS",27,"m³",10,50,null,4.1,2.3,1.7,5.8,null,{"v":0.93,"d":"0.9"},{"$nulls":3},100,17.6,0.96]
[null,"Gülle Bullenmast, 7,5% TS",28,"m³",7.5,50,null,3.6,{"v":2,"d":"2.0"},1.5,3.7,null,0.7,{"$nulls":3},100,17.6,0.96]
[null,"Gülle Bullenmast, 10% TS",29,"m³",10,50,null,4.7,2.6,2.1,4.9,null,{"v":0.93,"d":"0.9"},{"$nulls":3},100,17.6,0.96]
[null,"Gülle Schweinemast Standard, 5% TS",30,"m³",5,60,null,3.7,2.6,2.4,2.5,null,{"v":0.67,"d":"0.7"},{"$nulls":3},100,12.5,0.97]
[null,"Gülle Schweinemast Standard, 7,5% TS",31,"m³",7.5,60,1.2,5.6,3.9,3.7,3.7,null,{"v":1,"d":"1.0"},{"$nulls":3},100,12.5,0.97]
[null,"Gülle Schweinemast N/P-reduziert, 5% TS",32,"m³",5,60,1.2,3.3,2.3,{"v":2,"d":"2.0"},2.4,null,{"v":0.67,"d":"0.7"},{"$nulls":3},100,12.5,0.97]
[null,"Gülle Schweinemast N/P-reduziert, 7,5% TS",33,"m³",7.5,60,1.49,4.9,3.4,{"v":3,"d":"3.0"},3.6,null,{"v":1,"d":"1.0"},{"$nulls":3},100,12.5,0.97]
[null,"Gülle Schweinezucht Standard, 5% TS",34,"m³",5,60,1.41,5.2,3.6,3.8,3.6,null,{"v":0.67,"d":"0.7"},{"$nulls":3},100,12.5,0.97]
[null,"Gülle Schweinezucht Standard, 7,5% TS",35,"m³",7.5,60,0.454,7.9,5.5,5.7,5.4,null,{"v":1,"d":"1.0"},{"$nulls":3},100,12.5,0.97]
[null,"Gülle Schweinezucht N/P-reduziert, 5% TS",36,"m³",5,60,0.396,4.4,3.1,2.8,2.9,null,{"v":0.67,"d":"0.7"},{"$nulls":3},100,12.5,0.97]
[null,"Gülle Schweinezucht N/P-reduziert, 7,5% TS",37,"m³",7.5,60,0.587,6.7,4.7,4.2,4.4,null,{"v":1,"d":"1.0"},{"$nulls":3},100,12.5,0.97]
["Jauche","Jauche Rinder",38,"m³",1.5,90,0.5940000000000001,3.1,2.8,0.3,9.1,null,0.5,{"$nulls":3},100,14.3,0.99]
[null,"Jauche Schweine Standard",39,"m³",1.5,90,0.571,2.6,2.5,0.5,4.8,null,0.2,{"$nulls":3},100,14.3,0.99]
["organ-\nische und organisch-miner-\nalische Dünge-\nmittel","Pilzsubstrat",40,"t",30,10,null,8.2,8.2,4.7,{"v":6,"d":"6.0"},null,{"v":3,"d":"3.0"},{"$nulls":3},0,0,0.7]
[null,"Grünschnittkomposte",41,"t",60,3,null,7.1,7.1,3.1,6.1,null,{"v":5,"d":"5.0"},{"$nulls":3},0,0,0.7]
[null,"Bioabfallkomposte",42,"t",65,5,null,9.8,9.8,5.1,{"v":8,"d":"8.0"},null,{"v":8,"d":"8.0"},{"$nulls":4},0,0.7]
[null,"Hornmehl",43,"t","N. N.",50,null,{"v":149,"d":"149.0"},3.5,6.4,2.6,null,1.5,23.6,null,null,0,0,0.8]
[null,"Horngrieß",44,"t","N. N.",50,null,{"v":149,"d":"149.0"},3.5,6.4,2.6,null,1.5,23.6,null,null,0,0,0.8]
[null,"Horndünger",45,"t",{"v":89.6,"d":"90"},50,null,{"v":149,"d":"149.0"},3.5,6.4,2.6,null,1.5,23.6,null,null,0,0,0.8]
[null,"Haarmehl",46,"t",{"v":94.2,"d":"94"},50,null,{"v":141,"d":"141.0"},5.1,{"v":8.899999999999999,"d":"8.9"},2.4,null,1.3,{"$nulls":3},0,0,0.8]
[null,"Ackerbohnen (Korn)",47,"t",{"v":87.1,"d":"87"},35,null,45.4,{"v":0,"d":"0.0"},14.9,{"v":16.700000000000003,"d":"16.7"},null,3.2,{"$nulls":3},0,0,0.8]
[null,"Erbsen (Korn)",48,"t",{"v":86.5,"d":"87"},35,null,39.6,{"v":0,"d":"0.0"},{"v":11.200000000000001,"d":"11.2"},14.2,null,{"v":2.1999999999999997,"d":"2.2"},{"$nulls":3},0,0,0.8]
[null,"Lupinen (Korn)",49,"t",{"v":90.7,"d":"91"},35,null,{"v":58.699999999999996,"d":"58.7"},{"v":0,"d":"0.0"},10.8,{"v":10,"d":"10.0"},null,{"v":3,"d":"3.0"},{"$nulls":3},0,0,0.8]
[null,"Rapsexktraktionsschrot",50,"t",{"v":89.1,"d":"89"},50,null,{"v":59.400000000000006,"d":"59.4"},{"v":0,"d":"0.0"},{"v":28.000000000000004,"d":"28.0"},{"v":16.700000000000003,"d":"16.7"},null,9.2,{"$nulls":3},0,0,0.8]
[null,"Rizinusschrot",51,"t",{"v":90.7,"d":"91"},50,null,{"v":57.099999999999994,"d":"57.1"},{"v":0,"d":"0.0"},22.5,{"v":13.900000000000002,"d":"13.9"},null,{"v":6.800000000000001,"d":"6.8"},{"$nulls":3},0,0,0.8]
[null,"Maltaflor",52,"t",{"v":91.9,"d":"92"},50,null,{"v":44.699999999999996,"d":"44.7"},{"v":1.7999999999999998,"d":"1.8"},12.8,51.8,null,3.8,{"$nulls":3},0,0,0.8]
[null,"Phyto – Perls ",53,"t","N. N.",30,null,{"v":70,"d":"70.0"},{"v":0,"d":"0.0"},{"v":55,"d":"55.0"},{"v":10,"d":"10.0"},null,{"v":0,"d":"0.0"},{"$nulls":3},0,0,0.8]
[null,"Vinasse Zuckerrüben",54,"t",{"v":65.1,"d":"65"},40,null,{"v":52.300000000000004,"d":"52.3"},{"v":7.199999999999999,"d":"7.2"},4.8,{"v":88,"d":"88.0"},null,2.5,{"$nulls":3},0,0,0.8]
[null,"Traubentrester",55,"t",41,10,null,{"v":74,"d":"74.0"},{"v":0,"d":"0.0"},2.3,{"v":7.800000000000001,"d":"7.8"},null,{"v":5,"d":"5.0"},{"$nulls":3},0,0,0.8]
[null,"Hopfenhäcksel",56,"t",27,5,null,6.9,{"v":0,"d":"0.0"},1.3,5.9,null,2.1,{"$nulls":3},0,0,0.8]
[null,"Blutmehl",57,"t",{"v":94.2,"d":"94"},50,null,{"v":142,"d":"142.0"},8.5,9.6,{"v":6,"d":"6.0"},null,{"v":2,"d":"2.0"},{"$nulls":3},0,0,0.8]
[null,"Biosol",58,"t",94,40,null,{"v":71,"d":"71.0"},{"v":2.8000000000000003,"d":"2.8"},{"v":11.200000000000001,"d":"11.2"},7.7,null,{"v":2.8000000000000003,"d":"2.8"},{"$nulls":3},0,0,0.8]
[null,"Fleischknochenmehl",59,"t",{"v":96.2,"d":"96"},50,null,null,1.1,{"v":65,"d":"65.0"},{"v":3,"d":"3.0"},null,4.8,{"$nulls":3},0,0,0.8]
[null,"Sägemehl",60,"t",70,0,null,0.5,{"v":0,"d":"0.0"},0.2,0.5,null,0.4,{"$nulls":3},0,0,0.58]
[null,null,61]
[null,null,62]
[null,"EIGENE Wirtschaftsdünger anlegen",63]
[null,"Sonstiger org. Dünger",64,"*",{"$nulls":13},0,0.7]
[null,"Bodenhilfsstoff",65,"*",{"$nulls":13},0,0.7]
[null,"Kultursubstrat",66,"*",{"$nulls":13},0,0.4]
[null,"Pflanzenhilfsmittel",67,"*",{"$nulls":13},0,0.7]
[null,"Abfälle zur Beseitigung",68,"*",{"$nulls":13},0,0.7]
[null,"Schlempe",69]
[null,"Kartoffelfruchtwassserkonzentrat PPL",70]
["Gärrück-\nstände/\nKlär-\nschlamm","Biogasanlagengärrückstand flüssig",71,"m³","*",50,0.44699999999999995,6,3.6,{"v":3,"d":"3.0"},{"v":5,"d":"5.0"},null,1.5,{"$nulls":4},10.5,0.8]
[null,"Biogasanlagengärrückstand fest",72,"t",null,30,0.7,6,2.4,{"v":5,"d":"5.0"},5.5,null,1.5,{"$nulls":4},10.5,0.8]
[null,"Klärschlamm flüssig (< 15 % TM)",73,"m³",null,30,0.523,1.8,0.2,1.6,0.2,null,0.5,{"$nulls":3},0,0,0.8]
[null,"Klärschlamm fest (≥ 15 % TM)",74,"t",null,25,0.74,{"$nulls":9},0,0,0.8]
["Wirt-\nschafts-\ndünger mit eigenen Analyse-\nergeb-\nnissen","Festmist Rind By5",75,{"$nulls":4},6.8,null,6.2,6.9]
[null,"Festmist Schaf",76]
[null,"BiogasGärrest By5",77,"m³",{"$nulls":3},4.9,null,1.3,7.3]
[null,"KartoffelSirup By5",78,"t ",{"$nulls":3},22,null,20,80]
[null,"Bioilsa ",79,"t",{"$nulls":3},110,null,10,2]
[null,"Kompost Grüngut",80,"m³",{"$nulls":3},5.3,null,2.06,4.05]
[null,"Kompost Grüngut eigen By4",81,"m³",{"$nulls":3},4.95,null,2.5,6.8]
[null,"Landschaftspflegematerial",82,"m³",{"$nulls":3},0.45,null,1.1,3.3]
[null,"Bio-Agenasol",83,"t",{"$nulls":3},55,null,25,15,null,6]
[null,null,84]
[null,null,85]
[null,null,86]
[null,null,87]
[null,"zurück zur Dateneingabe Aufnahme"]
[]
[null,"zurück zur Dateneingabe Abgabe"]

{"sheet":"SaatgutMineraldünger","index":20,"n_rows":199,"n_cols":15,"rows_kept":199,"merged":[[42,3,42,14],[44,4,44,13]]}
["Saatgut/Pflanzgut","Code","TKG","KF","C","N","NH4-N","P2O5","K2O","Ca","Mg","S","Na","Cl"]
[null,null,"[g]","[%]","[kg/t]","[kg/t]",null,"[kg/t]","[kg/t]","[kg/t]","[kg/t]","[kg/t]","[kg/t]","[kg/t]"]
["Bitte wählen:",0,0]
["Winterweizen 12 % RP (C)",1,{"$nulls":3},18.1,null,{"v":8,"d":"8.0"},{"v":6,"d":"6.0"},null,2]
["Winterweizen 14 % RP (A, B)",2,{"$nulls":3},{"v":21.099999999999998,"d":"21.1"},null,{"v":8,"d":"8.0"},{"v":6,"d":"6.0"},null,2]
["Winterweizen  16 % RP (E)",3,{"$nulls":3},24.1,null,{"v":8,"d":"8.0"},{"v":6,"d":"6.0"},null,2]
["Brauweizen",4,{"$nulls":3},18.1,null,{"v":8,"d":"8.0"},{"v":6,"d":"6.0"},null,2]
["Sommerweizen",5,{"$nulls":3},{"v":22.599999999999998,"d":"22.6"},null,{"v":8,"d":"8.0"},{"v":6,"d":"6.0"},null,2]
["Winterfuttergerste",6,{"$nulls":3},17.2,null,{"v":8,"d":"8.0"},{"v":6,"d":"6.0"},null,2]
["Winterbraugerste",7,{"$nulls":3},14.5,null,{"v":8,"d":"8.0"},{"v":6,"d":"6.0"},null,2]
["Sommerfuttergerste",8,{"$nulls":3},17.2,null,{"v":8,"d":"8.0"},{"v":6,"d":"6.0"},null,2]
["Sommerbraugerste",9,{"$nulls":3},14.5,null,{"v":8,"d":"8.0"},{"v":6,"d":"6.0"},null,2]
["Winterroggen",10,{"$nulls":3},15.8,null,{"v":8,"d":"8.0"},{"v":6,"d":"6.0"},null,2]
["Sommerroggen",11,{"$nulls":3},15.8,null,{"v":8,"d":"8.0"},{"v":6,"d":"6.0"},null,2]
["Hafer",12,{"$nulls":3},15.8,null,{"v":8,"d":"8.0"},{"v":6,"d":"6.0"},null,2]
["Wintertriticale",13,{"$nulls":3},17.2,null,{"v":8,"d":"8.0"},{"v":6,"d":"6.0"},null,2]
["Dinkel mit Vesen",14,{"$nulls":3},{"v":16,"d":"16.0"},null,{"v":8,"d":"8.0"},{"v":8,"d":"8.0"},null,2]
["Hartweizen \n(Durumweizen) 15 % RP",15,{"$nulls":3},{"v":22.599999999999998,"d":"22.6"},null,{"v":8,"d":"8.0"},{"v":6,"d":"6.0"},null,5]
["Raps",16]
["Körnersenf",17]
["Sonnenblumen",18]
["Öllein",19]
["Mais",20,{"$nulls":3},14.5,null,{"v":8,"d":"8.0"},{"v":5,"d":"5.0"}]
["Kartoffel",21,{"$nulls":3},3.5,null,{"v":1.4000000000000001,"d":"1.4"},{"v":6,"d":"6.0"}]
["Ackerbohnen",22,{"$nulls":3},{"v":41,"d":"41.0"},null,{"v":12,"d":"12.0"},{"v":14,"d":"14.0"},null,2]
["Buschbohnen",23,{"$nulls":3},{"v":41,"d":"41.0"},null,{"v":12,"d":"12.0"},{"v":14,"d":"14.0"},null,0.4]
["Erbsen",24,{"$nulls":3},{"v":36,"d":"36.0"},null,{"v":11,"d":"11.0"},{"v":14,"d":"14.0"},null,2]
["Sojabohnen",25,{"$nulls":3},{"v":44,"d":"44.0"},null,{"v":15,"d":"15.0"},19.4,null,3]
["Süßlupinen",26,{"$nulls":3},{"v":44.800000000000004,"d":"44.8"},null,10.2,{"v":16.599999999999998,"d":"16.6"},null,2]
["Wicken",27,{"$nulls":3},{"v":36,"d":"36.0"},null,{"v":13.899999999999999,"d":"13.9"},{"v":16.599999999999998,"d":"16.6"},null,2]
["Linsen",28,{"$nulls":3},35.8,null,{"v":11,"d":"11.0"},{"v":14,"d":"14.0"},null,2]
["Zuckerrübe",29]
["Silphie",30]
["Zwischenfrucht",31]
["Eigenes Saatgut/Pflanzgut anlegen",32]
["Substrat (Bio Potgrond)",33,{"$nulls":3},0.952,null,0.833,1.25,null,0.357]
[null,34]
[null,35]
[null,36]
[null,37]
[null,38]
[null,39]
["zurück zur Dateneingabe"]
["mineralische Düngemittel","Code","Quelle","~ Preis/dt","C","Ngesamt","NH4-N","P2O5","K2O","Ca","MgO","S","Na","Cl","Quelle"]
[{"$nulls":3},"[€]","Nährstoffgehalt [kg/t oder kg/m³]"]
["Bitte wählen",0]
["A"]
["AHL 25 (= Piasan)",40,"LWK NRW",null,null,250,90,0,0,0,0,60]
["AHL 28",41,"Düngung BW",null,null,280,70,{"$f":"K49*10","v":0},0,0,0,0]
["AHL 32",42,{"$nulls":3},320,80,0,0,0,0,0]
["Alzon (flüssig) (+6S)",43,"Tabelle Hanna",null,null,250,0,0,0,0,0,6]
["Alzon 46 ",44,"Baywa",null,null,460,0,0,0,0,0,0]
["AS-Düngerlösung (= Lenasol)",45,"LWK NRW",null,null,150,86,0,0,0,0,60]
["ASL 5 (+ 6S)",46,"GNS",null,null,500,0,0,0,0,0,60]
["ASL 14 + Harnstoff",47,{"$nulls":3},140,80,{"$f":"K55*10","v":0},0,0,0,90]
["ASL 10",48,{"$nulls":3},80,80,{"$f":"K56*10","v":0},0,0,0,90]
["ASS 26 (+13S) - Ammonsulfatsalpeter",49,"Düngung BW",null,null,260,190,{"$f":"K57*10","v":0},0,0,0,130]
["ATS - Ammoniumthiosulfat",50,"LWK NRW",null,null,120,0,0,0,0,0,26]
["Artifert NP 7-18 (8,8%N, 20%P)",51,{"$nulls":3},88,0,200,0,0,0,0]
["B",52]
["Basfoliar Top-N SL (flüssig)",53,"CompoExpert",null,null,280,0,0,0,0,0,0]
["Blauwasser ",54,{"$nulls":3},0,0,0,35,0,5,38]
["Bor (flüssig)",55,{"$nulls":3},0,0,0,0,0,0,0]
["Branntkalk ",56,{"$nulls":3},0,0,0,0,900,0,0]
["C ",57]
["CarboKalk",58,{"$nulls":3},4,0,14,0,190,0,0]
["Cultan 15",59,{"$nulls":3},150,150,0,0,0,0,0]
["D ",60]
["DAP 18+46 - Diammonphosphat",61,"Düngung BW",null,null,180,180,460,0,0,0,0]
["DAP 18+46 (+2,5S) - Diammonphosphat",62,{"$nulls":3},180,180,460,0,0,0,25]
["Dolo Kalk",63,{"$nulls":3},0,0,0,0,800,0,0]
["Dolophos 15",64,"LWK NRW",null,null,0,0,150,0,0,150,0]
["Dünger N Plus",65,"entspricht KAS ",null,null,240,{"$nulls":5},60]
["E",66]
["Entec FL",67,{"$nulls":3},210,0,0,0,0,0,0]
["Entec spezial 12+12+17 (+2Mg+8S)",68,{"$nulls":3},120,72,120,170,0,20,80]
["Entec perfekt 14+7+17 (+2Mg)",69,"Tabelle Hanna",null,null,140,0,70,170,0,20,110]
["Entec perfect 15+5+20",70,"Düngung BW",null,null,150,80,50,200,0,20,80]
["Entec 20+8+10",71,{"$nulls":3},200,114,80,100,0,20,30]
["Entec 20+10+10",72,{"$nulls":3},200,114,100,100,0,0,30]
["Entec 24+8+7 (+2S)",73,{"$nulls":3},240,133,80,70,0,0,20]
["Entec 25+15",74,"Düngung BW",null,null,250,140,150,0,0,0,0]
["Entec 26 (+13S)",75,"Düngung BW",null,null,260,185,{"$f":"K83*10","v":0},0,0,0,130]
["EPSO Top (Bittersalz)",76,{"$nulls":3},0,0,0,0,0,160,130]
["H",77]
["Hakaphos Basis 3",78,"CompoExpert",null,null,30,0,150,360,0,40,0]
["Harnstoff (46)",79,"Düngung BW",null,null,460,0,{"$f":"K87*10","v":0},0,0,0,0]
["Hyperphos-Kali",80,"Tabelle Hanna",null,null,0,0,150,250,0,0,0]
["Hyperphos-Kali mit Mg",81,"Tabelle Hanna",null,null,0,0,130,180,60,0,0]
["K",82]
["Kainit",83,"Tabelle Hanna",null,null,0,0,0,11,0,5,4]
["40er Korn-Kali (+6Mg+5S)",84,"Düngung BW",null,null,0,0,0,400,0,60,50]
["60er Kali ",85,{"$nulls":3},0,0,0,600,0,0,0]
["Kaliumnitrat bzw. Krista K Plus",86,"Yara",null,null,135,0,0,460,0,0,0]
["Kaliumsulfat",87,"Tabelle Hanna",null,null,0,0,0,500,0,0,180]
["KAS 24 (+12S)",88,{"$nulls":3},240,120,{"$f":"K96*10","v":0},0,0,0,120]
["KAS 24 (+6S) z.B. YaraBela Sulfan",89,"LWK NRW",null,null,240,120,0,0,0,0,60]
["KAS 24 (+8Mg+6S) z.B. YaraBela Optimag 24",90,"LWK NRW",null,null,240,120,0,0,0,80,60]
["KAS 27",91,"Düngung BW",null,null,270,135,0,0,0,40,0,40]
["Kalksalpeter bzw. Calcinit",92,"Yara",null,null,155,11,0,0,260,0,0]
["Kalkstickstoff (21)",93,{"$nulls":3},210,0,0,0,550,0,0]
["Kalkstickstoff PERLKA (19,8)",94,"Düngung BW",null,null,198,0,{"$f":"K102*10","v":0},0,550,0,0]
["Kohlensaurer Kalk 85",95,{"$nulls":3},0,0,{"$f":"K103*10","v":0},0,450,0,0]
["Kieserit (granuliert)",96,"LWK NRW",null,null,0,0,0,0,0,250,200]
["Kieserit (fein)",97,"LWK NRW",null,null,0,0,0,0,0,270,220]
["Kraichgau Power MS Plus",98,"ZG",null,null,87,60,0,0,0,31,136]
["L ",99]
["Lebosol Mangannitrat",100,{"$nulls":3},77,0,0,0,0,0,0]
["Lenasol",101,"LWK NRW",null,null,150,86,0,0,0,0,60]
["Lebosol Kalium-Plus",102,"Lebosol",null,null,30,0,0,180,0,0,0]
["Linzer Gold 24/14 Spezial",103,"Linzer Ware",null,null,240,149,140,0,0,0,30]
["N",104,{"$nulls":10},0,0]
["Nitro",105]
["Nitroka plus",106,"Tabelle Hanna",null,null,120,0,0,180,0,60,50]
["Nitrophoska 13+9+16 (+4Mg)",107,"Tabelle Hanna",null,null,130,0,90,160,0,40,80]
["Nitrophoska 14+10+20",108,"Tabelle Hanna",null,null,140,0,100,200,0,0,30]
["Nitrophoska 20+10+10",109,"Tabelle Hanna",null,null,200,0,100,100,0,0,0]
["Nitrophoska 20+8+8 (+3Mg+4S)",110,"Tabelle Hanna",null,null,200,0,80,80,0,30,40]
["Nitrophoska 21+8+11",111,"Tabelle Hanna",null,null,210,0,80,110,0,0,0]
["Nitrophoska 24+8+8",112,"Tabelle Hanna",null,null,240,0,80,80,0,0,0]
["Nitrophoska perfekt",113,"Tabelle Hanna",null,null,150,0,50,200,0,20,80]
["Nitrophoska spezial",114,"Tabelle Hanna",null,null,120,0,120,170,0,20,60]
["NovaPhos 0+23",115,"LWK NRW",null,null,0,0,230,0,0,0,90]
["NP 19+19",116,{"$nulls":3},190,null,190]
["NP 20+20 (+2S)",117,{"$nulls":3},200,118,200,0,0,0,20]
["NPK 3+13+33",118,{"$nulls":3},30,0,130,330,0,0,0]
["NPK 10+18+6 (+12S)",119,{"$nulls":3},100,0,180,60,0,0,120]
["NPK 12+8+15 (+2Mg)",120,{"$nulls":3},120,82,80,150,null,20]
["NPK 12+12+1 (+2Mg)",121,"Düngung BW",null,null,120,80,120,170,0,20,0]
["NPK 12+12+17 (+2Mg+6S)",122,"Tabelle Hanna",null,null,120,0,120,170,0,20,60]
["NPK 12+12+17 (+2Mg+8S)",123,"BayWa",null,null,120,80,12,170,0,20,80]
["NPK 12+18+6 (+11S)",124,{"$nulls":3},120,82,180,60,0,0,110]
["NPK 13+10+20 (+3S)",125,{"$nulls":3},130,90,100,200,0,0,30]
["NPK 13+9+16 (+4Mg+7S)",126,"BayWa",null,null,130,90,90,160,0,40,70]
["NPK 13+13+21",127,"Tabelle Hanna",null,null,130,0,130,210,0,0,20]
["NPK 14+10+20 (+4S)",128,"BayWa",null,null,140,85,100,200,0,0,40]
["NPK 14+14+14",129,{"$nulls":3},140,null,140,140]
["NPK 15+5+20 (+2Mg+8S)",130,"BayWa",null,null,150,80,50,20,0,20,80]
["NPK 15+10+10 (+2Mg+8S)",131,{"$nulls":3},150,90,100,100,0,20,80]
["NPK 15+13+13 (+5S)",132,"BayWa",null,null,150,90,130,130,0,0,50]
["NPK 15+15+15 (+3S)",133,"BayWa",null,null,150,90,150,150,0,0,30]
["NPK 16+16+16",134,"Tabelle Hanna",null,null,160,0,160,160,0,0,0]
["NPK 19+9+14",135,"RWZ",null,null,190,0,90,140,0,0,0]
["NPK 20+8+8",136,"BayWa",null,null,200,114,80,80,0,0,0]
["NPK 20+10+10 (+3S)",137,"BayWa",null,null,200,114,100,100,0,0,30]
["NPK 24+5+5 (+4S)",138,"BayWa",null,null,240,133,50,50,0,0,40]
["Novatec 18 fluid",139,"CompoExpert",null,null,180,90,0,0,0,0,0]
["M",140]
["Monoammonphosphat MAP\n(NP 12+52)",141,"Düngung BW",null,null,120,120,520,0,0,0,0]
["Magnesia-Kainit",142,"LWK NRW",null,null,0,0,0,110,0,50,40,200]
["P",143]
["Patentkali/Kalimagnesia",144,"Düngung BW",null,null,0,0,0,300,0,100,180]
["Patent-PK 12+15 (+5Mg+9S)",145,"Tabelle Hanna",null,null,0,0,120,150,0,50,90]
["Phosphat-Kali",146,"Tabelle Hanna",null,null,0,0,140,220,0,0,0]
["PIAMON",147,"Düngung BW",null,null,330,100,{"$f":"K155*10","v":0},0,0,0,120]
["Piasan",148,"Tabelle Hanna",null,null,240,0,0,0,0,0,30]
["Pig S",149,{"$nulls":3},0,0,0,0,0,0,900]
["PK Thomaskalk 0-10-15 (+4)",150,{"$nulls":3},0,0,100,150,0,50,40,20]
["PK Thomaskalk 0-11-11 (+5)",151,{"$nulls":3},0,0,110,110,0,60,50]
["PK Thomaskalk 0-11,5-18 (+3,5)",152,{"$nulls":3},0,0,115,180,0,40,35]
["PK 7+21 (+5Mg+9S)",153,"RWZ",null,null,0,0,70,210,0,50,90]
["PK 10+15 (+5Mg+10S)",154,"RWZ",null,null,0,0,100,150,0,50,10]
["PK 10+25 (+4Mg+7S)",155,"RWZ",null,null,0,0,100,260,0,40,70]
["PK 12+19 (+4Mg)",156,"Tabelle Hanna",null,null,0,0,120,190,40,0,50]
["PK 12+24",157,"Tabelle Hanna",null,null,0,0,120,240,0,0,60]
["PK 13+17 (+4Mg)",158,{"$nulls":3},0,0,130,170,0,40,0]
["PK 14+14 (+4Mg)",159,"Tabelle Hanna",null,null,0,0,140,140,0,40,90]
["PK 5+20",160,"Tabelle Hanna",null,null,0,0,150,200,0,0,70]
["PK 16+16 (+2Mg+8S)",161,"RWZ",null,null,0,0,160,160,0,20,80]
["PK 20+30",162,"RWZ",null,null,0,0,200,300,0,0,0]
["R",163]
["Rhe-Ka-Phos 9+25 (+6S)",164,"Tabelle Hanna",null,null,0,0,90,250,0,0,60]
["Rhe-Ka-Phos 10+21 (+6S)",165,"Tabelle Hanna",null,null,0,0,100,210,0,0,60]
["Rhe-Ka-Phos 14+24 (+4Mg+6S)",166,"Tabelle Hanna",null,null,0,0,140,240,0,40,60]
["Rhe-Ka-Phos 15+15 (+4Mg+6S)",167,"Tabelle Hanna",null,null,0,0,150,150,0,40,60]
["Rhe-Ka-Phos 20+30 (+2S)",168,"Tabelle Hanna",null,null,0,0,200,300,0,0,20]
["S ",169]
["Schwefel elementar 90%",170,{"$nulls":3},0,0,{"$f":"K178*10","v":0},0,0,0,900]
["SSA 21 (+ 24 S) - Ammoniumsulfat",171,"LWK NRW",null,null,210,210,0,0,0,0,240]
["Stabilo N 37 (+8S)",172,"Beiselen",null,null,370,0,0,0,0,0,80]
["Stabilo N 39 (+6S)",173,"Beiselen",null,null,390,50,0,0,0,0,60]
["Stabilo N 40 (+5S)",174,"Beiselen",null,null,400,50,0,0,0,0,50]
["Superphosphat 18 (+12S)",175,"LWK NRW",null,null,0,0,180,0,0,0,120]
["T ",176]
["Top Phos 15+20",177,"Timac Agro",null,null,150,null,200,null,null,18.096,82]
["Triplesuperphosphat",178,"LWK NRW",null,null,0,0,460,0,0,0,0]
["U",179]
["Urease",180,"Tabelle Hanna",null,null,380,0,0,0,0,0,75]
["Universol violet",181,"ICL-sf.com",null,null,100,32,100,300,0,33,156]
["Eigenen Mineraldünger anlegen"]
["KALISOP",183,"eigen HJR",null,null,0,0,0,510,0,0,180]
[null,184]
[null,185]
[null,186]
[null,187]
[null,188]
[null,189]
[null,190]
["zurück zur Dateneingabe"]

{"sheet":"Futtermitteltabelle","index":21,"n_rows":195,"n_cols":20,"rows_kept":195,"merged":[[1,8,1,17],[3,0,19,0],[20,0,24,0],[25,0,31,0],[32,0,42,0],[43,0,47,0],[48,0,51,0],[52,0,61,0],[62,0,74,0],[75,0,98,0],[99,0,111,0],[114,8,114,17]]}
[null,"Kulturenliste ",null,"Durschnittsertrag BaWü",null,null,"TS","RP in TM","C","N","NH4-N","P2O5","K2O","Ca","MgO","S","Na","Cl"]
[null,"Düngung BW (NSV/SSB)",null,"[dt/ha]","Code",null,"[%]","[%]","Nährstoffgehalt [kg/t]"]
[null,"Bitte wählen:",null,0,0,{"$nulls":3},0,0,0,0,0,0,0,0,0,0]
["Getreide","Winterweizen 12 % RP ( C)",null,80,1,"kg/t FM",86,null,0,18.1,null,8,6,null,2]
[null,"Winterweizen 14 % RP (A, B)",null,80,2,"kg/t FM",86,null,0,21.099999999999998,null,8,6,null,2]
[null,"Winterweizen  16 % RP (E)",null,80,3,"kg/t FM",86,null,0,24.1,null,8,6,null,2]
[null,"Brauweizen",null,75,4,"kg/t FM",86,null,0,18.1,null,8,6,null,2]
[null,"Sommerweizen 14 % RP",null,60,5,"kg/t FM",86,null,0,21.099999999999998,null,8,6,null,2]
[null,"Sommerweizen 16 % RP",null,60,6,"kg/t FM",86,null,null,24.1,null,8,6,null,2]
[null,"Winterfuttergerste 13 % RP",null,70,7,"kg/t FM",86,null,null,17.9,null,8,6,null,2]
[null,"Winterbraugerste 10 % RP",null,70,8,"kg/t FM",86,null,null,13.799999999999999,null,8,6,null,2]
[null,"Sommerfuttergerste 13 % RP",null,70,9,"kg/t FM",86,null,null,17.9,null,8,6,null,2]
[null,"Sommerbraugerste 10 % RP",null,50,10,"kg/t FM",86,null,null,13.799999999999999,null,8,6,null,2]
[null,"Winterroggen 11 % RP",null,70,11,"kg/t FM",86,null,null,15.1,null,8,6,null,2]
[null,"Sommerroggen 11 % RP",null,55,12,"kg/t FM",86,null,null,15.1,null,8,6,null,2]
[null,"Hafer 11 % RP",null,55,13,"kg/t FM",86,null,null,15.1,null,8,6,null,2]
[null,"Wintertriticale 13 % RP",null,70,14,"kg/t FM",86,null,null,17.9,null,8,6,null,2]
[null,"Dinkel mit Vesen",null,60,15,"kg/t FM",86,null,null,16,null,8,8,null,2]
[null,"Hartweizen (Durumweizen) 15 % RP",null,55,16,"kg/t FM",86,null,null,22.599999999999998,null,8,6,null,2]
[null,"Getreidestroh","Grobfutter",null,17,"kg/t FM",86,3.6,null,5,null,3,17,null,0]
["Ölfrüchte","Winterraps",null,40,18,"kg/t FM",91,null,null,33.5,null,18,10,null,5]
[null,"Körnersenf",null,30,19,"kg/t FM",91,null,null,50.8,null,17.7,9.3,null,3]
[null,"Sommerraps",null,35,20,"kg/t FM",91,null,null,33.5,null,18,10,null,5]
[null,"Sonnenblumen (Korn)",null,30,21,"kg/t FM",91,null,null,29.1,null,16,24,null,7]
[null,"Öllein",null,20,22,"kg/t FM",91,null,null,35,null,12,10,null,8]
["Körner-\nlegumi-nosen","Ackerbohnen Körner",null,35,23,"kg/t FM",86,null,null,41,null,12,14,null,2]
[null,"Buschbohnen Körner",null,35,24,"kg/t FM",86,null,null,41,null,12,14,null,0.4]
[null,"Erbsen Körner",null,35,25,"kg/t FM",86,null,null,36,null,11,14,null,2]
[null,"Süßlupinen",null,30,26,"kg/t FM",86,null,null,44.800000000000004,null,10.2,16.599999999999998,null,2]
[null,"Sojabohnen",null,20,27,"kg/t FM",91,null,null,44,null,15,19.4,null,3]
[null,"Linsen",null,15,28,"kg/t FM",86,null,null,35.8,null,11,14,null,2]
[null,"Wicken",null,15,29,"kg/t FM",86,null,null,36,null,13.899999999999999,16.599999999999998,null,2]
["Mais","Körnermais 10 % RP",null,90,30,"kg/t FM",86,null,null,13.799999999999999,null,8,5,null,2]
[null,"Körnermais beregnet 10 % RP",null,120,31,"kg/t FM",86,null,null,13.799999999999999,null,8,5,null,2]
[null,"Silomais  Frischmasse 33 % TS","Grobfutter",450,32,"kg/t FM",33,null,null,4.5,null,1.9,5.300000000000001,null,1]
[null,"Maissilage Frischmasse","Grobfutter",null,33,"kg/t FM",33,8.5,null,4.5,null,1.9,5.3,null,1]
[null,"Energiemais  Frischmasse ",null,550,34,"kg/t FM",30,null,null,4.5,null,1.9,5.300000000000001,null,0.7000000000000001]
[null,"Corn-Cob-Mix, CCM",null,130,35,"kg/t FM",60,null,null,10.1,null,5.8,3.5999999999999996,null,1.4000000000000001]
[null,"Lieschkolbensilage (LKS)",null,150,36,"kg/t FM",50,null,null,7.6,null,3.2,3.5999999999999996,null,1]
[null,"Saatmais (< 30 dt/ha)",null,30,37,"kg/t FM",86,null,null,13.799999999999999,null,10,5,null,1.7000000000000002]
[null,"Saatmais (30 bis < 40 dt/ha)",null,30,38,"kg/t FM",86,null,null,13.799999999999999,null,10,5,null,1.7000000000000002]
[null,"Saatmais (40 bis < 50 dt/ha)",null,50,39,"kg/t FM",86,null,null,13.799999999999999,null,10,5,null,1.7000000000000002]
[null,"Saatmais (≥ 50 dt/ha)",null,50,40,"kg/t FM",86,null,null,13.799999999999999,null,10,5,null,1.7000000000000002]
["Hack-früchte","Frühkartoffeln",null,400,41,"kg/t FM",22,null,null,3.5,null,1.4000000000000001,6,null,0.4]
[null,"Kartoffeln, ab mittelfrüh",null,450,42,"kg/t FM",22,null,null,3.5,null,1.4000000000000001,6,null,0.4]
[null,"Gehaltsrüben",null,550,43,"kg/t FM",15,null,null,1.7999999999999998,null,0.8999999999999999,5,null,0.5]
[null,"Futtermassenrüben",null,750,44,"kg/t FM",12,null,null,1.4000000000000001,null,0.7000000000000001,4.5,null,0.5]
[null,"Zuckerrüben",null,650,45,"kg/t FM",23,null,null,1.7999999999999998,null,1,2.5,null,0.8]
["Energie-pflanzen","Miscanthus",null,200,46,"kg/t FM",80,null,null,1.5,null,1.2,6,null,2.5]
[null,"Sudangras (Hauptkultur, FM)","Grobfutter",600,47,"kg/t FM",25,null,null,2.7,null,2.3000000000000003,3.8,null,0.8999999999999999]
[null,"Zuckerhirse (Milch- bis Teigreife der Körner, FM)","Grobfutter",550,48,"kg/t FM",22,null,null,3.5,null,1.7000000000000002,5.2,null,0.5]
[null,"Durchwachsene Silphie (27 % TM)",null,550,49,"kg/t FM",27,null,null,2.4,null,1.1,6.2,null,1.2]
["GPS-\nSorten","Grünroggen (FM)","Grobfutter",250,50,"kg/t FM",35,null,null,3.9000000000000004,null,2.1,4.8,null,0.5]
[null,"Ganzpflanze Weizen (Milch- bis Teigreife, FM)","Grobfutter",300,51,"kg/t FM",35,null,null,4.9,null,2.3000000000000003,4.1,null,0.5]
[null,"Ganzpflanze Triticale (Milch- bis Teigreife, FM)","Grobfutter",300,52,"kg/t FM",35,null,null,3.9000000000000004,null,2.3000000000000003,4.8,null,0.5]
[null,"Ganzpflanze Hafer (Milchreife, FM)","Grobfutter",250,53,"kg/t FM",35,null,null,5.300000000000001,null,2.3000000000000003,9.399999999999999,null,0.5]
[null,"Ganzpflanze Sonnenblumen (Zitronenreife, FM)","Grobfutter",400,54,"kg/t FM",23,null,null,4.699999999999999,null,1.2,9.8,null,0.5]
[null,"Sonnenblumen/Mais (Ganzpflanze, FM) ","Grobfutter",500,55,"kg/t FM",28,null,null,3.4000000000000004,null,1.7000000000000002,7.199999999999999,null,0.5]
[null,"Sareptasenf (Ganzpflanze FM)","Grobfutter",480,56,"kg/t FM",35,null,null,4.6000000000000005,null,2.3000000000000003,4.699999999999999,null,1]
[null,"Winterrübsen (Ganzpflanze)",null,400,57,"kg/t FM",35,null,null,3.5,null,1.1,4.5,null,0.5]
[null,"Sommerrübsen (Ganzpflanze)",null,400,58,"kg/t FM",35,null,null,3.5,null,1.1,4.5,null,0.5]
[null,"GPS Körnerleguminosen",null,250,59,"kg/t FM",35,null,null,5.6000000000000005,null,2.3000000000000003,4.699999999999999,null,1]
["Grünland","Grünland 1 Schnitt","Grobfutter",40,60,"kg/t TM",35,null,null,13.799999999999999,null,{"v":5,"d":"5.00"},{"v":19.3,"d":"19.30"},null,{"v":3.5,"d":"3.50"}]
[null,"Grünland 1 Schnitt Frischmasse","ja",null,61,"kg/t FM",35,8.6,null,4.8,null,1.8,6.8,null,1.2]
[null,"Grünland 2 Schnitte","Grobfutter",55,62,"kg/t TM",35,null,null,18.2,null,{"v":6.4,"d":"6.40"},{"v":24.1,"d":"24.10"},null,{"v":4,"d":"4.00"}]
[null,"Grünland 2 Schnitte Frischmasse","ja",null,63,"kg/t FM",35,11.4,null,6.4,null,2.2,8.4,null,1.4]
[null,"Grünland 3 Schnitte","Grobfutter",80,64,"kg/t TM",35,null,null,24,null,{"v":7.1,"d":"7.10"},{"v":28.900000000000002,"d":"28.90"},null,{"v":4.1,"d":"4.10"}]
[null,"Grünland 3 Schnitte Frischmasse","ja",null,65,"kg/t FM",35,15,null,8.4,null,2.5,10.1,null,1.4]
[null,"Grünland 4 Schnitte","Grobfutter",90,66,"kg/t TM",35,null,null,27.200000000000003,null,{"v":8,"d":"8.00"},{"v":31.299999999999997,"d":"31.30"},null,{"v":4.5,"d":"4.50"}]
[null,"Grünland 4 Schnitte Frischmasse","ja",null,67,"kg/t FM",35,17,null,9.5,null,2.8,{"v":11,"d":"11.0"},null,1.6]
[null,"Grünland 5 Schnitte","Grobfutter",110,68,"kg/t TM",35,null,null,28,null,{"v":8.5,"d":"8.50"},{"v":32.5,"d":"32.50"},null,{"v":4.5,"d":"4.50"}]
[null,"Grünland 5 Schnitte Frischmasse","ja",null,69,"kg/t FM",35,17.5,null,9.8,null,{"v":3,"d":"3.0"},11.4,null,1.6]
[null,"Grünland 6 Schnitte","Grobfutter",120,70,"kg/t TM",35,null,null,29.1,null,{"v":8.9,"d":"8.90"},{"v":33.7,"d":"33.70"},null,{"v":4.5,"d":"4.50"}]
[null,"Grünland 6 Schnitte Frischmasse","ja",null,71,"kg/t FM",35,18.2,null,10.2,null,3.1,11.8,null,1.6]
[null,"Grassilage Frischmasse","Grobfutter",null,72,"kg/t FM",35,16.5,null,9.2,null,2.8,9.4,null,1.6]
["mehr-schnitt-iger Feldfutter-bau","Ackergras (Weidelgras) Frischmasse","Grobfutter",null,73,"kg/t FM",20,16.4,null,5.3,null,1.6,6.9,null,0.8]
[null,"Ackergras (5 Schnitte/Jahr)","Grobfutter",150,74,"kg/t TM",20,null,null,26.6,null,{"v":8.2,"d":"8.20"},{"v":36.1,"d":"36.10"},null,{"v":4.1,"d":"4.10"}]
[null,"Ackergras (3 - 4 Schnitte/Jahr)","Grobfutter",120,75,"kg/t TM",20,null,null,25.9,null,{"v":8,"d":"8.00"},{"v":32.5,"d":"32.50"},null,{"v":4.1,"d":"4.10"}]
[null,"Ackergras (Zweitkultur, Nutzung im Herbst- 1 Schnitt)","Grobfutter",30,76,"kg/t TM",20,null,null,25.299999999999997,null,{"v":8,"d":"8.00"},{"v":32.5,"d":"32.50"},null,{"v":4.1,"d":"4.10"}]
[null,"Ackergras (Zweitkultur, Nutzung im Herbst- 2 Schnitte)","Grobfutter",60,77,"kg/t TM",20,null,null,25.299999999999997,null,{"v":8,"d":"8.00"},{"v":32.5,"d":"32.50"},null,{"v":4.1,"d":"4.10"}]
[null,"Ackergras (Zweitkultur, Nutzung im Frühjahr- 1 Schnitt)",null,50,78,"kg/t TM",20,null,null,25.299999999999997,null,{"v":8,"d":"8.00"},{"v":32.5,"d":"32.50"},null,{"v":4.1,"d":"4.10"}]
[null,"Kleegras (30 : 70)","Grobfutter",130,79,"kg/t TM",20,null,null,28,null,7.800000000000001,31.8,null,4.1]
[null,"Kleegras (30 : 70) Frischmasse","Grobfutter",null,80,"kg/t FM",20,17.5,null,5.6,null,1.6,6.4,null,0.8]
[null,"Kleegras (50 : 50)","Grobfutter",120,81,"kg/t TM",20,null,null,29.1,null,7.7,31.299999999999997,null,4.1]
[null,"Kleegras (50 : 50) Frischmasse","Grobfutter",null,82,"kg/t FM",20,18.2,null,5.8,null,1.5,6.3,null,0.8]
[null,"Kleegras (70 : 30)","Grobfutter",115,83,"kg/t TM",20,null,null,30.7,null,7.5,30.8,null,4.1]
[null,"Kleegras (70 : 30) Frischmasse","Grobfutter",null,84,"kg/t FM",20,19.2,null,6.1,null,1.5,6.2,null,0.8]
[null,"Rotklee","Grobfutter",110,85,"kg/t TM",20,null,null,32.8,null,7.3,30,null,4.1]
[null,"Rotklee Frischmasse","Grobfutter",null,86,"kg/t FM",20,20.5,null,6.5,null,1.5,6,null,0.8]
[null,"Luzernegras (30 : 70)","Grobfutter",130,87,"kg/t TM",20,null,null,28,null,7.800000000000001,31.8,null,4.1]
[null,"Luzernegras (30 : 70) Frischmasse","Grobfutter",null,88,"kg/t FM",20,17.5,null,5.6,null,1.6,6.4,null,0.8]
[null,"Luzernegras (50 : 50)","Grobfutter",120,89,"kg/t TM",20,null,null,29.1,null,7.7,31.299999999999997,null,4.1]
[null,"Luzernegras (50 : 50) Frischmasse","Grobfutter",null,90,"kg/t FM",20,18.2,null,5.8,null,1.5,6.3,null,0.8]
[null,"Luzernegras (70 : 30)","Grobfutter",115,91,"kg/t TM",20,null,null,30.7,null,7.5,30.8,null,4.1]
[null,"Luzernegras (70 : 30) Frischmasse","Grobfutter",null,92,"kg/t FM",20,19.2,null,6.1,null,1.5,6.2,null,0.8]
[null,"Luzerne","Grobfutter",110,93,"kg/t TM",20,null,null,32.8,null,7.3,30,null,4.1]
[null,"Luzerne Frischmasse","Grobfutter",null,94,"kg/t FM",20,20.5,null,6.5,null,1.5,6,null,0.8]
[null,"Grascobs Frischmasse","Grobfutter",null,95,"kg/t FM",89,17.5,null,31.5,null,7.6,27.9,null,4]
[null,"Heu Frischmasse","Grobfutter",null,96,"kg/t FM",86,12.5,null,17.2,null,5.5,24.9,null,3.5]
["Sonstiges","Grassamenvermehrung",null,45,97,"kg/t FM",86,null,null,22,null,{"v":6.5,"d":"6.50"},{"v":5,"d":"5.00"},null,{"v":1.7000000000000002,"d":"1.70"}]
[null,"Amarant (Korn)",null,25,98,"kg/t FM",86,null,null,26.299999999999997,null,8.9,5,null,3]
[null,"Körnerhirse",null,80,99,"kg/t FM",86,null,null,20.7,null,7.5,4.8,null,2.6]
[null,"Hanf (Ganzpflanze)","Grobfutter",150,100,"kg/t FM",40,null,null,4,null,3,8.8,null,4.5]
[null,"Topinambur",null,600,101,"kg/t FM",21,null,null,3,null,1.5,6.3,null,0.2]
[null,"Lein, Faserlein, Flachs",null,60,102,"kg/t FM",86,null,null,10,null,6.4,17.1,null,4.1]
[null,"Buchweizen (Korn)",null,25,103,"kg/t FM",86,null,null,23.3,null,6.5,5,null,3]
[null,"Wildkräutervermehrung (Leguminose)",null,5,104,"kg/t FM",91,null,null,28,null,15,18,null,4.5]
[null,"Wildkräutervermehrung (Nichtleguminosen)",null,5,105,"kg/t FM",91,null,null,28,null,15,18,null,4.5]
[null,"Acker aus der Erzeugung genommen",null,0,106,"kg/t TM",20,null,null,0,null,0,0,null,0]
[null,"Grünland aus der Erzeugung genommen",null,0,107,"kg/t TM",20,null,null,0,null,0,0,null,0]
[null,"Futterzwischenfrucht ohne Leguminosen",null,150,108,"kg/t FM",16,null,null,4.6,null,1.4,5,null,0.5]
[null,"Futterzwischenfrucht mit Leguminosen",null,150,109,"kg/t FM",16,null,null,4.6,null,1.4,5,null,0.5]
[{"$nulls":4},110]
[null,"Futtermittel",null,null,111,null,"TS","RP in TM","C","N","NH4-N","P2O5","K2O","Ca","MgO","S","Na","Cl",null,"Gärrück-stands-faktor"]
[{"$nulls":4},112,null,"[%]","[%]","Nährstoffgehalt [kg/t]",{"$nulls":10}," [m³/t]"]
[null,"Bitte wählen:",null,null,113,{"$nulls":3},0,0,0,0,0,0,0,0,0,0]
[null,"Altbrot","nein",null,114,"kg/t FM",65,15,null,15.600000000000001,null,2,3.9000000000000004,null,0.8,{"$nulls":3},"nein","-"]
[null,"Apfeltrester","nein",null,115,"kg/t FM",22,8,null,2.9,null,0.8999999999999999,1.7999999999999998,null,0.7000000000000001,{"$nulls":3},"nein","-"]
[null,"Bierhefe, flüssig","nein",null,116,"kg/t FM",10,53,null,8.4,null,2.6,1.7999999999999998,null,0.3,{"$nulls":3},"nein","-"]
[null,"Biertreber, siliert","nein",null,117,"kg/t FM",25,25,null,10,null,3.4000000000000004,0.3,null,0.8,{"$nulls":3},"nein","-"]
[null,"Fischmehl","nein",null,118,"kg/t FM",91,63,null,91.7,null,68.8,9.8,null,4.4,{"$nulls":3},"nein","-"]
[null,"Getreideschlempe, frisch \n(Weizen)","nein",null,119,"kg/t FM",60,36,null,34.6,null,6.8999999999999995,5.8,null,2.4,{"$nulls":3},"nein","-"]
[null,"Getreideschlempe, getrocknet \n(Weizen)","nein",null,120,"kg/t FM",92,38,null,56.2,null,19,14.8,null,5.5,{"$nulls":3},"nein","-"]
[null,"Haferschälkleie","nein",null,121,"kg/t FM",90,7,null,10.1,null,3.5,10.9,null,1.7999999999999998,{"$nulls":3},"nein","-"]
[null,"Kartoffeleiweiß","nein",null,122,"kg/t FM",90,84,null,121,null,10.4,8.100000000000001,null,0.7000000000000001,{"$nulls":3},"nein","-"]
[null,"Kartoffelpülpe, siliert","nein",null,123,"kg/t FM",18,5,null,1.4000000000000001,null,1.2,4.8,null,0.2,{"$nulls":3},"nein","-"]
[null,"Kartoffelschlempe, frisch","nein",null,124,"kg/t FM",6,33,null,2.9,null,0.8,3.5999999999999996,null,0,{"$nulls":3},"nein","-"]
[null,"Leinextraktionsschrot","nein",null,125,"kg/t FM",89,38,null,53.5,null,19.6,12.9,null,8.5,{"$nulls":3},"nein","-"]
[null,"Leinkuchen","nein",null,126,"kg/t FM",90,37,null,53.3,null,18.5,13.100000000000001,null,7.9,{"$nulls":3},"nein","-"]
[null,"Luzernegrünmehl","nein",null,127,"kg/t FM",90,19,null,26.6,null,7.199999999999999,26,null,4.1,{"$nulls":3},"nein","-"]
[null,"Magermilch, frisch","nein",null,128,"kg/t FM",9,36,null,4.9,null,1.9,1.2,null,0.2,{"$nulls":3},"nein","-"]
[null,"Maiskeimextraktionsschrot","nein",null,129,"kg/t FM",89,25,null,35.6,null,14.2,8.5,null,4.5,{"$nulls":3},"nein","-"]
[null,"Maiskleberfutter","nein",null,130,"kg/t FM",90,25,null,36,null,17.6,15.2,null,7.199999999999999,{"$nulls":3},"nein","-"]
[null,"Malzkeime","nein",null,131,"kg/t FM",92,30,null,43.4,null,16.8,23.3,null,2.3000000000000003,{"$nulls":3},"nein","-"]
[null,"Maniok","nein",null,132,"kg/t FM",88,3,null,3.8,null,2,8.4,null,1.6,{"$nulls":3},"nein","-"]
[null,"Melasseschnitzel","nein",null,133,"kg/t FM",91,10,null,14.6,null,1.6,15.8,null,2.7,{"$nulls":3},"nein","-"]
[null,"Molke, Permeat","nein",null,134,"kg/t FM",5,4,null,0.3,null,1.5,1.5,null,0.1,{"$nulls":3},"nein","-"]
[null,"Pressschnitzel, siliert","nein",null,135,"kg/t FM",27,9,null,3.7,null,0.6,1.4000000000000001,null,0.8999999999999999,{"$nulls":3},"nein","-"]
[null,"Rapsextraktionsschrot","nein",null,136,"kg/t FM",89,38,null,54.3,null,24.5,16.599999999999998,null,8.5,{"$nulls":3},"nein","-"]
[null,"Rapskuchen, fettarm","nein",null,137,"kg/t FM",90,37,null,52.699999999999996,null,24.8,15.8,null,8.2,{"$nulls":3},"nein","-"]
[null,"Roggengrießkleie","nein",null,138,"kg/t FM",88,16,null,22.5,null,20.2,14.9,null,5.300000000000001,{"$nulls":3},"nein","-"]
[null,"Roggenkleie","nein",null,139,"kg/t FM",88,16,null,22.799999999999997,null,22.400000000000002,14.9,null,5.300000000000001,{"$nulls":3},"nein","-"]
[null,"Rübenkleinteile","nein",null,140,"kg/t FM",17,8,null,2,null,0.8,2.4,null,0.6,{"$nulls":3},"nein","-"]
[null,"Sojaextraktionsschrot, geschält, 48 % RP","nein",null,141,"kg/t FM",88,55,null,76.7,null,15.1,24.4,null,4,{"$nulls":3},"nein","-"]
[null,"Sojaextraktionsschrot, ungeschält, 44 % RP","nein",null,142,"kg/t FM",88,50,null,70.4,null,14.7,23.3,null,4.4,{"$nulls":3},"nein","-"]
[null,"Sojaschalen","nein",null,143,"kg/t FM",88,14,null,19,null,3.3000000000000003,15.2,null,4.4,{"$nulls":3},"nein","-"]
[null,"Sonnenblumenextraktionsschrot, teilgeschält","nein",null,144,"kg/t FM",89,38,null,54.1,null,22.400000000000002,14,null,7.7,{"$nulls":3},"nein","-"]
[null,"Sauermolke, frisch","nein",null,145,"kg/t FM",6,10,null,1,null,1.7999999999999998,1.9,null,0.2,{"$nulls":3},"nein","-"]
[null,"Süßmolke, frisch","nein",null,146,"kg/t FM",6,14,null,1.3,null,0.8999999999999999,1.7999999999999998,null,0.1,{"$nulls":3},"nein","-"]
[null,"Trockenschnitzel","nein",null,147,"kg/t FM",90,8,null,12,null,2.1,4.9,null,2.7,{"$nulls":3},"nein","-"]
[null,"Weizengrießkleie","nein",null,148,"kg/t FM",88,16,null,24.700000000000003,null,21.099999999999998,12.7,null,6.2,{"$nulls":3},"nein","-"]
[null,"Weizenkleie","nein",null,149,"kg/t FM",88,15,null,22.5,null,26.200000000000003,12.8,null,7.7,{"$nulls":3},"nein","-"]
[null,"Weizennachmehl","nein",null,150,"kg/t FM",87,17,null,26.400000000000002,null,13.899999999999999,9.399999999999999,null,4.2,{"$nulls":3},"nein","-"]
[null,"Zuckerrübenmelasse","nein",null,151,"kg/t FM",78,14,null,16.8,null,0.8999999999999999,50.8,null,0.2,{"$nulls":3},"nein","-"]
[{"$nulls":4},152,"kg/t FM"]
[null,"MLF 14/3","nein",null,153,"kg/t FM",88,16,null,22.4,null,9.2,10.8,null,2.5,{"$nulls":3},"nein","-"]
[null,"MLF 16/3","nein",null,154,"kg/t FM",88,18,null,25.6,null,9.2,10.8,null,2.5,{"$nulls":3},"nein","-"]
[null,"MLF 18/4","nein",null,155,"kg/t FM",88,20,null,28.8,null,9.2,11.7,null,3.3,{"$nulls":3},"nein","-"]
[null,"MLF 25/2","nein",null,156,"kg/t FM",88,28,null,40,null,13.7,10.8,null,3,{"$nulls":3},"nein","-"]
[{"$nulls":4},157,"kg/t FM"]
[null,"MAT (Aufzucht)","nein",null,158,"kg/t FM",94,22,null,33.6,null,13.7,22.7,null,3.1,{"$nulls":3},"nein","-"]
[null,"MAT (Mast)","nein",null,159,"kg/t FM",94,23,null,35.2,null,13.7,22.7,null,3.1,{"$nulls":3},"nein","-"]
[{"$nulls":4},160,"kg/t FM"]
[null,"Futterharnstoff","nein",null,161,"kg/t FM",99,292,null,461.8,null,0,0,null,0,{"$nulls":3},"nein","-"]
[null,"Sojaöl","nein",null,162,"kg/t FM",99,0,null,0,null,0,0,null,0,{"$nulls":3},"nein","-"]
[null,"Viehsalz","nein",null,163,"kg/t FM",99,0,null,0,null,0,0,null,0,{"$nulls":3},"nein","-"]
[null,"Propylenglykol","nein",null,164,"kg/t FM",99,0,null,0,null,0,0,null,0,{"$nulls":3},"nein","-"]
[null,"Propionsäure","nein",null,165,"kg/t FM",99,0,null,0,null,0,0,null,0,{"$nulls":3},"nein","-"]
[{"$nulls":4},166,"kg/t FM"]
[null,"Mineralfutter",null,null,167,"kg/t FM"]
[{"$nulls":4},168]
[{"$nulls":4},169]
[null,"eigene Futtermittel anlegen",null,null,170]
[{"$nulls":4},171]
[{"$nulls":4},172]
[{"$nulls":4},173]
[{"$nulls":4},174]
[{"$nulls":4},175]
[{"$nulls":4},176]
[{"$nulls":4},177]
[{"$nulls":4},178]
[{"$nulls":4},179]
[{"$nulls":4},180]
[{"$nulls":4},181]
[{"$nulls":4},182]
[{"$nulls":4},183]
[{"$nulls":4},184]
[{"$nulls":4},185]
[{"$nulls":4},186]
[{"$nulls":4},187]
[{"$nulls":4},188]
[{"$nulls":4},189]
[{"$nulls":4},190]
[null,"zurück zur Dateneingabe Aufnahme"]
[null,"zurück zur Dateneingabe Abgabe"]

{"sheet":"UmrechVolGew","index":22,"n_rows":86,"n_cols":11,"rows_kept":86}
[]
[null,"Lebensmittel","Menge / Einheit","Größe","Lebensmittelwissen","BVL","N-Expert",null,"Essbarer Anteil \nBVL",null,"Quellen"]
[{"$nulls":4},"g",{"$nulls":3},"g",null,"https://www.lebensmittelwissen.de/tipps/haushalt/portionsgroessen/gemuese.php"]
[1,"Artischocke","1 Stück","mittel",250,339,null,null,120]
[2,"Artischockenherz","1 Stück","?",25,{"$nulls":3},25]
[3,"Aubergine","1 Stück","klein",250,{"$nulls":3},210]
[4,"Aubergine","1 Stück","mittel",500,340,null,null,415]
[5]
[6,"Bleichsellerie","1 Stange",null,150,{"$nulls":3},125]
[7,"Champignon","1 Stück",null,10,21,null,null,620]
[8,"Blumenkohl","1 Stück","groß",1000,879,null,null,460]
[9,"Blumenkohl","1 Stück","mittel",750,{"$nulls":3},310]
[10,"Blumenkohl","1 Stück","klein",500]
[11,"Blumenkohl","1 Stück"]
[12,"Brokkoli","1 Stück",null,null,347,null,null,9]
[13,"Chicoree","1 Kolben",null,125,119,null,null,110]
[14,"Chinakohl","1 Kopf","mittel",500,{"$nulls":3},400]
[15,"Chinakohl","1 Kopf","klein",200,{"$nulls":3},160,null,"Prüße, U.; Hüther, L.; Hohgardt, K. (2003): Mittlere Gewichte einzelner Obst- und Gemüseerzeugnisse. Bundesamt für Verbraucherschutz und Lebensmittelsicherheit. Braunschweig. "]
[16,"Cornichon","1 Stück",null,10,{"$nulls":3},10,null,"Online verfügbar unter https://www.bvl.bund.de/SharedDocs/Downloads/04_Pflanzenschutzmittel/rueckst_gew_obst_gem%C3%BCde_pdf.html."]
[17,"Dill","1 Bund",null,5,{"$nulls":3},5]
[18,"Fenchel","1 Knolle","mittel",440]
[19,"Fenchel","1 Knolle","klein",{"$nulls":6},"http://n-expert.igzev.de/"]
[20,"Gemüsezwiebel","1 Stück",null,250,{"$nulls":3},230]
[21,"Gewürzgurke","1 Stück",null,50,{"$nulls":3},50,null,"BSc Seifert"]
[22,"Kohlrabi","1 Stück",null,300,{"$nulls":5},"Seifert, Diana (2020): Eigenbetriebliche Stickstoffversorgung in einem Demeter-Gemüsebaubetrieb. thesis. TU München, Weihenstephan. Lehrstuhl für Ökologischen Landbau und Pflanzenbausysteme."]
[23]
[24,"Lauch","1 Stange","klein",100,156,null,null,60]
[25,"Lauch","1 Stange",null,null,300,null,null,250]
[26,"Möhren ","Bund",{"$nulls":3},850]
[27,"Karotte","1 Stück","mittel",100,62,null,null,80]
[28,"Karotte","1 Stück","klein",50,{"$nulls":3},42]
[29,"Kartoffel","1 Stück",null,100,{"$nulls":3},80]
[30,"Radieschen","1 Stück",null,30,{"$nulls":3},20]
[31,"Radieschen","1 Bund (10)",null,300,null,400]
[32,"Radicchio","1 Kopf",null,null,267,300]
[33,"Rettich","1 Stück",null,250,{"$nulls":3},160]
[34,"Rettich japan.","1 Stück",{"$nulls":3},700]
[35,"Rotkohl","1 Kopf",null,1000,{"$nulls":3},780]
[36,"Rote Beete","1 Stück",null,null,135]
[37,"Rote Beete","1 Bund ",null,1100]
[38,"Rote Beete","groß"]
[39,"Rosenkohl",{"$nulls":3},12.2]
[40,"Eisbergsalat","Stück",null,650]
[41,"Eisbergsalat","1 Kopf","mittel",380,535,null,null,300]
[42,"Eichblatt grün","Stück",null,438]
[43,"Eichblatt rot","Stück",null,315,{"$nulls":4},"?"]
[44,"Eichblatt mix","Stück",null,376.5]
[45,"Endivien","Stück",null,820]
[46,"Endivien","1 Kopf","mittel",375,{"$nulls":3},290]
[47,"Kopfsalat grün","Stück",null,570,null,500]
[48,"Kopfsalat rot","Stück",null,570]
[49,"Kopfsalat mix","Stück",null,570]
[50,"Batavia grün","Stück",null,730]
[51,"Batavia rot","Stück",null,620]
[52,"Batavia mix","Stück",null,675]
[53,"Romana Herzen","Stück",null,320,null,500]
[54,"Romana ",{"$nulls":4},200]
[55,"Salatgurke","1 Stück","klein",375,{"$nulls":3},280]
[56,"Salatgurke","1 Stück","mittel",600,458,null,null,450]
[57]
[58,"Sellerie","1 Knolle","mittel",580,652,null,null,450]
[59,"Sellerie","1 Knolle","klein",370,null,2000,null,265]
[60,{"$nulls":5},500]
[61,"Sellerie ","Bund"]
[62,"Sellerie Stangen-","Pflanze","?"]
[63,"Bleichsellerie","1 Stange",null,150,{"$nulls":3},125]
[64,"Weißkohl","1 Kopf",null,1000,1572,null,null,780]
[65,"Wirsing","1 Kopf",null,1000,{"$nulls":3},780]
[66,"Wurzelpetersilie","1 Stück",null,30,{"$nulls":3},20]
[67,"Zucchini","1 Stück",null,200,209,null,null,125]
[68,"Zwiebel","1 Stück",null,40,{"$nulls":3},36]
[69,"Zwiebel Bund","Bund",{"$nulls":3},180]
[70,"zwiebel, Speise","1 Stück",null,null,83]
[71,"zwiebel Gemüse","1 Stück",null,null,286]
[72,"zwiebel, lauch","1 Stück",null,null,19]
[73,"Süßkartoffel","1 Stück",null,300]
[74,"Zuckermais","1 Stück",null,500]
[75]
[76]
[77]
[78]
[79,"Paprika","1 Stück","klein",125,{"$nulls":3},97]
[80,"Paprika","1 Stück","mittel",200,155,null,null,154]
[81]
[82,"Tomate","1 Stück",null,65,{"$nulls":3},60]
[83,"Tomate","1 Stück",null,120,98]

{"sheet":"SubstratBedarf","index":23,"n_rows":35,"n_cols":15,"rows_kept":35,"merged":[[4,1,5,1],[34,0,34,3]]}
["Klasmann KKS Bio Potgrond","Rezeptur 023",{"$nulls":3},"Erdpresstöpfe (PT)","Quelle: FiBL 2001: Biogemüsebau: Anzucht und Einsatz von Jungpflanzen"]
[{"$nulls":5},"Topfgröße in cm",3,4,5,10,12]
["Zusammensetzung",{"$nulls":4},"Topfgröße in cm3 ",27,64,{"$f":"POWER(I2,3)","v":125},{"$f":"POWER(J2,3)","v":1000},{"$f":"POWER(K2,3)","v":1728}]
["Durchfrorener Schwarztorf",{"v":0.7,"d":"70%"},{"$nulls":3},"Substratbedarf \npro Topf in cm3*",54,128,{"$f":"I3*2","v":250},{"$f":"J3*2","v":2000},{"$f":"K3*2","v":3456}]
["Torfersatz TerrAktiv® ",{"v":0.3,"d":"30%"},{"$nulls":3},"Anzahl Pflanzen pro Platte",200,150,96]
["Torfersatz TerrAktiv® FT",{"$nulls":4},"eigene Berechnung: Gewicht PT (g) (Dichte*Substratbedarf)",{"$f":"(B8/1000)*G4","v":{"v":22.68,"d":"23"}},{"$f":"(B8/1000)*H4","v":{"v":53.76,"d":"54"}},{"$f":"($B8/1000)*I4","v":105},{"$f":"($B8/1000)*J4","v":840},{"$f":"($B8/1000)*K4","v":{"v":1451.52,"d":"1452"}}]
[{"$nulls":5},"*zusätzliche Auskunft von Martin Koller: \nAufgrund der Pressung wird mit einem Verhältnis von 2:1 (Substratbedarf:Volumen) gerechnet"]
["Schüttdichte: kg/m3 (Herstellerauskunft)",420,{"$nulls":4},"Beispielrechnung"]
["Struktur (mm): fein","0-10",{"$nulls":4},"1 L Substrat wiegt ",{"$f":"B8/1000","v":0.42},"kg"]
[{"$nulls":6},"In 1 L Substrat sind ",{"$f":"C20","v":400},"mg N",{"$f":"C22","v":350},"mg P2O5",{"$f":"C23","v":525},"mg K2O",{"$f":"C24","v":150},"mg Mg"]
["Chemische Eigenschaften",{"$nulls":5},"Also sind in 1 kg Substrat",{"$f":"H10/H9","v":{"v":952.3809523809524,"d":"952.4"}},"mg N",{"$f":"J10/0.42","v":{"v":833.3333333333334,"d":"833.3"}},"mg P2O5",{"$f":"L10/0.42","v":1250},"mg K2O",{"$f":"N10/0.42","v":{"v":357.14285714285717,"d":"357.1"}},"mg Mg"]
["pH Wert (CaCl2, v/v 1:2,5)",5.5,{"$nulls":4},"bzw. ",{"$f":"H11/1000","v":{"v":0.9523809523809524,"d":"0.952"}},"g N",{"$f":"J11/1000","v":{"v":0.8333333333333334,"d":"0.833"}},"g P2O5",{"$f":"L11/1000","v":1.25},"g K2O",{"$f":"N11/1000","v":{"v":0.35714285714285715,"d":"0.357"}},"g Mg"]
["Salzgehalt (g/l, v/v 1:3,6)","1,0-1,8",{"$nulls":4},"bzw. ",{"$f":"H12/1000","v":{"v":9.5238095238095249E-4,"d":"0.000952"}},"kg N",{"$f":"J12/1000","v":{"v":8.3333333333333339E-4,"d":"0.000833"}},"kg P2O5",{"$f":"L12/1000","v":1.25E-3},"kg K2O",{"$f":"N12/1000","v":{"v":3.5714285714285714E-4,"d":"0.000357"}},"kg Mg"]
["Dünger (Hornspäne) kg/m3",2.5,{"$nulls":3},"Gemüsebetriebt kauft 50.000 Kisten mit 4er Erdpresstöpfen. Auf eine Kiste passen 150 4er PT."]
["+ extra Spurenelementdünger",{"$nulls":4},"Anzahl 4er PT",{"$f":"50000*150","v":{"v":7500000,"d":"7,500,000"}}]
[{"$nulls":5},"Gewicht PT (g)",54]
[{"$nulls":5},"Gewicht PT gesamt (kg)",{"$f":"(G15*G16)/1000","v":{"v":405000,"d":"405,000"}},{"$f":"G17*H13","v":{"v":385.7142857142858,"d":"385.71"}},"kg N",{"$f":"G17*J13","v":337.5},"kg P2O5",{"$f":"G17*L13","v":506.25},"kg K2O",{"$f":"G17*N13","v":{"v":144.64285714285714,"d":"144.64"}},"kg Mg"]
[{"$nulls":5},"Gewicht PT gesamt (t)",{"$f":"(G15*G16)/1000000","v":405}]
["Nährstoffe: (Quelle: Horndünger, Grünkompost)","Quelle: Datenblatt Hersteller","Mittelwerte für Beispiel-rechnung",{"$nulls":4},"N",null,"P2O5",null,"K2O",null,"Mg"]
["N organisch gesamt (mg N/l)","350-450",400,null,null,"100kg","kgNS/dt =%",{"$f":"H13*100","v":0.09523809523809525},null,{"$f":"J13*100","v":0.08333333333333334},null,0.125,null,0.03571428571428571]
["N mineralisiert (mg N/l)*","80-120"]
["Phosphat (mg P2O5/l)","250-450",350]
["Kalium (mg K2O/l)","350-700",{"$f":"((700-350)/2)+350","v":525},null,null,"Topfgröße","Substratbedarf (cm3)"]
["Magnesium (mg Mg/l)","100-200",150,null,null,"3erTopf",{"$f":"G4","v":54}]
["*verfügbar ab Lieferung",{"$nulls":4},"4erTopf",{"$f":"H4","v":128}]
[{"$nulls":5},"5erTopf",{"$f":"I4","v":250}]
["Physikalische Eigenschaften","nach EN 13 041",{"$nulls":3},"10erTopf",{"$f":"J4","v":2000}]
["Trockensubstanz (Vol.-%)","< 10",{"$nulls":3},"12erTopf",{"$f":"K4","v":3456}]
["Wasserkapazität (Vol.-%)","80-85"]
["Luftkapazität (Vol.-%)","5-10"]
[]
["Presstöpfe","4-6 cm"]
["Kulturen","Gemüsejungpflanzen"]
["Hinweise: "]
["Alle Substratbestandteile entsprechen der VO (EG) Nr. 834/2007 und der Durchführungsverordnung (EG) Nr. 889/2008, Anhang I, kontrolliert durch Grünstempel® . TerrAktiv® Grünkompost wird auf eigenen Anlangen hergestellt. Im Verlauf der Kompostierung erfolgt eine zweimalige Behandlung mit biologisch-dynamischen Präparaten. TerrAktiv® FT ist eine fermentierte Holzfaser speziell für den biologischen Anbau. "]